Workbook
Name AUDCAD: #REF!
Name AUDCAD: #REF!
Name AUDCAD: #REF!
Name AUDCAD: #REF!
Name AUDCHF: #REF!
Name AUDCHF: #REF!
Name AUDCHF: #REF!
Name AUDCHF: #REF!
Name AUDJPY: #REF!
Name AUDNZD: #REF!
Name AUDUSD: #REF!
Name CADCHF: #REF!
Name CADJPY: #REF!
Name CHFJPY: #REF!
Name EURAUD: #REF!
Name EURCAD: #REF!
Name EURCHF: #REF!
Name EURGBP: #REF!
Name EURJPY: #REF!
Name EURNZD: #REF!
Name EURUSD: #REF!
Name GBPAUD: #REF!
Name GBPCAD: #REF!
Name GBPCHF: #REF!
Name GBPJPY: #REF!
Name GBPNZD: #REF!
Name GBPUSD: #REF!
Name NZDCAD: #REF!
Name NZDCHF: #REF!
Name NZDJPY: #REF!
Name NZDUSD: #REF!
Name Trend: [1]!CheckList_tbl[#Data]
Name Trend: [1]!CheckList_tbl[#Data]
Name Trend: [1]!CheckList_tbl[#Data]
Name Trend: [1]!CheckList_tbl[#Data]
Name USDCAD: #REF!
Name USDCAD: #REF!
Name USDCAD: #REF!
Name USDCAD: #REF!
Name USDCHF: #REF!
Name USDCHF: #REF!
Name USDCHF: #REF!
Name USDCHF: #REF!
Name USDJPY: #REF!
Name USDJPY: #REF!
Name USDJPY: #REF!
Name USDJPY: #REF!

Sheet SATORI H1
A1: Time | C1: AUDUSD | D1: AUDNZD | E1: AUDJPY | F1: AUDCHF | G1: AUDCAD | H1: EURUSD | I1: EURCAD | J1: EURGBP | K1: EURCHF | L1: EURJPY | M1: EURAUD | N1: EURNZD | O1: GBPUSD | P1: GBPAUD | Q1: GBPNZD | R1: GBPCAD | S1: GBPCHF | T1: GBPJPY | U1: NZDJPY | V1: NZDCHF | W1: NZDUSD | X1: NZDCAD | Y1: CADJPY | Z1: CADCHF | AA1: CHFJPY | AB1: USDCAD | AC1: USDCHF | AD1: USDJPY | AH1: ID | AI1: AUDUSD | AJ1: AUDNZD | AK1: AUDJPY | AL1: AUDCHF | AM1: AUDCAD | AN1: EURUSD | AO1: EURCAD | AP1: EURGBP | AQ1: EURCHF | AR1: EURJPY | AS1: EURAUD | AT1: EURNZD | AU1: GBPUSD | AV1: GBPAUD | AW1: GBPNZD | AX1: GBPCAD | AY1: GBPCHF | AZ1: GBPJPY | BA1: NZDJPY | BB1: NZDCHF | BC1: NZDUSD | BD1: NZDCAD | BE1: CADJPY | BF1: CADCHF | BG1: CHFJPY | BH1: USDCAD | BI1: USDCHF | BJ1: USDJPY | BN1: ID | BO1: AUDUSD | BP1: AUDNZD | BQ1: AUDJPY | BR1: AUDCHF | BS1: AUDCAD | BT1: EURUSD | BU1: EURCAD | BV1: EURGBP | BW1: EURCHF | BX1: EURJPY | BY1: EURAUD | BZ1: EURNZD | CA1: GBPUSD | CB1: GBPAUD | CC1: GBPNZD | CD1: GBPCAD | CE1: GBPCHF | CF1: GBPJPY | CG1: NZDJPY | CH1: NZDCHF | CI1: NZDUSD | CJ1: NZDCAD | CK1: CADJPY | CL1: CADCHF | CM1: CHFJPY | CN1: USDCAD | CO1: USDCHF | CP1: USDJPY | CU1: ID | CV1: EUR | CW1: USD | CX1: CAD | CY1: CHF | CZ1: GBP | DA1: AUD | DB1: NZD | DC1: JPY | DF1: ID | DG1: USDCAD | DH1: EURCAD | DI1: USDCHF | DJ1: EURCHF | DK1: USDGBP | DL1: EURGBP | DM1: USDAUD | DN1: EURAUD | DO1: USDNZD | DP1: EURNZD | DQ1: USDJPY | DR1: EURJPY | DS1: UE | DT1: EU | DX1: ID | DY1: Portfolio Performance | EA1: Portfolio | EB1: EUR | EC1: USD | ED1: CAD | EE1: CHF | EF1: GBP | EG1: AUD | EH1: NZD | EI1: JPY | EJ1: DD | EM1: ID | EN1: EUR | EO1: USD | EP1: CAD | EQ1: CHF | ER1: GBP | ES1: AUD | ET1: NZD | EU1: JPY | EW1: Market performance H1 | FB1: ID | FC1: EUR | FD1: USD | FE1: CAD | FF1: CHF | FG1: GBP | FH1: AUD | FI1: NZD | FJ1: JPY
A2: =NOW() -> 45526.807 | B2: LAST PRICE | C2: =RTD("fxbluelabs.excelrtd", , "21422436","@bh,AUDUSD,h1,close,0") -> 0.67268 | D2: =RTD("fxbluelabs.excelrtd", , "21422436","@bh,AUDNZD,h1,close,0") -> 1.09422 | E2: =RTD("fxbluelabs.excelrtd", , "21422436","@bh,AUDJPY,h1,close,0") -> 98.289 | F2: =RTD("fxbluelabs.excelrtd", , "21422436","@bh,AUDCHF,h1,close,0") -> 0.57331 | G2: =RTD("fxbluelabs.excelrtd", , "21422436","@bh,AUDCAD,h1,close,0") -> 0.91423 | H2: =RTD("fxbluelabs.excelrtd", , "21422436","@bh,EURUSD,h1,close,0") -> 1.11322 | I2: =RTD("fxbluelabs.excelrtd", , "21422436","@bh,EURCAD,h1,close,0") -> 1.51296 | J2: =RTD("fxbluelabs.excelrtd", , "21422436","@bh,EURGBP,h1,close,0") -> 0.84967 | K2: =RTD("fxbluelabs.excelrtd", , "21422436","@bh,EURCHF,h1,close,0") -> 0.94875 | L2: =RTD("fxbluelabs.excelrtd", , "21422436","@bh,EURJPY,h1,close,0") -> 162.654 | M2: =RTD("fxbluelabs.excelrtd", , "21422436","@bh,EURAUD,h1,close,0") -> 1.65486 | N2: =RTD("fxbluelabs.excelrtd", , "21422436","@bh,EURNZD,h1,close,0") -> 1.81082 | O2: =RTD("fxbluelabs.excelrtd", , "21422436","@bh,GBPUSD,h1,close,0") -> 1.31026 | P2: =RTD("fxbluelabs.excelrtd", , "21422436","@bh,GBPAUD,h1,close,0") -> 1.94763 | Q2: =RTD("fxbluelabs.excelrtd", , "21422436","@bh,GBPNZD,h1,close,0") -> 2.13106 | R2: =RTD("fxbluelabs.excelrtd", , "21422436","@bh,GBPCAD,h1,close,0") -> 1.78062 | S2: =RTD("fxbluelabs.excelrtd", , "21422436","@bh,GBPCHF,h1,close,0") -> 1.11654 | T2: =RTD("fxbluelabs.excelrtd", , "21422436","@bh,GBPJPY,h1,close,0") -> 191.417 | U2: =RTD("fxbluelabs.excelrtd", , "21422436","@bh,NZDJPY,h1,close,0") -> 89.816 | V2: =RTD("fxbluelabs.excelrtd", , "21422436","@bh,NZDCHF,h1,close,0") -> 0.52389 | W2: =RTD("fxbluelabs.excelrtd", , "21422436","@bh,NZDUSD,h1,close,0") -> 0.61473 | X2: =RTD("fxbluelabs.excelrtd", , "21422436","@bh,NZDCAD,h1,close,0") -> 0.83543 | Y2: =RTD("fxbluelabs.excelrtd", , "21422436","@bh,CADJPY,h1,close,0") -> 107.508 | Z2: =RTD("fxbluelabs.excelrtd", , "21422436","@bh,CADCHF,h1,close,0") -> 0.62709 | AA2: =RTD("fxbluelabs.excelrtd", , "21422436","@bh,CHFJPY,h1,close,0") -> 171.433 | AB2: =RTD("fxbluelabs.excelrtd", , "21422436","@bh,USDCAD,h1,close,0") -> 1.35917 | AC2: =RTD("fxbluelabs.excelrtd", , "21422436","@bh,USDCHF,h1,close,0") -> 0.85228 | AD2: =RTD("fxbluelabs.excelrtd", , "21422436","@bh,USDJPY,h1,close,0") -> 146.113 | AH2: 1 | AI2: =IF(C2=0,0,(C2-C3)*100/C3) -> -0.0594283 | AJ2: =IF(D2=0,0,(D2-D3)*100/D3) -> 0.0063976603 | AK2: =IF(E2=0,0,(E2-E3)*100/E3) -> 0.026459603 | AL2: =IF(F2=0,0,(F2-F3)*100/F3) -> -0.022670201 | AM2: =IF(G2=0,0,(G2-G3)*100/G3) -> -0.0032813423 | AN2: =IF(H2=0,0,(H2-H3)*100/H3) -> -0.041304504 | AO2: =IF(I2=0,0,(I2-I3)*100/I3) -> 0.014543147 | AP2: =IF(J2=0,0,(J2-J3)*100/J3) -> 0.030609482 | ... BJ2: =IF(AD2=0,0,(AD2-AD3)*100/AD3) -> 0.083566795 | BN2: 1 | BO2: =AI2+SUM(AI3:AI37) -> -0.1639926 | BP2: =AJ2+SUM(AJ3:AJ37) -> -0.28905934 | BQ2: =AK2+SUM(AK3:AK37) -> -0.1627883 | BR2: =AL2+SUM(AL3:AL37) -> -0.49868357 | BS2: =AM2+SUM(AM3:AM37) -> -0.29232313 | BT2: =AN2+SUM(AN3:AN37) -> 0.13635889 | BU2: =AO2+SUM(AO3:AO37) -> 0.0084329009 | BV2: =AP2+SUM(AP3:AP37) -> -0.4352855 | ... CP2: =BJ2+SUM(BJ3:BJ37) -> -0.00058242351 | CU2: 1 | CV2: =BT2+BU2+BV2+BW2+BX2+BY2+BZ2 -> -0.045986362 | CW2: =CN2+CO2+CP2-CI2-CA2-BT2-BO2 -> -1.1409315 | CX2: =CK2+CL2-CN2-CJ2-CD2-BU2-BS2 -> -0.11049285 | CY2: =CM2-CO2-CH2-CE2-BW2-BR2 -> 1.3474399 | CZ2: =CA2+CB2+CC2+CD2+CE2+CF2-BV2 -> 3.4208268 | DA2: =BO2+BP2+BQ2+BR2+BS2-BY2-CB2 -> -2.4396127 | DB2: =CG2+CH2+CI2+CJ2-CC2-BZ2-BP2 -> -0.12070079 | DC2: =-BQ2-BX2-CF2-CG2-CK2-CM2-CP2 -> -1.1171885 | DF2: 1 | DG2: =CN2 -> -0.12477692 | DH2: =BU2 -> 0.0084329009 | DI2: =CO2 -> -0.33428838 | DJ2: =BW2 -> -0.20038624 | DK2: =-(CA2) -> -0.57774933 | DL2: =BV2 -> -0.4352855 | DM2: =-(BO2) -> 0.1639926 | DN2: =BY2 -> 0.29911937 | DO2: =-(CI2) -> -0.1311682 | DP2: =BZ2 -> 0.011156271 | DQ2: =CP2 -> -0.00058242351 | DR2: =BX2 -> 0.13461794 | DS2: =-(BT2) -> -0.13635889 | DT2: =BT2 -> 0.13635889 | DX2: 1 | DY2: =SUM(IF($EB$2="Buy", EN2, IF($EB$2="Sell", -EN2, 0)), IF($EC$2="Buy", EO2, IF($EC$2="Sell", -EO2, 0)), IF($ED$2="Buy", EP2, IF($ED$2="Sell", -EP2, 0)), IF($EE$2="Buy", EQ2, IF($EE$2="Sell", -EQ2, 0)), IF($EF$2="Buy", ER2, IF($EF$2="Sell", -ER2, 0)), IF($EG$2="Buy", ES2, IF($EG$2="Sell", -ES2, 0)), IF($EH$2="Buy", ET2, IF($EH$2="Sell", -ET2, 0)), IF($EI$2="Buy", EU2, IF($EI$2="Sell", -EU2, 0))) -> 1.0949452 | EB2: Buy | EC2: Sell | ED2: - | EJ2: Buy | EM2: 1 | EN2: =BT2+BU2+BV2+BW2+BX2+BY2+BZ2 -> -0.045986362 | EO2: =CN2+CO2+CP2-CI2-CA2-BT2-BO2 -> -1.1409315 | EP2: =CK2+CL2-CN2-CJ2-CD2-BU2-BS2 -> -0.11049285 | EQ2: =CM2-CO2-CH2-CE2-BW2-BR2 -> 1.3474399 | ER2: =CA2+CB2+CC2+CD2+CE2+CF2-BV2 -> 3.4208268 | ES2: =BO2+BP2+BQ2+BR2+BS2-BY2-CB2 -> -2.4396127 | ET2: =CG2+CH2+CI2+CJ2-CC2-BZ2-BP2 -> -0.12070079 | EU2: =-BQ2-BX2-CF2-CG2-CK2-CM2-CP2 -> -1.1171885 | EW2: =LARGE($EN$2:$EU$2,1) -> 3.4208268 | EX2: =INDEX(EN1:EU1,MATCH(EW2,EN2:EU2,0)) -> GBP
A3: previous | B3: 1 | C3: =RTD("fxbluelabs.excelrtd", , "21422436","@bh,AUDUSD,h1,close,1") -> 0.67308 | D3: =RTD("fxbluelabs.excelrtd", , "21422436","@bh,AUDNZD,h1,close,1") -> 1.09415 | E3: =RTD("fxbluelabs.excelrtd", , "21422436","@bh,AUDJPY,h1,close,1") -> 98.263 | F3: =RTD("fxbluelabs.excelrtd", , "21422436","@bh,AUDCHF,h1,close,1") -> 0.57344 | G3: =RTD("fxbluelabs.excelrtd", , "21422436","@bh,AUDCAD,h1,close,1") -> 0.91426 | H3: =RTD("fxbluelabs.excelrtd", , "21422436","@bh,EURUSD,h1,close,1") -> 1.11368 | I3: =RTD("fxbluelabs.excelrtd", , "21422436","@bh,EURCAD,h1,close,1") -> 1.51274 | J3: =RTD("fxbluelabs.excelrtd", , "21422436","@bh,EURGBP,h1,close,1") -> 0.84941 | K3: =RTD("fxbluelabs.excelrtd", , "21422436","@bh,EURCHF,h1,close,1") -> 0.94881 | L3: =RTD("fxbluelabs.excelrtd", , "21422436","@bh,EURJPY,h1,close,1") -> 162.589 | M3: =RTD("fxbluelabs.excelrtd", , "21422436","@bh,EURAUD,h1,close,1") -> 1.6546 | N3: =RTD("fxbluelabs.excelrtd", , "21422436","@bh,EURNZD,h1,close,1") -> 1.81038 | O3: =RTD("fxbluelabs.excelrtd", , "21422436","@bh,GBPUSD,h1,close,1") -> 1.3112 | P3: =RTD("fxbluelabs.excelrtd", , "21422436","@bh,GBPAUD,h1,close,1") -> 1.94799 | Q3: =RTD("fxbluelabs.excelrtd", , "21422436","@bh,GBPNZD,h1,close,1") -> 2.13143 | R3: =RTD("fxbluelabs.excelrtd", , "21422436","@bh,GBPCAD,h1,close,1") -> 1.78098 | S3: =RTD("fxbluelabs.excelrtd", , "21422436","@bh,GBPCHF,h1,close,1") -> 1.11696 | T3: =RTD("fxbluelabs.excelrtd", , "21422436","@bh,GBPJPY,h1,close,1") -> 191.395 | U3: =RTD("fxbluelabs.excelrtd", , "21422436","@bh,NZDJPY,h1,close,1") -> 89.8 | V3: =RTD("fxbluelabs.excelrtd", , "21422436","@bh,NZDCHF,h1,close,1") -> 0.52405 | W3: =RTD("fxbluelabs.excelrtd", , "21422436","@bh,NZDUSD,h1,close,1") -> 0.61511 | X3: =RTD("fxbluelabs.excelrtd", , "21422436","@bh,NZDCAD,h1,close,1") -> 0.83551 | Y3: =RTD("fxbluelabs.excelrtd", , "21422436","@bh,CADJPY,h1,close,1") -> 107.478 | Z3: =RTD("fxbluelabs.excelrtd", , "21422436","@bh,CADCHF,h1,close,1") -> 0.62721 | AA3: =RTD("fxbluelabs.excelrtd", , "21422436","@bh,CHFJPY,h1,close,1") -> 171.357 | AB3: =RTD("fxbluelabs.excelrtd", , "21422436","@bh,USDCAD,h1,close,1") -> 1.35846 | AC3: =RTD("fxbluelabs.excelrtd", , "21422436","@bh,USDCHF,h1,close,1") -> 0.85197 | AD3: =RTD("fxbluelabs.excelrtd", , "21422436","@bh,USDJPY,h1,close,1") -> 145.991 | AH3: 2 | AI3: =IF(C3=0,0,(C3-C4)*100/C4) -> -0.086096844 | AJ3: =IF(D3=0,0,(D3-D4)*100/D4) -> -0.015534761 | AK3: =IF(E3=0,0,(E3-E4)*100/E4) -> 0.069249962 | AL3: =IF(F3=0,0,(F3-F4)*100/F4) -> -0.022665063 | AM3: =IF(G3=0,0,(G3-G4)*100/G4) -> -0.076506077 | AN3: =IF(H3=0,0,(H3-H4)*100/H4) -> -0.077161878 | AO3: =IF(I3=0,0,(I3-I4)*100/I4) -> -0.06540136 | AP3: =IF(J3=0,0,(J3-J4)*100/J4) -> -0.0058860923 | ... BJ3: =IF(AD3=0,0,(AD3-AD4)*100/AD4) -> 0.15573118 | BN3: 2 | BO3: =AI3+SUM(AI4:AI38) -> -0.1045643 | BP3: =AJ3+SUM(AJ4:AJ38) -> -0.295457 | BQ3: =AK3+SUM(AK4:AK38) -> -0.1892479 | BR3: =AL3+SUM(AL4:AL38) -> -0.47601337 | BS3: =AM3+SUM(AM4:AM38) -> -0.28904179 | BT3: =AN3+SUM(AN4:AN38) -> 0.1776634 | BU3: =AO3+SUM(AO4:AO38) -> -0.006110246 | BV3: =AP3+SUM(AP4:AP38) -> -0.46589498 | ... CP3: =BJ3+SUM(BJ4:BJ38) -> -0.084149219 | CU3: 2 | CV3: =BT3+BU3+BV3+BW3+BX3+BY3+BZ3 -> -0.12350694 | CW3: =CN3+CO3+CP3-CI3-CA3-BT3-BO3 -> -1.5473501 | CX3: =CK3+CL3-CN3-CJ3-CD3-BU3-BS3 -> -0.085534902 | CY3: =CM3-CO3-CH3-CE3-BW3-BR3 -> 1.2423469 | CZ3: =CA3+CB3+CC3+CD3+CE3+CF3-BV3 -> 3.6052872 | DA3: =BO3+BP3+BQ3+BR3+BS3-BY3-CB3 -> -2.3898569 | DB3: =CG3+CH3+CI3+CJ3-CC3-BZ3-BP3 -> -0.023291458 | DC3: =-BQ3-BX3-CF3-CG3-CK3-CM3-CP3 -> -0.86560754 | DF3: 2 | DG3: =CN3 -> -0.17704198 | DH3: =BU3 -> -0.006110246 | DI3: =CO3 -> -0.37067464 | DJ3: =BW3 -> -0.19406253 | DK3: =-(CA3) -> -0.64943939 | DL3: =BV3 -> -0.46589498 | DM3: =-(BO3) -> 0.1045643 | DN3: =BY3 -> 0.2834056 | DO3: =-(CI3) -> -0.19294577 | DP3: =BZ3 -> -0.013148019 | DQ3: =CP3 -> -0.084149219 | DR3: =BX3 -> 0.094639835 | DS3: =-(BT3) -> -0.1776634 | DT3: =BT3 -> 0.1776634 | DX3: 2 | DY3: =SUM(IF($EB$2="Buy", EN3, IF($EB$2="Sell", -EN3, 0)), IF($EC$2="Buy", EO3, IF($EC$2="Sell", -EO3, 0)), IF($ED$2="Buy", EP3, IF($ED$2="Sell", -EP3, 0)), IF($EE$2="Buy", EQ3, IF($EE$2="Sell", -EQ3, 0)), IF($EF$2="Buy", ER3, IF($EF$2="Sell", -ER3, 0)), IF($EG$2="Buy", ES3, IF($EG$2="Sell", -ES3, 0)), IF($EH$2="Buy", ET3, IF($EH$2="Sell", -ET3, 0)), IF($EI$2="Buy", EU3, IF($EI$2="Sell", -EU3, 0))) -> 1.4238431 | EJ3: Sell | EM3: 2 | EN3: =BT3+BU3+BV3+BW3+BX3+BY3+BZ3 -> -0.12350694 | EO3: =CN3+CO3+CP3-CI3-CA3-BT3-BO3 -> -1.5473501 | EP3: =CK3+CL3-CN3-CJ3-CD3-BU3-BS3 -> -0.085534902 | EQ3: =CM3-CO3-CH3-CE3-BW3-BR3 -> 1.2423469 | ER3: =CA3+CB3+CC3+CD3+CE3+CF3-BV3 -> 3.6052872 | ES3: =BO3+BP3+BQ3+BR3+BS3-BY3-CB3 -> -2.3898569 | ET3: =CG3+CH3+CI3+CJ3-CC3-BZ3-BP3 -> -0.023291458 | EU3: =-BQ3-BX3-CF3-CG3-CK3-CM3-CP3 -> -0.86560754 | EW3: =LARGE($EN$2:$EU$2,2) -> 1.3474399 | EX3: =INDEX(EN1:EU1,MATCH(EW3,EN2:EU2,0)) -> CHF
A4: previous | B4: 2 | C4: =RTD("fxbluelabs.excelrtd", , "21422436","@bh,AUDUSD,h1,close,2") -> 0.67366 | D4: =RTD("fxbluelabs.excelrtd", , "21422436","@bh,AUDNZD,h1,close,2") -> 1.09432 | E4: =RTD("fxbluelabs.excelrtd", , "21422436","@bh,AUDJPY,h1,close,2") -> 98.195 | F4: =RTD("fxbluelabs.excelrtd", , "21422436","@bh,AUDCHF,h1,close,2") -> 0.57357 | G4: =RTD("fxbluelabs.excelrtd", , "21422436","@bh,AUDCAD,h1,close,2") -> 0.91496 | H4: =RTD("fxbluelabs.excelrtd", , "21422436","@bh,EURUSD,h1,close,2") -> 1.11454 | I4: =RTD("fxbluelabs.excelrtd", , "21422436","@bh,EURCAD,h1,close,2") -> 1.51373 | J4: =RTD("fxbluelabs.excelrtd", , "21422436","@bh,EURGBP,h1,close,2") -> 0.84946 | K4: =RTD("fxbluelabs.excelrtd", , "21422436","@bh,EURCHF,h1,close,2") -> 0.94894 | L4: =RTD("fxbluelabs.excelrtd", , "21422436","@bh,EURJPY,h1,close,2") -> 162.458 | M4: =RTD("fxbluelabs.excelrtd", , "21422436","@bh,EURAUD,h1,close,2") -> 1.65443 | N4: =RTD("fxbluelabs.excelrtd", , "21422436","@bh,EURNZD,h1,close,2") -> 1.81049 | O4: =RTD("fxbluelabs.excelrtd", , "21422436","@bh,GBPUSD,h1,close,2") -> 1.31208 | P4: =RTD("fxbluelabs.excelrtd", , "21422436","@bh,GBPAUD,h1,close,2") -> 1.94762 | Q4: =RTD("fxbluelabs.excelrtd", , "21422436","@bh,GBPNZD,h1,close,2") -> 2.13135 | R4: =RTD("fxbluelabs.excelrtd", , "21422436","@bh,GBPCAD,h1,close,2") -> 1.78199 | S4: =RTD("fxbluelabs.excelrtd", , "21422436","@bh,GBPCHF,h1,close,2") -> 1.117 | T4: =RTD("fxbluelabs.excelrtd", , "21422436","@bh,GBPJPY,h1,close,2") -> 191.225 | U4: =RTD("fxbluelabs.excelrtd", , "21422436","@bh,NZDJPY,h1,close,2") -> 89.724 | V4: =RTD("fxbluelabs.excelrtd", , "21422436","@bh,NZDCHF,h1,close,2") -> 0.52409 | W4: =RTD("fxbluelabs.excelrtd", , "21422436","@bh,NZDUSD,h1,close,2") -> 0.61554 | X4: =RTD("fxbluelabs.excelrtd", , "21422436","@bh,NZDCAD,h1,close,2") -> 0.83601 | Y4: =RTD("fxbluelabs.excelrtd", , "21422436","@bh,CADJPY,h1,close,2") -> 107.321 | Z4: =RTD("fxbluelabs.excelrtd", , "21422436","@bh,CADCHF,h1,close,2") -> 0.62688 | AA4: =RTD("fxbluelabs.excelrtd", , "21422436","@bh,CHFJPY,h1,close,2") -> 171.196 | AB4: =RTD("fxbluelabs.excelrtd", , "21422436","@bh,USDCAD,h1,close,2") -> 1.3583 | AC4: =RTD("fxbluelabs.excelrtd", , "21422436","@bh,USDCHF,h1,close,2") -> 0.85143 | AD4: =RTD("fxbluelabs.excelrtd", , "21422436","@bh,USDJPY,h1,close,2") -> 145.764 | AH4: 3 | AI4: =IF(C4=0,0,(C4-C5)*100/C5) -> -0.050445104 | AJ4: =IF(D4=0,0,(D4-D5)*100/D5) -> 0.018279531 | AK4: =IF(E4=0,0,(E4-E5)*100/E5) -> 0.058081477 | AL4: =IF(F4=0,0,(F4-F5)*100/F5) -> 0 | AM4: =IF(G4=0,0,(G4-G5)*100/G5) -> -0.017484046 | AN4: =IF(H4=0,0,(H4-H5)*100/H5) -> 0.050270202 | AO4: =IF(I4=0,0,(I4-I5)*100/I5) -> 0.081984013 | AP4: =IF(J4=0,0,(J4-J5)*100/J5) -> 0.081294108 | ... BJ4: =IF(AD4=0,0,(AD4-AD5)*100/AD5) -> 0.10644946 | BN4: 3 | BO4: =AI4+SUM(AI5:AI39) -> -0.018467455 | BP4: =AJ4+SUM(AJ5:AJ39) -> -0.27992224 | BQ4: =AK4+SUM(AK5:AK39) -> -0.25849786 | BR4: =AL4+SUM(AL5:AL39) -> -0.4533483 | BS4: =AM4+SUM(AM5:AM39) -> -0.21253571 | BT4: =AN4+SUM(AN5:AN39) -> 0.25482527 | BU4: =AO4+SUM(AO5:AO39) -> 0.059291114 | BV4: =AP4+SUM(AP5:AP39) -> -0.46000889 | ... CP4: =BJ4+SUM(BJ5:BJ39) -> -0.2398804 | CU4: 3 | CV4: =BT4+BU4+BV4+BW4+BX4+BY4+BZ4 -> -0.046194077 | CW4: =CN4+CO4+CP4-CI4-CA4-BT4-BO4 -> -2.0784686 | CX4: =CK4+CL4-CN4-CJ4-CD4-BU4-BS4 -> -0.53108077 | CY4: =CM4-CO4-CH4-CE4-BW4-BR4 -> 1.1641475 | CZ4: =CA4+CB4+CC4+CD4+CE4+CF4-BV4 -> 3.6150779 | DA4: =BO4+BP4+BQ4+BR4+BS4-BY4-CB4 -> -2.2290312 | DB4: =CG4+CH4+CI4+CJ4-CC4-BZ4-BP4 -> 0.011444898 | DC4: =-BQ4-BX4-CF4-CG4-CK4-CM4-CP4 -> -0.1460511 | DF4: 3 | DG4: =CN4 -> -0.18882141 | DH4: =BU4 -> 0.059291114 | DI4: =CO4 -> -0.43409735 | DJ4: =BW4 -> -0.18036303 | DK4: =-(CA4) -> -0.71650847 | DL4: =BV4 -> -0.46000889 | DM4: =-(BO4) -> 0.018467455 | DN4: =BY4 -> 0.27313016 | DO4: =-(CI4) -> -0.26280313 | DP4: =BZ4 -> -0.0070723154 | DQ4: =CP4 -> -0.2398804 | DR4: =BX4 -> 0.014003609 | DS4: =-(BT4) -> -0.25482527 | DT4: =BT4 -> 0.25482527 | DX4: 3 | DY4: =SUM(IF($EB$2="Buy", EN4, IF($EB$2="Sell", -EN4, 0)), IF($EC$2="Buy", EO4, IF($EC$2="Sell", -EO4, 0)), IF($ED$2="Buy", EP4, IF($ED$2="Sell", -EP4, 0)), IF($EE$2="Buy", EQ4, IF($EE$2="Sell", -EQ4, 0)), IF($EF$2="Buy", ER4, IF($EF$2="Sell", -ER4, 0)), IF($EG$2="Buy", ES4, IF($EG$2="Sell", -ES4, 0)), IF($EH$2="Buy", ET4, IF($EH$2="Sell", -ET4, 0)), IF($EI$2="Buy", EU4, IF($EI$2="Sell", -EU4, 0))) -> 2.0322745 | EJ4: ="-" -> - | EM4: 3 | EN4: =BT4+BU4+BV4+BW4+BX4+BY4+BZ4 -> -0.046194077 | EO4: =CN4+CO4+CP4-CI4-CA4-BT4-BO4 -> -2.0784686 | EP4: =CK4+CL4-CN4-CJ4-CD4-BU4-BS4 -> -0.53108077 | EQ4: =CM4-CO4-CH4-CE4-BW4-BR4 -> 1.1641475 | ER4: =CA4+CB4+CC4+CD4+CE4+CF4-BV4 -> 3.6150779 | ES4: =BO4+BP4+BQ4+BR4+BS4-BY4-CB4 -> -2.2290312 | ET4: =CG4+CH4+CI4+CJ4-CC4-BZ4-BP4 -> 0.011444898 | EU4: =-BQ4-BX4-CF4-CG4-CK4-CM4-CP4 -> -0.1460511 | EW4: =LARGE($EN$2:$EU$2,3) -> -0.045986362 | EX4: =INDEX(EN1:EU1,MATCH(EW4,EN2:EU2,0)) -> EUR
A5: previous | B5: 3 | C5: =RTD("fxbluelabs.excelrtd", , "21422436","@bh,AUDUSD,h1,close,3") -> 0.674 | D5: =RTD("fxbluelabs.excelrtd", , "21422436","@bh,AUDNZD,h1,close,3") -> 1.09412 | E5: =RTD("fxbluelabs.excelrtd", , "21422436","@bh,AUDJPY,h1,close,3") -> 98.138 | F5: =RTD("fxbluelabs.excelrtd", , "21422436","@bh,AUDCHF,h1,close,3") -> 0.57357 | G5: =RTD("fxbluelabs.excelrtd", , "21422436","@bh,AUDCAD,h1,close,3") -> 0.91512 | H5: =RTD("fxbluelabs.excelrtd", , "21422436","@bh,EURUSD,h1,close,3") -> 1.11398 | I5: =RTD("fxbluelabs.excelrtd", , "21422436","@bh,EURCAD,h1,close,3") -> 1.51249 | J5: =RTD("fxbluelabs.excelrtd", , "21422436","@bh,EURGBP,h1,close,3") -> 0.84877 | K5: =RTD("fxbluelabs.excelrtd", , "21422436","@bh,EURCHF,h1,close,3") -> 0.94798 | L5: =RTD("fxbluelabs.excelrtd", , "21422436","@bh,EURJPY,h1,close,3") -> 162.198 | M5: =RTD("fxbluelabs.excelrtd", , "21422436","@bh,EURAUD,h1,close,3") -> 1.65275 | N5: =RTD("fxbluelabs.excelrtd", , "21422436","@bh,EURNZD,h1,close,3") -> 1.80836 | O5: =RTD("fxbluelabs.excelrtd", , "21422436","@bh,GBPUSD,h1,close,3") -> 1.31254 | P5: =RTD("fxbluelabs.excelrtd", , "21422436","@bh,GBPAUD,h1,close,3") -> 1.94728 | Q5: =RTD("fxbluelabs.excelrtd", , "21422436","@bh,GBPNZD,h1,close,3") -> 2.13065 | R5: =RTD("fxbluelabs.excelrtd", , "21422436","@bh,GBPCAD,h1,close,3") -> 1.78202 | S5: =RTD("fxbluelabs.excelrtd", , "21422436","@bh,GBPCHF,h1,close,3") -> 1.11682 | T5: =RTD("fxbluelabs.excelrtd", , "21422436","@bh,GBPJPY,h1,close,3") -> 191.085 | U5: =RTD("fxbluelabs.excelrtd", , "21422436","@bh,NZDJPY,h1,close,3") -> 89.688 | V5: =RTD("fxbluelabs.excelrtd", , "21422436","@bh,NZDCHF,h1,close,3") -> 0.52418 | W5: =RTD("fxbluelabs.excelrtd", , "21422436","@bh,NZDUSD,h1,close,3") -> 0.61596 | X5: =RTD("fxbluelabs.excelrtd", , "21422436","@bh,NZDCAD,h1,close,3") -> 0.8363 | Y5: =RTD("fxbluelabs.excelrtd", , "21422436","@bh,CADJPY,h1,close,3") -> 107.241 | Z5: =RTD("fxbluelabs.excelrtd", , "21422436","@bh,CADCHF,h1,close,3") -> 0.62677 | AA5: =RTD("fxbluelabs.excelrtd", , "21422436","@bh,CHFJPY,h1,close,3") -> 171.1 | AB5: =RTD("fxbluelabs.excelrtd", , "21422436","@bh,USDCAD,h1,close,3") -> 1.35787 | AC5: =RTD("fxbluelabs.excelrtd", , "21422436","@bh,USDCHF,h1,close,3") -> 0.851 | AD5: =RTD("fxbluelabs.excelrtd", , "21422436","@bh,USDJPY,h1,close,3") -> 145.609 | AH5: 4 | AI5: =IF(C5=0,0,(C5-C6)*100/C6) -> -0.088941595 | AJ5: =IF(D5=0,0,(D5-D6)*100/D6) -> -0.073064699 | AK5: =IF(E5=0,0,(E5-E6)*100/E6) -> -0.11094486 | AL5: =IF(F5=0,0,(F5-F6)*100/F6) -> -0.11667595 | AM5: =IF(G5=0,0,(G5-G6)*100/G6) -> -0.082980303 | AN5: =IF(H5=0,0,(H5-H6)*100/H6) -> -0.025128785 | AO5: =IF(I5=0,0,(I5-I6)*100/I6) -> -0.019830908 | AP5: =IF(J5=0,0,(J5-J6)*100/J6) -> -0.11180153 | ... BJ5: =IF(AD5=0,0,(AD5-AD6)*100/AD6) -> -0.019912386 | BN5: 4 | BO5: =AI5+SUM(AI6:AI40) -> 0.031977649 | BP5: =AJ5+SUM(AJ6:AJ40) -> -0.29820177 | BQ5: =AK5+SUM(AK6:AK40) -> -0.31657934 | BR5: =AL5+SUM(AL6:AL40) -> -0.4533483 | BS5: =AM5+SUM(AM6:AM40) -> -0.19505167 | BT5: =AN5+SUM(AN6:AN40) -> 0.20455507 | BU5: =AO5+SUM(AO6:AO40) -> -0.0226929 | BV5: =AP5+SUM(AP6:AP40) -> -0.54130299 | ... CP5: =BJ5+SUM(BJ6:BJ40) -> -0.34632986 | CU5: 4 | CV5: =BT5+BU5+BV5+BW5+BX5+BY5+BZ5 -> -0.74074332 | CW5: =CN5+CO5+CP5-CI5-CA5-BT5-BO5 -> -2.3705218 | CX5: =CK5+CL5-CN5-CJ5-CD5-BU5-BS5 -> -0.56342222 | CY5: =CM5-CO5-CH5-CE5-BW5-BR5 -> 1.2587843 | CZ5: =CA5+CB5+CC5+CD5+CE5+CF5-BV5 -> 3.593405 | DA5: =BO5+BP5+BQ5+BR5+BS5-BY5-CB5 -> -2.118354 | DB5: =CG5+CH5+CI5+CJ5-CC5-BZ5-BP5 -> 0.26025786 | DC5: =-BQ5-BX5-CF5-CG5-CK5-CM5-CP5 -> 0.4228886 | DF5: 4 | DG5: =CN5 -> -0.22048866 | DH5: =BU5 -> -0.0226929 | DI5: =CO5 -> -0.48462614 | DJ5: =BW5 -> -0.28163099 | DK5: =-(CA5) -> -0.75155502 | DL5: =BV5 -> -0.54130299 | DM5: =-(BO5) -> -0.031977649 | DN5: =BY5 -> 0.17148139 | DO5: =-(CI5) -> -0.33098937 | DP5: =BZ5 -> -0.1248586 | DQ5: =CP5 -> -0.34632986 | DR5: =BX5 -> -0.1462943 | DS5: =-(BT5) -> -0.20455507 | DT5: =BT5 -> 0.20455507 | DX5: 4 | DY5: =SUM(IF($EB$2="Buy", EN5, IF($EB$2="Sell", -EN5, 0)), IF($EC$2="Buy", EO5, IF($EC$2="Sell", -EO5, 0)), IF($ED$2="Buy", EP5, IF($ED$2="Sell", -EP5, 0)), IF($EE$2="Buy", EQ5, IF($EE$2="Sell", -EQ5, 0)), IF($EF$2="Buy", ER5, IF($EF$2="Sell", -ER5, 0)), IF($EG$2="Buy", ES5, IF($EG$2="Sell", -ES5, 0)), IF($EH$2="Buy", ET5, IF($EH$2="Sell", -ET5, 0)), IF($EI$2="Buy", EU5, IF($EI$2="Sell", -EU5, 0))) -> 1.6297785 | EM5: 4 | EN5: =BT5+BU5+BV5+BW5+BX5+BY5+BZ5 -> -0.74074332 | EO5: =CN5+CO5+CP5-CI5-CA5-BT5-BO5 -> -2.3705218 | EP5: =CK5+CL5-CN5-CJ5-CD5-BU5-BS5 -> -0.56342222 | EQ5: =CM5-CO5-CH5-CE5-BW5-BR5 -> 1.2587843 | ER5: =CA5+CB5+CC5+CD5+CE5+CF5-BV5 -> 3.593405 | ES5: =BO5+BP5+BQ5+BR5+BS5-BY5-CB5 -> -2.118354 | ET5: =CG5+CH5+CI5+CJ5-CC5-BZ5-BP5 -> 0.26025786 | EU5: =-BQ5-BX5-CF5-CG5-CK5-CM5-CP5 -> 0.4228886 | EW5: =LARGE($EN$2:$EU$2,4) -> -0.11049285 | EX5: =INDEX(EN1:EU1,MATCH(EW5,EN2:EU2,0)) -> CAD
A6: previous | B6: 4 | C6: =RTD("fxbluelabs.excelrtd", , "21422436","@bh,AUDUSD,h1,close,4") -> 0.6746 | D6: =RTD("fxbluelabs.excelrtd", , "21422436","@bh,AUDNZD,h1,close,4") -> 1.09492 | E6: =RTD("fxbluelabs.excelrtd", , "21422436","@bh,AUDJPY,h1,close,4") -> 98.247 | F6: =RTD("fxbluelabs.excelrtd", , "21422436","@bh,AUDCHF,h1,close,4") -> 0.57424 | G6: =RTD("fxbluelabs.excelrtd", , "21422436","@bh,AUDCAD,h1,close,4") -> 0.91588 | H6: =RTD("fxbluelabs.excelrtd", , "21422436","@bh,EURUSD,h1,close,4") -> 1.11426 | I6: =RTD("fxbluelabs.excelrtd", , "21422436","@bh,EURCAD,h1,close,4") -> 1.51279 | J6: =RTD("fxbluelabs.excelrtd", , "21422436","@bh,EURGBP,h1,close,4") -> 0.84972 | K6: =RTD("fxbluelabs.excelrtd", , "21422436","@bh,EURCHF,h1,close,4") -> 0.94848 | L6: =RTD("fxbluelabs.excelrtd", , "21422436","@bh,EURJPY,h1,close,4") -> 162.276 | M6: =RTD("fxbluelabs.excelrtd", , "21422436","@bh,EURAUD,h1,close,4") -> 1.65172 | N6: =RTD("fxbluelabs.excelrtd", , "21422436","@bh,EURNZD,h1,close,4") -> 1.80851 | O6: =RTD("fxbluelabs.excelrtd", , "21422436","@bh,GBPUSD,h1,close,4") -> 1.31139 | P6: =RTD("fxbluelabs.excelrtd", , "21422436","@bh,GBPAUD,h1,close,4") -> 1.94387 | Q6: =RTD("fxbluelabs.excelrtd", , "21422436","@bh,GBPNZD,h1,close,4") -> 2.12842 | R6: =RTD("fxbluelabs.excelrtd", , "21422436","@bh,GBPCAD,h1,close,4") -> 1.78036 | S6: =RTD("fxbluelabs.excelrtd", , "21422436","@bh,GBPCHF,h1,close,4") -> 1.11615 | T6: =RTD("fxbluelabs.excelrtd", , "21422436","@bh,GBPJPY,h1,close,4") -> 190.958 | U6: =RTD("fxbluelabs.excelrtd", , "21422436","@bh,NZDJPY,h1,close,4") -> 89.728 | V6: =RTD("fxbluelabs.excelrtd", , "21422436","@bh,NZDCHF,h1,close,4") -> 0.52445 | W6: =RTD("fxbluelabs.excelrtd", , "21422436","@bh,NZDUSD,h1,close,4") -> 0.6161 | X6: =RTD("fxbluelabs.excelrtd", , "21422436","@bh,NZDCAD,h1,close,4") -> 0.83645 | Y6: =RTD("fxbluelabs.excelrtd", , "21422436","@bh,CADJPY,h1,close,4") -> 107.27 | Z6: =RTD("fxbluelabs.excelrtd", , "21422436","@bh,CADCHF,h1,close,4") -> 0.62698 | AA6: =RTD("fxbluelabs.excelrtd", , "21422436","@bh,CHFJPY,h1,close,4") -> 171.083 | AB6: =RTD("fxbluelabs.excelrtd", , "21422436","@bh,USDCAD,h1,close,4") -> 1.35779 | AC6: =RTD("fxbluelabs.excelrtd", , "21422436","@bh,USDCHF,h1,close,4") -> 0.85124 | AD6: =RTD("fxbluelabs.excelrtd", , "21422436","@bh,USDJPY,h1,close,4") -> 145.638 | AH6: 5 | AI6: =IF(C6=0,0,(C6-C7)*100/C7) -> -0.037045269 | AJ6: =IF(D6=0,0,(D6-D7)*100/D7) -> 0.035631732 | AK6: =IF(E6=0,0,(E6-E7)*100/E7) -> 0.23158539 | AL6: =IF(F6=0,0,(F6-F7)*100/F7) -> 0.083658673 | AM6: =IF(G6=0,0,(G6-G7)*100/G7) -> -0.025106155 | AN6: =IF(H6=0,0,(H6-H7)*100/H7) -> 0.04938449 | AO6: =IF(I6=0,0,(I6-I7)*100/I7) -> 0.061513632 | AP6: =IF(J6=0,0,(J6-J7)*100/J7) -> -0.074087141 | ... BJ6: =IF(AD6=0,0,(AD6-AD7)*100/AD7) -> 0.26850628 | BN6: 5 | BO6: =AI6+SUM(AI7:AI41) -> 0.12091924 | BP6: =AJ6+SUM(AJ7:AJ41) -> -0.22513707 | BQ6: =AK6+SUM(AK7:AK41) -> -0.20563448 | BR6: =AL6+SUM(AL7:AL41) -> -0.33667235 | BS6: =AM6+SUM(AM7:AM41) -> -0.11207136 | BT6: =AN6+SUM(AN7:AN41) -> 0.22968386 | BU6: =AO6+SUM(AO7:AO41) -> -0.0028619911 | BV6: =AP6+SUM(AP7:AP41) -> -0.42950146 | ... CP6: =BJ6+SUM(BJ7:BJ41) -> -0.32641748 | CU6: 5 | CV6: =BT6+BU6+BV6+BW6+BX6+BY6+BZ6 -> -0.53726502 | CW6: =CN6+CO6+CP6-CI6-CA6-BT6-BO6 -> -2.3774079 | CX6: =CK6+CL6-CN6-CJ6-CD6-BU6-BS6 -> -0.52450639 | CY6: =CM6-CO6-CH6-CE6-BW6-BR6 -> 1.0598068 | CZ6: =CA6+CB6+CC6+CD6+CE6+CF6-BV6 -> 2.8939403 | DA6: =BO6+BP6+BQ6+BR6+BS6-BY6-CB6 -> -1.4079641 | DB6: =CG6+CH6+CI6+CJ6-CC6-BZ6-BP6 -> 0.42038978 | DC6: =-BQ6-BX6-CF6-CG6-CK6-CM6-CP6 -> 0.2487948 | DF6: 5 | DG6: =CN6 -> -0.22638058 | DH6: =BU6 -> -0.0028619911 | DI6: =CO6 -> -0.45643197 | DJ6: =BW6 -> -0.22891507 | DK6: =-(CA6) -> -0.66386181 | DL6: =BV6 -> -0.42950146 | DM6: =-(BO6) -> -0.12091924 | DN6: =BY6 -> 0.10912215 | DO6: =-(CI6) -> -0.35371296 | DP6: =BZ6 -> -0.11656448 | DQ6: =CP6 -> -0.32641748 | DR6: =BX6 -> -0.098228041 | DS6: =-(BT6) -> -0.22968386 | DT6: =BT6 -> 0.22968386 | DX6: 5 | DY6: =SUM(IF($EB$2="Buy", EN6, IF($EB$2="Sell", -EN6, 0)), IF($EC$2="Buy", EO6, IF($EC$2="Sell", -EO6, 0)), IF($ED$2="Buy", EP6, IF($ED$2="Sell", -EP6, 0)), IF($EE$2="Buy", EQ6, IF($EE$2="Sell", -EQ6, 0)), IF($EF$2="Buy", ER6, IF($EF$2="Sell", -ER6, 0)), IF($EG$2="Buy", ES6, IF($EG$2="Sell", -ES6, 0)), IF($EH$2="Buy", ET6, IF($EH$2="Sell", -ET6, 0)), IF($EI$2="Buy", EU6, IF($EI$2="Sell", -EU6, 0))) -> 1.8401429 | EM6: 5 | EN6: =BT6+BU6+BV6+BW6+BX6+BY6+BZ6 -> -0.53726502 | EO6: =CN6+CO6+CP6-CI6-CA6-BT6-BO6 -> -2.3774079 | EP6: =CK6+CL6-CN6-CJ6-CD6-BU6-BS6 -> -0.52450639 | EQ6: =CM6-CO6-CH6-CE6-BW6-BR6 -> 1.0598068 | ER6: =CA6+CB6+CC6+CD6+CE6+CF6-BV6 -> 2.8939403 | ES6: =BO6+BP6+BQ6+BR6+BS6-BY6-CB6 -> -1.4079641 | ET6: =CG6+CH6+CI6+CJ6-CC6-BZ6-BP6 -> 0.42038978 | EU6: =-BQ6-BX6-CF6-CG6-CK6-CM6-CP6 -> 0.2487948 | EW6: =LARGE($EN$2:$EU$2,5) -> -0.12070079 | EX6: =INDEX(EN1:EU1,MATCH(EW6,EN2:EU2,0)) -> NZD
A7: previous | B7: 5 | C7: =RTD("fxbluelabs.excelrtd", , "21422436","@bh,AUDUSD,h1,close,5") -> 0.67485 | D7: =RTD("fxbluelabs.excelrtd", , "21422436","@bh,AUDNZD,h1,close,5") -> 1.09453 | E7: =RTD("fxbluelabs.excelrtd", , "21422436","@bh,AUDJPY,h1,close,5") -> 98.02 | F7: =RTD("fxbluelabs.excelrtd", , "21422436","@bh,AUDCHF,h1,close,5") -> 0.57376 | G7: =RTD("fxbluelabs.excelrtd", , "21422436","@bh,AUDCAD,h1,close,5") -> 0.91611 | H7: =RTD("fxbluelabs.excelrtd", , "21422436","@bh,EURUSD,h1,close,5") -> 1.11371 | I7: =RTD("fxbluelabs.excelrtd", , "21422436","@bh,EURCAD,h1,close,5") -> 1.51186 | J7: =RTD("fxbluelabs.excelrtd", , "21422436","@bh,EURGBP,h1,close,5") -> 0.85035 | K7: =RTD("fxbluelabs.excelrtd", , "21422436","@bh,EURCHF,h1,close,5") -> 0.94683 | L7: =RTD("fxbluelabs.excelrtd", , "21422436","@bh,EURJPY,h1,close,5") -> 161.761 | M7: =RTD("fxbluelabs.excelrtd", , "21422436","@bh,EURAUD,h1,close,5") -> 1.65028 | N7: =RTD("fxbluelabs.excelrtd", , "21422436","@bh,EURNZD,h1,close,5") -> 1.8063 | O7: =RTD("fxbluelabs.excelrtd", , "21422436","@bh,GBPUSD,h1,close,5") -> 1.30979 | P7: =RTD("fxbluelabs.excelrtd", , "21422436","@bh,GBPAUD,h1,close,5") -> 1.94078 | Q7: =RTD("fxbluelabs.excelrtd", , "21422436","@bh,GBPNZD,h1,close,5") -> 2.12428 | R7: =RTD("fxbluelabs.excelrtd", , "21422436","@bh,GBPCAD,h1,close,5") -> 1.77798 | S7: =RTD("fxbluelabs.excelrtd", , "21422436","@bh,GBPCHF,h1,close,5") -> 1.11344 | T7: =RTD("fxbluelabs.excelrtd", , "21422436","@bh,GBPJPY,h1,close,5") -> 190.216 | U7: =RTD("fxbluelabs.excelrtd", , "21422436","@bh,NZDJPY,h1,close,5") -> 89.552 | V7: =RTD("fxbluelabs.excelrtd", , "21422436","@bh,NZDCHF,h1,close,5") -> 0.52419 | W7: =RTD("fxbluelabs.excelrtd", , "21422436","@bh,NZDUSD,h1,close,5") -> 0.61655 | X7: =RTD("fxbluelabs.excelrtd", , "21422436","@bh,NZDCAD,h1,close,5") -> 0.83697 | Y7: =RTD("fxbluelabs.excelrtd", , "21422436","@bh,CADJPY,h1,close,5") -> 106.996 | Z7: =RTD("fxbluelabs.excelrtd", , "21422436","@bh,CADCHF,h1,close,5") -> 0.62629 | AA7: =RTD("fxbluelabs.excelrtd", , "21422436","@bh,CHFJPY,h1,close,5") -> 170.837 | AB7: =RTD("fxbluelabs.excelrtd", , "21422436","@bh,USDCAD,h1,close,5") -> 1.35763 | AC7: =RTD("fxbluelabs.excelrtd", , "21422436","@bh,USDCHF,h1,close,5") -> 0.85022 | AD7: =RTD("fxbluelabs.excelrtd", , "21422436","@bh,USDJPY,h1,close,5") -> 145.248 | AH7: 6 | AI7: =IF(C7=0,0,(C7-C8)*100/C8) -> 0.11274459 | AJ7: =IF(D7=0,0,(D7-D8)*100/D8) -> 0 | AK7: =IF(E7=0,0,(E7-E8)*100/E8) -> 0.02142879 | AL7: =IF(F7=0,0,(F7-F8)*100/F8) -> 0.034869935 | AM7: =IF(G7=0,0,(G7-G8)*100/G8) -> 0.066630257 | AN7: =IF(H7=0,0,(H7-H8)*100/H8) -> -0.11121575 | AO7: =IF(I7=0,0,(I7-I8)*100/I8) -> -0.15717456 | AP7: =IF(J7=0,0,(J7-J8)*100/J8) -> -0.14912755 | ... BJ7: =IF(AD7=0,0,(AD7-AD8)*100/AD8) -> -0.091483756 | BN7: 6 | BO7: =AI7+SUM(AI8:AI42) -> 0.15796451 | BP7: =AJ7+SUM(AJ8:AJ42) -> -0.26076881 | BQ7: =AK7+SUM(AK8:AK42) -> -0.43721987 | BR7: =AL7+SUM(AL8:AL42) -> -0.42033102 | BS7: =AM7+SUM(AM8:AM42) -> -0.086965207 | BT7: =AN7+SUM(AN8:AN42) -> 0.18029937 | BU7: =AO7+SUM(AO8:AO42) -> -0.064375623 | BV7: =AP7+SUM(AP8:AP42) -> -0.35541432 | ... CP7: =BJ7+SUM(BJ8:BJ42) -> -0.59492376 | CU7: 6 | CV7: =BT7+BU7+BV7+BW7+BX7+BY7+BZ7 -> -1.2763201 | CW7: =CN7+CO7+CP7-CI7-CA7-BT7-BO7 -> -2.7161589 | CX7: =CK7+CL7-CN7-CJ7-CD7-BU7-BS7 -> -0.77083971 | CY7: =CM7-CO7-CH7-CE7-BW7-BR7 -> 1.5866934 | CZ7: =CA7+CB7+CC7+CD7+CE7+CF7-BV7 -> 1.5762598 | DA7: =BO7+BP7+BQ7+BR7+BS7-BY7-CB7 -> -1.4502162 | DB7: =CG7+CH7+CI7+CJ7-CC7-BZ7-BP7 -> 0.66224209 | DC7: =-BQ7-BX7-CF7-CG7-CK7-CM7-CP7 -> 2.0539554 | DF7: 6 | DG7: =CN7 -> -0.23816583 | DH7: =BU7 -> -0.064375623 | DI7: =CO7 -> -0.57640092 | DJ7: =BW7 -> -0.40318077 | DK7: =-(CA7) -> -0.54170482 | DL7: =BV7 -> -0.35541432 | DM7: =-(BO7) -> -0.15796451 | DN7: =BY7 -> 0.021864233 | DO7: =-(CI7) -> -0.42669974 | DP7: =BZ7 -> -0.23891403 | DQ7: =CP7 -> -0.59492376 | DR7: =BX7 -> -0.41659897 | DS7: =-(BT7) -> -0.18029937 | DT7: =BT7 -> 0.18029937 | DX7: 6 | DY7: =SUM(IF($EB$2="Buy", EN7, IF($EB$2="Sell", -EN7, 0)), IF($EC$2="Buy", EO7, IF($EC$2="Sell", -EO7, 0)), IF($ED$2="Buy", EP7, IF($ED$2="Sell", -EP7, 0)), IF($EE$2="Buy", EQ7, IF($EE$2="Sell", -EQ7, 0)), IF($EF$2="Buy", ER7, IF($EF$2="Sell", -ER7, 0)), IF($EG$2="Buy", ES7, IF($EG$2="Sell", -ES7, 0)), IF($EH$2="Buy", ET7, IF($EH$2="Sell", -ET7, 0)), IF($EI$2="Buy", EU7, IF($EI$2="Sell", -EU7, 0))) -> 1.4398388 | EM7: 6 | EN7: =BT7+BU7+BV7+BW7+BX7+BY7+BZ7 -> -1.2763201 | EO7: =CN7+CO7+CP7-CI7-CA7-BT7-BO7 -> -2.7161589 | EP7: =CK7+CL7-CN7-CJ7-CD7-BU7-BS7 -> -0.77083971 | EQ7: =CM7-CO7-CH7-CE7-BW7-BR7 -> 1.5866934 | ER7: =CA7+CB7+CC7+CD7+CE7+CF7-BV7 -> 1.5762598 | ES7: =BO7+BP7+BQ7+BR7+BS7-BY7-CB7 -> -1.4502162 | ET7: =CG7+CH7+CI7+CJ7-CC7-BZ7-BP7 -> 0.66224209 | EU7: =-BQ7-BX7-CF7-CG7-CK7-CM7-CP7 -> 2.0539554 | EW7: =LARGE($EN$2:$EU$2,6) -> -1.1171885 | EX7: =INDEX(EN1:EU1,MATCH(EW7,EN2:EU2,0)) -> JPY
A8: previous | B8: 6 | C8: =RTD("fxbluelabs.excelrtd", , "21422436","@bh,AUDUSD,h1,close,6") -> 0.67409 | D8: =RTD("fxbluelabs.excelrtd", , "21422436","@bh,AUDNZD,h1,close,6") -> 1.09453 | E8: =RTD("fxbluelabs.excelrtd", , "21422436","@bh,AUDJPY,h1,close,6") -> 97.999 | F8: =RTD("fxbluelabs.excelrtd", , "21422436","@bh,AUDCHF,h1,close,6") -> 0.57356 | G8: =RTD("fxbluelabs.excelrtd", , "21422436","@bh,AUDCAD,h1,close,6") -> 0.9155 | H8: =RTD("fxbluelabs.excelrtd", , "21422436","@bh,EURUSD,h1,close,6") -> 1.11495 | I8: =RTD("fxbluelabs.excelrtd", , "21422436","@bh,EURCAD,h1,close,6") -> 1.51424 | J8: =RTD("fxbluelabs.excelrtd", , "21422436","@bh,EURGBP,h1,close,6") -> 0.85162 | K8: =RTD("fxbluelabs.excelrtd", , "21422436","@bh,EURCHF,h1,close,6") -> 0.94868 | L8: =RTD("fxbluelabs.excelrtd", , "21422436","@bh,EURJPY,h1,close,6") -> 162.091 | M8: =RTD("fxbluelabs.excelrtd", , "21422436","@bh,EURAUD,h1,close,6") -> 1.654 | N8: =RTD("fxbluelabs.excelrtd", , "21422436","@bh,EURNZD,h1,close,6") -> 1.81036 | O8: =RTD("fxbluelabs.excelrtd", , "21422436","@bh,GBPUSD,h1,close,6") -> 1.30925 | P8: =RTD("fxbluelabs.excelrtd", , "21422436","@bh,GBPAUD,h1,close,6") -> 1.94218 | Q8: =RTD("fxbluelabs.excelrtd", , "21422436","@bh,GBPNZD,h1,close,6") -> 2.1258 | R8: =RTD("fxbluelabs.excelrtd", , "21422436","@bh,GBPCAD,h1,close,6") -> 1.77807 | S8: =RTD("fxbluelabs.excelrtd", , "21422436","@bh,GBPCHF,h1,close,6") -> 1.11387 | T8: =RTD("fxbluelabs.excelrtd", , "21422436","@bh,GBPJPY,h1,close,6") -> 190.311 | U8: =RTD("fxbluelabs.excelrtd", , "21422436","@bh,NZDJPY,h1,close,6") -> 89.528 | V8: =RTD("fxbluelabs.excelrtd", , "21422436","@bh,NZDCHF,h1,close,6") -> 0.52398 | W8: =RTD("fxbluelabs.excelrtd", , "21422436","@bh,NZDUSD,h1,close,6") -> 0.61582 | X8: =RTD("fxbluelabs.excelrtd", , "21422436","@bh,NZDCAD,h1,close,6") -> 0.83635 | Y8: =RTD("fxbluelabs.excelrtd", , "21422436","@bh,CADJPY,h1,close,6") -> 107.044 | Z8: =RTD("fxbluelabs.excelrtd", , "21422436","@bh,CADCHF,h1,close,6") -> 0.6265 | AA8: =RTD("fxbluelabs.excelrtd", , "21422436","@bh,CHFJPY,h1,close,6") -> 170.853 | AB8: =RTD("fxbluelabs.excelrtd", , "21422436","@bh,USDCAD,h1,close,6") -> 1.35825 | AC8: =RTD("fxbluelabs.excelrtd", , "21422436","@bh,USDCHF,h1,close,6") -> 0.85088 | AD8: =RTD("fxbluelabs.excelrtd", , "21422436","@bh,USDJPY,h1,close,6") -> 145.381 | AH8: 7 | AI8: =IF(C8=0,0,(C8-C9)*100/C9) -> 0.031162818 | AJ8: =IF(D8=0,0,(D8-D9)*100/D9) -> -0.052962716 | AK8: =IF(E8=0,0,(E8-E9)*100/E9) -> 0.10623627 | AL8: =IF(F8=0,0,(F8-F9)*100/F9) -> -0.03485778 | AM8: =IF(G8=0,0,(G8-G9)*100/G9) -> 0.010924186 | AN8: =IF(H8=0,0,(H8-H9)*100/H9) -> 0.056536722 | AO8: =IF(I8=0,0,(I8-I9)*100/I9) -> 0.038978628 | AP8: =IF(J8=0,0,(J8-J9)*100/J9) -> -0.011740948 | ... BJ8: =IF(AD8=0,0,(AD8-AD9)*100/AD9) -> 0.07572055 | BN8: 7 | BO8: =AI8+SUM(AI9:AI43) -> 0.045219924 | BP8: =AJ8+SUM(AJ9:AJ43) -> -0.26076881 | BQ8: =AK8+SUM(AK9:AK43) -> -0.45864866 | BR8: =AL8+SUM(AL9:AL43) -> -0.45520096 | BS8: =AM8+SUM(AM9:AM43) -> -0.15359546 | BT8: =AN8+SUM(AN9:AN43) -> 0.29151512 | BU8: =AO8+SUM(AO9:AO43) -> 0.092798933 | BV8: =AP8+SUM(AP9:AP43) -> -0.20628677 | ... CP8: =BJ8+SUM(BJ9:BJ43) -> -0.50344 | CU8: 7 | CV8: =BT8+BU8+BV8+BW8+BX8+BY8+BZ8 -> -0.011031025 | CW8: =CN8+CO8+CP8-CI8-CA8-BT8-BO8 -> -2.3401465 | CX8: =CK8+CL8-CN8-CJ8-CD8-BU8-BS8 -> -0.75960008 | CY8: =CM8-CO8-CH8-CE8-BW8-BR8 -> 1.3598273 | CZ8: =CA8+CB8+CC8+CD8+CE8+CF8-BV8 -> 1.6230578 | DA8: =BO8+BP8+BQ8+BR8+BS8-BY8-CB8 -> -1.982883 | DB8: =CG8+CH8+CI8+CJ8-CC8-BZ8-BP8 -> 0.10691691 | DC8: =-BQ8-BX8-CF8-CG8-CK8-CM8-CP8 -> 1.7029939 | DF8: 7 | DG8: =CN8 -> -0.19251885 | DH8: =BU8 -> 0.092798933 | DI8: =CO8 -> -0.49883417 | DJ8: =BW8 -> -0.20817297 | DK8: =-(CA8) -> -0.50045984 | DL8: =BV8 -> -0.20628677 | DM8: =-(BO8) -> -0.045219924 | DN8: =BY8 -> 0.24677354 | DO8: =-(CI8) -> -0.3081586 | DP8: =BZ8 -> -0.014649244 | DQ8: =CP8 -> -0.50344 | DR8: =BX8 -> -0.21300963 | DS8: =-(BT8) -> -0.29151512 | DT8: =BT8 -> 0.29151512 | DX8: 7 | DY8: =SUM(IF($EB$2="Buy", EN8, IF($EB$2="Sell", -EN8, 0)), IF($EC$2="Buy", EO8, IF($EC$2="Sell", -EO8, 0)), IF($ED$2="Buy", EP8, IF($ED$2="Sell", -EP8, 0)), IF($EE$2="Buy", EQ8, IF($EE$2="Sell", -EQ8, 0)), IF($EF$2="Buy", ER8, IF($EF$2="Sell", -ER8, 0)), IF($EG$2="Buy", ES8, IF($EG$2="Sell", -ES8, 0)), IF($EH$2="Buy", ET8, IF($EH$2="Sell", -ET8, 0)), IF($EI$2="Buy", EU8, IF($EI$2="Sell", -EU8, 0))) -> 2.3291155 | EM8: 7 | EN8: =BT8+BU8+BV8+BW8+BX8+BY8+BZ8 -> -0.011031025 | EO8: =CN8+CO8+CP8-CI8-CA8-BT8-BO8 -> -2.3401465 | EP8: =CK8+CL8-CN8-CJ8-CD8-BU8-BS8 -> -0.75960008 | EQ8: =CM8-CO8-CH8-CE8-BW8-BR8 -> 1.3598273 | ER8: =CA8+CB8+CC8+CD8+CE8+CF8-BV8 -> 1.6230578 | ES8: =BO8+BP8+BQ8+BR8+BS8-BY8-CB8 -> -1.982883 | ET8: =CG8+CH8+CI8+CJ8-CC8-BZ8-BP8 -> 0.10691691 | EU8: =-BQ8-BX8-CF8-CG8-CK8-CM8-CP8 -> 1.7029939 | EW8: =LARGE($EN$2:$EU$2,7) -> -1.1409315 | EX8: =INDEX(EN1:EU1,MATCH(EW8,EN2:EU2,0)) -> USD
A9: previous | B9: 7 | C9: =RTD("fxbluelabs.excelrtd", , "21422436","@bh,AUDUSD,h1,close,7") -> 0.67388 | D9: =RTD("fxbluelabs.excelrtd", , "21422436","@bh,AUDNZD,h1,close,7") -> 1.09511 | E9: =RTD("fxbluelabs.excelrtd", , "21422436","@bh,AUDJPY,h1,close,7") -> 97.895 | F9: =RTD("fxbluelabs.excelrtd", , "21422436","@bh,AUDCHF,h1,close,7") -> 0.57376 | G9: =RTD("fxbluelabs.excelrtd", , "21422436","@bh,AUDCAD,h1,close,7") -> 0.9154 | H9: =RTD("fxbluelabs.excelrtd", , "21422436","@bh,EURUSD,h1,close,7") -> 1.11432 | I9: =RTD("fxbluelabs.excelrtd", , "21422436","@bh,EURCAD,h1,close,7") -> 1.51365 | J9: =RTD("fxbluelabs.excelrtd", , "21422436","@bh,EURGBP,h1,close,7") -> 0.85172 | K9: =RTD("fxbluelabs.excelrtd", , "21422436","@bh,EURCHF,h1,close,7") -> 0.94875 | L9: =RTD("fxbluelabs.excelrtd", , "21422436","@bh,EURJPY,h1,close,7") -> 161.87 | M9: =RTD("fxbluelabs.excelrtd", , "21422436","@bh,EURAUD,h1,close,7") -> 1.65355 | N9: =RTD("fxbluelabs.excelrtd", , "21422436","@bh,EURNZD,h1,close,7") -> 1.81082 | O9: =RTD("fxbluelabs.excelrtd", , "21422436","@bh,GBPUSD,h1,close,7") -> 1.30836 | P9: =RTD("fxbluelabs.excelrtd", , "21422436","@bh,GBPAUD,h1,close,7") -> 1.94146 | Q9: =RTD("fxbluelabs.excelrtd", , "21422436","@bh,GBPNZD,h1,close,7") -> 2.12615 | R9: =RTD("fxbluelabs.excelrtd", , "21422436","@bh,GBPCAD,h1,close,7") -> 1.7772 | S9: =RTD("fxbluelabs.excelrtd", , "21422436","@bh,GBPCHF,h1,close,7") -> 1.11384 | T9: =RTD("fxbluelabs.excelrtd", , "21422436","@bh,GBPJPY,h1,close,7") -> 190.038 | U9: =RTD("fxbluelabs.excelrtd", , "21422436","@bh,NZDJPY,h1,close,7") -> 89.391 | V9: =RTD("fxbluelabs.excelrtd", , "21422436","@bh,NZDCHF,h1,close,7") -> 0.52392 | W9: =RTD("fxbluelabs.excelrtd", , "21422436","@bh,NZDUSD,h1,close,7") -> 0.61534 | X9: =RTD("fxbluelabs.excelrtd", , "21422436","@bh,NZDCAD,h1,close,7") -> 0.83586 | Y9: =RTD("fxbluelabs.excelrtd", , "21422436","@bh,CADJPY,h1,close,7") -> 106.941 | Z9: =RTD("fxbluelabs.excelrtd", , "21422436","@bh,CADCHF,h1,close,7") -> 0.62679 | AA9: =RTD("fxbluelabs.excelrtd", , "21422436","@bh,CHFJPY,h1,close,7") -> 170.617 | AB9: =RTD("fxbluelabs.excelrtd", , "21422436","@bh,USDCAD,h1,close,7") -> 1.35852 | AC9: =RTD("fxbluelabs.excelrtd", , "21422436","@bh,USDCHF,h1,close,7") -> 0.85143 | AD9: =RTD("fxbluelabs.excelrtd", , "21422436","@bh,USDJPY,h1,close,7") -> 145.271 | AH9: 8 | AI9: =IF(C9=0,0,(C9-C10)*100/C10) -> 0.05196502 | AJ9: =IF(D9=0,0,(D9-D10)*100/D10) -> 0.016439407 | AK9: =IF(E9=0,0,(E9-E10)*100/E10) -> 0.14526408 | AL9: =IF(F9=0,0,(F9-F10)*100/F10) -> 0.054058767 | AM9: =IF(G9=0,0,(G9-G10)*100/G10) -> 0.032783302 | AN9: =IF(H9=0,0,(H9-H10)*100/H10) -> -0.0017947844 | AO9: =IF(I9=0,0,(I9-I10)*100/I10) -> -0.021136482 | AP9: =IF(J9=0,0,(J9-J10)*100/J10) -> 0 | ... BJ9: =IF(AD9=0,0,(AD9-AD10)*100/AD10) -> 0.09370586 | BN9: 8 | BO9: =AI9+SUM(AI10:AI44) -> 0.014057106 | BP9: =AJ9+SUM(AJ10:AJ44) -> -0.20780609 | BQ9: =AK9+SUM(AK10:AK44) -> -0.56488493 | BR9: =AL9+SUM(AL10:AL44) -> -0.42034318 | BS9: =AM9+SUM(AM10:AM44) -> -0.16451965 | BT9: =AN9+SUM(AN10:AN44) -> 0.2349784 | BU9: =AO9+SUM(AO10:AO44) -> 0.053820305 | BV9: =AP9+SUM(AP10:AP44) -> -0.19454583 | ... CP9: =BJ9+SUM(BJ10:BJ44) -> -0.57916055 | CU9: 8 | CV9: =BT9+BU9+BV9+BW9+BX9+BY9+BZ9 -> -0.22576793 | CW9: =CN9+CO9+CP9-CI9-CA9-BT9-BO9 -> -2.097666 | CX9: =CK9+CL9-CN9-CJ9-CD9-BU9-BS9 -> -0.67204347 | CY9: =CM9-CO9-CH9-CE9-BW9-BR9 -> 1.1288182 | CZ9: =CA9+CB9+CC9+CD9+CE9+CF9-BV9 -> 1.3273667 | DA9: =BO9+BP9+BQ9+BR9+BS9-BY9-CB9 -> -1.9790862 | DB9: =CG9+CH9+CI9+CJ9-CC9-BZ9-BP9 -> -0.28924966 | DC9: =-BQ9-BX9-CF9-CG9-CK9-CM9-CP9 -> 2.5530311 | DF9: 8 | DG9: =CN9 -> -0.17264428 | DH9: =BU9 -> 0.053820305 | DI9: =CO9 -> -0.43423696 | DJ9: =BW9 -> -0.20079484 | DK9: =-(CA9) -> -0.43243574 | DL9: =BV9 -> -0.19454583 | DM9: =-(BO9) -> -0.014057106 | DN9: =BY9 -> 0.21955937 | DO9: =-(CI9) -> -0.23015295 | DP9: =BZ9 -> 0.010753613 | DQ9: =CP9 -> -0.57916055 | DR9: =BX9 -> -0.34953894 | DS9: =-(BT9) -> -0.2349784 | DT9: =BT9 -> 0.2349784 | DX9: 8 | DY9: =SUM(IF($EB$2="Buy", EN9, IF($EB$2="Sell", -EN9, 0)), IF($EC$2="Buy", EO9, IF($EC$2="Sell", -EO9, 0)), IF($ED$2="Buy", EP9, IF($ED$2="Sell", -EP9, 0)), IF($EE$2="Buy", EQ9, IF($EE$2="Sell", -EQ9, 0)), IF($EF$2="Buy", ER9, IF($EF$2="Sell", -ER9, 0)), IF($EG$2="Buy", ES9, IF($EG$2="Sell", -ES9, 0)), IF($EH$2="Buy", ET9, IF($EH$2="Sell", -ET9, 0)), IF($EI$2="Buy", EU9, IF($EI$2="Sell", -EU9, 0))) -> 1.8718981 | EM9: 8 | EN9: =BT9+BU9+BV9+BW9+BX9+BY9+BZ9 -> -0.22576793 | EO9: =CN9+CO9+CP9-CI9-CA9-BT9-BO9 -> -2.097666 | EP9: =CK9+CL9-CN9-CJ9-CD9-BU9-BS9 -> -0.67204347 | EQ9: =CM9-CO9-CH9-CE9-BW9-BR9 -> 1.1288182 | ER9: =CA9+CB9+CC9+CD9+CE9+CF9-BV9 -> 1.3273667 | ES9: =BO9+BP9+BQ9+BR9+BS9-BY9-CB9 -> -1.9790862 | ET9: =CG9+CH9+CI9+CJ9-CC9-BZ9-BP9 -> -0.28924966 | EU9: =-BQ9-BX9-CF9-CG9-CK9-CM9-CP9 -> 2.5530311 | EW9: =LARGE($EN$2:$EU$2,8) -> -2.4396127 | EX9: =INDEX(EN1:EU1,MATCH(EW9,EN2:EU2,0)) -> AUD
A10: previous | B10: 8 | C10: =RTD("fxbluelabs.excelrtd", , "21422436","@bh,AUDUSD,h1,close,8") -> 0.67353 | D10: =RTD("fxbluelabs.excelrtd", , "21422436","@bh,AUDNZD,h1,close,8") -> 1.09493 | E10: =RTD("fxbluelabs.excelrtd", , "21422436","@bh,AUDJPY,h1,close,8") -> 97.753 | F10: =RTD("fxbluelabs.excelrtd", , "21422436","@bh,AUDCHF,h1,close,8") -> 0.57345 | G10: =RTD("fxbluelabs.excelrtd", , "21422436","@bh,AUDCAD,h1,close,8") -> 0.9151 | H10: =RTD("fxbluelabs.excelrtd", , "21422436","@bh,EURUSD,h1,close,8") -> 1.11434 | I10: =RTD("fxbluelabs.excelrtd", , "21422436","@bh,EURCAD,h1,close,8") -> 1.51397 | J10: =RTD("fxbluelabs.excelrtd", , "21422436","@bh,EURGBP,h1,close,8") -> 0.85172 | K10: =RTD("fxbluelabs.excelrtd", , "21422436","@bh,EURCHF,h1,close,8") -> 0.94875 | L10: =RTD("fxbluelabs.excelrtd", , "21422436","@bh,EURJPY,h1,close,8") -> 161.729 | M10: =RTD("fxbluelabs.excelrtd", , "21422436","@bh,EURAUD,h1,close,8") -> 1.65444 | N10: =RTD("fxbluelabs.excelrtd", , "21422436","@bh,EURNZD,h1,close,8") -> 1.81151 | O10: =RTD("fxbluelabs.excelrtd", , "21422436","@bh,GBPUSD,h1,close,8") -> 1.30839 | P10: =RTD("fxbluelabs.excelrtd", , "21422436","@bh,GBPAUD,h1,close,8") -> 1.9425 | Q10: =RTD("fxbluelabs.excelrtd", , "21422436","@bh,GBPNZD,h1,close,8") -> 2.12695 | R10: =RTD("fxbluelabs.excelrtd", , "21422436","@bh,GBPCAD,h1,close,8") -> 1.77757 | S10: =RTD("fxbluelabs.excelrtd", , "21422436","@bh,GBPCHF,h1,close,8") -> 1.11384 | T10: =RTD("fxbluelabs.excelrtd", , "21422436","@bh,GBPJPY,h1,close,8") -> 189.863 | U10: =RTD("fxbluelabs.excelrtd", , "21422436","@bh,NZDJPY,h1,close,8") -> 89.275 | V10: =RTD("fxbluelabs.excelrtd", , "21422436","@bh,NZDCHF,h1,close,8") -> 0.52372 | W10: =RTD("fxbluelabs.excelrtd", , "21422436","@bh,NZDUSD,h1,close,8") -> 0.61512 | X10: =RTD("fxbluelabs.excelrtd", , "21422436","@bh,NZDCAD,h1,close,8") -> 0.83572 | Y10: =RTD("fxbluelabs.excelrtd", , "21422436","@bh,CADJPY,h1,close,8") -> 106.82 | Z10: =RTD("fxbluelabs.excelrtd", , "21422436","@bh,CADCHF,h1,close,8") -> 0.62664 | AA10: =RTD("fxbluelabs.excelrtd", , "21422436","@bh,CHFJPY,h1,close,8") -> 170.462 | AB10: =RTD("fxbluelabs.excelrtd", , "21422436","@bh,USDCAD,h1,close,8") -> 1.35877 | AC10: =RTD("fxbluelabs.excelrtd", , "21422436","@bh,USDCHF,h1,close,8") -> 0.85141 | AD10: =RTD("fxbluelabs.excelrtd", , "21422436","@bh,USDJPY,h1,close,8") -> 145.135 | AH10: 9 | AI10: =IF(C10=0,0,(C10-C11)*100/C11) -> 0.041589306 | AJ10: =IF(D10=0,0,(D10-D11)*100/D11) -> 0.021924015 | AK10: =IF(E10=0,0,(E10-E11)*100/E11) -> -0.049079253 | AL10: =IF(F10=0,0,(F10-F11)*100/F11) -> 0.052342319 | AM10: =IF(G10=0,0,(G10-G11)*100/G11) -> 0.041542767 | AN10: =IF(H10=0,0,(H10-H11)*100/H11) -> -0.012561912 | AO10: =IF(I10=0,0,(I10-I11)*100/I11) -> -0.012548212 | AP10: =IF(J10=0,0,(J10-J11)*100/J11) -> 0.0082193389 | ... BJ10: =IF(AD10=0,0,(AD10-AD11)*100/AD11) -> -0.090179395 | BN10: 9 | BO10: =AI10+SUM(AI11:AI45) -> -0.037907914 | BP10: =AJ10+SUM(AJ11:AJ45) -> -0.2242455 | BQ10: =AK10+SUM(AK11:AK45) -> -0.71014902 | BR10: =AL10+SUM(AL11:AL45) -> -0.47440194 | BS10: =AM10+SUM(AM11:AM45) -> -0.19730295 | BT10: =AN10+SUM(AN11:AN45) -> 0.23677318 | BU10: =AO10+SUM(AO11:AO45) -> 0.074956787 | BV10: =AP10+SUM(AP11:AP45) -> -0.19454583 | ... CP10: =BJ10+SUM(BJ11:BJ45) -> -0.67286641 | CU10: 9 | CV10: =BT10+BU10+BV10+BW10+BX10+BY10+BZ10 -> -0.19813514 | CW10: =CN10+CO10+CP10-CI10-CA10-BT10-BO10 -> -2.0916792 | CX10: =CK10+CL10-CN10-CJ10-CD10-BU10-BS10 -> -0.82007041 | CY10: =CM10-CO10-CH10-CE10-BW10-BR10 -> 1.132485 | CZ10: =CA10+CB10+CC10+CD10+CE10+CF10-BV10 -> 1.3494546 | DA10: =BO10+BP10+BQ10+BR10+BS10-BY10-CB10 -> -2.3869306 | DB10: =CG10+CH10+CI10+CJ10-CC10-BZ10-BP10 -> -0.5691539 | DC10: =-BQ10-BX10-CF10-CG10-CK10-CM10-CP10 -> 3.3054952 | DF10: 9 | DG10: =CN10 -> -0.15424529 | DH10: =BU10 -> 0.074956787 | DI10: =CO10 -> -0.43658601 | DJ10: =BW10 -> -0.20079484 | DK10: =-(CA10) -> -0.43472864 | DL10: =BV10 -> -0.19454583 | DM10: =-(BO10) -> 0.037907914 | DN10: =BY10 -> 0.27335401 | DO10: =-(CI10) -> -0.19438757 | DP10: =BZ10 -> 0.048843383 | DQ10: =CP10 -> -0.67286641 | DR10: =BX10 -> -0.43672182 | DS10: =-(BT10) -> -0.23677318 | DT10: =BT10 -> 0.23677318 | DX10: 9 | DY10: =SUM(IF($EB$2="Buy", EN10, IF($EB$2="Sell", -EN10, 0)), IF($EC$2="Buy", EO10, IF($EC$2="Sell", -EO10, 0)), IF($ED$2="Buy", EP10, IF($ED$2="Sell", -EP10, 0)), IF($EE$2="Buy", EQ10, IF($EE$2="Sell", -EQ10, 0)), IF($EF$2="Buy", ER10, IF($EF$2="Sell", -ER10, 0)), IF($EG$2="Buy", ES10, IF($EG$2="Sell", -ES10, 0)), IF($EH$2="Buy", ET10, IF($EH$2="Sell", -ET10, 0)), IF($EI$2="Buy", EU10, IF($EI$2="Sell", -EU10, 0))) -> 1.893544 | EM10: 9 | EN10: =BT10+BU10+BV10+BW10+BX10+BY10+BZ10 -> -0.19813514 | EO10: =CN10+CO10+CP10-CI10-CA10-BT10-BO10 -> -2.0916792 | EP10: =CK10+CL10-CN10-CJ10-CD10-BU10-BS10 -> -0.82007041 | EQ10: =CM10-CO10-CH10-CE10-BW10-BR10 -> 1.132485 | ER10: =CA10+CB10+CC10+CD10+CE10+CF10-BV10 -> 1.3494546 | ES10: =BO10+BP10+BQ10+BR10+BS10-BY10-CB10 -> -2.3869306 | ET10: =CG10+CH10+CI10+CJ10-CC10-BZ10-BP10 -> -0.5691539 | EU10: =-BQ10-BX10-CF10-CG10-CK10-CM10-CP10 -> 3.3054952
A11: previous | B11: 9 | C11: =RTD("fxbluelabs.excelrtd", , "21422436","@bh,AUDUSD,h1,close,9") -> 0.67325 | D11: =RTD("fxbluelabs.excelrtd", , "21422436","@bh,AUDNZD,h1,close,9") -> 1.09469 | E11: =RTD("fxbluelabs.excelrtd", , "21422436","@bh,AUDJPY,h1,close,9") -> 97.801 | F11: =RTD("fxbluelabs.excelrtd", , "21422436","@bh,AUDCHF,h1,close,9") -> 0.57315 | G11: =RTD("fxbluelabs.excelrtd", , "21422436","@bh,AUDCAD,h1,close,9") -> 0.91472 | H11: =RTD("fxbluelabs.excelrtd", , "21422436","@bh,EURUSD,h1,close,9") -> 1.11448 | I11: =RTD("fxbluelabs.excelrtd", , "21422436","@bh,EURCAD,h1,close,9") -> 1.51416 | J11: =RTD("fxbluelabs.excelrtd", , "21422436","@bh,EURGBP,h1,close,9") -> 0.85165 | K11: =RTD("fxbluelabs.excelrtd", , "21422436","@bh,EURCHF,h1,close,9") -> 0.94874 | L11: =RTD("fxbluelabs.excelrtd", , "21422436","@bh,EURJPY,h1,close,9") -> 161.894 | M11: =RTD("fxbluelabs.excelrtd", , "21422436","@bh,EURAUD,h1,close,9") -> 1.65533 | N11: =RTD("fxbluelabs.excelrtd", , "21422436","@bh,EURNZD,h1,close,9") -> 1.81209 | O11: =RTD("fxbluelabs.excelrtd", , "21422436","@bh,GBPUSD,h1,close,9") -> 1.30868 | P11: =RTD("fxbluelabs.excelrtd", , "21422436","@bh,GBPAUD,h1,close,9") -> 1.94371 | Q11: =RTD("fxbluelabs.excelrtd", , "21422436","@bh,GBPNZD,h1,close,9") -> 2.12781 | R11: =RTD("fxbluelabs.excelrtd", , "21422436","@bh,GBPCAD,h1,close,9") -> 1.77795 | S11: =RTD("fxbluelabs.excelrtd", , "21422436","@bh,GBPCHF,h1,close,9") -> 1.11395 | T11: =RTD("fxbluelabs.excelrtd", , "21422436","@bh,GBPJPY,h1,close,9") -> 190.076 | U11: =RTD("fxbluelabs.excelrtd", , "21422436","@bh,NZDJPY,h1,close,9") -> 89.333 | V11: =RTD("fxbluelabs.excelrtd", , "21422436","@bh,NZDCHF,h1,close,9") -> 0.52353 | W11: =RTD("fxbluelabs.excelrtd", , "21422436","@bh,NZDUSD,h1,close,9") -> 0.61496 | X11: =RTD("fxbluelabs.excelrtd", , "21422436","@bh,NZDCAD,h1,close,9") -> 0.83551 | Y11: =RTD("fxbluelabs.excelrtd", , "21422436","@bh,CADJPY,h1,close,9") -> 106.919 | Z11: =RTD("fxbluelabs.excelrtd", , "21422436","@bh,CADCHF,h1,close,9") -> 0.62659 | AA11: =RTD("fxbluelabs.excelrtd", , "21422436","@bh,CHFJPY,h1,close,9") -> 170.636 | AB11: =RTD("fxbluelabs.excelrtd", , "21422436","@bh,USDCAD,h1,close,9") -> 1.35877 | AC11: =RTD("fxbluelabs.excelrtd", , "21422436","@bh,USDCHF,h1,close,9") -> 0.85132 | AD11: =RTD("fxbluelabs.excelrtd", , "21422436","@bh,USDJPY,h1,close,9") -> 145.266 | AH11: 10 | AI11: =IF(C11=0,0,(C11-C12)*100/C12) -> 0.028229281 | AJ11: =IF(D11=0,0,(D11-D12)*100/D12) -> 0.00091350897 | AK11: =IF(E11=0,0,(E11-E12)*100/E12) -> -0.096021247 | AL11: =IF(F11=0,0,(F11-F12)*100/F12) -> -0.052314936 | AM11: =IF(G11=0,0,(G11-G12)*100/G12) -> 0.02733824 | AN11: =IF(H11=0,0,(H11-H12)*100/H12) -> 0.013461003 | AO11: =IF(I11=0,0,(I11-I12)*100/I12) -> 0.012549786 | AP11: =IF(J11=0,0,(J11-J12)*100/J12) -> 0.0035226979 | ... BJ11: =IF(AD11=0,0,(AD11-AD12)*100/AD12) -> -0.12375727 | BN11: 10 | BO11: =AI11+SUM(AI12:AI46) -> -0.07949722 | BP11: =AJ11+SUM(AJ12:AJ46) -> -0.24616951 | BQ11: =AK11+SUM(AK12:AK46) -> -0.66106976 | BR11: =AL11+SUM(AL12:AL46) -> -0.52674426 | BS11: =AM11+SUM(AM12:AM46) -> -0.23884572 | BT11: =AN11+SUM(AN12:AN46) -> 0.24933509 | BU11: =AO11+SUM(AO12:AO46) -> 0.087504999 | BV11: =AP11+SUM(AP12:AP46) -> -0.20276516 | ... CP11: =BJ11+SUM(BJ12:BJ46) -> -0.58268702 | CU11: 10 | CV11: =BT11+BU11+BV11+BW11+BX11+BY11+BZ11 -> 0.0053931131 | CW11: =CN11+CO11+CP11-CI11-CA11-BT11-BO11 -> -1.979186 | CX11: =CK11+CL11-CN11-CJ11-CD11-BU11-BS11 -> -0.70270068 | CY11: =CM11-CO11-CH11-CE11-BW11-BR11 -> 1.3248419 | CZ11: =CA11+CB11+CC11+CD11+CE11+CF11-BV11 -> 1.625811 | DA11: =BO11+BP11+BQ11+BR11+BS11-BY11-CB11 -> -2.6112676 | DB11: =CG11+CH11+CI11+CJ11-CC11-BZ11-BP11 -> -0.64217305 | DC11: =-BQ11-BX11-CF11-CG11-CK11-CM11-CP11 -> 2.6927671 | DF11: 10 | DG11: =CN11 -> -0.15424529 | DH11: =BU11 -> 0.087504999 | DI11: =CO11 -> -0.44715782 | DJ11: =BW11 -> -0.20184887 | DK11: =-(CA11) -> -0.45688837 | DL11: =BV11 -> -0.20276516 | DM11: =-(BO11) -> 0.07949722 | DN11: =BY11 -> 0.32711972 | DO11: =-(CI11) -> -0.16836962 | DP11: =BZ11 -> 0.080850623 | DQ11: =CP11 -> -0.58268702 | DR11: =BX11 -> -0.33480328 | DS11: =-(BT11) -> -0.24933509 | DT11: =BT11 -> 0.24933509 | DX11: 10 | DY11: =SUM(IF($EB$2="Buy", EN11, IF($EB$2="Sell", -EN11, 0)), IF($EC$2="Buy", EO11, IF($EC$2="Sell", -EO11, 0)), IF($ED$2="Buy", EP11, IF($ED$2="Sell", -EP11, 0)), IF($EE$2="Buy", EQ11, IF($EE$2="Sell", -EQ11, 0)), IF($EF$2="Buy", ER11, IF($EF$2="Sell", -ER11, 0)), IF($EG$2="Buy", ES11, IF($EG$2="Sell", -ES11, 0)), IF($EH$2="Buy", ET11, IF($EH$2="Sell", -ET11, 0)), IF($EI$2="Buy", EU11, IF($EI$2="Sell", -EU11, 0))) -> 1.9845791 | EM11: 10 | EN11: =BT11+BU11+BV11+BW11+BX11+BY11+BZ11 -> 0.0053931131 | EO11: =CN11+CO11+CP11-CI11-CA11-BT11-BO11 -> -1.979186 | EP11: =CK11+CL11-CN11-CJ11-CD11-BU11-BS11 -> -0.70270068 | EQ11: =CM11-CO11-CH11-CE11-BW11-BR11 -> 1.3248419 | ER11: =CA11+CB11+CC11+CD11+CE11+CF11-BV11 -> 1.625811 | ES11: =BO11+BP11+BQ11+BR11+BS11-BY11-CB11 -> -2.6112676 | ET11: =CG11+CH11+CI11+CJ11-CC11-BZ11-BP11 -> -0.64217305 | EU11: =-BQ11-BX11-CF11-CG11-CK11-CM11-CP11 -> 2.6927671
A12: previous | B12: 10 | C12: =RTD("fxbluelabs.excelrtd", , "21422436","@bh,AUDUSD,h1,close,10") -> 0.67306 | D12: =RTD("fxbluelabs.excelrtd", , "21422436","@bh,AUDNZD,h1,close,10") -> 1.09468 | E12: =RTD("fxbluelabs.excelrtd", , "21422436","@bh,AUDJPY,h1,close,10") -> 97.895 | F12: =RTD("fxbluelabs.excelrtd", , "21422436","@bh,AUDCHF,h1,close,10") -> 0.57345 | G12: =RTD("fxbluelabs.excelrtd", , "21422436","@bh,AUDCAD,h1,close,10") -> 0.91447 | H12: =RTD("fxbluelabs.excelrtd", , "21422436","@bh,EURUSD,h1,close,10") -> 1.11433 | I12: =RTD("fxbluelabs.excelrtd", , "21422436","@bh,EURCAD,h1,close,10") -> 1.51397 | J12: =RTD("fxbluelabs.excelrtd", , "21422436","@bh,EURGBP,h1,close,10") -> 0.85162 | K12: =RTD("fxbluelabs.excelrtd", , "21422436","@bh,EURCHF,h1,close,10") -> 0.94935 | L12: =RTD("fxbluelabs.excelrtd", , "21422436","@bh,EURJPY,h1,close,10") -> 162.069 | M12: =RTD("fxbluelabs.excelrtd", , "21422436","@bh,EURAUD,h1,close,10") -> 1.65557 | N12: =RTD("fxbluelabs.excelrtd", , "21422436","@bh,EURNZD,h1,close,10") -> 1.81232 | O12: =RTD("fxbluelabs.excelrtd", , "21422436","@bh,GBPUSD,h1,close,10") -> 1.30851 | P12: =RTD("fxbluelabs.excelrtd", , "21422436","@bh,GBPAUD,h1,close,10") -> 1.94402 | Q12: =RTD("fxbluelabs.excelrtd", , "21422436","@bh,GBPNZD,h1,close,10") -> 2.12812 | R12: =RTD("fxbluelabs.excelrtd", , "21422436","@bh,GBPCAD,h1,close,10") -> 1.77775 | S12: =RTD("fxbluelabs.excelrtd", , "21422436","@bh,GBPCHF,h1,close,10") -> 1.11471 | T12: =RTD("fxbluelabs.excelrtd", , "21422436","@bh,GBPJPY,h1,close,10") -> 190.29 | U12: =RTD("fxbluelabs.excelrtd", , "21422436","@bh,NZDJPY,h1,close,10") -> 89.425 | V12: =RTD("fxbluelabs.excelrtd", , "21422436","@bh,NZDCHF,h1,close,10") -> 0.52383 | W12: =RTD("fxbluelabs.excelrtd", , "21422436","@bh,NZDUSD,h1,close,10") -> 0.61483 | X12: =RTD("fxbluelabs.excelrtd", , "21422436","@bh,NZDCAD,h1,close,10") -> 0.83533 | Y12: =RTD("fxbluelabs.excelrtd", , "21422436","@bh,CADJPY,h1,close,10") -> 107.051 | Z12: =RTD("fxbluelabs.excelrtd", , "21422436","@bh,CADCHF,h1,close,10") -> 0.62708 | AA12: =RTD("fxbluelabs.excelrtd", , "21422436","@bh,CHFJPY,h1,close,10") -> 170.711 | AB12: =RTD("fxbluelabs.excelrtd", , "21422436","@bh,USDCAD,h1,close,10") -> 1.35877 | AC12: =RTD("fxbluelabs.excelrtd", , "21422436","@bh,USDCHF,h1,close,10") -> 0.852 | AD12: =RTD("fxbluelabs.excelrtd", , "21422436","@bh,USDJPY,h1,close,10") -> 145.446 | AH12: 11 | AI12: =IF(C12=0,0,(C12-C13)*100/C13) -> -0.11427215 | AJ12: =IF(D12=0,0,(D12-D13)*100/D13) -> -0.090355673 | AK12: =IF(E12=0,0,(E12-E13)*100/E13) -> -0.22931105 | AL12: =IF(F12=0,0,(F12-F13)*100/F13) -> -0.14626757 | AM12: =IF(G12=0,0,(G12-G13)*100/G13) -> -0.13214223 | AN12: =IF(H12=0,0,(H12-H13)*100/H13) -> 0 | AO12: =IF(I12=0,0,(I12-I13)*100/I13) -> -0.020471775 | AP12: =IF(J12=0,0,(J12-J13)*100/J13) -> 0.003522822 | ... BJ12: =IF(AD12=0,0,(AD12-AD13)*100/AD13) -> -0.11743134 | BN12: 11 | BO12: =AI12+SUM(AI13:AI47) -> -0.1077265 | BP12: =AJ12+SUM(AJ13:AJ47) -> -0.24708302 | BQ12: =AK12+SUM(AK13:AK47) -> -0.56504852 | BR12: =AL12+SUM(AL13:AL47) -> -0.47442933 | BS12: =AM12+SUM(AM13:AM47) -> -0.26618396 | BT12: =AN12+SUM(AN13:AN47) -> 0.23587409 | BU12: =AO12+SUM(AO13:AO47) -> 0.074955213 | BV12: =AP12+SUM(AP13:AP47) -> -0.20628786 | ... CP12: =BJ12+SUM(BJ13:BJ47) -> -0.45892975 | CU12: 11 | CV12: =BT12+BU12+BV12+BW12+BX12+BY12+BZ12 -> 0.17528025 | CW12: =CN12+CO12+CP12-CI12-CA12-BT12-BO12 -> -1.6997903 | CX12: =CK12+CL12-CN12-CJ12-CD12-BU12-BS12 -> -0.42856844 | CY12: =CM12-CO12-CH12-CE12-BW12-BR12 -> 1.0469445 | CZ12: =CA12+CB12+CC12+CD12+CE12+CF12-BV12 -> 1.8162439 | DA12: =BO12+BP12+BQ12+BR12+BS12-BY12-CB12 -> -2.5498553 | DB12: =CG12+CH12+CI12+CJ12-CC12-BZ12-BP12 -> -0.55105973 | DC12: =-BQ12-BX12-CF12-CG12-CK12-CM12-CP12 -> 1.9824308 | DF12: 11 | DG12: =CN12 -> -0.15424529 | DH12: =BU12 -> 0.074955213 | DI12: =CO12 -> -0.36734562 | DJ12: =BW12 -> -0.13759438 | DK12: =-(CA12) -> -0.4438965 | DL12: =BV12 -> -0.20628786 | DM12: =-(BO12) -> 0.1077265 | DN12: =BY12 -> 0.34161624 | DO12: =-(CI12) -> -0.14722556 | DP12: =BZ12 -> 0.093541539 | DQ12: =CP12 -> -0.45892975 | DR12: =BX12 -> -0.22682458 | DS12: =-(BT12) -> -0.23587409 | DT12: =BT12 -> 0.23587409 | DX12: 11 | DY12: =SUM(IF($EB$2="Buy", EN12, IF($EB$2="Sell", -EN12, 0)), IF($EC$2="Buy", EO12, IF($EC$2="Sell", -EO12, 0)), IF($ED$2="Buy", EP12, IF($ED$2="Sell", -EP12, 0)), IF($EE$2="Buy", EQ12, IF($EE$2="Sell", -EQ12, 0)), IF($EF$2="Buy", ER12, IF($EF$2="Sell", -ER12, 0)), IF($EG$2="Buy", ES12, IF($EG$2="Sell", -ES12, 0)), IF($EH$2="Buy", ET12, IF($EH$2="Sell", -ET12, 0)), IF($EI$2="Buy", EU12, IF($EI$2="Sell", -EU12, 0))) -> 1.8750705 | EM12: 11 | EN12: =BT12+BU12+BV12+BW12+BX12+BY12+BZ12 -> 0.17528025 | EO12: =CN12+CO12+CP12-CI12-CA12-BT12-BO12 -> -1.6997903 | EP12: =CK12+CL12-CN12-CJ12-CD12-BU12-BS12 -> -0.42856844 | EQ12: =CM12-CO12-CH12-CE12-BW12-BR12 -> 1.0469445 | ER12: =CA12+CB12+CC12+CD12+CE12+CF12-BV12 -> 1.8162439 | ES12: =BO12+BP12+BQ12+BR12+BS12-BY12-CB12 -> -2.5498553 | ET12: =CG12+CH12+CI12+CJ12-CC12-BZ12-BP12 -> -0.55105973 | EU12: =-BQ12-BX12-CF12-CG12-CK12-CM12-CP12 -> 1.9824308 | EW12: Market performance H4
A13: previous | B13: 11 | C13: =RTD("fxbluelabs.excelrtd", , "21422436","@bh,AUDUSD,h1,close,11") -> 0.67383 | D13: =RTD("fxbluelabs.excelrtd", , "21422436","@bh,AUDNZD,h1,close,11") -> 1.09567 | E13: =RTD("fxbluelabs.excelrtd", , "21422436","@bh,AUDJPY,h1,close,11") -> 98.12 | F13: =RTD("fxbluelabs.excelrtd", , "21422436","@bh,AUDCHF,h1,close,11") -> 0.57429 | G13: =RTD("fxbluelabs.excelrtd", , "21422436","@bh,AUDCAD,h1,close,11") -> 0.91568 | H13: =RTD("fxbluelabs.excelrtd", , "21422436","@bh,EURUSD,h1,close,11") -> 1.11433 | I13: =RTD("fxbluelabs.excelrtd", , "21422436","@bh,EURCAD,h1,close,11") -> 1.51428 | J13: =RTD("fxbluelabs.excelrtd", , "21422436","@bh,EURGBP,h1,close,11") -> 0.85159 | K13: =RTD("fxbluelabs.excelrtd", , "21422436","@bh,EURCHF,h1,close,11") -> 0.94969 | L13: =RTD("fxbluelabs.excelrtd", , "21422436","@bh,EURJPY,h1,close,11") -> 162.263 | M13: =RTD("fxbluelabs.excelrtd", , "21422436","@bh,EURAUD,h1,close,11") -> 1.6537 | N13: =RTD("fxbluelabs.excelrtd", , "21422436","@bh,EURNZD,h1,close,11") -> 1.81195 | O13: =RTD("fxbluelabs.excelrtd", , "21422436","@bh,GBPUSD,h1,close,11") -> 1.30862 | P13: =RTD("fxbluelabs.excelrtd", , "21422436","@bh,GBPAUD,h1,close,11") -> 1.94196 | Q13: =RTD("fxbluelabs.excelrtd", , "21422436","@bh,GBPNZD,h1,close,11") -> 2.12783 | R13: =RTD("fxbluelabs.excelrtd", , "21422436","@bh,GBPCAD,h1,close,11") -> 1.77823 | S13: =RTD("fxbluelabs.excelrtd", , "21422436","@bh,GBPCHF,h1,close,11") -> 1.11517 | T13: =RTD("fxbluelabs.excelrtd", , "21422436","@bh,GBPJPY,h1,close,11") -> 190.526 | U13: =RTD("fxbluelabs.excelrtd", , "21422436","@bh,NZDJPY,h1,close,11") -> 89.55 | V13: =RTD("fxbluelabs.excelrtd", , "21422436","@bh,NZDCHF,h1,close,11") -> 0.52413 | W13: =RTD("fxbluelabs.excelrtd", , "21422436","@bh,NZDUSD,h1,close,11") -> 0.61497 | X13: =RTD("fxbluelabs.excelrtd", , "21422436","@bh,NZDCAD,h1,close,11") -> 0.83569 | Y13: =RTD("fxbluelabs.excelrtd", , "21422436","@bh,CADJPY,h1,close,11") -> 107.156 | Z13: =RTD("fxbluelabs.excelrtd", , "21422436","@bh,CADCHF,h1,close,11") -> 0.62717 | AA13: =RTD("fxbluelabs.excelrtd", , "21422436","@bh,CHFJPY,h1,close,11") -> 170.853 | AB13: =RTD("fxbluelabs.excelrtd", , "21422436","@bh,USDCAD,h1,close,11") -> 1.35905 | AC13: =RTD("fxbluelabs.excelrtd", , "21422436","@bh,USDCHF,h1,close,11") -> 0.85229 | AD13: =RTD("fxbluelabs.excelrtd", , "21422436","@bh,USDJPY,h1,close,11") -> 145.617 | AH13: 12 | AI13: =IF(C13=0,0,(C13-C14)*100/C14) -> -0.077111292 | AJ13: =IF(D13=0,0,(D13-D14)*100/D14) -> -0.0018253338 | AK13: =IF(E13=0,0,(E13-E14)*100/E14) -> 0.11631941 | AL13: =IF(F13=0,0,(F13-F14)*100/F14) -> -0.019150418 | AM13: =IF(G13=0,0,(G13-G14)*100/G14) -> -0.053483524 | AN13: =IF(H13=0,0,(H13-H14)*100/H14) -> -0.039470025 | AO13: =IF(I13=0,0,(I13-I14)*100/I14) -> -0.01518643 | AP13: =IF(J13=0,0,(J13-J14)*100/J14) -> -0.0046968754 | ... BJ13: =IF(AD13=0,0,(AD13-AD14)*100/AD14) -> 0.19472388 | BN13: 12 | BO13: =AI13+SUM(AI14:AI48) -> 0.006545645 | BP13: =AJ13+SUM(AJ14:AJ48) -> -0.15672735 | BQ13: =AK13+SUM(AK14:AK48) -> -0.33573747 | BR13: =AL13+SUM(AL14:AL48) -> -0.32816176 | BS13: =AM13+SUM(AM14:AM48) -> -0.13404173 | BT13: =AN13+SUM(AN14:AN48) -> 0.23587409 | BU13: =AO13+SUM(AO14:AO48) -> 0.095426988 | BV13: =AP13+SUM(AP14:AP48) -> -0.20981068 | ... CP13: =BJ13+SUM(BJ14:BJ48) -> -0.3414984 | CU13: 12 | CV13: =BT13+BU13+BV13+BW13+BX13+BY13+BZ13 -> 0.2140896 | CW13: =CN13+CO13+CP13-CI13-CA13-BT13-BO13 -> -1.6731736 | CX13: =CK13+CL13-CN13-CJ13-CD13-BU13-BS13 -> -0.55951823 | CY13: =CM13-CO13-CH13-CE13-BW13-BR13 -> 0.81547519 | CZ13: =CA13+CB13+CC13+CD13+CE13+CF13-BV13 -> 1.9005753 | DA13: =BO13+BP13+BQ13+BR13+BS13-BY13-CB13 -> -1.6183485 | DB13: =CG13+CH13+CI13+CJ13-CC13-BZ13-BP13 -> -0.34469847 | DC13: =-BQ13-BX13-CF13-CG13-CK13-CM13-CP13 -> 1.0715746 | DF13: 12 | DG13: =CN13 -> -0.13364266 | DH13: =BU13 -> 0.095426988 | DI13: =CO13 -> -0.33331964 | DJ13: =BW13 -> -0.10179323 | DK13: =-(CA13) -> -0.4523023 | DL13: =BV13 -> -0.20981068 | DM13: =-(BO13) -> -0.006545645 | DN13: =BY13 -> 0.22853648 | DO13: =-(CI13) -> -0.1699909 | DP13: =BZ13 -> 0.073121549 | DQ13: =CP13 -> -0.3414984 | DR13: =BX13 -> -0.1072656 | DS13: =-(BT13) -> -0.23587409 | DT13: =BT13 -> 0.23587409 | DX13: 12 | DY13: =SUM(IF($EB$2="Buy", EN13, IF($EB$2="Sell", -EN13, 0)), IF($EC$2="Buy", EO13, IF($EC$2="Sell", -EO13, 0)), IF($ED$2="Buy", EP13, IF($ED$2="Sell", -EP13, 0)), IF($EE$2="Buy", EQ13, IF($EE$2="Sell", -EQ13, 0)), IF($EF$2="Buy", ER13, IF($EF$2="Sell", -ER13, 0)), IF($EG$2="Buy", ES13, IF($EG$2="Sell", -ES13, 0)), IF($EH$2="Buy", ET13, IF($EH$2="Sell", -ET13, 0)), IF($EI$2="Buy", EU13, IF($EI$2="Sell", -EU13, 0))) -> 1.8872632 | EM13: 12 | EN13: =BT13+BU13+BV13+BW13+BX13+BY13+BZ13 -> 0.2140896 | EO13: =CN13+CO13+CP13-CI13-CA13-BT13-BO13 -> -1.6731736 | EP13: =CK13+CL13-CN13-CJ13-CD13-BU13-BS13 -> -0.55951823 | EQ13: =CM13-CO13-CH13-CE13-BW13-BR13 -> 0.81547519 | ER13: =CA13+CB13+CC13+CD13+CE13+CF13-BV13 -> 1.9005753 | ES13: =BO13+BP13+BQ13+BR13+BS13-BY13-CB13 -> -1.6183485 | ET13: =CG13+CH13+CI13+CJ13-CC13-BZ13-BP13 -> -0.34469847 | EU13: =-BQ13-BX13-CF13-CG13-CK13-CM13-CP13 -> 1.0715746 | EW13: ='SATORI H4'!EW2 -> 8.2232746 | EX13: ='SATORI H4'!EX2 -> NZD
A14: previous | B14: 12 | C14: =RTD("fxbluelabs.excelrtd", , "21422436","@bh,AUDUSD,h1,close,12") -> 0.67435 | D14: =RTD("fxbluelabs.excelrtd", , "21422436","@bh,AUDNZD,h1,close,12") -> 1.09569 | E14: =RTD("fxbluelabs.excelrtd", , "21422436","@bh,AUDJPY,h1,close,12") -> 98.006 | F14: =RTD("fxbluelabs.excelrtd", , "21422436","@bh,AUDCHF,h1,close,12") -> 0.5744 | G14: =RTD("fxbluelabs.excelrtd", , "21422436","@bh,AUDCAD,h1,close,12") -> 0.91617 | H14: =RTD("fxbluelabs.excelrtd", , "21422436","@bh,EURUSD,h1,close,12") -> 1.11477 | I14: =RTD("fxbluelabs.excelrtd", , "21422436","@bh,EURCAD,h1,close,12") -> 1.51451 | J14: =RTD("fxbluelabs.excelrtd", , "21422436","@bh,EURGBP,h1,close,12") -> 0.85163 | K14: =RTD("fxbluelabs.excelrtd", , "21422436","@bh,EURCHF,h1,close,12") -> 0.94954 | L14: =RTD("fxbluelabs.excelrtd", , "21422436","@bh,EURJPY,h1,close,12") -> 162.01 | M14: =RTD("fxbluelabs.excelrtd", , "21422436","@bh,EURAUD,h1,close,12") -> 1.65309 | N14: =RTD("fxbluelabs.excelrtd", , "21422436","@bh,EURNZD,h1,close,12") -> 1.81128 | O14: =RTD("fxbluelabs.excelrtd", , "21422436","@bh,GBPUSD,h1,close,12") -> 1.30901 | P14: =RTD("fxbluelabs.excelrtd", , "21422436","@bh,GBPAUD,h1,close,12") -> 1.94101 | Q14: =RTD("fxbluelabs.excelrtd", , "21422436","@bh,GBPNZD,h1,close,12") -> 2.12678 | R14: =RTD("fxbluelabs.excelrtd", , "21422436","@bh,GBPCAD,h1,close,12") -> 1.77829 | S14: =RTD("fxbluelabs.excelrtd", , "21422436","@bh,GBPCHF,h1,close,12") -> 1.11482 | T14: =RTD("fxbluelabs.excelrtd", , "21422436","@bh,GBPJPY,h1,close,12") -> 190.209 | U14: =RTD("fxbluelabs.excelrtd", , "21422436","@bh,NZDJPY,h1,close,12") -> 89.445 | V14: =RTD("fxbluelabs.excelrtd", , "21422436","@bh,NZDCHF,h1,close,12") -> 0.52422 | W14: =RTD("fxbluelabs.excelrtd", , "21422436","@bh,NZDUSD,h1,close,12") -> 0.61544 | X14: =RTD("fxbluelabs.excelrtd", , "21422436","@bh,NZDCAD,h1,close,12") -> 0.83612 | Y14: =RTD("fxbluelabs.excelrtd", , "21422436","@bh,CADJPY,h1,close,12") -> 106.973 | Z14: =RTD("fxbluelabs.excelrtd", , "21422436","@bh,CADCHF,h1,close,12") -> 0.62696 | AA14: =RTD("fxbluelabs.excelrtd", , "21422436","@bh,CHFJPY,h1,close,12") -> 170.616 | AB14: =RTD("fxbluelabs.excelrtd", , "21422436","@bh,USDCAD,h1,close,12") -> 1.35871 | AC14: =RTD("fxbluelabs.excelrtd", , "21422436","@bh,USDCHF,h1,close,12") -> 0.85179 | AD14: =RTD("fxbluelabs.excelrtd", , "21422436","@bh,USDJPY,h1,close,12") -> 145.334 | AH14: 13 | AI14: =IF(C14=0,0,(C14-C15)*100/C15) -> -0.087415178 | AJ14: =IF(D14=0,0,(D14-D15)*100/D15) -> 0.035606683 | AK14: =IF(E14=0,0,(E14-E15)*100/E15) -> 0.056150524 | AL14: =IF(F14=0,0,(F14-F15)*100/F15) -> -0.013925637 | AM14: =IF(G14=0,0,(G14-G15)*100/G15) -> -0.065447168 | AN14: =IF(H14=0,0,(H14-H15)*100/H15) -> -0.067233219 | AO14: =IF(I14=0,0,(I14-I15)*100/I15) -> -0.044219169 | AP14: =IF(J14=0,0,(J14-J15)*100/J15) -> -0.046946704 | ... BJ14: =IF(AD14=0,0,(AD14-AD15)*100/AD15) -> 0.14401378 | BN14: 13 | BO14: =AI14+SUM(AI15:AI49) -> 0.083656937 | BP14: =AJ14+SUM(AJ15:AJ49) -> -0.15490202 | BQ14: =AK14+SUM(AK15:AK49) -> -0.45205688 | BR14: =AL14+SUM(AL15:AL49) -> -0.30901134 | BS14: =AM14+SUM(AM15:AM49) -> -0.080558202 | BT14: =AN14+SUM(AN15:AN49) -> 0.27534411 | BU14: =AO14+SUM(AO15:AO49) -> 0.11061342 | BV14: =AP14+SUM(AP15:AP49) -> -0.20511381 | ... CP14: =BJ14+SUM(BJ15:BJ49) -> -0.53622228 | CU14: 13 | CV14: =BT14+BU14+BV14+BW14+BX14+BY14+BZ14 -> 0.027591596 | CW14: =CN14+CO14+CP14-CI14-CA14-BT14-BO14 -> -2.1743641 | CX14: =CK14+CL14-CN14-CJ14-CD14-BU14-BS14 -> -0.86253266 | CY14: =CM14-CO14-CH14-CE14-BW14-BR14 -> 0.74614022 | CZ14: =CA14+CB14+CC14+CD14+CE14+CF14-BV14 -> 1.632678 | DA14: =BO14+BP14+BQ14+BR14+BS14-BY14-CB14 -> -1.4972531 | DB14: =CG14+CH14+CI14+CJ14-CC14-BZ14-BP14 -> -0.23258903 | DC14: =-BQ14-BX14-CF14-CG14-CK14-CM14-CP14 -> 2.1328101 | DF14: 13 | DG14: =CN14 -> -0.1586664 | DH14: =BU14 -> 0.11061342 | DI14: =CO14 -> -0.39201955 | DJ14: =BW14 -> -0.11759035 | DK14: =-(CA14) -> -0.48209581 | DL14: =BV14 -> -0.20511381 | DM14: =-(BO14) -> -0.083656937 | DN14: =BY14 -> 0.19163588 | DO14: =-(CI14) -> -0.24635903 | DP14: =BZ14 -> 0.036131134 | DQ14: =CP14 -> -0.53622228 | DR14: =BX14 -> -0.26342879 | DS14: =-(BT14) -> -0.27534411 | DT14: =BT14 -> 0.27534411 | DX14: 13 | DY14: =SUM(IF($EB$2="Buy", EN14, IF($EB$2="Sell", -EN14, 0)), IF($EC$2="Buy", EO14, IF($EC$2="Sell", -EO14, 0)), IF($ED$2="Buy", EP14, IF($ED$2="Sell", -EP14, 0)), IF($EE$2="Buy", EQ14, IF($EE$2="Sell", -EQ14, 0)), IF($EF$2="Buy", ER14, IF($EF$2="Sell", -ER14, 0)), IF($EG$2="Buy", ES14, IF($EG$2="Sell", -ES14, 0)), IF($EH$2="Buy", ET14, IF($EH$2="Sell", -ET14, 0)), IF($EI$2="Buy", EU14, IF($EI$2="Sell", -EU14, 0))) -> 2.2019557 | EM14: 13 | EN14: =BT14+BU14+BV14+BW14+BX14+BY14+BZ14 -> 0.027591596 | EO14: =CN14+CO14+CP14-CI14-CA14-BT14-BO14 -> -2.1743641 | EP14: =CK14+CL14-CN14-CJ14-CD14-BU14-BS14 -> -0.86253266 | EQ14: =CM14-CO14-CH14-CE14-BW14-BR14 -> 0.74614022 | ER14: =CA14+CB14+CC14+CD14+CE14+CF14-BV14 -> 1.632678 | ES14: =BO14+BP14+BQ14+BR14+BS14-BY14-CB14 -> -1.4972531 | ET14: =CG14+CH14+CI14+CJ14-CC14-BZ14-BP14 -> -0.23258903 | EU14: =-BQ14-BX14-CF14-CG14-CK14-CM14-CP14 -> 2.1328101 | EW14: ='SATORI H4'!EW3 -> 4.0625653 | EX14: ='SATORI H4'!EX3 -> CHF
A15: previous | B15: 13 | C15: =RTD("fxbluelabs.excelrtd", , "21422436","@bh,AUDUSD,h1,close,13") -> 0.67494 | D15: =RTD("fxbluelabs.excelrtd", , "21422436","@bh,AUDNZD,h1,close,13") -> 1.0953 | E15: =RTD("fxbluelabs.excelrtd", , "21422436","@bh,AUDJPY,h1,close,13") -> 97.951 | F15: =RTD("fxbluelabs.excelrtd", , "21422436","@bh,AUDCHF,h1,close,13") -> 0.57448 | G15: =RTD("fxbluelabs.excelrtd", , "21422436","@bh,AUDCAD,h1,close,13") -> 0.91677 | H15: =RTD("fxbluelabs.excelrtd", , "21422436","@bh,EURUSD,h1,close,13") -> 1.11552 | I15: =RTD("fxbluelabs.excelrtd", , "21422436","@bh,EURCAD,h1,close,13") -> 1.51518 | J15: =RTD("fxbluelabs.excelrtd", , "21422436","@bh,EURGBP,h1,close,13") -> 0.85203 | K15: =RTD("fxbluelabs.excelrtd", , "21422436","@bh,EURCHF,h1,close,13") -> 0.94945 | L15: =RTD("fxbluelabs.excelrtd", , "21422436","@bh,EURJPY,h1,close,13") -> 161.886 | M15: =RTD("fxbluelabs.excelrtd", , "21422436","@bh,EURAUD,h1,close,13") -> 1.65275 | N15: =RTD("fxbluelabs.excelrtd", , "21422436","@bh,EURNZD,h1,close,13") -> 1.81027 | O15: =RTD("fxbluelabs.excelrtd", , "21422436","@bh,GBPUSD,h1,close,13") -> 1.30924 | P15: =RTD("fxbluelabs.excelrtd", , "21422436","@bh,GBPAUD,h1,close,13") -> 1.93971 | Q15: =RTD("fxbluelabs.excelrtd", , "21422436","@bh,GBPNZD,h1,close,13") -> 2.12461 | R15: =RTD("fxbluelabs.excelrtd", , "21422436","@bh,GBPCAD,h1,close,13") -> 1.77826 | S15: =RTD("fxbluelabs.excelrtd", , "21422436","@bh,GBPCHF,h1,close,13") -> 1.11423 | T15: =RTD("fxbluelabs.excelrtd", , "21422436","@bh,GBPJPY,h1,close,13") -> 189.975 | U15: =RTD("fxbluelabs.excelrtd", , "21422436","@bh,NZDJPY,h1,close,13") -> 89.424 | V15: =RTD("fxbluelabs.excelrtd", , "21422436","@bh,NZDCHF,h1,close,13") -> 0.52447 | W15: =RTD("fxbluelabs.excelrtd", , "21422436","@bh,NZDUSD,h1,close,13") -> 0.61619 | X15: =RTD("fxbluelabs.excelrtd", , "21422436","@bh,NZDCAD,h1,close,13") -> 0.83695 | Y15: =RTD("fxbluelabs.excelrtd", , "21422436","@bh,CADJPY,h1,close,13") -> 106.841 | Z15: =RTD("fxbluelabs.excelrtd", , "21422436","@bh,CADCHF,h1,close,13") -> 0.62663 | AA15: =RTD("fxbluelabs.excelrtd", , "21422436","@bh,CHFJPY,h1,close,13") -> 170.502 | AB15: =RTD("fxbluelabs.excelrtd", , "21422436","@bh,USDCAD,h1,close,13") -> 1.35841 | AC15: =RTD("fxbluelabs.excelrtd", , "21422436","@bh,USDCHF,h1,close,13") -> 0.85116 | AD15: =RTD("fxbluelabs.excelrtd", , "21422436","@bh,USDJPY,h1,close,13") -> 145.125 | AH15: 14 | AI15: =IF(C15=0,0,(C15-C16)*100/C16) -> -0.017776198 | AJ15: =IF(D15=0,0,(D15-D16)*100/D16) -> -0.012780253 | AK15: =IF(E15=0,0,(E15-E16)*100/E16) -> 0.14415704 | AL15: =IF(F15=0,0,(F15-F16)*100/F16) -> 0.022634282 | AM15: =IF(G15=0,0,(G15-G16)*100/G16) -> -0.030532686 | AN15: =IF(H15=0,0,(H15-H16)*100/H16) -> -0.010756158 | AO15: =IF(I15=0,0,(I15-I16)*100/I16) -> -0.024413579 | AP15: =IF(J15=0,0,(J15-J16)*100/J16) -> -0.0058679936 | ... BJ15: =IF(AD15=0,0,(AD15-AD16)*100/AD16) -> 0.16011816 | BN15: 14 | BO15: =AI15+SUM(AI16:AI50) -> 0.17107211 | BP15: =AJ15+SUM(AJ16:AJ50) -> -0.1905087 | BQ15: =AK15+SUM(AK16:AK50) -> -0.5082074 | BR15: =AL15+SUM(AL16:AL50) -> -0.29508571 | BS15: =AM15+SUM(AM16:AM50) -> -0.015111035 | BT15: =AN15+SUM(AN16:AN50) -> 0.34257733 | BU15: =AO15+SUM(AO16:AO50) -> 0.15483259 | BV15: =AP15+SUM(AP16:AP50) -> -0.15816711 | ... CP15: =BJ15+SUM(BJ16:BJ50) -> -0.68023606 | CU15: 14 | CV15: =BT15+BU15+BV15+BW15+BX15+BY15+BZ15 -> 0.023549847 | CW15: =CN15+CO15+CP15-CI15-CA15-BT15-BO15 -> -2.7084107 | CX15: =CK15+CL15-CN15-CJ15-CD15-BU15-BS15 -> -1.2238076 | CY15: =CM15-CO15-CH15-CE15-BW15-BR15 -> 0.75413321 | CZ15: =CA15+CB15+CC15+CD15+CE15+CF15-BV15 -> 1.2563295 | DA15: =BO15+BP15+BQ15+BR15+BS15-BY15-CB15 -> -1.3346302 | DB15: =CG15+CH15+CI15+CJ15-CC15-BZ15-BP15 -> 0.20601567 | DC15: =-BQ15-BX15-CF15-CG15-CK15-CM15-CP15 -> 2.7466387 | DF15: 14 | DG15: =CN15 -> -0.18075104 | DH15: =BU15 -> 0.15483259 | DI15: =CO15 -> -0.46603619 | DJ15: =BW15 -> -0.12706952 | DK15: =-(CA15) -> -0.49966325 | DL15: =BV15 -> -0.15816711 | DM15: =-(BO15) -> -0.17107211 | DN15: =BY15 -> 0.17106411 | DO15: =-(CI15) -> -0.36807473 | DP15: =BZ15 -> -0.019661649 | DQ15: =CP15 -> -0.68023606 | DR15: =BX15 -> -0.34002591 | DS15: =-(BT15) -> -0.34257733 | DT15: =BT15 -> 0.34257733 | DX15: 14 | DY15: =SUM(IF($EB$2="Buy", EN15, IF($EB$2="Sell", -EN15, 0)), IF($EC$2="Buy", EO15, IF($EC$2="Sell", -EO15, 0)), IF($ED$2="Buy", EP15, IF($ED$2="Sell", -EP15, 0)), IF($EE$2="Buy", EQ15, IF($EE$2="Sell", -EQ15, 0)), IF($EF$2="Buy", ER15, IF($EF$2="Sell", -ER15, 0)), IF($EG$2="Buy", ES15, IF($EG$2="Sell", -ES15, 0)), IF($EH$2="Buy", ET15, IF($EH$2="Sell", -ET15, 0)), IF($EI$2="Buy", EU15, IF($EI$2="Sell", -EU15, 0))) -> 2.7319606 | EM15: 14 | EN15: =BT15+BU15+BV15+BW15+BX15+BY15+BZ15 -> 0.023549847 | EO15: =CN15+CO15+CP15-CI15-CA15-BT15-BO15 -> -2.7084107 | EP15: =CK15+CL15-CN15-CJ15-CD15-BU15-BS15 -> -1.2238076 | EQ15: =CM15-CO15-CH15-CE15-BW15-BR15 -> 0.75413321 | ER15: =CA15+CB15+CC15+CD15+CE15+CF15-BV15 -> 1.2563295 | ES15: =BO15+BP15+BQ15+BR15+BS15-BY15-CB15 -> -1.3346302 | ET15: =CG15+CH15+CI15+CJ15-CC15-BZ15-BP15 -> 0.20601567 | EU15: =-BQ15-BX15-CF15-CG15-CK15-CM15-CP15 -> 2.7466387 | EW15: ='SATORI H4'!EW4 -> 2.5349527 | EX15: ='SATORI H4'!EX4 -> JPY
A16: previous | B16: 14 | C16: =RTD("fxbluelabs.excelrtd", , "21422436","@bh,AUDUSD,h1,close,14") -> 0.67506 | D16: =RTD("fxbluelabs.excelrtd", , "21422436","@bh,AUDNZD,h1,close,14") -> 1.09544 | E16: =RTD("fxbluelabs.excelrtd", , "21422436","@bh,AUDJPY,h1,close,14") -> 97.81 | F16: =RTD("fxbluelabs.excelrtd", , "21422436","@bh,AUDCHF,h1,close,14") -> 0.57435 | G16: =RTD("fxbluelabs.excelrtd", , "21422436","@bh,AUDCAD,h1,close,14") -> 0.91705 | H16: =RTD("fxbluelabs.excelrtd", , "21422436","@bh,EURUSD,h1,close,14") -> 1.11564 | I16: =RTD("fxbluelabs.excelrtd", , "21422436","@bh,EURCAD,h1,close,14") -> 1.51555 | J16: =RTD("fxbluelabs.excelrtd", , "21422436","@bh,EURGBP,h1,close,14") -> 0.85208 | K16: =RTD("fxbluelabs.excelrtd", , "21422436","@bh,EURCHF,h1,close,14") -> 0.94921 | L16: =RTD("fxbluelabs.excelrtd", , "21422436","@bh,EURJPY,h1,close,14") -> 161.644 | M16: =RTD("fxbluelabs.excelrtd", , "21422436","@bh,EURAUD,h1,close,14") -> 1.65264 | N16: =RTD("fxbluelabs.excelrtd", , "21422436","@bh,EURNZD,h1,close,14") -> 1.81038 | O16: =RTD("fxbluelabs.excelrtd", , "21422436","@bh,GBPUSD,h1,close,14") -> 1.30932 | P16: =RTD("fxbluelabs.excelrtd", , "21422436","@bh,GBPAUD,h1,close,14") -> 1.93954 | Q16: =RTD("fxbluelabs.excelrtd", , "21422436","@bh,GBPNZD,h1,close,14") -> 2.12469 | R16: =RTD("fxbluelabs.excelrtd", , "21422436","@bh,GBPCAD,h1,close,14") -> 1.77865 | S16: =RTD("fxbluelabs.excelrtd", , "21422436","@bh,GBPCHF,h1,close,14") -> 1.11386 | T16: =RTD("fxbluelabs.excelrtd", , "21422436","@bh,GBPJPY,h1,close,14") -> 189.683 | U16: =RTD("fxbluelabs.excelrtd", , "21422436","@bh,NZDJPY,h1,close,14") -> 89.285 | V16: =RTD("fxbluelabs.excelrtd", , "21422436","@bh,NZDCHF,h1,close,14") -> 0.52429 | W16: =RTD("fxbluelabs.excelrtd", , "21422436","@bh,NZDUSD,h1,close,14") -> 0.61622 | X16: =RTD("fxbluelabs.excelrtd", , "21422436","@bh,NZDCAD,h1,close,14") -> 0.83712 | Y16: =RTD("fxbluelabs.excelrtd", , "21422436","@bh,CADJPY,h1,close,14") -> 106.656 | Z16: =RTD("fxbluelabs.excelrtd", , "21422436","@bh,CADCHF,h1,close,14") -> 0.62629 | AA16: =RTD("fxbluelabs.excelrtd", , "21422436","@bh,CHFJPY,h1,close,14") -> 170.288 | AB16: =RTD("fxbluelabs.excelrtd", , "21422436","@bh,USDCAD,h1,close,14") -> 1.35861 | AC16: =RTD("fxbluelabs.excelrtd", , "21422436","@bh,USDCHF,h1,close,14") -> 0.85083 | AD16: =RTD("fxbluelabs.excelrtd", , "21422436","@bh,USDJPY,h1,close,14") -> 144.893 | AH16: 15 | AI16: =IF(C16=0,0,(C16-C17)*100/C17) -> 0.12904374 | AJ16: =IF(D16=0,0,(D16-D17)*100/D17) -> 0.043837218 | AK16: =IF(E16=0,0,(E16-E17)*100/E17) -> -0.062326941 | AL16: =IF(F16=0,0,(F16-F17)*100/F17) -> 0.08538668 | AM16: =IF(G16=0,0,(G16-G17)*100/G17) -> 0.078574313 | AN16: =IF(H16=0,0,(H16-H17)*100/H17) -> 0.078043004 | AO16: =IF(I16=0,0,(I16-I17)*100/I17) -> 0.025079694 | AP16: =IF(J16=0,0,(J16-J17)*100/J17) -> 0.070465542 | ... BJ16: =IF(AD16=0,0,(AD16-AD17)*100/AD17) -> -0.18943569 | BN16: 15 | BO16: =AI16+SUM(AI17:AI51) -> 0.18884831 | BP16: =AJ16+SUM(AJ17:AJ51) -> -0.17772845 | BQ16: =AK16+SUM(AK17:AK51) -> -0.65236444 | BR16: =AL16+SUM(AL17:AL51) -> -0.31771999 | BS16: =AM16+SUM(AM17:AM51) -> 0.015421652 | BT16: =AN16+SUM(AN17:AN51) -> 0.35333349 | BU16: =AO16+SUM(AO17:AO51) -> 0.17924617 | BV16: =AP16+SUM(AP17:AP51) -> -0.15229911 | ... CP16: =BJ16+SUM(BJ17:BJ51) -> -0.84035422 | CU16: 15 | CV16: =BT16+BU16+BV16+BW16+BX16+BY16+BZ16 -> -0.11098826 | CW16: =CN16+CO16+CP16-CI16-CA16-BT16-BO16 -> -2.9321044 | CX16: =CK16+CL16-CN16-CJ16-CD16-BU16-BS16 -> -1.5634521 | CY16: =CM16-CO16-CH16-CE16-BW16-BR16 -> 0.78271784 | CZ16: =CA16+CB16+CC16+CD16+CE16+CF16-BV16 -> 1.0863397 | DA16: =BO16+BP16+BQ16+BR16+BS16-BY16-CB16 -> -1.4249114 | DB16: =CG16+CH16+CI16+CJ16-CC16-BZ16-BP16 -> 0.018556816 | DC16: =-BQ16-BX16-CF16-CG16-CK16-CM16-CP16 -> 3.8093722 | DF16: 15 | DG16: =CN16 -> -0.16603012 | DH16: =BU16 -> 0.17924617 | DI16: =CO16 -> -0.50482185 | DJ16: =BW16 -> -0.15235371 | DK16: =-(CA16) -> -0.50577329 | DL16: =BV16 -> -0.15229911 | DM16: =-(BO16) -> -0.18884831 | DN16: =BY16 -> 0.16440809 | DO16: =-(CI16) -> -0.37294312 | DP16: =BZ16 -> -0.013585576 | DQ16: =CP16 -> -0.84035422 | DR16: =BX16 -> -0.48973762 | DS16: =-(BT16) -> -0.35333349 | DT16: =BT16 -> 0.35333349 | DX16: 15 | DY16: =SUM(IF($EB$2="Buy", EN16, IF($EB$2="Sell", -EN16, 0)), IF($EC$2="Buy", EO16, IF($EC$2="Sell", -EO16, 0)), IF($ED$2="Buy", EP16, IF($ED$2="Sell", -EP16, 0)), IF($EE$2="Buy", EQ16, IF($EE$2="Sell", -EQ16, 0)), IF($EF$2="Buy", ER16, IF($EF$2="Sell", -ER16, 0)), IF($EG$2="Buy", ES16, IF($EG$2="Sell", -ES16, 0)), IF($EH$2="Buy", ET16, IF($EH$2="Sell", -ET16, 0)), IF($EI$2="Buy", EU16, IF($EI$2="Sell", -EU16, 0))) -> 2.8211161 | EM16: 15 | EN16: =BT16+BU16+BV16+BW16+BX16+BY16+BZ16 -> -0.11098826 | EO16: =CN16+CO16+CP16-CI16-CA16-BT16-BO16 -> -2.9321044 | EP16: =CK16+CL16-CN16-CJ16-CD16-BU16-BS16 -> -1.5634521 | EQ16: =CM16-CO16-CH16-CE16-BW16-BR16 -> 0.78271784 | ER16: =CA16+CB16+CC16+CD16+CE16+CF16-BV16 -> 1.0863397 | ES16: =BO16+BP16+BQ16+BR16+BS16-BY16-CB16 -> -1.4249114 | ET16: =CG16+CH16+CI16+CJ16-CC16-BZ16-BP16 -> 0.018556816 | EU16: =-BQ16-BX16-CF16-CG16-CK16-CM16-CP16 -> 3.8093722 | EW16: ='SATORI H4'!EW5 -> 1.9246427 | EX16: ='SATORI H4'!EX5 -> GBP
A17: previous | B17: 15 | C17: =RTD("fxbluelabs.excelrtd", , "21422436","@bh,AUDUSD,h1,close,15") -> 0.67419 | D17: =RTD("fxbluelabs.excelrtd", , "21422436","@bh,AUDNZD,h1,close,15") -> 1.09496 | E17: =RTD("fxbluelabs.excelrtd", , "21422436","@bh,AUDJPY,h1,close,15") -> 97.871 | F17: =RTD("fxbluelabs.excelrtd", , "21422436","@bh,AUDCHF,h1,close,15") -> 0.57386 | G17: =RTD("fxbluelabs.excelrtd", , "21422436","@bh,AUDCAD,h1,close,15") -> 0.91633 | H17: =RTD("fxbluelabs.excelrtd", , "21422436","@bh,EURUSD,h1,close,15") -> 1.11477 | I17: =RTD("fxbluelabs.excelrtd", , "21422436","@bh,EURCAD,h1,close,15") -> 1.51517 | J17: =RTD("fxbluelabs.excelrtd", , "21422436","@bh,EURGBP,h1,close,15") -> 0.85148 | K17: =RTD("fxbluelabs.excelrtd", , "21422436","@bh,EURCHF,h1,close,15") -> 0.94915 | L17: =RTD("fxbluelabs.excelrtd", , "21422436","@bh,EURJPY,h1,close,15") -> 161.84 | M17: =RTD("fxbluelabs.excelrtd", , "21422436","@bh,EURAUD,h1,close,15") -> 1.65305 | N17: =RTD("fxbluelabs.excelrtd", , "21422436","@bh,EURNZD,h1,close,15") -> 1.81053 | O17: =RTD("fxbluelabs.excelrtd", , "21422436","@bh,GBPUSD,h1,close,15") -> 1.30913 | P17: =RTD("fxbluelabs.excelrtd", , "21422436","@bh,GBPAUD,h1,close,15") -> 1.94119 | Q17: =RTD("fxbluelabs.excelrtd", , "21422436","@bh,GBPNZD,h1,close,15") -> 2.12615 | R17: =RTD("fxbluelabs.excelrtd", , "21422436","@bh,GBPCAD,h1,close,15") -> 1.77928 | S17: =RTD("fxbluelabs.excelrtd", , "21422436","@bh,GBPCHF,h1,close,15") -> 1.11419 | T17: =RTD("fxbluelabs.excelrtd", , "21422436","@bh,GBPJPY,h1,close,15") -> 190.018 | U17: =RTD("fxbluelabs.excelrtd", , "21422436","@bh,NZDJPY,h1,close,15") -> 89.342 | V17: =RTD("fxbluelabs.excelrtd", , "21422436","@bh,NZDCHF,h1,close,15") -> 0.52385 | W17: =RTD("fxbluelabs.excelrtd", , "21422436","@bh,NZDUSD,h1,close,15") -> 0.61543 | X17: =RTD("fxbluelabs.excelrtd", , "21422436","@bh,NZDCAD,h1,close,15") -> 0.83648 | Y17: =RTD("fxbluelabs.excelrtd", , "21422436","@bh,CADJPY,h1,close,15") -> 106.781 | Z17: =RTD("fxbluelabs.excelrtd", , "21422436","@bh,CADCHF,h1,close,15") -> 0.6261 | AA17: =RTD("fxbluelabs.excelrtd", , "21422436","@bh,CHFJPY,h1,close,15") -> 170.371 | AB17: =RTD("fxbluelabs.excelrtd", , "21422436","@bh,USDCAD,h1,close,15") -> 1.35934 | AC17: =RTD("fxbluelabs.excelrtd", , "21422436","@bh,USDCHF,h1,close,15") -> 0.8512 | AD17: =RTD("fxbluelabs.excelrtd", , "21422436","@bh,USDJPY,h1,close,15") -> 145.168 | AH17: 16 | AI17: =IF(C17=0,0,(C17-C18)*100/C18) -> -0.032621106 | AJ17: =IF(D17=0,0,(D17-D18)*100/D18) -> -0.036517675 | AK17: =IF(E17=0,0,(E17-E18)*100/E18) -> -0.10411032 | AL17: =IF(F17=0,0,(F17-F18)*100/F18) -> -0.085313833 | AM17: =IF(G17=0,0,(G17-G18)*100/G18) -> -0.041452586 | AN17: =IF(H17=0,0,(H17-H18)*100/H18) -> -0.019731119 | AO17: =IF(I17=0,0,(I17-I18)*100/I18) -> -0.028371602 | AP17: =IF(J17=0,0,(J17-J18)*100/J18) -> -0.031699442 | ... BJ17: =IF(AD17=0,0,(AD17-AD18)*100/AD18) -> -0.071589845 | BN17: 16 | BO17: =AI17+SUM(AI18:AI52) -> 0.059804571 | BP17: =AJ17+SUM(AJ18:AJ52) -> -0.22156566 | BQ17: =AK17+SUM(AK18:AK52) -> -0.5900375 | BR17: =AL17+SUM(AL18:AL52) -> -0.40310667 | BS17: =AM17+SUM(AM18:AM52) -> -0.063152661 | BT17: =AN17+SUM(AN18:AN52) -> 0.27529049 | BU17: =AO17+SUM(AO18:AO52) -> 0.15416647 | BV17: =AP17+SUM(AP18:AP52) -> -0.22276465 | ... CP17: =BJ17+SUM(BJ18:BJ52) -> -0.65091853 | CU17: 16 | CV17: =BT17+BU17+BV17+BW17+BX17+BY17+BZ17 -> -0.13670318 | CW17: =CN17+CO17+CP17-CI17-CA17-BT17-BO17 -> -2.2955324 | CX17: =CK17+CL17-CN17-CJ17-CD17-BU17-BS17 -> -1.3856817 | CY17: =CM17-CO17-CH17-CE17-BW17-BR17 -> 0.93405071 | CZ17: =CA17+CB17+CC17+CD17+CE17+CF17-BV17 -> 1.5372845 | DA17: =BO17+BP17+BQ17+BR17+BS17-BY17-CB17 -> -1.8092285 | DB17: =CG17+CH17+CI17+CJ17-CC17-BZ17-BP17 -> -0.23962991 | DC17: =-BQ17-BX17-CF17-CG17-CK17-CM17-CP17 -> 3.0306242 | DF17: 16 | DG17: =CN17 -> -0.11232758 | DH17: =BU17 -> 0.15416647 | DI17: =CO17 -> -0.4613538 | DJ17: =BW17 -> -0.15867515 | DK17: =-(CA17) -> -0.49125984 | DL17: =BV17 -> -0.22276465 | DM17: =-(BO17) -> -0.059804571 | DN17: =BY17 -> 0.18921073 | DO17: =-(CI17) -> -0.24457759 | DP17: =BZ17 -> -0.0053007094 | DQ17: =CP17 -> -0.65091853 | DR17: =BX17 -> -0.36863035 | DS17: =-(BT17) -> -0.27529049 | DT17: =BT17 -> 0.27529049 | DX17: 16 | DY17: =SUM(IF($EB$2="Buy", EN17, IF($EB$2="Sell", -EN17, 0)), IF($EC$2="Buy", EO17, IF($EC$2="Sell", -EO17, 0)), IF($ED$2="Buy", EP17, IF($ED$2="Sell", -EP17, 0)), IF($EE$2="Buy", EQ17, IF($EE$2="Sell", -EQ17, 0)), IF($EF$2="Buy", ER17, IF($EF$2="Sell", -ER17, 0)), IF($EG$2="Buy", ES17, IF($EG$2="Sell", -ES17, 0)), IF($EH$2="Buy", ET17, IF($EH$2="Sell", -ET17, 0)), IF($EI$2="Buy", EU17, IF($EI$2="Sell", -EU17, 0))) -> 2.1588292 | EM17: 16 | EN17: =BT17+BU17+BV17+BW17+BX17+BY17+BZ17 -> -0.13670318 | EO17: =CN17+CO17+CP17-CI17-CA17-BT17-BO17 -> -2.2955324 | EP17: =CK17+CL17-CN17-CJ17-CD17-BU17-BS17 -> -1.3856817 | EQ17: =CM17-CO17-CH17-CE17-BW17-BR17 -> 0.93405071 | ER17: =CA17+CB17+CC17+CD17+CE17+CF17-BV17 -> 1.5372845 | ES17: =BO17+BP17+BQ17+BR17+BS17-BY17-CB17 -> -1.8092285 | ET17: =CG17+CH17+CI17+CJ17-CC17-BZ17-BP17 -> -0.23962991 | EU17: =-BQ17-BX17-CF17-CG17-CK17-CM17-CP17 -> 3.0306242 | EW17: ='SATORI H4'!EW6 -> 0.80805846 | EX17: ='SATORI H4'!EX6 -> AUD
A18: previous | B18: 16 | C18: =RTD("fxbluelabs.excelrtd", , "21422436","@bh,AUDUSD,h1,close,16") -> 0.67441 | D18: =RTD("fxbluelabs.excelrtd", , "21422436","@bh,AUDNZD,h1,close,16") -> 1.09536 | E18: =RTD("fxbluelabs.excelrtd", , "21422436","@bh,AUDJPY,h1,close,16") -> 97.973 | F18: =RTD("fxbluelabs.excelrtd", , "21422436","@bh,AUDCHF,h1,close,16") -> 0.57435 | G18: =RTD("fxbluelabs.excelrtd", , "21422436","@bh,AUDCAD,h1,close,16") -> 0.91671 | H18: =RTD("fxbluelabs.excelrtd", , "21422436","@bh,EURUSD,h1,close,16") -> 1.11499 | I18: =RTD("fxbluelabs.excelrtd", , "21422436","@bh,EURCAD,h1,close,16") -> 1.5156 | J18: =RTD("fxbluelabs.excelrtd", , "21422436","@bh,EURGBP,h1,close,16") -> 0.85175 | K18: =RTD("fxbluelabs.excelrtd", , "21422436","@bh,EURCHF,h1,close,16") -> 0.94961 | L18: =RTD("fxbluelabs.excelrtd", , "21422436","@bh,EURJPY,h1,close,16") -> 161.981 | M18: =RTD("fxbluelabs.excelrtd", , "21422436","@bh,EURAUD,h1,close,16") -> 1.65321 | N18: =RTD("fxbluelabs.excelrtd", , "21422436","@bh,EURNZD,h1,close,16") -> 1.81105 | O18: =RTD("fxbluelabs.excelrtd", , "21422436","@bh,GBPUSD,h1,close,16") -> 1.30909 | P18: =RTD("fxbluelabs.excelrtd", , "21422436","@bh,GBPAUD,h1,close,16") -> 1.941 | Q18: =RTD("fxbluelabs.excelrtd", , "21422436","@bh,GBPNZD,h1,close,16") -> 2.12611 | R18: =RTD("fxbluelabs.excelrtd", , "21422436","@bh,GBPCAD,h1,close,16") -> 1.77944 | S18: =RTD("fxbluelabs.excelrtd", , "21422436","@bh,GBPCHF,h1,close,16") -> 1.11488 | T18: =RTD("fxbluelabs.excelrtd", , "21422436","@bh,GBPJPY,h1,close,16") -> 190.173 | U18: =RTD("fxbluelabs.excelrtd", , "21422436","@bh,NZDJPY,h1,close,16") -> 89.406 | V18: =RTD("fxbluelabs.excelrtd", , "21422436","@bh,NZDCHF,h1,close,16") -> 0.52417 | W18: =RTD("fxbluelabs.excelrtd", , "21422436","@bh,NZDUSD,h1,close,16") -> 0.6157 | X18: =RTD("fxbluelabs.excelrtd", , "21422436","@bh,NZDCAD,h1,close,16") -> 0.83684 | Y18: =RTD("fxbluelabs.excelrtd", , "21422436","@bh,CADJPY,h1,close,16") -> 106.866 | Z18: =RTD("fxbluelabs.excelrtd", , "21422436","@bh,CADCHF,h1,close,16") -> 0.62649 | AA18: =RTD("fxbluelabs.excelrtd", , "21422436","@bh,CHFJPY,h1,close,16") -> 170.564 | AB18: =RTD("fxbluelabs.excelrtd", , "21422436","@bh,USDCAD,h1,close,16") -> 1.35934 | AC18: =RTD("fxbluelabs.excelrtd", , "21422436","@bh,USDCHF,h1,close,16") -> 0.85167 | AD18: =RTD("fxbluelabs.excelrtd", , "21422436","@bh,USDJPY,h1,close,16") -> 145.272 | AH18: 17 | AI18: =IF(C18=0,0,(C18-C19)*100/C19) -> 0.026697121 | AJ18: =IF(D18=0,0,(D18-D19)*100/D19) -> 0.057548437 | AK18: =IF(E18=0,0,(E18-E19)*100/E19) -> 0.20558033 | AL18: =IF(F18=0,0,(F18-F19)*100/F19) -> 0.045289066 | AM18: =IF(G18=0,0,(G18-G19)*100/G19) -> 0.0010908694 | AN18: =IF(H18=0,0,(H18-H19)*100/H19) -> -0.017037608 | AO18: =IF(I18=0,0,(I18-I19)*100/I19) -> -0.039572616 | AP18: =IF(J18=0,0,(J18-J19)*100/J19) -> -0.018781327 | ... BJ18: =IF(AD18=0,0,(AD18-AD19)*100/AD19) -> 0.17929551 | BN18: 17 | BO18: =AI18+SUM(AI19:AI53) -> 0.092425677 | BP18: =AJ18+SUM(AJ19:AJ53) -> -0.18504799 | BQ18: =AK18+SUM(AK19:AK53) -> -0.48592718 | BR18: =AL18+SUM(AL19:AL53) -> -0.31779283 | BS18: =AM18+SUM(AM19:AM53) -> -0.021700075 | BT18: =AN18+SUM(AN19:AN53) -> 0.2950216 | BU18: =AO18+SUM(AO19:AO53) -> 0.18253807 | BV18: =AP18+SUM(AP19:AP53) -> -0.19106521 | ... CP18: =BJ18+SUM(BJ19:BJ53) -> -0.57932868 | CU18: 17 | CV18: =BT18+BU18+BV18+BW18+BX18+BY18+BZ18 -> 0.11697794 | CW18: =CN18+CO18+CP18-CI18-CA18-BT18-BO18 -> -2.261906 | CX18: =CK18+CL18-CN18-CJ18-CD18-BU18-BS18 -> -1.365726 | CY18: =CM18-CO18-CH18-CE18-BW18-BR18 -> 0.73532529 | CZ18: =CA18+CB18+CC18+CD18+CE18+CF18-BV18 -> 1.6432458 | DA18: =BO18+BP18+BQ18+BR18+BS18-BY18-CB18 -> -1.5091024 | DB18: =CG18+CH18+CI18+CJ18-CC18-BZ18-BP18 -> -0.083474879 | DC18: =-BQ18-BX18-CF18-CG18-CK18-CM18-CP18 -> 2.4220956 | DF18: 17 | DG18: =CN18 -> -0.11232758 | DH18: =BU18 -> 0.18253807 | DI18: =CO18 -> -0.40616811 | DJ18: =BW18 -> -0.11023421 | DK18: =-(CA18) -> -0.48820428 | DL18: =BV18 -> -0.19106521 | DM18: =-(BO18) -> -0.092425677 | DN18: =BY18 -> 0.19888887 | DO18: =-(CI18) -> -0.28843012 | DP18: =BZ18 -> 0.023411916 | DQ18: =CP18 -> -0.57932868 | DR18: =BX18 -> -0.28158311 | DS18: =-(BT18) -> -0.2950216 | DT18: =BT18 -> 0.2950216 | DX18: 17 | DY18: =SUM(IF($EB$2="Buy", EN18, IF($EB$2="Sell", -EN18, 0)), IF($EC$2="Buy", EO18, IF($EC$2="Sell", -EO18, 0)), IF($ED$2="Buy", EP18, IF($ED$2="Sell", -EP18, 0)), IF($EE$2="Buy", EQ18, IF($EE$2="Sell", -EQ18, 0)), IF($EF$2="Buy", ER18, IF($EF$2="Sell", -ER18, 0)), IF($EG$2="Buy", ES18, IF($EG$2="Sell", -ES18, 0)), IF($EH$2="Buy", ET18, IF($EH$2="Sell", -ET18, 0)), IF($EI$2="Buy", EU18, IF($EI$2="Sell", -EU18, 0))) -> 2.378884 | EM18: 17 | EN18: =BT18+BU18+BV18+BW18+BX18+BY18+BZ18 -> 0.11697794 | EO18: =CN18+CO18+CP18-CI18-CA18-BT18-BO18 -> -2.261906 | EP18: =CK18+CL18-CN18-CJ18-CD18-BU18-BS18 -> -1.365726 | EQ18: =CM18-CO18-CH18-CE18-BW18-BR18 -> 0.73532529 | ER18: =CA18+CB18+CC18+CD18+CE18+CF18-BV18 -> 1.6432458 | ES18: =BO18+BP18+BQ18+BR18+BS18-BY18-CB18 -> -1.5091024 | ET18: =CG18+CH18+CI18+CJ18-CC18-BZ18-BP18 -> -0.083474879 | EU18: =-BQ18-BX18-CF18-CG18-CK18-CM18-CP18 -> 2.4220956 | EW18: ='SATORI H4'!EW7 -> -1.4544019 | EX18: ='SATORI H4'!EX7 -> EUR
A19: previous | B19: 17 | C19: =RTD("fxbluelabs.excelrtd", , "21422436","@bh,AUDUSD,h1,close,17") -> 0.67423 | D19: =RTD("fxbluelabs.excelrtd", , "21422436","@bh,AUDNZD,h1,close,17") -> 1.09473 | E19: =RTD("fxbluelabs.excelrtd", , "21422436","@bh,AUDJPY,h1,close,17") -> 97.772 | F19: =RTD("fxbluelabs.excelrtd", , "21422436","@bh,AUDCHF,h1,close,17") -> 0.57409 | G19: =RTD("fxbluelabs.excelrtd", , "21422436","@bh,AUDCAD,h1,close,17") -> 0.9167 | H19: =RTD("fxbluelabs.excelrtd", , "21422436","@bh,EURUSD,h1,close,17") -> 1.11518 | I19: =RTD("fxbluelabs.excelrtd", , "21422436","@bh,EURCAD,h1,close,17") -> 1.5162 | J19: =RTD("fxbluelabs.excelrtd", , "21422436","@bh,EURGBP,h1,close,17") -> 0.85191 | K19: =RTD("fxbluelabs.excelrtd", , "21422436","@bh,EURCHF,h1,close,17") -> 0.94952 | L19: =RTD("fxbluelabs.excelrtd", , "21422436","@bh,EURJPY,h1,close,17") -> 161.709 | M19: =RTD("fxbluelabs.excelrtd", , "21422436","@bh,EURAUD,h1,close,17") -> 1.65396 | N19: =RTD("fxbluelabs.excelrtd", , "21422436","@bh,EURNZD,h1,close,17") -> 1.81074 | O19: =RTD("fxbluelabs.excelrtd", , "21422436","@bh,GBPUSD,h1,close,17") -> 1.30899 | P19: =RTD("fxbluelabs.excelrtd", , "21422436","@bh,GBPAUD,h1,close,17") -> 1.94144 | Q19: =RTD("fxbluelabs.excelrtd", , "21422436","@bh,GBPNZD,h1,close,17") -> 2.12524 | R19: =RTD("fxbluelabs.excelrtd", , "21422436","@bh,GBPCAD,h1,close,17") -> 1.77973 | S19: =RTD("fxbluelabs.excelrtd", , "21422436","@bh,GBPCHF,h1,close,17") -> 1.11458 | T19: =RTD("fxbluelabs.excelrtd", , "21422436","@bh,GBPJPY,h1,close,17") -> 189.819 | U19: =RTD("fxbluelabs.excelrtd", , "21422436","@bh,NZDJPY,h1,close,17") -> 89.274 | V19: =RTD("fxbluelabs.excelrtd", , "21422436","@bh,NZDCHF,h1,close,17") -> 0.52424 | W19: =RTD("fxbluelabs.excelrtd", , "21422436","@bh,NZDUSD,h1,close,17") -> 0.6159 | X19: =RTD("fxbluelabs.excelrtd", , "21422436","@bh,NZDCAD,h1,close,17") -> 0.83731 | Y19: =RTD("fxbluelabs.excelrtd", , "21422436","@bh,CADJPY,h1,close,17") -> 106.656 | Z19: =RTD("fxbluelabs.excelrtd", , "21422436","@bh,CADCHF,h1,close,17") -> 0.62626 | AA19: =RTD("fxbluelabs.excelrtd", , "21422436","@bh,CHFJPY,h1,close,17") -> 170.305 | AB19: =RTD("fxbluelabs.excelrtd", , "21422436","@bh,USDCAD,h1,close,17") -> 1.35969 | AC19: =RTD("fxbluelabs.excelrtd", , "21422436","@bh,USDCHF,h1,close,17") -> 0.85148 | AD19: =RTD("fxbluelabs.excelrtd", , "21422436","@bh,USDJPY,h1,close,17") -> 145.012 | AH19: 18 | AI19: =IF(C19=0,0,(C19-C20)*100/C20) -> -0.14366114 | AJ19: =IF(D19=0,0,(D19-D20)*100/D20) -> 0.014617612 | AK19: =IF(E19=0,0,(E19-E20)*100/E20) -> 0.041951888 | AL19: =IF(F19=0,0,(F19-F20)*100/F20) -> -0.019157088 | AM19: =IF(G19=0,0,(G19-G20)*100/G20) -> -0.047975227 | AN19: =IF(H19=0,0,(H19-H20)*100/H20) -> -0.089591285 | AO19: =IF(I19=0,0,(I19-I20)*100/I20) -> 0.0046170183 | AP19: =IF(J19=0,0,(J19-J20)*100/J20) -> 0.035227393 | ... BJ19: =IF(AD19=0,0,(AD19-AD20)*100/AD20) -> 0.18377019 | BN19: 18 | BO19: =AI19+SUM(AI20:AI54) -> 0.065728556 | BP19: =AJ19+SUM(AJ20:AJ54) -> -0.24259643 | BQ19: =AK19+SUM(AK20:AK54) -> -0.69150751 | BR19: =AL19+SUM(AL20:AL54) -> -0.3630819 | BS19: =AM19+SUM(AM20:AM54) -> -0.022790945 | BT19: =AN19+SUM(AN20:AN54) -> 0.31205921 | BU19: =AO19+SUM(AO20:AO54) -> 0.22211069 | BV19: =AP19+SUM(AP20:AP54) -> -0.17228389 | ... CP19: =BJ19+SUM(BJ20:BJ54) -> -0.75862419 | CU19: 18 | CV19: =BT19+BU19+BV19+BW19+BX19+BY19+BZ19 -> 0.042913279 | CW19: =CN19+CO19+CP19-CI19-CA19-BT19-BO19 -> -2.4529483 | CX19: =CK19+CL19-CN19-CJ19-CD19-BU19-BS19 -> -1.7359963 | CY19: =CM19-CO19-CH19-CE19-BW19-BR19 -> 0.67389013 | CZ19: =CA19+CB19+CC19+CD19+CE19+CF19-BV19 -> 1.4014372 | DA19: =BO19+BP19+BQ19+BR19+BS19-BY19-CB19 -> -1.9133175 | DB19: =CG19+CH19+CI19+CJ19-CC19-BZ19-BP19 -> -0.013771611 | DC19: =-BQ19-BX19-CF19-CG19-CK19-CM19-CP19 -> 3.6585025 | DF19: 18 | DG19: =CN19 -> -0.086586421 | DH19: =BU19 -> 0.22211069 | DI19: =CO19 -> -0.4284822 | DJ19: =BW19 -> -0.11971269 | DK19: =-(CA19) -> -0.4805648 | DL19: =BV19 -> -0.17228389 | DM19: =-(BO19) -> -0.065728556 | DN19: =BY19 -> 0.24423459 | DO19: =-(CI19) -> -0.32090292 | DP19: =BZ19 -> 0.0062918434 | DQ19: =CP19 -> -0.75862419 | DR19: =BX19 -> -0.44978648 | DS19: =-(BT19) -> -0.31205921 | DT19: =BT19 -> 0.31205921 | DX19: 18 | DY19: =SUM(IF($EB$2="Buy", EN19, IF($EB$2="Sell", -EN19, 0)), IF($EC$2="Buy", EO19, IF($EC$2="Sell", -EO19, 0)), IF($ED$2="Buy", EP19, IF($ED$2="Sell", -EP19, 0)), IF($EE$2="Buy", EQ19, IF($EE$2="Sell", -EQ19, 0)), IF($EF$2="Buy", ER19, IF($EF$2="Sell", -ER19, 0)), IF($EG$2="Buy", ES19, IF($EG$2="Sell", -ES19, 0)), IF($EH$2="Buy", ET19, IF($EH$2="Sell", -ET19, 0)), IF($EI$2="Buy", EU19, IF($EI$2="Sell", -EU19, 0))) -> 2.4958616 | EM19: 18 | EN19: =BT19+BU19+BV19+BW19+BX19+BY19+BZ19 -> 0.042913279 | EO19: =CN19+CO19+CP19-CI19-CA19-BT19-BO19 -> -2.4529483 | EP19: =CK19+CL19-CN19-CJ19-CD19-BU19-BS19 -> -1.7359963 | EQ19: =CM19-CO19-CH19-CE19-BW19-BR19 -> 0.67389013 | ER19: =CA19+CB19+CC19+CD19+CE19+CF19-BV19 -> 1.4014372 | ES19: =BO19+BP19+BQ19+BR19+BS19-BY19-CB19 -> -1.9133175 | ET19: =CG19+CH19+CI19+CJ19-CC19-BZ19-BP19 -> -0.013771611 | EU19: =-BQ19-BX19-CF19-CG19-CK19-CM19-CP19 -> 3.6585025 | EW19: ='SATORI H4'!EW8 -> -4.5480297 | EX19: ='SATORI H4'!EX8 -> CAD
A20: previous | B20: 18 | C20: =RTD("fxbluelabs.excelrtd", , "21422436","@bh,AUDUSD,h1,close,18") -> 0.6752 | D20: =RTD("fxbluelabs.excelrtd", , "21422436","@bh,AUDNZD,h1,close,18") -> 1.09457 | E20: =RTD("fxbluelabs.excelrtd", , "21422436","@bh,AUDJPY,h1,close,18") -> 97.731 | F20: =RTD("fxbluelabs.excelrtd", , "21422436","@bh,AUDCHF,h1,close,18") -> 0.5742 | G20: =RTD("fxbluelabs.excelrtd", , "21422436","@bh,AUDCAD,h1,close,18") -> 0.91714 | H20: =RTD("fxbluelabs.excelrtd", , "21422436","@bh,EURUSD,h1,close,18") -> 1.11618 | I20: =RTD("fxbluelabs.excelrtd", , "21422436","@bh,EURCAD,h1,close,18") -> 1.51613 | J20: =RTD("fxbluelabs.excelrtd", , "21422436","@bh,EURGBP,h1,close,18") -> 0.85161 | K20: =RTD("fxbluelabs.excelrtd", , "21422436","@bh,EURCHF,h1,close,18") -> 0.94922 | L20: =RTD("fxbluelabs.excelrtd", , "21422436","@bh,EURJPY,h1,close,18") -> 161.561 | M20: =RTD("fxbluelabs.excelrtd", , "21422436","@bh,EURAUD,h1,close,18") -> 1.65311 | N20: =RTD("fxbluelabs.excelrtd", , "21422436","@bh,EURNZD,h1,close,18") -> 1.80945 | O20: =RTD("fxbluelabs.excelrtd", , "21422436","@bh,GBPUSD,h1,close,18") -> 1.31062 | P20: =RTD("fxbluelabs.excelrtd", , "21422436","@bh,GBPAUD,h1,close,18") -> 1.9411 | Q20: =RTD("fxbluelabs.excelrtd", , "21422436","@bh,GBPNZD,h1,close,18") -> 2.12467 | R20: =RTD("fxbluelabs.excelrtd", , "21422436","@bh,GBPCAD,h1,close,18") -> 1.78026 | S20: =RTD("fxbluelabs.excelrtd", , "21422436","@bh,GBPCHF,h1,close,18") -> 1.11458 | T20: =RTD("fxbluelabs.excelrtd", , "21422436","@bh,GBPJPY,h1,close,18") -> 189.707 | U20: =RTD("fxbluelabs.excelrtd", , "21422436","@bh,NZDJPY,h1,close,18") -> 89.282 | V20: =RTD("fxbluelabs.excelrtd", , "21422436","@bh,NZDCHF,h1,close,18") -> 0.52456 | W20: =RTD("fxbluelabs.excelrtd", , "21422436","@bh,NZDUSD,h1,close,18") -> 0.61682 | X20: =RTD("fxbluelabs.excelrtd", , "21422436","@bh,NZDCAD,h1,close,18") -> 0.83784 | Y20: =RTD("fxbluelabs.excelrtd", , "21422436","@bh,CADJPY,h1,close,18") -> 106.559 | Z20: =RTD("fxbluelabs.excelrtd", , "21422436","@bh,CADCHF,h1,close,18") -> 0.62606 | AA20: =RTD("fxbluelabs.excelrtd", , "21422436","@bh,CHFJPY,h1,close,18") -> 170.199 | AB20: =RTD("fxbluelabs.excelrtd", , "21422436","@bh,USDCAD,h1,close,18") -> 1.3584 | AC20: =RTD("fxbluelabs.excelrtd", , "21422436","@bh,USDCHF,h1,close,18") -> 0.85042 | AD20: =RTD("fxbluelabs.excelrtd", , "21422436","@bh,USDJPY,h1,close,18") -> 144.746 | AH20: 19 | AI20: =IF(C20=0,0,(C20-C21)*100/C21) -> 0.096360537 | AJ20: =IF(D20=0,0,(D20-D21)*100/D21) -> 0.030157918 | AK20: =IF(E20=0,0,(E20-E21)*100/E21) -> -0.1267181 | AL20: =IF(F20=0,0,(F20-F21)*100/F21) -> 0.05401732 | AM20: =IF(G20=0,0,(G20-G21)*100/G21) -> 0.051272541 | AN20: =IF(H20=0,0,(H20-H21)*100/H21) -> 0.054680567 | AO20: =IF(I20=0,0,(I20-I21)*100/I21) -> 0.0085751979 | AP20: =IF(J20=0,0,(J20-J21)*100/J21) -> -0.015262874 | ... BJ20: =IF(AD20=0,0,(AD20-AD21)*100/AD21) -> -0.22334046 | BN20: 19 | BO20: =AI20+SUM(AI21:AI55) -> 0.20938969 | BP20: =AJ20+SUM(AJ21:AJ55) -> -0.25721404 | BQ20: =AK20+SUM(AK21:AK55) -> -0.7334594 | BR20: =AL20+SUM(AL21:AL55) -> -0.34392481 | BS20: =AM20+SUM(AM21:AM55) -> 0.025184283 | BT20: =AN20+SUM(AN21:AN55) -> 0.4016505 | BU20: =AO20+SUM(AO21:AO55) -> 0.21749367 | BV20: =AP20+SUM(AP21:AP55) -> -0.20751128 | ... CP20: =BJ20+SUM(BJ21:BJ55) -> -0.94239438 | CU20: 19 | CV20: =BT20+BU20+BV20+BW20+BX20+BY20+BZ20 -> -0.15326163 | CW20: =CN20+CO20+CP20-CI20-CA20-BT20-BO20 -> -3.3631006 | CX20: =CK20+CL20-CN20-CJ20-CD20-BU20-BS20 -> -1.9003939 | CY20: =CM20-CO20-CH20-CE20-BW20-BR20 -> 0.68769868 | CZ20: =CA20+CB20+CC20+CD20+CE20+CF20-BV20 -> 1.4874222 | DA20: =BO20+BP20+BQ20+BR20+BS20-BY20-CB20 -> -1.6901595 | DB20: =CG20+CH20+CI20+CJ20-CC20-BZ20-BP20 -> 0.38133996 | DC20: =-BQ20-BX20-CF20-CG20-CK20-CM20-CP20 -> 4.1792183 | DF20: 19 | DG20: =CN20 -> -0.18155109 | DH20: =BU20 -> 0.21749367 | DI20: =CO20 -> -0.55312649 | DJ20: =BW20 -> -0.15131758 | DK20: =-(CA20) -> -0.60493342 | DL20: =BV20 -> -0.20751128 | DM20: =-(BO20) -> -0.20938969 | DN20: =BY20 -> 0.19281635 | DO20: =-(CI20) -> -0.47005502 | DP20: =BZ20 -> -0.065000538 | DQ20: =CP20 -> -0.94239438 | DR20: =BX20 -> -0.54139275 | DS20: =-(BT20) -> -0.4016505 | DT20: =BT20 -> 0.4016505 | DX20: 19 | DY20: =SUM(IF($EB$2="Buy", EN20, IF($EB$2="Sell", -EN20, 0)), IF($EC$2="Buy", EO20, IF($EC$2="Sell", -EO20, 0)), IF($ED$2="Buy", EP20, IF($ED$2="Sell", -EP20, 0)), IF($EE$2="Buy", EQ20, IF($EE$2="Sell", -EQ20, 0)), IF($EF$2="Buy", ER20, IF($EF$2="Sell", -ER20, 0)), IF($EG$2="Buy", ES20, IF($EG$2="Sell", -ES20, 0)), IF($EH$2="Buy", ET20, IF($EH$2="Sell", -ET20, 0)), IF($EI$2="Buy", EU20, IF($EI$2="Sell", -EU20, 0))) -> 3.209839 | EM20: 19 | EN20: =BT20+BU20+BV20+BW20+BX20+BY20+BZ20 -> -0.15326163 | EO20: =CN20+CO20+CP20-CI20-CA20-BT20-BO20 -> -3.3631006 | EP20: =CK20+CL20-CN20-CJ20-CD20-BU20-BS20 -> -1.9003939 | EQ20: =CM20-CO20-CH20-CE20-BW20-BR20 -> 0.68769868 | ER20: =CA20+CB20+CC20+CD20+CE20+CF20-BV20 -> 1.4874222 | ES20: =BO20+BP20+BQ20+BR20+BS20-BY20-CB20 -> -1.6901595 | ET20: =CG20+CH20+CI20+CJ20-CC20-BZ20-BP20 -> 0.38133996 | EU20: =-BQ20-BX20-CF20-CG20-CK20-CM20-CP20 -> 4.1792183 | EW20: ='SATORI H4'!EW9 -> -12.778491 | EX20: ='SATORI H4'!EX9 -> USD
A21: previous | B21: 19 | C21: =RTD("fxbluelabs.excelrtd", , "21422436","@bh,AUDUSD,h1,close,19") -> 0.67455 | D21: =RTD("fxbluelabs.excelrtd", , "21422436","@bh,AUDNZD,h1,close,19") -> 1.09424 | E21: =RTD("fxbluelabs.excelrtd", , "21422436","@bh,AUDJPY,h1,close,19") -> 97.855 | F21: =RTD("fxbluelabs.excelrtd", , "21422436","@bh,AUDCHF,h1,close,19") -> 0.57389 | G21: =RTD("fxbluelabs.excelrtd", , "21422436","@bh,AUDCAD,h1,close,19") -> 0.91667 | H21: =RTD("fxbluelabs.excelrtd", , "21422436","@bh,EURUSD,h1,close,19") -> 1.11557 | I21: =RTD("fxbluelabs.excelrtd", , "21422436","@bh,EURCAD,h1,close,19") -> 1.516 | J21: =RTD("fxbluelabs.excelrtd", , "21422436","@bh,EURGBP,h1,close,19") -> 0.85174 | K21: =RTD("fxbluelabs.excelrtd", , "21422436","@bh,EURCHF,h1,close,19") -> 0.94908 | L21: =RTD("fxbluelabs.excelrtd", , "21422436","@bh,EURJPY,h1,close,19") -> 161.832 | M21: =RTD("fxbluelabs.excelrtd", , "21422436","@bh,EURAUD,h1,close,19") -> 1.65378 | N21: =RTD("fxbluelabs.excelrtd", , "21422436","@bh,EURNZD,h1,close,19") -> 1.80965 | O21: =RTD("fxbluelabs.excelrtd", , "21422436","@bh,GBPUSD,h1,close,19") -> 1.30966 | P21: =RTD("fxbluelabs.excelrtd", , "21422436","@bh,GBPAUD,h1,close,19") -> 1.94154 | Q21: =RTD("fxbluelabs.excelrtd", , "21422436","@bh,GBPNZD,h1,close,19") -> 2.1245 | R21: =RTD("fxbluelabs.excelrtd", , "21422436","@bh,GBPCAD,h1,close,19") -> 1.77974 | S21: =RTD("fxbluelabs.excelrtd", , "21422436","@bh,GBPCHF,h1,close,19") -> 1.11425 | T21: =RTD("fxbluelabs.excelrtd", , "21422436","@bh,GBPJPY,h1,close,19") -> 189.993 | U21: =RTD("fxbluelabs.excelrtd", , "21422436","@bh,NZDJPY,h1,close,19") -> 89.42 | V21: =RTD("fxbluelabs.excelrtd", , "21422436","@bh,NZDCHF,h1,close,19") -> 0.52443 | W21: =RTD("fxbluelabs.excelrtd", , "21422436","@bh,NZDUSD,h1,close,19") -> 0.61639 | X21: =RTD("fxbluelabs.excelrtd", , "21422436","@bh,NZDCAD,h1,close,19") -> 0.83765 | Y21: =RTD("fxbluelabs.excelrtd", , "21422436","@bh,CADJPY,h1,close,19") -> 106.748 | Z21: =RTD("fxbluelabs.excelrtd", , "21422436","@bh,CADCHF,h1,close,19") -> 0.62605 | AA21: =RTD("fxbluelabs.excelrtd", , "21422436","@bh,CHFJPY,h1,close,19") -> 170.5 | AB21: =RTD("fxbluelabs.excelrtd", , "21422436","@bh,USDCAD,h1,close,19") -> 1.359 | AC21: =RTD("fxbluelabs.excelrtd", , "21422436","@bh,USDCHF,h1,close,19") -> 0.8508 | AD21: =RTD("fxbluelabs.excelrtd", , "21422436","@bh,USDJPY,h1,close,19") -> 145.07 | AH21: 20 | AI21: =IF(C21=0,0,(C21-C22)*100/C22) -> 0.059333976 | AJ21: =IF(D21=0,0,(D21-D22)*100/D22) -> -0.075794241 | AK21: =IF(E21=0,0,(E21-E22)*100/E22) -> -0.027584234 | AL21: =IF(F21=0,0,(F21-F22)*100/F22) -> -0.0052272094 | AM21: =IF(G21=0,0,(G21-G22)*100/G22) -> 0.056759264 | AN21: =IF(H21=0,0,(H21-H22)*100/H22) -> 0.082537119 | AO21: =IF(I21=0,0,(I21-I22)*100/I22) -> 0.081861153 | AP21: =IF(J21=0,0,(J21-J22)*100/J22) -> 0.019963127 | ... BJ21: =IF(AD21=0,0,(AD21-AD22)*100/AD22) -> -0.084714828 | BN21: 20 | BO21: =AI21+SUM(AI22:AI56) -> 0.11302916 | BP21: =AJ21+SUM(AJ22:AJ56) -> -0.28737196 | BQ21: =AK21+SUM(AK22:AK56) -> -0.6067413 | BR21: =AL21+SUM(AL22:AL56) -> -0.39794213 | BS21: =AM21+SUM(AM22:AM56) -> -0.026088258 | BT21: =AN21+SUM(AN22:AN56) -> 0.34696993 | BU21: =AO21+SUM(AO22:AO56) -> 0.20891847 | BV21: =AP21+SUM(AP22:AP56) -> -0.1922484 | ... CP21: =BJ21+SUM(BJ22:BJ56) -> -0.71905392 | CU21: 20 | CV21: =BT21+BU21+BV21+BW21+BX21+BY21+BZ21 -> 0.0030170734 | CW21: =CN21+CO21+CP21-CI21-CA21-BT21-BO21 -> -2.7568426 | CX21: =CK21+CL21-CN21-CJ21-CD21-BU21-BS21 -> -1.6573408 | CY21: =CM21-CO21-CH21-CE21-BW21-BR21 -> 0.94274803 | CZ21: =CA21+CB21+CC21+CD21+CE21+CF21-BV21 -> 1.5052162 | DA21: =BO21+BP21+BQ21+BR21+BS21-BY21-CB21 -> -1.8584253 | DB21: =CG21+CH21+CI21+CJ21-CC21-BZ21-BP21 -> 0.44554344 | DC21: =-BQ21-BX21-CF21-CG21-CK21-CM21-CP21 -> 3.0032503 | DF21: 20 | DG21: =CN21 -> -0.13740098 | DH21: =BU21 -> 0.20891847 | DI21: =CO21 -> -0.50846264 | DJ21: =BW21 -> -0.16606871 | DK21: =-(CA21) -> -0.53163195 | DL21: =BV21 -> -0.1922484 | DM21: =-(BO21) -> -0.11302916 | DN21: =BY21 -> 0.2333296 | DO21: =-(CI21) -> -0.40029399 | DP21: =BZ21 -> -0.053948677 | DQ21: =CP21 -> -0.71905392 | DR21: =BX21 -> -0.37393514 | DS21: =-(BT21) -> -0.34696993 | DT21: =BT21 -> 0.34696993 | DX21: 20 | DY21: =SUM(IF($EB$2="Buy", EN21, IF($EB$2="Sell", -EN21, 0)), IF($EC$2="Buy", EO21, IF($EC$2="Sell", -EO21, 0)), IF($ED$2="Buy", EP21, IF($ED$2="Sell", -EP21, 0)), IF($EE$2="Buy", EQ21, IF($EE$2="Sell", -EQ21, 0)), IF($EF$2="Buy", ER21, IF($EF$2="Sell", -ER21, 0)), IF($EG$2="Buy", ES21, IF($EG$2="Sell", -ES21, 0)), IF($EH$2="Buy", ET21, IF($EH$2="Sell", -ET21, 0)), IF($EI$2="Buy", EU21, IF($EI$2="Sell", -EU21, 0))) -> 2.7598596 | EM21: 20 | EN21: =BT21+BU21+BV21+BW21+BX21+BY21+BZ21 -> 0.0030170734 | EO21: =CN21+CO21+CP21-CI21-CA21-BT21-BO21 -> -2.7568426 | EP21: =CK21+CL21-CN21-CJ21-CD21-BU21-BS21 -> -1.6573408 | EQ21: =CM21-CO21-CH21-CE21-BW21-BR21 -> 0.94274803 | ER21: =CA21+CB21+CC21+CD21+CE21+CF21-BV21 -> 1.5052162 | ES21: =BO21+BP21+BQ21+BR21+BS21-BY21-CB21 -> -1.8584253 | ET21: =CG21+CH21+CI21+CJ21-CC21-BZ21-BP21 -> 0.44554344 | EU21: =-BQ21-BX21-CF21-CG21-CK21-CM21-CP21 -> 3.0032503
A22: previous | B22: 20 | C22: =RTD("fxbluelabs.excelrtd", , "21422436","@bh,AUDUSD,h1,close,20") -> 0.67415 | D22: =RTD("fxbluelabs.excelrtd", , "21422436","@bh,AUDNZD,h1,close,20") -> 1.09507 | E22: =RTD("fxbluelabs.excelrtd", , "21422436","@bh,AUDJPY,h1,close,20") -> 97.882 | F22: =RTD("fxbluelabs.excelrtd", , "21422436","@bh,AUDCHF,h1,close,20") -> 0.57392 | G22: =RTD("fxbluelabs.excelrtd", , "21422436","@bh,AUDCAD,h1,close,20") -> 0.91615 | H22: =RTD("fxbluelabs.excelrtd", , "21422436","@bh,EURUSD,h1,close,20") -> 1.11465 | I22: =RTD("fxbluelabs.excelrtd", , "21422436","@bh,EURCAD,h1,close,20") -> 1.51476 | J22: =RTD("fxbluelabs.excelrtd", , "21422436","@bh,EURGBP,h1,close,20") -> 0.85157 | K22: =RTD("fxbluelabs.excelrtd", , "21422436","@bh,EURCHF,h1,close,20") -> 0.94891 | L22: =RTD("fxbluelabs.excelrtd", , "21422436","@bh,EURJPY,h1,close,20") -> 161.836 | M22: =RTD("fxbluelabs.excelrtd", , "21422436","@bh,EURAUD,h1,close,20") -> 1.65338 | N22: =RTD("fxbluelabs.excelrtd", , "21422436","@bh,EURNZD,h1,close,20") -> 1.81058 | O22: =RTD("fxbluelabs.excelrtd", , "21422436","@bh,GBPUSD,h1,close,20") -> 1.30893 | P22: =RTD("fxbluelabs.excelrtd", , "21422436","@bh,GBPAUD,h1,close,20") -> 1.94158 | Q22: =RTD("fxbluelabs.excelrtd", , "21422436","@bh,GBPNZD,h1,close,20") -> 2.12617 | R22: =RTD("fxbluelabs.excelrtd", , "21422436","@bh,GBPCAD,h1,close,20") -> 1.77879 | S22: =RTD("fxbluelabs.excelrtd", , "21422436","@bh,GBPCHF,h1,close,20") -> 1.11432 | T22: =RTD("fxbluelabs.excelrtd", , "21422436","@bh,GBPJPY,h1,close,20") -> 190.048 | U22: =RTD("fxbluelabs.excelrtd", , "21422436","@bh,NZDJPY,h1,close,20") -> 89.377 | V22: =RTD("fxbluelabs.excelrtd", , "21422436","@bh,NZDCHF,h1,close,20") -> 0.52405 | W22: =RTD("fxbluelabs.excelrtd", , "21422436","@bh,NZDUSD,h1,close,20") -> 0.61557 | X22: =RTD("fxbluelabs.excelrtd", , "21422436","@bh,NZDCAD,h1,close,20") -> 0.83655 | Y22: =RTD("fxbluelabs.excelrtd", , "21422436","@bh,CADJPY,h1,close,20") -> 106.839 | Z22: =RTD("fxbluelabs.excelrtd", , "21422436","@bh,CADCHF,h1,close,20") -> 0.62644 | AA22: =RTD("fxbluelabs.excelrtd", , "21422436","@bh,CHFJPY,h1,close,20") -> 170.546 | AB22: =RTD("fxbluelabs.excelrtd", , "21422436","@bh,USDCAD,h1,close,20") -> 1.35902 | AC22: =RTD("fxbluelabs.excelrtd", , "21422436","@bh,USDCHF,h1,close,20") -> 0.85134 | AD22: =RTD("fxbluelabs.excelrtd", , "21422436","@bh,USDJPY,h1,close,20") -> 145.193 | AH22: 21 | AI22: =IF(C22=0,0,(C22-C23)*100/C23) -> -0.12000711 | AJ22: =IF(D22=0,0,(D22-D23)*100/D23) -> -0.041988809 | AK22: =IF(E22=0,0,(E22-E23)*100/E23) -> -0.12346561 | AL22: =IF(F22=0,0,(F22-F23)*100/F23) -> -0.14788524 | AM22: =IF(G22=0,0,(G22-G23)*100/G23) -> -0.068718777 | AN22: =IF(H22=0,0,(H22-H23)*100/H23) -> 0.037694192 | AO22: =IF(I22=0,0,(I22-I23)*100/I23) -> 0.090525245 | AP22: =IF(J22=0,0,(J22-J23)*100/J23) -> -0.061026417 | ... BJ22: =IF(AD22=0,0,(AD22-AD23)*100/AD23) -> -0.0048209366 | BN22: 21 | BO22: =AI22+SUM(AI23:AI57) -> 0.053695181 | BP22: =AJ22+SUM(AJ23:AJ57) -> -0.21157771 | BQ22: =AK22+SUM(AK23:AK57) -> -0.57915707 | BR22: =AL22+SUM(AL23:AL57) -> -0.39271492 | BS22: =AM22+SUM(AM23:AM57) -> -0.082847522 | BT22: =AN22+SUM(AN23:AN57) -> 0.26443281 | BU22: =AO22+SUM(AO23:AO57) -> 0.12705732 | BV22: =AP22+SUM(AP23:AP57) -> -0.21221153 | ... CP22: =BJ22+SUM(BJ23:BJ57) -> -0.6343391 | CU22: 21 | CV22: =BT22+BU22+BV22+BW22+BX22+BY22+BZ22 -> -0.16961609 | CW22: =CN22+CO22+CP22-CI22-CA22-BT22-BO22 -> -2.276375 | CX22: =CK22+CL22-CN22-CJ22-CD22-BU22-BS22 -> -1.1878611 | CY22: =CM22-CO22-CH22-CE22-BW22-BR22 -> 0.9852092 | CZ22: =CA22+CB22+CC22+CD22+CE22+CF22-BV22 -> 1.5318285 | DA22: =BO22+BP22+BQ22+BR22+BS22-BY22-CB22 -> -1.8437802 | DB22: =CG22+CH22+CI22+CJ22-CC22-BZ22-BP22 -> -0.14548583 | DC22: =-BQ22-BX22-CF22-CG22-CK22-CM22-CP22 -> 2.7955032 | DF22: 21 | DG22: =CN22 -> -0.13592933 | DH22: =BU22 -> 0.12705732 | DI22: =CO22 -> -0.44503323 | DJ22: =BW22 -> -0.183984 | DK22: =-(CA22) -> -0.47586121 | DL22: =BV22 -> -0.21221153 | DM22: =-(BO22) -> -0.053695181 | DN22: =BY22 -> 0.20913674 | DO22: =-(CI22) -> -0.26708412 | DP22: =BZ22 -> -0.0025839213 | DQ22: =CP22 -> -0.6343391 | DR22: =BX22 -> -0.3714635 | DS22: =-(BT22) -> -0.26443281 | DT22: =BT22 -> 0.26443281 | DX22: 21 | DY22: =SUM(IF($EB$2="Buy", EN22, IF($EB$2="Sell", -EN22, 0)), IF($EC$2="Buy", EO22, IF($EC$2="Sell", -EO22, 0)), IF($ED$2="Buy", EP22, IF($ED$2="Sell", -EP22, 0)), IF($EE$2="Buy", EQ22, IF($EE$2="Sell", -EQ22, 0)), IF($EF$2="Buy", ER22, IF($EF$2="Sell", -ER22, 0)), IF($EG$2="Buy", ES22, IF($EG$2="Sell", -ES22, 0)), IF($EH$2="Buy", ET22, IF($EH$2="Sell", -ET22, 0)), IF($EI$2="Buy", EU22, IF($EI$2="Sell", -EU22, 0))) -> 2.1067589 | EM22: 21 | EN22: =BT22+BU22+BV22+BW22+BX22+BY22+BZ22 -> -0.16961609 | EO22: =CN22+CO22+CP22-CI22-CA22-BT22-BO22 -> -2.276375 | EP22: =CK22+CL22-CN22-CJ22-CD22-BU22-BS22 -> -1.1878611 | EQ22: =CM22-CO22-CH22-CE22-BW22-BR22 -> 0.9852092 | ER22: =CA22+CB22+CC22+CD22+CE22+CF22-BV22 -> 1.5318285 | ES22: =BO22+BP22+BQ22+BR22+BS22-BY22-CB22 -> -1.8437802 | ET22: =CG22+CH22+CI22+CJ22-CC22-BZ22-BP22 -> -0.14548583 | EU22: =-BQ22-BX22-CF22-CG22-CK22-CM22-CP22 -> 2.7955032 | EW22: Market performance D1
A23: previous | B23: 21 | C23: =RTD("fxbluelabs.excelrtd", , "21422436","@bh,AUDUSD,h1,close,21") -> 0.67496 | D23: =RTD("fxbluelabs.excelrtd", , "21422436","@bh,AUDNZD,h1,close,21") -> 1.09553 | E23: =RTD("fxbluelabs.excelrtd", , "21422436","@bh,AUDJPY,h1,close,21") -> 98.003 | F23: =RTD("fxbluelabs.excelrtd", , "21422436","@bh,AUDCHF,h1,close,21") -> 0.57477 | G23: =RTD("fxbluelabs.excelrtd", , "21422436","@bh,AUDCAD,h1,close,21") -> 0.91678 | H23: =RTD("fxbluelabs.excelrtd", , "21422436","@bh,EURUSD,h1,close,21") -> 1.11423 | I23: =RTD("fxbluelabs.excelrtd", , "21422436","@bh,EURCAD,h1,close,21") -> 1.51339 | J23: =RTD("fxbluelabs.excelrtd", , "21422436","@bh,EURGBP,h1,close,21") -> 0.85209 | K23: =RTD("fxbluelabs.excelrtd", , "21422436","@bh,EURCHF,h1,close,21") -> 0.94883 | L23: =RTD("fxbluelabs.excelrtd", , "21422436","@bh,EURJPY,h1,close,21") -> 161.786 | M23: =RTD("fxbluelabs.excelrtd", , "21422436","@bh,EURAUD,h1,close,21") -> 1.65078 | N23: =RTD("fxbluelabs.excelrtd", , "21422436","@bh,EURNZD,h1,close,21") -> 1.80849 | O23: =RTD("fxbluelabs.excelrtd", , "21422436","@bh,GBPUSD,h1,close,21") -> 1.30762 | P23: =RTD("fxbluelabs.excelrtd", , "21422436","@bh,GBPAUD,h1,close,21") -> 1.93734 | Q23: =RTD("fxbluelabs.excelrtd", , "21422436","@bh,GBPNZD,h1,close,21") -> 2.12241 | R23: =RTD("fxbluelabs.excelrtd", , "21422436","@bh,GBPCAD,h1,close,21") -> 1.7761 | S23: =RTD("fxbluelabs.excelrtd", , "21422436","@bh,GBPCHF,h1,close,21") -> 1.11354 | T23: =RTD("fxbluelabs.excelrtd", , "21422436","@bh,GBPJPY,h1,close,21") -> 189.866 | U23: =RTD("fxbluelabs.excelrtd", , "21422436","@bh,NZDJPY,h1,close,21") -> 89.45 | V23: =RTD("fxbluelabs.excelrtd", , "21422436","@bh,NZDCHF,h1,close,21") -> 0.52461 | W23: =RTD("fxbluelabs.excelrtd", , "21422436","@bh,NZDUSD,h1,close,21") -> 0.61604 | X23: =RTD("fxbluelabs.excelrtd", , "21422436","@bh,NZDCAD,h1,close,21") -> 0.83674 | Y23: =RTD("fxbluelabs.excelrtd", , "21422436","@bh,CADJPY,h1,close,21") -> 106.899 | Z23: =RTD("fxbluelabs.excelrtd", , "21422436","@bh,CADCHF,h1,close,21") -> 0.62695 | AA23: =RTD("fxbluelabs.excelrtd", , "21422436","@bh,CHFJPY,h1,close,21") -> 170.507 | AB23: =RTD("fxbluelabs.excelrtd", , "21422436","@bh,USDCAD,h1,close,21") -> 1.35832 | AC23: =RTD("fxbluelabs.excelrtd", , "21422436","@bh,USDCHF,h1,close,21") -> 0.85157 | AD23: =RTD("fxbluelabs.excelrtd", , "21422436","@bh,USDJPY,h1,close,21") -> 145.2 | AH23: 22 | AI23: =IF(C23=0,0,(C23-C24)*100/C24) -> 0.16621156 | AJ23: =IF(D23=0,0,(D23-D24)*100/D24) -> -0.049266926 | AK23: =IF(E23=0,0,(E23-E24)*100/E24) -> -0.14264899 | AL23: =IF(F23=0,0,(F23-F24)*100/F24) -> -0.04 | AM23: =IF(G23=0,0,(G23-G24)*100/G24) -> 0.045833515 | AN23: =IF(H23=0,0,(H23-H24)*100/H24) -> 0.1573062 | AO23: =IF(I23=0,0,(I23-I24)*100/I24) -> 0.037677979 | AP23: =IF(J23=0,0,(J23-J24)*100/J24) -> 0.03287118 | ... BJ23: =IF(AD23=0,0,(AD23-AD24)*100/AD24) -> -0.30622194 | BN23: 22 | BO23: =AI23+SUM(AI24:AI58) -> 0.17370229 | BP23: =AJ23+SUM(AJ24:AJ58) -> -0.16958891 | BQ23: =AK23+SUM(AK24:AK58) -> -0.45569146 | BR23: =AL23+SUM(AL24:AL58) -> -0.24482968 | BS23: =AM23+SUM(AM24:AM58) -> -0.014128746 | BT23: =AN23+SUM(AN24:AN58) -> 0.22673862 | BU23: =AO23+SUM(AO24:AO58) -> 0.036532076 | BV23: =AP23+SUM(AP24:AP58) -> -0.15118511 | ... CP23: =BJ23+SUM(BJ24:BJ58) -> -0.62951816 | CU23: 22 | CV23: =BT23+BU23+BV23+BW23+BX23+BY23+BZ23 -> -0.5492129 | CW23: =CN23+CO23+CP23-CI23-CA23-BT23-BO23 -> -2.354504 | CX23: =CK23+CL23-CN23-CJ23-CD23-BU23-BS23 -> -0.84829813 | CY23: =CM23-CO23-CH23-CE23-BW23-BR23 -> 0.75917441 | CZ23: =CA23+CB23+CC23+CD23+CE23+CF23-BV23 -> 0.65724684 | DA23: =BO23+BP23+BQ23+BR23+BS23-BY23-CB23 -> -0.96535658 | DB23: =CG23+CH23+CI23+CJ23-CC23-BZ23-BP23 -> 0.39260521 | DC23: =-BQ23-BX23-CF23-CG23-CK23-CM23-CP23 -> 2.6791142 | DF23: 22 | DG23: =CN23 -> -0.18746357 | DH23: =BU23 -> 0.036532076 | DI23: =CO23 -> -0.41802429 | DJ23: =BW23 -> -0.19241544 | DK23: =-(CA23) -> -0.3756792 | DL23: =BV23 -> -0.15118511 | DM23: =-(BO23) -> -0.17370229 | DN23: =BY23 -> 0.051635433 | DO23: =-(CI23) -> -0.34337787 | DP23: =BZ23 -> -0.11814995 | DQ23: =CP23 -> -0.62951816 | DR23: =BX23 -> -0.40236852 | DS23: =-(BT23) -> -0.22673862 | DT23: =BT23 -> 0.22673862 | DX23: 22 | DY23: =SUM(IF($EB$2="Buy", EN23, IF($EB$2="Sell", -EN23, 0)), IF($EC$2="Buy", EO23, IF($EC$2="Sell", -EO23, 0)), IF($ED$2="Buy", EP23, IF($ED$2="Sell", -EP23, 0)), IF($EE$2="Buy", EQ23, IF($EE$2="Sell", -EQ23, 0)), IF($EF$2="Buy", ER23, IF($EF$2="Sell", -ER23, 0)), IF($EG$2="Buy", ES23, IF($EG$2="Sell", -ES23, 0)), IF($EH$2="Buy", ET23, IF($EH$2="Sell", -ET23, 0)), IF($EI$2="Buy", EU23, IF($EI$2="Sell", -EU23, 0))) -> 1.8052911 | EM23: 22 | EN23: =BT23+BU23+BV23+BW23+BX23+BY23+BZ23 -> -0.5492129 | EO23: =CN23+CO23+CP23-CI23-CA23-BT23-BO23 -> -2.354504 | EP23: =CK23+CL23-CN23-CJ23-CD23-BU23-BS23 -> -0.84829813 | EQ23: =CM23-CO23-CH23-CE23-BW23-BR23 -> 0.75917441 | ER23: =CA23+CB23+CC23+CD23+CE23+CF23-BV23 -> 0.65724684 | ES23: =BO23+BP23+BQ23+BR23+BS23-BY23-CB23 -> -0.96535658 | ET23: =CG23+CH23+CI23+CJ23-CC23-BZ23-BP23 -> 0.39260521 | EU23: =-BQ23-BX23-CF23-CG23-CK23-CM23-CP23 -> 2.6791142 | EW23: ='SATORI (D)'!EW2 -> 45.827579 | EX23: ='SATORI (D)'!EX2 -> JPY
A24: previous | B24: 22 | C24: =RTD("fxbluelabs.excelrtd", , "21422436","@bh,AUDUSD,h1,close,22") -> 0.67384 | D24: =RTD("fxbluelabs.excelrtd", , "21422436","@bh,AUDNZD,h1,close,22") -> 1.09607 | E24: =RTD("fxbluelabs.excelrtd", , "21422436","@bh,AUDJPY,h1,close,22") -> 98.143 | F24: =RTD("fxbluelabs.excelrtd", , "21422436","@bh,AUDCHF,h1,close,22") -> 0.575 | G24: =RTD("fxbluelabs.excelrtd", , "21422436","@bh,AUDCAD,h1,close,22") -> 0.91636 | H24: =RTD("fxbluelabs.excelrtd", , "21422436","@bh,EURUSD,h1,close,22") -> 1.11248 | I24: =RTD("fxbluelabs.excelrtd", , "21422436","@bh,EURCAD,h1,close,22") -> 1.51282 | J24: =RTD("fxbluelabs.excelrtd", , "21422436","@bh,EURGBP,h1,close,22") -> 0.85181 | K24: =RTD("fxbluelabs.excelrtd", , "21422436","@bh,EURCHF,h1,close,22") -> 0.94926 | L24: =RTD("fxbluelabs.excelrtd", , "21422436","@bh,EURJPY,h1,close,22") -> 162.024 | M24: =RTD("fxbluelabs.excelrtd", , "21422436","@bh,EURAUD,h1,close,22") -> 1.65091 | N24: =RTD("fxbluelabs.excelrtd", , "21422436","@bh,EURNZD,h1,close,22") -> 1.80952 | O24: =RTD("fxbluelabs.excelrtd", , "21422436","@bh,GBPUSD,h1,close,22") -> 1.30601 | P24: =RTD("fxbluelabs.excelrtd", , "21422436","@bh,GBPAUD,h1,close,22") -> 1.93814 | Q24: =RTD("fxbluelabs.excelrtd", , "21422436","@bh,GBPNZD,h1,close,22") -> 2.12433 | R24: =RTD("fxbluelabs.excelrtd", , "21422436","@bh,GBPCAD,h1,close,22") -> 1.77603 | S24: =RTD("fxbluelabs.excelrtd", , "21422436","@bh,GBPCHF,h1,close,22") -> 1.11444 | T24: =RTD("fxbluelabs.excelrtd", , "21422436","@bh,GBPJPY,h1,close,22") -> 190.216 | U24: =RTD("fxbluelabs.excelrtd", , "21422436","@bh,NZDJPY,h1,close,22") -> 89.535 | V24: =RTD("fxbluelabs.excelrtd", , "21422436","@bh,NZDCHF,h1,close,22") -> 0.52456 | W24: =RTD("fxbluelabs.excelrtd", , "21422436","@bh,NZDUSD,h1,close,22") -> 0.61474 | X24: =RTD("fxbluelabs.excelrtd", , "21422436","@bh,NZDCAD,h1,close,22") -> 0.83596 | Y24: =RTD("fxbluelabs.excelrtd", , "21422436","@bh,CADJPY,h1,close,22") -> 107.101 | Z24: =RTD("fxbluelabs.excelrtd", , "21422436","@bh,CADCHF,h1,close,22") -> 0.62749 | AA24: =RTD("fxbluelabs.excelrtd", , "21422436","@bh,CHFJPY,h1,close,22") -> 170.682 | AB24: =RTD("fxbluelabs.excelrtd", , "21422436","@bh,USDCAD,h1,close,22") -> 1.35994 | AC24: =RTD("fxbluelabs.excelrtd", , "21422436","@bh,USDCHF,h1,close,22") -> 0.85331 | AD24: =RTD("fxbluelabs.excelrtd", , "21422436","@bh,USDJPY,h1,close,22") -> 145.646 | AH24: 23 | AI24: =IF(C24=0,0,(C24-C25)*100/C25) -> -0.045983831 | AJ24: =IF(D24=0,0,(D24-D25)*100/D25) -> -0.069290592 | AK24: =IF(E24=0,0,(E24-E25)*100/E25) -> -0.11093922 | AL24: =IF(F24=0,0,(F24-F25)*100/F25) -> -0.083408633 | AM24: =IF(G24=0,0,(G24-G25)*100/G25) -> -0.033818059 | AN24: =IF(H24=0,0,(H24-H25)*100/H25) -> 0.091771184 | AO24: =IF(I24=0,0,(I24-I25)*100/I25) -> 0.10190038 | AP24: =IF(J24=0,0,(J24-J25)*100/J25) -> 0.0093926479 | ... BJ24: =IF(AD24=0,0,(AD24-AD25)*100/AD25) -> -0.067926859 | BN24: 23 | BO24: =AI24+SUM(AI25:AI59) -> 0.0074907286 | BP24: =AJ24+SUM(AJ25:AJ59) -> -0.12032198 | BQ24: =AK24+SUM(AK25:AK59) -> -0.31304247 | BR24: =AL24+SUM(AL25:AL59) -> -0.20482968 | BS24: =AM24+SUM(AM25:AM59) -> -0.059962261 | BT24: =AN24+SUM(AN25:AN59) -> 0.06943242 | BU24: =AO24+SUM(AO25:AO59) -> -0.0011459032 | BV24: =AP24+SUM(AP25:AP59) -> -0.18405629 | ... CP24: =BJ24+SUM(BJ25:BJ59) -> -0.32329622 | CU24: 23 | CV24: =BT24+BU24+BV24+BW24+BX24+BY24+BZ24 -> -0.52008237 | CW24: =CN24+CO24+CP24-CI24-CA24-BT24-BO24 -> -1.0669818 | CX24: =CK24+CL24-CN24-CJ24-CD24-BU24-BS24 -> -0.5119981 | CY24: =CM24-CO24-CH24-CE24-BW24-BR24 -> 0.50126774 | CZ24: =CA24+CB24+CC24+CD24+CE24+CF24-BV24 -> 0.95931793 | DA24: =BO24+BP24+BQ24+BR24+BS24-BY24-CB24 -> -0.99463687 | DB24: =CG24+CH24+CI24+CJ24-CC24-BZ24-BP24 -> -0.023338603 | DC24: =-BQ24-BX24-CF24-CG24-CK24-CM24-CP24 -> 1.5132783 | DF24: 23 | DG24: =CN24 -> -0.068340672 | DH24: =BU24 -> -0.0011459032 | DI24: =CO24 -> -0.21411246 | DJ24: =BW24 -> -0.147117 | DK24: =-(CA24) -> -0.25240296 | DL24: =BV24 -> -0.18405629 | DM24: =-(BO24) -> -0.0074907286 | DN24: =BY24 -> 0.059509878 | DO24: =-(CI24) -> -0.13190635 | DP24: =BZ24 -> -0.061228774 | DQ24: =CP24 -> -0.32329622 | DR24: =BX24 -> -0.25547671 | DS24: =-(BT24) -> -0.06943242 | DT24: =BT24 -> 0.06943242 | DX24: 23 | DY24: =SUM(IF($EB$2="Buy", EN24, IF($EB$2="Sell", -EN24, 0)), IF($EC$2="Buy", EO24, IF($EC$2="Sell", -EO24, 0)), IF($ED$2="Buy", EP24, IF($ED$2="Sell", -EP24, 0)), IF($EE$2="Buy", EQ24, IF($EE$2="Sell", -EQ24, 0)), IF($EF$2="Buy", ER24, IF($EF$2="Sell", -ER24, 0)), IF($EG$2="Buy", ES24, IF($EG$2="Sell", -ES24, 0)), IF($EH$2="Buy", ET24, IF($EH$2="Sell", -ET24, 0)), IF($EI$2="Buy", EU24, IF($EI$2="Sell", -EU24, 0))) -> 0.54689945 | EM24: 23 | EN24: =BT24+BU24+BV24+BW24+BX24+BY24+BZ24 -> -0.52008237 | EO24: =CN24+CO24+CP24-CI24-CA24-BT24-BO24 -> -1.0669818 | EP24: =CK24+CL24-CN24-CJ24-CD24-BU24-BS24 -> -0.5119981 | EQ24: =CM24-CO24-CH24-CE24-BW24-BR24 -> 0.50126774 | ER24: =CA24+CB24+CC24+CD24+CE24+CF24-BV24 -> 0.95931793 | ES24: =BO24+BP24+BQ24+BR24+BS24-BY24-CB24 -> -0.99463687 | ET24: =CG24+CH24+CI24+CJ24-CC24-BZ24-BP24 -> -0.023338603 | EU24: =-BQ24-BX24-CF24-CG24-CK24-CM24-CP24 -> 1.5132783 | EW24: ='SATORI (D)'!EW3 -> 15.572963 | EX24: ='SATORI (D)'!EX3 -> CHF
A25: previous | B25: 23 | C25: =RTD("fxbluelabs.excelrtd", , "21422436","@bh,AUDUSD,h1,close,23") -> 0.67415 | D25: =RTD("fxbluelabs.excelrtd", , "21422436","@bh,AUDNZD,h1,close,23") -> 1.09683 | E25: =RTD("fxbluelabs.excelrtd", , "21422436","@bh,AUDJPY,h1,close,23") -> 98.252 | F25: =RTD("fxbluelabs.excelrtd", , "21422436","@bh,AUDCHF,h1,close,23") -> 0.57548 | G25: =RTD("fxbluelabs.excelrtd", , "21422436","@bh,AUDCAD,h1,close,23") -> 0.91667 | H25: =RTD("fxbluelabs.excelrtd", , "21422436","@bh,EURUSD,h1,close,23") -> 1.11146 | I25: =RTD("fxbluelabs.excelrtd", , "21422436","@bh,EURCAD,h1,close,23") -> 1.51128 | J25: =RTD("fxbluelabs.excelrtd", , "21422436","@bh,EURGBP,h1,close,23") -> 0.85173 | K25: =RTD("fxbluelabs.excelrtd", , "21422436","@bh,EURCHF,h1,close,23") -> 0.94879 | L25: =RTD("fxbluelabs.excelrtd", , "21422436","@bh,EURJPY,h1,close,23") -> 161.981 | M25: =RTD("fxbluelabs.excelrtd", , "21422436","@bh,EURAUD,h1,close,23") -> 1.64864 | N25: =RTD("fxbluelabs.excelrtd", , "21422436","@bh,EURNZD,h1,close,23") -> 1.80832 | O25: =RTD("fxbluelabs.excelrtd", , "21422436","@bh,GBPUSD,h1,close,23") -> 1.30492 | P25: =RTD("fxbluelabs.excelrtd", , "21422436","@bh,GBPAUD,h1,close,23") -> 1.93562 | Q25: =RTD("fxbluelabs.excelrtd", , "21422436","@bh,GBPNZD,h1,close,23") -> 2.12308 | R25: =RTD("fxbluelabs.excelrtd", , "21422436","@bh,GBPCAD,h1,close,23") -> 1.77434 | S25: =RTD("fxbluelabs.excelrtd", , "21422436","@bh,GBPCHF,h1,close,23") -> 1.11394 | T25: =RTD("fxbluelabs.excelrtd", , "21422436","@bh,GBPJPY,h1,close,23") -> 190.183 | U25: =RTD("fxbluelabs.excelrtd", , "21422436","@bh,NZDJPY,h1,close,23") -> 89.573 | V25: =RTD("fxbluelabs.excelrtd", , "21422436","@bh,NZDCHF,h1,close,23") -> 0.52465 | W25: =RTD("fxbluelabs.excelrtd", , "21422436","@bh,NZDUSD,h1,close,23") -> 0.61459 | X25: =RTD("fxbluelabs.excelrtd", , "21422436","@bh,NZDCAD,h1,close,23") -> 0.83568 | Y25: =RTD("fxbluelabs.excelrtd", , "21422436","@bh,CADJPY,h1,close,23") -> 107.183 | Z25: =RTD("fxbluelabs.excelrtd", , "21422436","@bh,CADCHF,h1,close,23") -> 0.62779 | AA25: =RTD("fxbluelabs.excelrtd", , "21422436","@bh,CHFJPY,h1,close,23") -> 170.721 | AB25: =RTD("fxbluelabs.excelrtd", , "21422436","@bh,USDCAD,h1,close,23") -> 1.35979 | AC25: =RTD("fxbluelabs.excelrtd", , "21422436","@bh,USDCHF,h1,close,23") -> 0.85367 | AD25: =RTD("fxbluelabs.excelrtd", , "21422436","@bh,USDJPY,h1,close,23") -> 145.745 | AH25: 24 | AI25: =IF(C25=0,0,(C25-C26)*100/C26) -> -0.023727959 | AJ25: =IF(D25=0,0,(D25-D26)*100/D26) -> -0.028255282 | AK25: =IF(E25=0,0,(E25-E26)*100/E26) -> -0.046796476 | AL25: =IF(F25=0,0,(F25-F26)*100/F26) -> -0.064252844 | AM25: =IF(G25=0,0,(G25-G26)*100/G26) -> -0.027265192 | AN25: =IF(H25=0,0,(H25-H26)*100/H26) -> -0.093483146 | AO25: =IF(I25=0,0,(I25-I26)*100/I26) -> -0.099155198 | AP25: =IF(J25=0,0,(J25-J26)*100/J26) -> -0.12429789 | ... BJ25: =IF(AD25=0,0,(AD25-AD26)*100/AD26) -> -0.022637161 | BN25: 24 | BO25: =AI25+SUM(AI26:AI60) -> 0.05347456 | BP25: =AJ25+SUM(AJ26:AJ60) -> -0.051031387 | BQ25: =AK25+SUM(AK26:AK60) -> -0.20210325 | BR25: =AL25+SUM(AL26:AL60) -> -0.12142105 | BS25: =AM25+SUM(AM26:AM60) -> -0.026144202 | BT25: =AN25+SUM(AN26:AN60) -> -0.022338764 | BU25: =AO25+SUM(AO26:AO60) -> -0.10304628 | BV25: =AP25+SUM(AP26:AP60) -> -0.19344894 | ... CP25: =BJ25+SUM(BJ26:BJ60) -> -0.25536937 | CU25: 24 | CV25: =BT25+BU25+BV25+BW25+BX25+BY25+BZ25 -> -1.0032789 | CW25: =CN25+CO25+CP25-CI25-CA25-BT25-BO25 -> -0.81419133 | CX25: =CK25+CL25-CN25-CJ25-CD25-BU25-BS25 -> -0.17984098 | CY25: =CM25-CO25-CH25-CE25-BW25-BR25 -> 0.47580074 | CZ25: =CA25+CB25+CC25+CD25+CE25+CF25-BV25 -> 0.53862887 | DA25: =BO25+BP25+BQ25+BR25+BS25-BY25-CB25 -> -0.38331645 | DB25: =CG25+CH25+CI25+CJ25-CC25-BZ25-BP25 -> 0.034273096 | DC25: =-BQ25-BX25-CF25-CG25-CK25-CM25-CP25 -> 1.2365378 | DF25: 24 | DG25: =CN25 -> -0.079371787 | DH25: =BU25 -> -0.10304628 | DI25: =CO25 -> -0.1719416 | DJ25: =BW25 -> -0.19665377 | DK25: =-(CA25) -> -0.16887293 | DL25: =BV25 -> -0.19344894 | DM25: =-(BO25) -> -0.05347456 | DN25: =BY25 -> -0.078179369 | DO25: =-(CI25) -> -0.10749984 | DP25: =BZ25 -> -0.12758871 | DQ25: =CP25 -> -0.25536937 | DR25: =BX25 -> -0.28202303 | DS25: =-(BT25) -> 0.022338764 | DT25: =BT25 -> -0.022338764 | DX25: 24 | DY25: =SUM(IF($EB$2="Buy", EN25, IF($EB$2="Sell", -EN25, 0)), IF($EC$2="Buy", EO25, IF($EC$2="Sell", -EO25, 0)), IF($ED$2="Buy", EP25, IF($ED$2="Sell", -EP25, 0)), IF($EE$2="Buy", EQ25, IF($EE$2="Sell", -EQ25, 0)), IF($EF$2="Buy", ER25, IF($EF$2="Sell", -ER25, 0)), IF($EG$2="Buy", ES25, IF($EG$2="Sell", -ES25, 0)), IF($EH$2="Buy", ET25, IF($EH$2="Sell", -ET25, 0)), IF($EI$2="Buy", EU25, IF($EI$2="Sell", -EU25, 0))) -> -0.18908754 | EM25: 24 | EN25: =BT25+BU25+BV25+BW25+BX25+BY25+BZ25 -> -1.0032789 | EO25: =CN25+CO25+CP25-CI25-CA25-BT25-BO25 -> -0.81419133 | EP25: =CK25+CL25-CN25-CJ25-CD25-BU25-BS25 -> -0.17984098 | EQ25: =CM25-CO25-CH25-CE25-BW25-BR25 -> 0.47580074 | ER25: =CA25+CB25+CC25+CD25+CE25+CF25-BV25 -> 0.53862887 | ES25: =BO25+BP25+BQ25+BR25+BS25-BY25-CB25 -> -0.38331645 | ET25: =CG25+CH25+CI25+CJ25-CC25-BZ25-BP25 -> 0.034273096 | EU25: =-BQ25-BX25-CF25-CG25-CK25-CM25-CP25 -> 1.2365378 | EW25: ='SATORI (D)'!EW4 -> -0.85009273 | EX25: ='SATORI (D)'!EX4 -> EUR
A26: previous | B26: 24 | C26: =RTD("fxbluelabs.excelrtd", , "21422436","@bh,AUDUSD,h1,close,24") -> 0.67431 | D26: =RTD("fxbluelabs.excelrtd", , "21422436","@bh,AUDNZD,h1,close,24") -> 1.09714 | E26: =RTD("fxbluelabs.excelrtd", , "21422436","@bh,AUDJPY,h1,close,24") -> 98.298 | F26: =RTD("fxbluelabs.excelrtd", , "21422436","@bh,AUDCHF,h1,close,24") -> 0.57585 | G26: =RTD("fxbluelabs.excelrtd", , "21422436","@bh,AUDCAD,h1,close,24") -> 0.91692 | H26: =RTD("fxbluelabs.excelrtd", , "21422436","@bh,EURUSD,h1,close,24") -> 1.1125 | I26: =RTD("fxbluelabs.excelrtd", , "21422436","@bh,EURCAD,h1,close,24") -> 1.51278 | J26: =RTD("fxbluelabs.excelrtd", , "21422436","@bh,EURGBP,h1,close,24") -> 0.85279 | K26: =RTD("fxbluelabs.excelrtd", , "21422436","@bh,EURCHF,h1,close,24") -> 0.95007 | L26: =RTD("fxbluelabs.excelrtd", , "21422436","@bh,EURJPY,h1,close,24") -> 162.174 | M26: =RTD("fxbluelabs.excelrtd", , "21422436","@bh,EURAUD,h1,close,24") -> 1.64984 | N26: =RTD("fxbluelabs.excelrtd", , "21422436","@bh,EURNZD,h1,close,24") -> 1.81011 | O26: =RTD("fxbluelabs.excelrtd", , "21422436","@bh,GBPUSD,h1,close,24") -> 1.30451 | P26: =RTD("fxbluelabs.excelrtd", , "21422436","@bh,GBPAUD,h1,close,24") -> 1.93457 | Q26: =RTD("fxbluelabs.excelrtd", , "21422436","@bh,GBPNZD,h1,close,24") -> 2.1225 | R26: =RTD("fxbluelabs.excelrtd", , "21422436","@bh,GBPCAD,h1,close,24") -> 1.77386 | S26: =RTD("fxbluelabs.excelrtd", , "21422436","@bh,GBPCHF,h1,close,24") -> 1.11403 | T26: =RTD("fxbluelabs.excelrtd", , "21422436","@bh,GBPJPY,h1,close,24") -> 190.165 | U26: =RTD("fxbluelabs.excelrtd", , "21422436","@bh,NZDJPY,h1,close,24") -> 89.592 | V26: =RTD("fxbluelabs.excelrtd", , "21422436","@bh,NZDCHF,h1,close,24") -> 0.52485 | W26: =RTD("fxbluelabs.excelrtd", , "21422436","@bh,NZDUSD,h1,close,24") -> 0.61458 | X26: =RTD("fxbluelabs.excelrtd", , "21422436","@bh,NZDCAD,h1,close,24") -> 0.83571 | Y26: =RTD("fxbluelabs.excelrtd", , "21422436","@bh,CADJPY,h1,close,24") -> 107.203 | Z26: =RTD("fxbluelabs.excelrtd", , "21422436","@bh,CADCHF,h1,close,24") -> 0.62802 | AA26: =RTD("fxbluelabs.excelrtd", , "21422436","@bh,CHFJPY,h1,close,24") -> 170.688 | AB26: =RTD("fxbluelabs.excelrtd", , "21422436","@bh,USDCAD,h1,close,24") -> 1.35986 | AC26: =RTD("fxbluelabs.excelrtd", , "21422436","@bh,USDCHF,h1,close,24") -> 0.85401 | AD26: =RTD("fxbluelabs.excelrtd", , "21422436","@bh,USDJPY,h1,close,24") -> 145.778 | AH26: 25 | AI26: =IF(C26=0,0,(C26-C27)*100/C27) -> 0.06677945 | AJ26: =IF(D26=0,0,(D26-D27)*100/D27) -> -0.020959202 | AK26: =IF(E26=0,0,(E26-E27)*100/E27) -> -0.13004694 | AL26: =IF(F26=0,0,(F26-F27)*100/F27) -> -0.064211586 | AM26: =IF(G26=0,0,(G26-G27)*100/G27) -> 0.054560136 | AN26: =IF(H26=0,0,(H26-H27)*100/H27) -> 0.091769533 | AO26: =IF(I26=0,0,(I26-I27)*100/I27) -> 0.080711318 | AP26: =IF(J26=0,0,(J26-J27)*100/J27) -> -0.011724841 | ... BJ26: =IF(AD26=0,0,(AD26-AD27)*100/AD27) -> -0.19512128 | BN26: 25 | BO26: =AI26+SUM(AI27:AI61) -> 0.077202519 | BP26: =AJ26+SUM(AJ27:AJ61) -> -0.022776105 | BQ26: =AK26+SUM(AK27:AK61) -> -0.15530677 | BR26: =AL26+SUM(AL27:AL61) -> -0.057168206 | BS26: =AM26+SUM(AM27:AM61) -> 0.0011209899 | BT26: =AN26+SUM(AN27:AN61) -> 0.071144382 | BU26: =AO26+SUM(AO27:AO61) -> -0.0038910813 | BV26: =AP26+SUM(AP27:AP61) -> -0.069151049 | ... CP26: =BJ26+SUM(BJ27:BJ61) -> -0.2327322 | CU26: 25 | CV26: =BT26+BU26+BV26+BW26+BX26+BY26+BZ26 -> -0.26098439 | CW26: =CN26+CO26+CP26-CI26-CA26-BT26-BO26 -> -0.83074895 | CX26: =CK26+CL26-CN26-CJ26-CD26-BU26-BS26 -> -0.23265986 | CY26: =CM26-CO26-CH26-CE26-BW26-BR26 -> 0.17149038 | CZ26: =CA26+CB26+CC26+CD26+CE26+CF26-BV26 -> 0.27285334 | DA26: =BO26+BP26+BQ26+BR26+BS26-BY26-CB26 -> -0.21147739 | DB26: =CG26+CH26+CI26+CJ26-CC26-BZ26-BP26 -> -0.0042689266 | DC26: =-BQ26-BX26-CF26-CG26-CK26-CM26-CP26 -> 1.0370317 | DF26: 25 | DG26: =CN26 -> -0.074224199 | DH26: =BU26 -> -0.0038910813 | DI26: =CO26 -> -0.13212942 | DJ26: =BW26 -> -0.061926859 | DK26: =-(CA26) -> -0.13744351 | DL26: =BV26 -> -0.069151049 | DM26: =-(BO26) -> -0.077202519 | DN26: =BY26 -> -0.0054450435 | DO26: =-(CI26) -> -0.10587271 | DP26: =BZ26 -> -0.028699692 | DQ26: =CP26 -> -0.2327322 | DR26: =BX26 -> -0.16301505 | DS26: =-(BT26) -> -0.071144382 | DT26: =BT26 -> 0.071144382 | DX26: 25 | DY26: =SUM(IF($EB$2="Buy", EN26, IF($EB$2="Sell", -EN26, 0)), IF($EC$2="Buy", EO26, IF($EC$2="Sell", -EO26, 0)), IF($ED$2="Buy", EP26, IF($ED$2="Sell", -EP26, 0)), IF($EE$2="Buy", EQ26, IF($EE$2="Sell", -EQ26, 0)), IF($EF$2="Buy", ER26, IF($EF$2="Sell", -ER26, 0)), IF($EG$2="Buy", ES26, IF($EG$2="Sell", -ES26, 0)), IF($EH$2="Buy", ET26, IF($EH$2="Sell", -ET26, 0)), IF($EI$2="Buy", EU26, IF($EI$2="Sell", -EU26, 0))) -> 0.56976455 | EM26: 25 | EN26: =BT26+BU26+BV26+BW26+BX26+BY26+BZ26 -> -0.26098439 | EO26: =CN26+CO26+CP26-CI26-CA26-BT26-BO26 -> -0.83074895 | EP26: =CK26+CL26-CN26-CJ26-CD26-BU26-BS26 -> -0.23265986 | EQ26: =CM26-CO26-CH26-CE26-BW26-BR26 -> 0.17149038 | ER26: =CA26+CB26+CC26+CD26+CE26+CF26-BV26 -> 0.27285334 | ES26: =BO26+BP26+BQ26+BR26+BS26-BY26-CB26 -> -0.21147739 | ET26: =CG26+CH26+CI26+CJ26-CC26-BZ26-BP26 -> -0.0042689266 | EU26: =-BQ26-BX26-CF26-CG26-CK26-CM26-CP26 -> 1.0370317 | EW26: ='SATORI (D)'!EW5 -> -5.0306957 | EX26: ='SATORI (D)'!EX5 -> NZD
A27: previous | B27: 25 | C27: =RTD("fxbluelabs.excelrtd", , "21422436","@bh,AUDUSD,h1,close,25") -> 0.67386 | D27: =RTD("fxbluelabs.excelrtd", , "21422436","@bh,AUDNZD,h1,close,25") -> 1.09737 | E27: =RTD("fxbluelabs.excelrtd", , "21422436","@bh,AUDJPY,h1,close,25") -> 98.426 | F27: =RTD("fxbluelabs.excelrtd", , "21422436","@bh,AUDCHF,h1,close,25") -> 0.57622 | G27: =RTD("fxbluelabs.excelrtd", , "21422436","@bh,AUDCAD,h1,close,25") -> 0.91642 | H27: =RTD("fxbluelabs.excelrtd", , "21422436","@bh,EURUSD,h1,close,25") -> 1.11148 | I27: =RTD("fxbluelabs.excelrtd", , "21422436","@bh,EURCAD,h1,close,25") -> 1.51156 | J27: =RTD("fxbluelabs.excelrtd", , "21422436","@bh,EURGBP,h1,close,25") -> 0.85289 | K27: =RTD("fxbluelabs.excelrtd", , "21422436","@bh,EURCHF,h1,close,25") -> 0.95042 | L27: =RTD("fxbluelabs.excelrtd", , "21422436","@bh,EURJPY,h1,close,25") -> 162.343 | M27: =RTD("fxbluelabs.excelrtd", , "21422436","@bh,EURAUD,h1,close,25") -> 1.64941 | N27: =RTD("fxbluelabs.excelrtd", , "21422436","@bh,EURNZD,h1,close,25") -> 1.81002 | O27: =RTD("fxbluelabs.excelrtd", , "21422436","@bh,GBPUSD,h1,close,25") -> 1.30318 | P27: =RTD("fxbluelabs.excelrtd", , "21422436","@bh,GBPAUD,h1,close,25") -> 1.93389 | Q27: =RTD("fxbluelabs.excelrtd", , "21422436","@bh,GBPNZD,h1,close,25") -> 2.12219 | R27: =RTD("fxbluelabs.excelrtd", , "21422436","@bh,GBPCAD,h1,close,25") -> 1.77227 | S27: =RTD("fxbluelabs.excelrtd", , "21422436","@bh,GBPCHF,h1,close,25") -> 1.11436 | T27: =RTD("fxbluelabs.excelrtd", , "21422436","@bh,GBPJPY,h1,close,25") -> 190.346 | U27: =RTD("fxbluelabs.excelrtd", , "21422436","@bh,NZDJPY,h1,close,25") -> 89.691 | V27: =RTD("fxbluelabs.excelrtd", , "21422436","@bh,NZDCHF,h1,close,25") -> 0.52508 | W27: =RTD("fxbluelabs.excelrtd", , "21422436","@bh,NZDUSD,h1,close,25") -> 0.61405 | X27: =RTD("fxbluelabs.excelrtd", , "21422436","@bh,NZDCAD,h1,close,25") -> 0.83508 | Y27: =RTD("fxbluelabs.excelrtd", , "21422436","@bh,CADJPY,h1,close,25") -> 107.402 | Z27: =RTD("fxbluelabs.excelrtd", , "21422436","@bh,CADCHF,h1,close,25") -> 0.62877 | AA27: =RTD("fxbluelabs.excelrtd", , "21422436","@bh,CHFJPY,h1,close,25") -> 170.811 | AB27: =RTD("fxbluelabs.excelrtd", , "21422436","@bh,USDCAD,h1,close,25") -> 1.36001 | AC27: =RTD("fxbluelabs.excelrtd", , "21422436","@bh,USDCHF,h1,close,25") -> 0.85511 | AD27: =RTD("fxbluelabs.excelrtd", , "21422436","@bh,USDJPY,h1,close,25") -> 146.063 | AH27: 26 | AI27: =IF(C27=0,0,(C27-C28)*100/C28) -> -0.053395034 | AJ27: =IF(D27=0,0,(D27-D28)*100/D28) -> -0.024598229 | AK27: =IF(E27=0,0,(E27-E28)*100/E28) -> -0.12886467 | AL27: =IF(F27=0,0,(F27-F28)*100/F28) -> -0.097090745 | AM27: =IF(G27=0,0,(G27-G28)*100/G28) -> -0.055620385 | AN27: =IF(H27=0,0,(H27-H28)*100/H28) -> -0.090787333 | AO27: =IF(I27=0,0,(I27-I28)*100/I28) -> -0.091873492 | AP27: =IF(J27=0,0,(J27-J28)*100/J28) -> -0.019928258 | ... BJ27: =IF(AD27=0,0,(AD27-AD28)*100/AD28) -> -0.076620489 | BN27: 26 | BO27: =AI27+SUM(AI28:AI62) -> 0.010423069 | BP27: =AJ27+SUM(AJ28:AJ62) -> -0.0018169023 | BQ27: =AK27+SUM(AK28:AK62) -> -0.025259833 | BR27: =AL27+SUM(AL28:AL62) -> 0.0070433796 | BS27: =AM27+SUM(AM28:AM62) -> -0.053439146 | BT27: =AN27+SUM(AN28:AN62) -> -0.02062515 | BU27: =AO27+SUM(AO28:AO62) -> -0.084602399 | BV27: =AP27+SUM(AP28:AP62) -> -0.057426208 | ... CP27: =BJ27+SUM(BJ28:BJ62) -> -0.037610922 | CU27: 26 | CV27: =BT27+BU27+BV27+BW27+BX27+BY27+BZ27 -> -0.31185625 | CW27: =CN27+CO27+CP27-CI27-CA27-BT27-BO27 -> -0.1490407 | CX27: =CK27+CL27-CN27-CJ27-CD27-BU27-BS27 -> 0.36130528 | CY27: =CM27-CO27-CH27-CE27-BW27-BR27 -> -0.059592299 | CZ27: =CA27+CB27+CC27+CD27+CE27+CF27-BV27 -> 0.14428857 | DA27: =BO27+BP27+BQ27+BR27+BS27-BY27-CB27 -> -0.056367034 | DB27: =CG27+CH27+CI27+CJ27-CC27-BZ27-BP27 -> -0.013220503 | DC27: =-BQ27-BX27-CF27-CG27-CK27-CM27-CP27 -> 0.14499933 | DF27: 26 | DG27: =CN27 -> -0.063194868 | DH27: =BU27 -> -0.084602399 | DI27: =CO27 -> -0.0034910012 | DJ27: =BW27 -> -0.025101035 | DK27: =-(CA27) -> -0.035385466 | DL27: =BV27 -> -0.057426208 | DM27: =-(BO27) -> -0.010423069 | DN27: =BY27 -> -0.031514972 | DO27: =-(CI27) -> -0.019560522 | DP27: =BZ27 -> -0.033672013 | DQ27: =CP27 -> -0.037610922 | DR27: =BX27 -> -0.058914473 | DS27: =-(BT27) -> 0.02062515 | DT27: =BT27 -> -0.02062515 | DX27: 26 | DY27: =SUM(IF($EB$2="Buy", EN27, IF($EB$2="Sell", -EN27, 0)), IF($EC$2="Buy", EO27, IF($EC$2="Sell", -EO27, 0)), IF($ED$2="Buy", EP27, IF($ED$2="Sell", -EP27, 0)), IF($EE$2="Buy", EQ27, IF($EE$2="Sell", -EQ27, 0)), IF($EF$2="Buy", ER27, IF($EF$2="Sell", -ER27, 0)), IF($EG$2="Buy", ES27, IF($EG$2="Sell", -ES27, 0)), IF($EH$2="Buy", ET27, IF($EH$2="Sell", -ET27, 0)), IF($EI$2="Buy", EU27, IF($EI$2="Sell", -EU27, 0))) -> -0.16281555 | EM27: 26 | EN27: =BT27+BU27+BV27+BW27+BX27+BY27+BZ27 -> -0.31185625 | EO27: =CN27+CO27+CP27-CI27-CA27-BT27-BO27 -> -0.1490407 | EP27: =CK27+CL27-CN27-CJ27-CD27-BU27-BS27 -> 0.36130528 | EQ27: =CM27-CO27-CH27-CE27-BW27-BR27 -> -0.059592299 | ER27: =CA27+CB27+CC27+CD27+CE27+CF27-BV27 -> 0.14428857 | ES27: =BO27+BP27+BQ27+BR27+BS27-BY27-CB27 -> -0.056367034 | ET27: =CG27+CH27+CI27+CJ27-CC27-BZ27-BP27 -> -0.013220503 | EU27: =-BQ27-BX27-CF27-CG27-CK27-CM27-CP27 -> 0.14499933 | EW27: ='SATORI (D)'!EW6 -> -9.8979396 | EX27: ='SATORI (D)'!EX6 -> GBP
A28: previous | B28: 26 | C28: =RTD("fxbluelabs.excelrtd", , "21422436","@bh,AUDUSD,h1,close,26") -> 0.67422 | D28: =RTD("fxbluelabs.excelrtd", , "21422436","@bh,AUDNZD,h1,close,26") -> 1.09764 | E28: =RTD("fxbluelabs.excelrtd", , "21422436","@bh,AUDJPY,h1,close,26") -> 98.553 | F28: =RTD("fxbluelabs.excelrtd", , "21422436","@bh,AUDCHF,h1,close,26") -> 0.57678 | G28: =RTD("fxbluelabs.excelrtd", , "21422436","@bh,AUDCAD,h1,close,26") -> 0.91693 | H28: =RTD("fxbluelabs.excelrtd", , "21422436","@bh,EURUSD,h1,close,26") -> 1.11249 | I28: =RTD("fxbluelabs.excelrtd", , "21422436","@bh,EURCAD,h1,close,26") -> 1.51295 | J28: =RTD("fxbluelabs.excelrtd", , "21422436","@bh,EURGBP,h1,close,26") -> 0.85306 | K28: =RTD("fxbluelabs.excelrtd", , "21422436","@bh,EURCHF,h1,close,26") -> 0.95169 | L28: =RTD("fxbluelabs.excelrtd", , "21422436","@bh,EURJPY,h1,close,26") -> 162.617 | M28: =RTD("fxbluelabs.excelrtd", , "21422436","@bh,EURAUD,h1,close,26") -> 1.65 | N28: =RTD("fxbluelabs.excelrtd", , "21422436","@bh,EURNZD,h1,close,26") -> 1.81115 | O28: =RTD("fxbluelabs.excelrtd", , "21422436","@bh,GBPUSD,h1,close,26") -> 1.3041 | P28: =RTD("fxbluelabs.excelrtd", , "21422436","@bh,GBPAUD,h1,close,26") -> 1.93418 | Q28: =RTD("fxbluelabs.excelrtd", , "21422436","@bh,GBPNZD,h1,close,26") -> 2.12308 | R28: =RTD("fxbluelabs.excelrtd", , "21422436","@bh,GBPCAD,h1,close,26") -> 1.77352 | S28: =RTD("fxbluelabs.excelrtd", , "21422436","@bh,GBPCHF,h1,close,26") -> 1.11562 | T28: =RTD("fxbluelabs.excelrtd", , "21422436","@bh,GBPJPY,h1,close,26") -> 190.625 | U28: =RTD("fxbluelabs.excelrtd", , "21422436","@bh,NZDJPY,h1,close,26") -> 89.785 | V28: =RTD("fxbluelabs.excelrtd", , "21422436","@bh,NZDCHF,h1,close,26") -> 0.52546 | W28: =RTD("fxbluelabs.excelrtd", , "21422436","@bh,NZDUSD,h1,close,26") -> 0.61423 | X28: =RTD("fxbluelabs.excelrtd", , "21422436","@bh,NZDCAD,h1,close,26") -> 0.83532 | Y28: =RTD("fxbluelabs.excelrtd", , "21422436","@bh,CADJPY,h1,close,26") -> 107.483 | Z28: =RTD("fxbluelabs.excelrtd", , "21422436","@bh,CADCHF,h1,close,26") -> 0.62904 | AA28: =RTD("fxbluelabs.excelrtd", , "21422436","@bh,CHFJPY,h1,close,26") -> 170.867 | AB28: =RTD("fxbluelabs.excelrtd", , "21422436","@bh,USDCAD,h1,close,26") -> 1.36001 | AC28: =RTD("fxbluelabs.excelrtd", , "21422436","@bh,USDCHF,h1,close,26") -> 0.85548 | AD28: =RTD("fxbluelabs.excelrtd", , "21422436","@bh,USDJPY,h1,close,26") -> 146.175 | AH28: 27 | AI28: =IF(C28=0,0,(C28-C29)*100/C29) -> 0.063818104 | AJ28: =IF(D28=0,0,(D28-D29)*100/D29) -> 0.022781327 | AK28: =IF(E28=0,0,(E28-E29)*100/E29) -> 0.10360484 | AL28: =IF(F28=0,0,(F28-F29)*100/F29) -> 0.10413412 | AM28: =IF(G28=0,0,(G28-G29)*100/G29) -> 0.0021812392 | AN28: =IF(H28=0,0,(H28-H29)*100/H29) -> 0.070162183 | AO28: =IF(I28=0,0,(I28-I29)*100/I29) -> 0.0072710928 | AP28: =IF(J28=0,0,(J28-J29)*100/J29) -> -0.037497949 | ... BJ28: =IF(AD28=0,0,(AD28-AD29)*100/AD29) -> 0.039009568 | BN28: 27 | BO28: =AI28+SUM(AI29:AI63) -> 0.063818104 | BP28: =AJ28+SUM(AJ29:AJ63) -> 0.022781327 | BQ28: =AK28+SUM(AK29:AK63) -> 0.10360484 | BR28: =AL28+SUM(AL29:AL63) -> 0.10413412 | BS28: =AM28+SUM(AM29:AM63) -> 0.0021812392 | BT28: =AN28+SUM(AN29:AN63) -> 0.070162183 | BU28: =AO28+SUM(AO29:AO63) -> 0.0072710928 | BV28: =AP28+SUM(AP29:AP63) -> -0.037497949 | ... CP28: =BJ28+SUM(BJ29:BJ63) -> 0.039009568 | CU28: 27 | CV28: =BT28+BU28+BV28+BW28+BX28+BY28+BZ28 -> 0.29082259 | CW28: =CN28+CO28+CP28-CI28-CA28-BT28-BO28 -> -0.27320372 | CX28: =CK28+CL28-CN28-CJ28-CD28-BU28-BS28 -> 0.2328819 | CY28: =CM28-CO28-CH28-CE28-BW28-BR28 -> -0.48586567 | CZ28: =CA28+CB28+CC28+CD28+CE28+CF28-BV28 -> 0.58160435 | DA28: =BO28+BP28+BQ28+BR28+BS28-BY28-CB28 -> 0.25245102 | DB28: =CG28+CH28+CI28+CJ28-CC28-BZ28-BP28 -> 0.092918365 | DC28: =-BQ28-BX28-CF28-CG28-CK28-CM28-CP28 -> -0.58816988 | DF28: 27 | DG28: =CN28 -> -0.063194868 | DH28: =BU28 -> 0.0072710928 | DI28: =CO28 -> 0.039759572 | DJ28: =BW28 -> 0.10834578 | DK28: =-(CA28) -> -0.1059322 | DL28: =BV28 -> -0.037497949 | DM28: =-(BO28) -> -0.063818104 | DN28: =BY28 -> 0.0042426042 | DO28: =-(CI28) -> -0.048865506 | DP28: =BZ28 -> 0.028719286 | DQ28: =CP28 -> 0.039009568 | DR28: =BX28 -> 0.1095796 | DS28: =-(BT28) -> -0.070162183 | DT28: =BT28 -> 0.070162183 | DX28: 27 | DY28: =SUM(IF($EB$2="Buy", EN28, IF($EB$2="Sell", -EN28, 0)), IF($EC$2="Buy", EO28, IF($EC$2="Sell", -EO28, 0)), IF($ED$2="Buy", EP28, IF($ED$2="Sell", -EP28, 0)), IF($EE$2="Buy", EQ28, IF($EE$2="Sell", -EQ28, 0)), IF($EF$2="Buy", ER28, IF($EF$2="Sell", -ER28, 0)), IF($EG$2="Buy", ES28, IF($EG$2="Sell", -ES28, 0)), IF($EH$2="Buy", ET28, IF($EH$2="Sell", -ET28, 0)), IF($EI$2="Buy", EU28, IF($EI$2="Sell", -EU28, 0))) -> 0.56402632 | EM28: 27 | EN28: =BT28+BU28+BV28+BW28+BX28+BY28+BZ28 -> 0.29082259 | EO28: =CN28+CO28+CP28-CI28-CA28-BT28-BO28 -> -0.27320372 | EP28: =CK28+CL28-CN28-CJ28-CD28-BU28-BS28 -> 0.2328819 | EQ28: =CM28-CO28-CH28-CE28-BW28-BR28 -> -0.48586567 | ER28: =CA28+CB28+CC28+CD28+CE28+CF28-BV28 -> 0.58160435 | ES28: =BO28+BP28+BQ28+BR28+BS28-BY28-CB28 -> 0.25245102 | ET28: =CG28+CH28+CI28+CJ28-CC28-BZ28-BP28 -> 0.092918365 | EU28: =-BQ28-BX28-CF28-CG28-CK28-CM28-CP28 -> -0.58816988 | EW28: ='SATORI (D)'!EW7 -> -13.158117 | EX28: ='SATORI (D)'!EX7 -> CAD
A29: previous | B29: 27 | C29: =RTD("fxbluelabs.excelrtd", , "21422436","@bh,AUDUSD,h1,close,27") -> 0.67379 | D29: =RTD("fxbluelabs.excelrtd", , "21422436","@bh,AUDNZD,h1,close,27") -> 1.09739 | E29: =RTD("fxbluelabs.excelrtd", , "21422436","@bh,AUDJPY,h1,close,27") -> 98.451 | F29: =RTD("fxbluelabs.excelrtd", , "21422436","@bh,AUDCHF,h1,close,27") -> 0.57618 | G29: =RTD("fxbluelabs.excelrtd", , "21422436","@bh,AUDCAD,h1,close,27") -> 0.91691 | H29: =RTD("fxbluelabs.excelrtd", , "21422436","@bh,EURUSD,h1,close,27") -> 1.11171 | I29: =RTD("fxbluelabs.excelrtd", , "21422436","@bh,EURCAD,h1,close,27") -> 1.51284 | J29: =RTD("fxbluelabs.excelrtd", , "21422436","@bh,EURGBP,h1,close,27") -> 0.85338 | K29: =RTD("fxbluelabs.excelrtd", , "21422436","@bh,EURCHF,h1,close,27") -> 0.95066 | L29: =RTD("fxbluelabs.excelrtd", , "21422436","@bh,EURJPY,h1,close,27") -> 162.439 | M29: =RTD("fxbluelabs.excelrtd", , "21422436","@bh,EURAUD,h1,close,27") -> 1.64993 | N29: =RTD("fxbluelabs.excelrtd", , "21422436","@bh,EURNZD,h1,close,27") -> 1.81063 | O29: =RTD("fxbluelabs.excelrtd", , "21422436","@bh,GBPUSD,h1,close,27") -> 1.30272 | P29: =RTD("fxbluelabs.excelrtd", , "21422436","@bh,GBPAUD,h1,close,27") -> 1.93341 | Q29: =RTD("fxbluelabs.excelrtd", , "21422436","@bh,GBPNZD,h1,close,27") -> 2.12171 | R29: =RTD("fxbluelabs.excelrtd", , "21422436","@bh,GBPCAD,h1,close,27") -> 1.77277 | S29: =RTD("fxbluelabs.excelrtd", , "21422436","@bh,GBPCHF,h1,close,27") -> 1.114 | T29: =RTD("fxbluelabs.excelrtd", , "21422436","@bh,GBPJPY,h1,close,27") -> 190.347 | U29: =RTD("fxbluelabs.excelrtd", , "21422436","@bh,NZDJPY,h1,close,27") -> 89.706 | V29: =RTD("fxbluelabs.excelrtd", , "21422436","@bh,NZDCHF,h1,close,27") -> 0.525 | W29: =RTD("fxbluelabs.excelrtd", , "21422436","@bh,NZDUSD,h1,close,27") -> 0.61393 | X29: =RTD("fxbluelabs.excelrtd", , "21422436","@bh,NZDCAD,h1,close,27") -> 0.83545 | Y29: =RTD("fxbluelabs.excelrtd", , "21422436","@bh,CADJPY,h1,close,27") -> 107.373 | Z29: =RTD("fxbluelabs.excelrtd", , "21422436","@bh,CADCHF,h1,close,27") -> 0.62839 | AA29: =RTD("fxbluelabs.excelrtd", , "21422436","@bh,CHFJPY,h1,close,27") -> 170.868 | AB29: =RTD("fxbluelabs.excelrtd", , "21422436","@bh,USDCAD,h1,close,27") -> 1.36087 | AC29: =RTD("fxbluelabs.excelrtd", , "21422436","@bh,USDCHF,h1,close,27") -> 0.85514 | AD29: =RTD("fxbluelabs.excelrtd", , "21422436","@bh,USDJPY,h1,close,27") -> 146.118 | AH29: 28 | AI29: =0 -> 0 | AJ29: =0 -> 0 | AK29: =0 -> 0 | AL29: =0 -> 0 | AM29: =0 -> 0 | AN29: =0 -> 0 | AO29: =0 -> 0 | AP29: =0 -> 0 | ... BJ29: =0 -> 0 | BN29: 28 | BO29: =AI29+SUM(AI30:AI130) -> 0 | BP29: =AJ29+SUM(AJ30:AJ130) -> 0 | BQ29: =AK29+SUM(AK30:AK130) -> 0 | BR29: =AL29+SUM(AL30:AL130) -> 0 | BS29: =AM29+SUM(AM30:AM130) -> 0 | BT29: =AN29+SUM(AN30:AN130) -> 0 | BU29: =AO29+SUM(AO30:AO130) -> 0 | BV29: =AP29+SUM(AP30:AP130) -> 0 | ... CP29: =BJ29+SUM(BJ30:BJ130) -> 0 | CU29: 28 | CV29: =BT29+BU29+BV29+BW29+BX29+BY29+BZ29 -> 0 | CW29: =CN29+CO29+CP29-CI29-CA29-BT29-BO29 -> 0 | CX29: =CK29+CL29-CN29-CJ29-CD29-BU29-BS29 -> 0 | CY29: =CM29-CO29-CH29-CE29-BW29-BR29 -> 0 | CZ29: =CA29+CB29+CC29+CD29+CE29+CF29-BV29 -> 0 | DA29: =BO29+BP29+BQ29+BR29+BS29-BY29-CB29 -> 0 | DB29: =CG29+CH29+CI29+CJ29-CC29-BZ29-BP29 -> 0 | DC29: =-BQ29-BX29-CF29-CG29-CK29-CM29-CP29 -> 0 | DF29: 28 | DG29: =CN29 -> 0 | DH29: =BU29 -> 0 | DI29: =CO29 -> 0 | DJ29: =BW29 -> 0 | DK29: =-(CA29) -> 0 | DL29: =BV29 -> 0 | DM29: =-(BO29) -> 0 | DN29: =BY29 -> 0 | DO29: =-(CI29) -> 0 | DP29: =BZ29 -> 0 | DQ29: =CP29 -> 0 | DR29: =BX29 -> 0 | DS29: =-(BT29) -> 0 | DT29: =BT29 -> 0 | DX29: 28 | DY29: =SUM(IF($EB$2="Buy", EN29, IF($EB$2="Sell", -EN29, 0)), IF($EC$2="Buy", EO29, IF($EC$2="Sell", -EO29, 0)), IF($ED$2="Buy", EP29, IF($ED$2="Sell", -EP29, 0)), IF($EE$2="Buy", EQ29, IF($EE$2="Sell", -EQ29, 0)), IF($EF$2="Buy", ER29, IF($EF$2="Sell", -ER29, 0)), IF($EG$2="Buy", ES29, IF($EG$2="Sell", -ES29, 0)), IF($EH$2="Buy", ET29, IF($EH$2="Sell", -ET29, 0)), IF($EI$2="Buy", EU29, IF($EI$2="Sell", -EU29, 0))) -> 0 | EM29: 28 | EN29: =BT29+BU29+BV29+BW29+BX29+BY29+BZ29 -> 0 | EO29: =CN29+CO29+CP29-CI29-CA29-BT29-BO29 -> 0 | EP29: =CK29+CL29-CN29-CJ29-CD29-BU29-BS29 -> 0 | EQ29: =CM29-CO29-CH29-CE29-BW29-BR29 -> 0 | ER29: =CA29+CB29+CC29+CD29+CE29+CF29-BV29 -> 0 | ES29: =BO29+BP29+BQ29+BR29+BS29-BY29-CB29 -> 0 | ET29: =CG29+CH29+CI29+CJ29-CC29-BZ29-BP29 -> 0 | EU29: =-BQ29-BX29-CF29-CG29-CK29-CM29-CP29 -> 0 | EW29: ='SATORI (D)'!EW8 -> -17.980553 | EX29: ='SATORI (D)'!EX8 -> USD
C30: 0 | D30: 0 | E30: 0 | F30: 0 | G30: 0 | H30: 0 | I30: 0 | J30: 0 | K30: 0 | L30: 0 | M30: 0 | N30: 0 | O30: 0 | P30: 0 | Q30: 0 | R30: 0 | S30: 0 | T30: 0 | U30: 0 | V30: 0 | W30: 0 | X30: 0 | Y30: 0 | Z30: 0 | AA30: 0 | AB30: 0 | AC30: 0 | AD30: 0 | AH30: 29 | AI30: =IF(C30=0,0,(C30-C31)*100/C31) -> 0 | AJ30: =IF(D30=0,0,(D30-D31)*100/D31) -> 0 | AK30: =IF(E30=0,0,(E30-E31)*100/E31) -> 0 | AL30: =IF(F30=0,0,(F30-F31)*100/F31) -> 0 | AM30: =IF(G30=0,0,(G30-G31)*100/G31) -> 0 | AN30: =IF(H30=0,0,(H30-H31)*100/H31) -> 0 | AO30: =IF(I30=0,0,(I30-I31)*100/I31) -> 0 | AP30: =IF(J30=0,0,(J30-J31)*100/J31) -> 0 | ... BJ30: =IF(AD30=0,0,(AD30-AD31)*100/AD31) -> 0 | BN30: 29 | BO30: =AI30+SUM(AI31:AI131) -> 0 | BP30: =AJ30+SUM(AJ31:AJ131) -> 0 | BQ30: =AK30+SUM(AK31:AK131) -> 0 | BR30: =AL30+SUM(AL31:AL131) -> 0 | BS30: =AM30+SUM(AM31:AM131) -> 0 | BT30: =AN30+SUM(AN31:AN131) -> 0 | BU30: =AO30+SUM(AO31:AO131) -> 0 | BV30: =AP30+SUM(AP31:AP131) -> 0 | ... CP30: =BJ30+SUM(BJ31:BJ131) -> 0 | CU30: 29 | CV30: =BT30+BU30+BV30+BW30+BX30+BY30+BZ30 -> 0 | CW30: =CN30+CO30+CP30-CI30-CA30-BT30-BO30 -> 0 | CX30: =CK30+CL30-CN30-CJ30-CD30-BU30-BS30 -> 0 | CY30: =CM30-CO30-CH30-CE30-BW30-BR30 -> 0 | CZ30: =CA30+CB30+CC30+CD30+CE30+CF30-BV30 -> 0 | DA30: =BO30+BP30+BQ30+BR30+BS30-BY30-CB30 -> 0 | DB30: =CG30+CH30+CI30+CJ30-CC30-BZ30-BP30 -> 0 | DC30: =-BQ30-BX30-CF30-CG30-CK30-CM30-CP30 -> 0 | DF30: 29 | DG30: =CN30 -> 0 | DH30: =BU30 -> 0 | DI30: =CO30 -> 0 | DJ30: =BW30 -> 0 | DK30: =-(CA30) -> 0 | DL30: =BV30 -> 0 | DM30: =-(BO30) -> 0 | DN30: =BY30 -> 0 | DO30: =-(CI30) -> 0 | DP30: =BZ30 -> 0 | DQ30: =CP30 -> 0 | DR30: =BX30 -> 0 | DS30: =-(BT30) -> 0 | DT30: =BT30 -> 0 | DX30: 29 | DY30: =SUM(IF($EB$2="Buy", EN30, IF($EB$2="Sell", -EN30, 0)), IF($EC$2="Buy", EO30, IF($EC$2="Sell", -EO30, 0)), IF($ED$2="Buy", EP30, IF($ED$2="Sell", -EP30, 0)), IF($EE$2="Buy", EQ30, IF($EE$2="Sell", -EQ30, 0)), IF($EF$2="Buy", ER30, IF($EF$2="Sell", -ER30, 0)), IF($EG$2="Buy", ES30, IF($EG$2="Sell", -ES30, 0)), IF($EH$2="Buy", ET30, IF($EH$2="Sell", -ET30, 0)), IF($EI$2="Buy", EU30, IF($EI$2="Sell", -EU30, 0))) -> 0 | EM30: 29 | EN30: =BT30+BU30+BV30+BW30+BX30+BY30+BZ30 -> 0 | EO30: =CN30+CO30+CP30-CI30-CA30-BT30-BO30 -> 0 | EP30: =CK30+CL30-CN30-CJ30-CD30-BU30-BS30 -> 0 | EQ30: =CM30-CO30-CH30-CE30-BW30-BR30 -> 0 | ER30: =CA30+CB30+CC30+CD30+CE30+CF30-BV30 -> 0 | ES30: =BO30+BP30+BQ30+BR30+BS30-BY30-CB30 -> 0 | ET30: =CG30+CH30+CI30+CJ30-CC30-BZ30-BP30 -> 0 | EU30: =-BQ30-BX30-CF30-CG30-CK30-CM30-CP30 -> 0 | EW30: ='SATORI (D)'!EW9 -> -18.577041 | EX30: ='SATORI (D)'!EX9 -> AUD
C31: 0 | D31: 0 | E31: 0 | F31: 0 | G31: 0 | H31: 0 | I31: 0 | J31: 0 | K31: 0 | L31: 0 | M31: 0 | N31: 0 | O31: 0 | P31: 0 | Q31: 0 | R31: 0 | S31: 0 | T31: 0 | U31: 0 | V31: 0 | W31: 0 | X31: 0 | Y31: 0 | Z31: 0 | AA31: 0 | AB31: 0 | AC31: 0 | AD31: 0 | AH31: 30 | AI31: =IF(C31=0,0,(C31-C32)*100/C32) -> 0 | AJ31: =IF(D31=0,0,(D31-D32)*100/D32) -> 0 | AK31: =IF(E31=0,0,(E31-E32)*100/E32) -> 0 | AL31: =IF(F31=0,0,(F31-F32)*100/F32) -> 0 | AM31: =IF(G31=0,0,(G31-G32)*100/G32) -> 0 | AN31: =IF(H31=0,0,(H31-H32)*100/H32) -> 0 | AO31: =IF(I31=0,0,(I31-I32)*100/I32) -> 0 | AP31: =IF(J31=0,0,(J31-J32)*100/J32) -> 0 | ... BJ31: =IF(AD31=0,0,(AD31-AD32)*100/AD32) -> 0 | BN31: 30 | BO31: =AI31+SUM(AI32:AI132) -> 0 | BP31: =AJ31+SUM(AJ32:AJ132) -> 0 | BQ31: =AK31+SUM(AK32:AK132) -> 0 | BR31: =AL31+SUM(AL32:AL132) -> 0 | BS31: =AM31+SUM(AM32:AM132) -> 0 | BT31: =AN31+SUM(AN32:AN132) -> 0 | BU31: =AO31+SUM(AO32:AO132) -> 0 | BV31: =AP31+SUM(AP32:AP132) -> 0 | ... CP31: =BJ31+SUM(BJ32:BJ132) -> 0 | CU31: 30 | CV31: =BT31+BU31+BV31+BW31+BX31+BY31+BZ31 -> 0 | CW31: =CN31+CO31+CP31-CI31-CA31-BT31-BO31 -> 0 | CX31: =CK31+CL31-CN31-CJ31-CD31-BU31-BS31 -> 0 | CY31: =CM31-CO31-CH31-CE31-BW31-BR31 -> 0 | CZ31: =CA31+CB31+CC31+CD31+CE31+CF31-BV31 -> 0 | DA31: =BO31+BP31+BQ31+BR31+BS31-BY31-CB31 -> 0 | DB31: =CG31+CH31+CI31+CJ31-CC31-BZ31-BP31 -> 0 | DC31: =-BQ31-BX31-CF31-CG31-CK31-CM31-CP31 -> 0 | DF31: 30 | DG31: =CN31 -> 0 | DH31: =BU31 -> 0 | DI31: =CO31 -> 0 | DJ31: =BW31 -> 0 | DK31: =-(CA31) -> 0 | DL31: =BV31 -> 0 | DM31: =-(BO31) -> 0 | DN31: =BY31 -> 0 | DO31: =-(CI31) -> 0 | DP31: =BZ31 -> 0 | DQ31: =CP31 -> 0 | DR31: =BX31 -> 0 | DS31: =-(BT31) -> 0 | DT31: =BT31 -> 0 | DX31: 30 | DY31: =SUM(IF($EB$2="Buy", EN31, IF($EB$2="Sell", -EN31, 0)), IF($EC$2="Buy", EO31, IF($EC$2="Sell", -EO31, 0)), IF($ED$2="Buy", EP31, IF($ED$2="Sell", -EP31, 0)), IF($EE$2="Buy", EQ31, IF($EE$2="Sell", -EQ31, 0)), IF($EF$2="Buy", ER31, IF($EF$2="Sell", -ER31, 0)), IF($EG$2="Buy", ES31, IF($EG$2="Sell", -ES31, 0)), IF($EH$2="Buy", ET31, IF($EH$2="Sell", -ET31, 0)), IF($EI$2="Buy", EU31, IF($EI$2="Sell", -EU31, 0))) -> 0 | EM31: 30 | EN31: =BT31+BU31+BV31+BW31+BX31+BY31+BZ31 -> 0 | EO31: =CN31+CO31+CP31-CI31-CA31-BT31-BO31 -> 0 | EP31: =CK31+CL31-CN31-CJ31-CD31-BU31-BS31 -> 0 | EQ31: =CM31-CO31-CH31-CE31-BW31-BR31 -> 0 | ER31: =CA31+CB31+CC31+CD31+CE31+CF31-BV31 -> 0 | ES31: =BO31+BP31+BQ31+BR31+BS31-BY31-CB31 -> 0 | ET31: =CG31+CH31+CI31+CJ31-CC31-BZ31-BP31 -> 0 | EU31: =-BQ31-BX31-CF31-CG31-CK31-CM31-CP31 -> 0
C32: 0 | D32: 0 | E32: 0 | F32: 0 | G32: 0 | H32: 0 | I32: 0 | J32: 0 | K32: 0 | L32: 0 | M32: 0 | N32: 0 | O32: 0 | P32: 0 | Q32: 0 | R32: 0 | S32: 0 | T32: 0 | U32: 0 | V32: 0 | W32: 0 | X32: 0 | Y32: 0 | Z32: 0 | AA32: 0 | AB32: 0 | AC32: 0 | AD32: 0 | AH32: 31 | AI32: =IF(C32=0,0,(C32-C33)*100/C33) -> 0 | AJ32: =IF(D32=0,0,(D32-D33)*100/D33) -> 0 | AK32: =IF(E32=0,0,(E32-E33)*100/E33) -> 0 | AL32: =IF(F32=0,0,(F32-F33)*100/F33) -> 0 | AM32: =IF(G32=0,0,(G32-G33)*100/G33) -> 0 | AN32: =IF(H32=0,0,(H32-H33)*100/H33) -> 0 | AO32: =IF(I32=0,0,(I32-I33)*100/I33) -> 0 | AP32: =IF(J32=0,0,(J32-J33)*100/J33) -> 0 | ... BJ32: =IF(AD32=0,0,(AD32-AD33)*100/AD33) -> 0 | BN32: 31 | BO32: =AI32+SUM(AI33:AI133) -> 0 | BP32: =AJ32+SUM(AJ33:AJ133) -> 0 | BQ32: =AK32+SUM(AK33:AK133) -> 0 | BR32: =AL32+SUM(AL33:AL133) -> 0 | BS32: =AM32+SUM(AM33:AM133) -> 0 | BT32: =AN32+SUM(AN33:AN133) -> 0 | BU32: =AO32+SUM(AO33:AO133) -> 0 | BV32: =AP32+SUM(AP33:AP133) -> 0 | ... CP32: =BJ32+SUM(BJ33:BJ133) -> 0 | CU32: 31 | CV32: =BT32+BU32+BV32+BW32+BX32+BY32+BZ32 -> 0 | CW32: =CN32+CO32+CP32-CI32-CA32-BT32-BO32 -> 0 | CX32: =CK32+CL32-CN32-CJ32-CD32-BU32-BS32 -> 0 | CY32: =CM32-CO32-CH32-CE32-BW32-BR32 -> 0 | CZ32: =CA32+CB32+CC32+CD32+CE32+CF32-BV32 -> 0 | DA32: =BO32+BP32+BQ32+BR32+BS32-BY32-CB32 -> 0 | DB32: =CG32+CH32+CI32+CJ32-CC32-BZ32-BP32 -> 0 | DC32: =-BQ32-BX32-CF32-CG32-CK32-CM32-CP32 -> 0 | DF32: 31 | DG32: =CN32 -> 0 | DH32: =BU32 -> 0 | DI32: =CO32 -> 0 | DJ32: =BW32 -> 0 | DK32: =-(CA32) -> 0 | DL32: =BV32 -> 0 | DM32: =-(BO32) -> 0 | DN32: =BY32 -> 0 | DO32: =-(CI32) -> 0 | DP32: =BZ32 -> 0 | DQ32: =CP32 -> 0 | DR32: =BX32 -> 0 | DS32: =-(BT32) -> 0 | DT32: =BT32 -> 0 | DX32: 31 | DY32: =SUM(IF($EB$2="Buy", EN32, IF($EB$2="Sell", -EN32, 0)), IF($EC$2="Buy", EO32, IF($EC$2="Sell", -EO32, 0)), IF($ED$2="Buy", EP32, IF($ED$2="Sell", -EP32, 0)), IF($EE$2="Buy", EQ32, IF($EE$2="Sell", -EQ32, 0)), IF($EF$2="Buy", ER32, IF($EF$2="Sell", -ER32, 0)), IF($EG$2="Buy", ES32, IF($EG$2="Sell", -ES32, 0)), IF($EH$2="Buy", ET32, IF($EH$2="Sell", -ET32, 0)), IF($EI$2="Buy", EU32, IF($EI$2="Sell", -EU32, 0))) -> 0 | EM32: 31 | EN32: =BT32+BU32+BV32+BW32+BX32+BY32+BZ32 -> 0 | EO32: =CN32+CO32+CP32-CI32-CA32-BT32-BO32 -> 0 | EP32: =CK32+CL32-CN32-CJ32-CD32-BU32-BS32 -> 0 | EQ32: =CM32-CO32-CH32-CE32-BW32-BR32 -> 0 | ER32: =CA32+CB32+CC32+CD32+CE32+CF32-BV32 -> 0 | ES32: =BO32+BP32+BQ32+BR32+BS32-BY32-CB32 -> 0 | ET32: =CG32+CH32+CI32+CJ32-CC32-BZ32-BP32 -> 0 | EU32: =-BQ32-BX32-CF32-CG32-CK32-CM32-CP32 -> 0
C33: 0 | D33: 0 | E33: 0 | F33: 0 | G33: 0 | H33: 0 | I33: 0 | J33: 0 | K33: 0 | L33: 0 | M33: 0 | N33: 0 | O33: 0 | P33: 0 | Q33: 0 | R33: 0 | S33: 0 | T33: 0 | U33: 0 | V33: 0 | W33: 0 | X33: 0 | Y33: 0 | Z33: 0 | AA33: 0 | AB33: 0 | AC33: 0 | AD33: 0 | AH33: 32 | AI33: =IF(C33=0,0,(C33-C34)*100/C34) -> 0 | AJ33: =IF(D33=0,0,(D33-D34)*100/D34) -> 0 | AK33: =IF(E33=0,0,(E33-E34)*100/E34) -> 0 | AL33: =IF(F33=0,0,(F33-F34)*100/F34) -> 0 | AM33: =IF(G33=0,0,(G33-G34)*100/G34) -> 0 | AN33: =IF(H33=0,0,(H33-H34)*100/H34) -> 0 | AO33: =IF(I33=0,0,(I33-I34)*100/I34) -> 0 | AP33: =IF(J33=0,0,(J33-J34)*100/J34) -> 0 | ... BJ33: =IF(AD33=0,0,(AD33-AD34)*100/AD34) -> 0 | BN33: 32 | BO33: =AI33+SUM(AI34:AI134) -> 0 | BP33: =AJ33+SUM(AJ34:AJ134) -> 0 | BQ33: =AK33+SUM(AK34:AK134) -> 0 | BR33: =AL33+SUM(AL34:AL134) -> 0 | BS33: =AM33+SUM(AM34:AM134) -> 0 | BT33: =AN33+SUM(AN34:AN134) -> 0 | BU33: =AO33+SUM(AO34:AO134) -> 0 | BV33: =AP33+SUM(AP34:AP134) -> 0 | ... CP33: =BJ33+SUM(BJ34:BJ134) -> 0 | CU33: 32 | CV33: =BT33+BU33+BV33+BW33+BX33+BY33+BZ33 -> 0 | CW33: =CN33+CO33+CP33-CI33-CA33-BT33-BO33 -> 0 | CX33: =CK33+CL33-CN33-CJ33-CD33-BU33-BS33 -> 0 | CY33: =CM33-CO33-CH33-CE33-BW33-BR33 -> 0 | CZ33: =CA33+CB33+CC33+CD33+CE33+CF33-BV33 -> 0 | DA33: =BO33+BP33+BQ33+BR33+BS33-BY33-CB33 -> 0 | DB33: =CG33+CH33+CI33+CJ33-CC33-BZ33-BP33 -> 0 | DC33: =-BQ33-BX33-CF33-CG33-CK33-CM33-CP33 -> 0 | DF33: 32 | DG33: =CN33 -> 0 | DH33: =BU33 -> 0 | DI33: =CO33 -> 0 | DJ33: =BW33 -> 0 | DK33: =-(CA33) -> 0 | DL33: =BV33 -> 0 | DM33: =-(BO33) -> 0 | DN33: =BY33 -> 0 | DO33: =-(CI33) -> 0 | DP33: =BZ33 -> 0 | DQ33: =CP33 -> 0 | DR33: =BX33 -> 0 | DS33: =-(BT33) -> 0 | DT33: =BT33 -> 0 | DX33: 32 | DY33: =SUM(IF($EB$2="Buy", EN33, IF($EB$2="Sell", -EN33, 0)), IF($EC$2="Buy", EO33, IF($EC$2="Sell", -EO33, 0)), IF($ED$2="Buy", EP33, IF($ED$2="Sell", -EP33, 0)), IF($EE$2="Buy", EQ33, IF($EE$2="Sell", -EQ33, 0)), IF($EF$2="Buy", ER33, IF($EF$2="Sell", -ER33, 0)), IF($EG$2="Buy", ES33, IF($EG$2="Sell", -ES33, 0)), IF($EH$2="Buy", ET33, IF($EH$2="Sell", -ET33, 0)), IF($EI$2="Buy", EU33, IF($EI$2="Sell", -EU33, 0))) -> 0 | EM33: 32 | EN33: =BT33+BU33+BV33+BW33+BX33+BY33+BZ33 -> 0 | EO33: =CN33+CO33+CP33-CI33-CA33-BT33-BO33 -> 0 | EP33: =CK33+CL33-CN33-CJ33-CD33-BU33-BS33 -> 0 | EQ33: =CM33-CO33-CH33-CE33-BW33-BR33 -> 0 | ER33: =CA33+CB33+CC33+CD33+CE33+CF33-BV33 -> 0 | ES33: =BO33+BP33+BQ33+BR33+BS33-BY33-CB33 -> 0 | ET33: =CG33+CH33+CI33+CJ33-CC33-BZ33-BP33 -> 0 | EU33: =-BQ33-BX33-CF33-CG33-CK33-CM33-CP33 -> 0
C34: 0 | D34: 0 | E34: 0 | F34: 0 | G34: 0 | H34: 0 | I34: 0 | J34: 0 | K34: 0 | L34: 0 | M34: 0 | N34: 0 | O34: 0 | P34: 0 | Q34: 0 | R34: 0 | S34: 0 | T34: 0 | U34: 0 | V34: 0 | W34: 0 | X34: 0 | Y34: 0 | Z34: 0 | AA34: 0 | AB34: 0 | AC34: 0 | AD34: 0 | AH34: 33 | AI34: =IF(C34=0,0,(C34-C35)*100/C35) -> 0 | AJ34: =IF(D34=0,0,(D34-D35)*100/D35) -> 0 | AK34: =IF(E34=0,0,(E34-E35)*100/E35) -> 0 | AL34: =IF(F34=0,0,(F34-F35)*100/F35) -> 0 | AM34: =IF(G34=0,0,(G34-G35)*100/G35) -> 0 | AN34: =IF(H34=0,0,(H34-H35)*100/H35) -> 0 | AO34: =IF(I34=0,0,(I34-I35)*100/I35) -> 0 | AP34: =IF(J34=0,0,(J34-J35)*100/J35) -> 0 | ... BJ34: =IF(AD34=0,0,(AD34-AD35)*100/AD35) -> 0 | BN34: 33 | BO34: =AI34+SUM(AI35:AI135) -> 0 | BP34: =AJ34+SUM(AJ35:AJ135) -> 0 | BQ34: =AK34+SUM(AK35:AK135) -> 0 | BR34: =AL34+SUM(AL35:AL135) -> 0 | BS34: =AM34+SUM(AM35:AM135) -> 0 | BT34: =AN34+SUM(AN35:AN135) -> 0 | BU34: =AO34+SUM(AO35:AO135) -> 0 | BV34: =AP34+SUM(AP35:AP135) -> 0 | ... CP34: =BJ34+SUM(BJ35:BJ135) -> 0 | CU34: 33 | CV34: =BT34+BU34+BV34+BW34+BX34+BY34+BZ34 -> 0 | CW34: =CN34+CO34+CP34-CI34-CA34-BT34-BO34 -> 0 | CX34: =CK34+CL34-CN34-CJ34-CD34-BU34-BS34 -> 0 | CY34: =CM34-CO34-CH34-CE34-BW34-BR34 -> 0 | CZ34: =CA34+CB34+CC34+CD34+CE34+CF34-BV34 -> 0 | DA34: =BO34+BP34+BQ34+BR34+BS34-BY34-CB34 -> 0 | DB34: =CG34+CH34+CI34+CJ34-CC34-BZ34-BP34 -> 0 | DC34: =-BQ34-BX34-CF34-CG34-CK34-CM34-CP34 -> 0 | DF34: 33 | DG34: =CN34 -> 0 | DH34: =BU34 -> 0 | DI34: =CO34 -> 0 | DJ34: =BW34 -> 0 | DK34: =-(CA34) -> 0 | DL34: =BV34 -> 0 | DM34: =-(BO34) -> 0 | DN34: =BY34 -> 0 | DO34: =-(CI34) -> 0 | DP34: =BZ34 -> 0 | DQ34: =CP34 -> 0 | DR34: =BX34 -> 0 | DS34: =-(BT34) -> 0 | DT34: =BT34 -> 0 | DX34: 33 | DY34: =SUM(IF($EB$2="Buy", EN34, IF($EB$2="Sell", -EN34, 0)), IF($EC$2="Buy", EO34, IF($EC$2="Sell", -EO34, 0)), IF($ED$2="Buy", EP34, IF($ED$2="Sell", -EP34, 0)), IF($EE$2="Buy", EQ34, IF($EE$2="Sell", -EQ34, 0)), IF($EF$2="Buy", ER34, IF($EF$2="Sell", -ER34, 0)), IF($EG$2="Buy", ES34, IF($EG$2="Sell", -ES34, 0)), IF($EH$2="Buy", ET34, IF($EH$2="Sell", -ET34, 0)), IF($EI$2="Buy", EU34, IF($EI$2="Sell", -EU34, 0))) -> 0 | EM34: 33 | EN34: =BT34+BU34+BV34+BW34+BX34+BY34+BZ34 -> 0 | EO34: =CN34+CO34+CP34-CI34-CA34-BT34-BO34 -> 0 | EP34: =CK34+CL34-CN34-CJ34-CD34-BU34-BS34 -> 0 | EQ34: =CM34-CO34-CH34-CE34-BW34-BR34 -> 0 | ER34: =CA34+CB34+CC34+CD34+CE34+CF34-BV34 -> 0 | ES34: =BO34+BP34+BQ34+BR34+BS34-BY34-CB34 -> 0 | ET34: =CG34+CH34+CI34+CJ34-CC34-BZ34-BP34 -> 0 | EU34: =-BQ34-BX34-CF34-CG34-CK34-CM34-CP34 -> 0
C35: 0 | D35: 0 | E35: 0 | F35: 0 | G35: 0 | H35: 0 | I35: 0 | J35: 0 | K35: 0 | L35: 0 | M35: 0 | N35: 0 | O35: 0 | P35: 0 | Q35: 0 | R35: 0 | S35: 0 | T35: 0 | U35: 0 | V35: 0 | W35: 0 | X35: 0 | Y35: 0 | Z35: 0 | AA35: 0 | AB35: 0 | AC35: 0 | AD35: 0 | AH35: 34 | AI35: =IF(C35=0,0,(C35-C36)*100/C36) -> 0 | AJ35: =IF(D35=0,0,(D35-D36)*100/D36) -> 0 | AK35: =IF(E35=0,0,(E35-E36)*100/E36) -> 0 | AL35: =IF(F35=0,0,(F35-F36)*100/F36) -> 0 | AM35: =IF(G35=0,0,(G35-G36)*100/G36) -> 0 | AN35: =IF(H35=0,0,(H35-H36)*100/H36) -> 0 | AO35: =IF(I35=0,0,(I35-I36)*100/I36) -> 0 | AP35: =IF(J35=0,0,(J35-J36)*100/J36) -> 0 | ... BJ35: =IF(AD35=0,0,(AD35-AD36)*100/AD36) -> 0 | BN35: 34 | BO35: =AI35+SUM(AI36:AI136) -> 0 | BP35: =AJ35+SUM(AJ36:AJ136) -> 0 | BQ35: =AK35+SUM(AK36:AK136) -> 0 | BR35: =AL35+SUM(AL36:AL136) -> 0 | BS35: =AM35+SUM(AM36:AM136) -> 0 | BT35: =AN35+SUM(AN36:AN136) -> 0 | BU35: =AO35+SUM(AO36:AO136) -> 0 | BV35: =AP35+SUM(AP36:AP136) -> 0 | ... CP35: =BJ35+SUM(BJ36:BJ136) -> 0 | CU35: 34 | CV35: =BT35+BU35+BV35+BW35+BX35+BY35+BZ35 -> 0 | CW35: =CN35+CO35+CP35-CI35-CA35-BT35-BO35 -> 0 | CX35: =CK35+CL35-CN35-CJ35-CD35-BU35-BS35 -> 0 | CY35: =CM35-CO35-CH35-CE35-BW35-BR35 -> 0 | CZ35: =CA35+CB35+CC35+CD35+CE35+CF35-BV35 -> 0 | DA35: =BO35+BP35+BQ35+BR35+BS35-BY35-CB35 -> 0 | DB35: =CG35+CH35+CI35+CJ35-CC35-BZ35-BP35 -> 0 | DC35: =-BQ35-BX35-CF35-CG35-CK35-CM35-CP35 -> 0 | DF35: 34 | DG35: =CN35 -> 0 | DH35: =BU35 -> 0 | DI35: =CO35 -> 0 | DJ35: =BW35 -> 0 | DK35: =-(CA35) -> 0 | DL35: =BV35 -> 0 | DM35: =-(BO35) -> 0 | DN35: =BY35 -> 0 | DO35: =-(CI35) -> 0 | DP35: =BZ35 -> 0 | DQ35: =CP35 -> 0 | DR35: =BX35 -> 0 | DS35: =-(BT35) -> 0 | DT35: =BT35 -> 0 | DX35: 34 | DY35: =SUM(IF($EB$2="Buy", EN35, IF($EB$2="Sell", -EN35, 0)), IF($EC$2="Buy", EO35, IF($EC$2="Sell", -EO35, 0)), IF($ED$2="Buy", EP35, IF($ED$2="Sell", -EP35, 0)), IF($EE$2="Buy", EQ35, IF($EE$2="Sell", -EQ35, 0)), IF($EF$2="Buy", ER35, IF($EF$2="Sell", -ER35, 0)), IF($EG$2="Buy", ES35, IF($EG$2="Sell", -ES35, 0)), IF($EH$2="Buy", ET35, IF($EH$2="Sell", -ET35, 0)), IF($EI$2="Buy", EU35, IF($EI$2="Sell", -EU35, 0))) -> 0 | EM35: 34 | EN35: =BT35+BU35+BV35+BW35+BX35+BY35+BZ35 -> 0 | EO35: =CN35+CO35+CP35-CI35-CA35-BT35-BO35 -> 0 | EP35: =CK35+CL35-CN35-CJ35-CD35-BU35-BS35 -> 0 | EQ35: =CM35-CO35-CH35-CE35-BW35-BR35 -> 0 | ER35: =CA35+CB35+CC35+CD35+CE35+CF35-BV35 -> 0 | ES35: =BO35+BP35+BQ35+BR35+BS35-BY35-CB35 -> 0 | ET35: =CG35+CH35+CI35+CJ35-CC35-BZ35-BP35 -> 0 | EU35: =-BQ35-BX35-CF35-CG35-CK35-CM35-CP35 -> 0
C36: 0 | D36: 0 | E36: 0 | F36: 0 | G36: 0 | H36: 0 | I36: 0 | J36: 0 | K36: 0 | L36: 0 | M36: 0 | N36: 0 | O36: 0 | P36: 0 | Q36: 0 | R36: 0 | S36: 0 | T36: 0 | U36: 0 | V36: 0 | W36: 0 | X36: 0 | Y36: 0 | Z36: 0 | AA36: 0 | AB36: 0 | AC36: 0 | AD36: 0 | AH36: 35 | AI36: =IF(C36=0,0,(C36-C37)*100/C37) -> 0 | AJ36: =IF(D36=0,0,(D36-D37)*100/D37) -> 0 | AK36: =IF(E36=0,0,(E36-E37)*100/E37) -> 0 | AL36: =IF(F36=0,0,(F36-F37)*100/F37) -> 0 | AM36: =IF(G36=0,0,(G36-G37)*100/G37) -> 0 | AN36: =IF(H36=0,0,(H36-H37)*100/H37) -> 0 | AO36: =IF(I36=0,0,(I36-I37)*100/I37) -> 0 | AP36: =IF(J36=0,0,(J36-J37)*100/J37) -> 0 | ... BJ36: =IF(AD36=0,0,(AD36-AD37)*100/AD37) -> 0 | BN36: 35 | BO36: =AI36+SUM(AI37:AI137) -> 0 | BP36: =AJ36+SUM(AJ37:AJ137) -> 0 | BQ36: =AK36+SUM(AK37:AK137) -> 0 | BR36: =AL36+SUM(AL37:AL137) -> 0 | BS36: =AM36+SUM(AM37:AM137) -> 0 | BT36: =AN36+SUM(AN37:AN137) -> 0 | BU36: =AO36+SUM(AO37:AO137) -> 0 | BV36: =AP36+SUM(AP37:AP137) -> 0 | ... CP36: =BJ36+SUM(BJ37:BJ137) -> 0 | CU36: 35 | CV36: =BT36+BU36+BV36+BW36+BX36+BY36+BZ36 -> 0 | CW36: =CN36+CO36+CP36-CI36-CA36-BT36-BO36 -> 0 | CX36: =CK36+CL36-CN36-CJ36-CD36-BU36-BS36 -> 0 | CY36: =CM36-CO36-CH36-CE36-BW36-BR36 -> 0 | CZ36: =CA36+CB36+CC36+CD36+CE36+CF36-BV36 -> 0 | DA36: =BO36+BP36+BQ36+BR36+BS36-BY36-CB36 -> 0 | DB36: =CG36+CH36+CI36+CJ36-CC36-BZ36-BP36 -> 0 | DC36: =-BQ36-BX36-CF36-CG36-CK36-CM36-CP36 -> 0 | DF36: 35 | DG36: =CN36 -> 0 | DH36: =BU36 -> 0 | DI36: =CO36 -> 0 | DJ36: =BW36 -> 0 | DK36: =-(CA36) -> 0 | DL36: =BV36 -> 0 | DM36: =-(BO36) -> 0 | DN36: =BY36 -> 0 | DO36: =-(CI36) -> 0 | DP36: =BZ36 -> 0 | DQ36: =CP36 -> 0 | DR36: =BX36 -> 0 | DS36: =-(BT36) -> 0 | DT36: =BT36 -> 0 | DX36: 35 | DY36: =SUM(IF($EB$2="Buy", EN36, IF($EB$2="Sell", -EN36, 0)), IF($EC$2="Buy", EO36, IF($EC$2="Sell", -EO36, 0)), IF($ED$2="Buy", EP36, IF($ED$2="Sell", -EP36, 0)), IF($EE$2="Buy", EQ36, IF($EE$2="Sell", -EQ36, 0)), IF($EF$2="Buy", ER36, IF($EF$2="Sell", -ER36, 0)), IF($EG$2="Buy", ES36, IF($EG$2="Sell", -ES36, 0)), IF($EH$2="Buy", ET36, IF($EH$2="Sell", -ET36, 0)), IF($EI$2="Buy", EU36, IF($EI$2="Sell", -EU36, 0))) -> 0 | EM36: 35 | EN36: =BT36+BU36+BV36+BW36+BX36+BY36+BZ36 -> 0 | EO36: =CN36+CO36+CP36-CI36-CA36-BT36-BO36 -> 0 | EP36: =CK36+CL36-CN36-CJ36-CD36-BU36-BS36 -> 0 | EQ36: =CM36-CO36-CH36-CE36-BW36-BR36 -> 0 | ER36: =CA36+CB36+CC36+CD36+CE36+CF36-BV36 -> 0 | ES36: =BO36+BP36+BQ36+BR36+BS36-BY36-CB36 -> 0 | ET36: =CG36+CH36+CI36+CJ36-CC36-BZ36-BP36 -> 0 | EU36: =-BQ36-BX36-CF36-CG36-CK36-CM36-CP36 -> 0
C37: 0 | D37: 0 | E37: 0 | F37: 0 | G37: 0 | H37: 0 | I37: 0 | J37: 0 | K37: 0 | L37: 0 | M37: 0 | N37: 0 | O37: 0 | P37: 0 | Q37: 0 | R37: 0 | S37: 0 | T37: 0 | U37: 0 | V37: 0 | W37: 0 | X37: 0 | Y37: 0 | Z37: 0 | AA37: 0 | AB37: 0 | AC37: 0 | AD37: 0 | AH37: 36 | AI37: =IF(C37=0,0,(C37-#REF!)*100/#REF!) -> 0 | AJ37: =IF(D37=0,0,(D37-#REF!)*100/#REF!) -> 0 | AK37: =IF(E37=0,0,(E37-#REF!)*100/#REF!) -> 0 | AL37: =IF(F37=0,0,(F37-#REF!)*100/#REF!) -> 0 | AM37: =IF(G37=0,0,(G37-#REF!)*100/#REF!) -> 0 | AN37: =IF(H37=0,0,(H37-#REF!)*100/#REF!) -> 0 | AO37: =IF(I37=0,0,(I37-#REF!)*100/#REF!) -> 0 | AP37: =IF(J37=0,0,(J37-#REF!)*100/#REF!) -> 0 | ... BJ37: =IF(AD37=0,0,(AD37-#REF!)*100/#REF!) -> 0 | BN37: 36 | BO37: =AI37+SUM(AI38:AI138) -> 0 | BP37: =AJ37+SUM(AJ38:AJ138) -> 0 | BQ37: =AK37+SUM(AK38:AK138) -> 0 | BR37: =AL37+SUM(AL38:AL138) -> 0 | BS37: =AM37+SUM(AM38:AM138) -> 0 | BT37: =AN37+SUM(AN38:AN138) -> 0 | BU37: =AO37+SUM(AO38:AO138) -> 0 | BV37: =AP37+SUM(AP38:AP138) -> 0 | ... CP37: =BJ37+SUM(BJ38:BJ138) -> 0 | CU37: 36 | CV37: =BT37+BU37+BV37+BW37+BX37+BY37+BZ37 -> 0 | CW37: =CN37+CO37+CP37-CI37-CA37-BT37-BO37 -> 0 | CX37: =CK37+CL37-CN37-CJ37-CD37-BU37-BS37 -> 0 | CY37: =CM37-CO37-CH37-CE37-BW37-BR37 -> 0 | CZ37: =CA37+CB37+CC37+CD37+CE37+CF37-BV37 -> 0 | DA37: =BO37+BP37+BQ37+BR37+BS37-BY37-CB37 -> 0 | DB37: =CG37+CH37+CI37+CJ37-CC37-BZ37-BP37 -> 0 | DC37: =-BQ37-BX37-CF37-CG37-CK37-CM37-CP37 -> 0 | DF37: 36 | DG37: =CN37 -> 0 | DH37: =BU37 -> 0 | DI37: =CO37 -> 0 | DJ37: =BW37 -> 0 | DK37: =-(CA37) -> 0 | DL37: =BV37 -> 0 | DM37: =-(BO37) -> 0 | DN37: =BY37 -> 0 | DO37: =-(CI37) -> 0 | DP37: =BZ37 -> 0 | DQ37: =CP37 -> 0 | DR37: =BX37 -> 0 | DS37: =-(BT37) -> 0 | DT37: =BT37 -> 0 | DX37: 36 | DY37: =SUM(IF($EB$2="Buy", EN37, IF($EB$2="Sell", -EN37, 0)), IF($EC$2="Buy", EO37, IF($EC$2="Sell", -EO37, 0)), IF($ED$2="Buy", EP37, IF($ED$2="Sell", -EP37, 0)), IF($EE$2="Buy", EQ37, IF($EE$2="Sell", -EQ37, 0)), IF($EF$2="Buy", ER37, IF($EF$2="Sell", -ER37, 0)), IF($EG$2="Buy", ES37, IF($EG$2="Sell", -ES37, 0)), IF($EH$2="Buy", ET37, IF($EH$2="Sell", -ET37, 0)), IF($EI$2="Buy", EU37, IF($EI$2="Sell", -EU37, 0))) -> 0 | EM37: 36 | EN37: =BT37+BU37+BV37+BW37+BX37+BY37+BZ37 -> 0 | EO37: =CN37+CO37+CP37-CI37-CA37-BT37-BO37 -> 0 | EP37: =CK37+CL37-CN37-CJ37-CD37-BU37-BS37 -> 0 | EQ37: =CM37-CO37-CH37-CE37-BW37-BR37 -> 0 | ER37: =CA37+CB37+CC37+CD37+CE37+CF37-BV37 -> 0 | ES37: =BO37+BP37+BQ37+BR37+BS37-BY37-CB37 -> 0 | ET37: =CG37+CH37+CI37+CJ37-CC37-BZ37-BP37 -> 0 | EU37: =-BQ37-BX37-CF37-CG37-CK37-CM37-CP37 -> 0

Sheet SATORI H4
A1: Time | C1: AUDUSD | D1: AUDNZD | E1: AUDJPY | F1: AUDCHF | G1: AUDCAD | H1: EURUSD | I1: EURCAD | J1: EURGBP | K1: EURCHF | L1: EURJPY | M1: EURAUD | N1: EURNZD | O1: GBPUSD | P1: GBPAUD | Q1: GBPNZD | R1: GBPCAD | S1: GBPCHF | T1: GBPJPY | U1: NZDJPY | V1: NZDCHF | W1: NZDUSD | X1: NZDCAD | Y1: CADJPY | Z1: CADCHF | AA1: CHFJPY | AB1: USDCAD | AC1: USDCHF | AD1: USDJPY | AH1: ID | AI1: AUDUSD | AJ1: AUDNZD | AK1: AUDJPY | AL1: AUDCHF | AM1: AUDCAD | AN1: EURUSD | AO1: EURCAD | AP1: EURGBP | AQ1: EURCHF | AR1: EURJPY | AS1: EURAUD | AT1: EURNZD | AU1: GBPUSD | AV1: GBPAUD | AW1: GBPNZD | AX1: GBPCAD | AY1: GBPCHF | AZ1: GBPJPY | BA1: NZDJPY | BB1: NZDCHF | BC1: NZDUSD | BD1: NZDCAD | BE1: CADJPY | BF1: CADCHF | BG1: CHFJPY | BH1: USDCAD | BI1: USDCHF | BJ1: USDJPY | BN1: ID | BO1: AUDUSD | BP1: AUDNZD | BQ1: AUDJPY | BR1: AUDCHF | BS1: AUDCAD | BT1: EURUSD | BU1: EURCAD | BV1: EURGBP | BW1: EURCHF | BX1: EURJPY | BY1: EURAUD | BZ1: EURNZD | CA1: GBPUSD | CB1: GBPAUD | CC1: GBPNZD | CD1: GBPCAD | CE1: GBPCHF | CF1: GBPJPY | CG1: NZDJPY | CH1: NZDCHF | CI1: NZDUSD | CJ1: NZDCAD | CK1: CADJPY | CL1: CADCHF | CM1: CHFJPY | CN1: USDCAD | CO1: USDCHF | CP1: USDJPY | CU1: ID | CV1: EUR | CW1: USD | CX1: CAD | CY1: CHF | CZ1: GBP | DA1: AUD | DB1: NZD | DC1: JPY | DF1: ID | DG1: USDCAD | DH1: EURCAD | DI1: USDCHF | DJ1: EURCHF | DK1: USDGBP | DL1: EURGBP | DM1: USDAUD | DN1: EURAUD | DO1: USDNZD | DP1: EURNZD | DQ1: USDJPY | DR1: EURJPY | DS1: UE | DT1: EU-H4 | DX1: ID | DY1: Portfolio Performance | EA1: Portfolio | EB1: EUR | EC1: USD | ED1: CAD | EE1: CHF | EF1: GBP | EG1: AUD | EH1: NZD | EI1: JPY | EJ1: DD | EM1: ID | EN1: EUR | EO1: USD | EP1: CAD | EQ1: CHF | ER1: GBP | ES1: AUD | ET1: NZD | EU1: JPY | EW1: Market performance | FB1: ID | FC1: EUR | FD1: USD | FE1: CAD | FF1: CHF | FG1: GBP | FH1: AUD | FI1: NZD | FJ1: JPY
A2: =NOW() -> 45526.807 | B2: LAST PRICE | C2: =RTD("fxbluelabs.excelrtd", , "21422436","@bh,AUDUSD,h4,close,0") -> 0.67268 | D2: =RTD("fxbluelabs.excelrtd", , "21422436","@bh,AUDNZD,h4,close,0") -> 1.09422 | E2: =RTD("fxbluelabs.excelrtd", , "21422436","@bh,AUDJPY,h4,close,0") -> 98.289 | F2: =RTD("fxbluelabs.excelrtd", , "21422436","@bh,AUDCHF,h4,close,0") -> 0.57331 | G2: =RTD("fxbluelabs.excelrtd", , "21422436","@bh,AUDCAD,h4,close,0") -> 0.91423 | H2: =RTD("fxbluelabs.excelrtd", , "21422436","@bh,EURUSD,h4,close,0") -> 1.11322 | I2: =RTD("fxbluelabs.excelrtd", , "21422436","@bh,EURCAD,h4,close,0") -> 1.51296 | J2: =RTD("fxbluelabs.excelrtd", , "21422436","@bh,EURGBP,h4,close,0") -> 0.84967 | K2: =RTD("fxbluelabs.excelrtd", , "21422436","@bh,EURCHF,h4,close,0") -> 0.94875 | L2: =RTD("fxbluelabs.excelrtd", , "21422436","@bh,EURJPY,h4,close,0") -> 162.654 | M2: =RTD("fxbluelabs.excelrtd", , "21422436","@bh,EURAUD,h4,close,0") -> 1.65486 | N2: =RTD("fxbluelabs.excelrtd", , "21422436","@bh,EURNZD,h4,close,0") -> 1.81082 | O2: =RTD("fxbluelabs.excelrtd", , "21422436","@bh,GBPUSD,h4,close,0") -> 1.31026 | P2: =RTD("fxbluelabs.excelrtd", , "21422436","@bh,GBPAUD,h4,close,0") -> 1.94763 | Q2: =RTD("fxbluelabs.excelrtd", , "21422436","@bh,GBPNZD,h4,close,0") -> 2.13106 | R2: =RTD("fxbluelabs.excelrtd", , "21422436","@bh,GBPCAD,h4,close,0") -> 1.78062 | S2: =RTD("fxbluelabs.excelrtd", , "21422436","@bh,GBPCHF,h4,close,0") -> 1.11654 | T2: =RTD("fxbluelabs.excelrtd", , "21422436","@bh,GBPJPY,h4,close,0") -> 191.417 | U2: =RTD("fxbluelabs.excelrtd", , "21422436","@bh,NZDJPY,h4,close,0") -> 89.816 | V2: =RTD("fxbluelabs.excelrtd", , "21422436","@bh,NZDCHF,h4,close,0") -> 0.52389 | W2: =RTD("fxbluelabs.excelrtd", , "21422436","@bh,NZDUSD,h4,close,0") -> 0.61473 | X2: =RTD("fxbluelabs.excelrtd", , "21422436","@bh,NZDCAD,h4,close,0") -> 0.83543 | Y2: =RTD("fxbluelabs.excelrtd", , "21422436","@bh,CADJPY,h4,close,0") -> 107.508 | Z2: =RTD("fxbluelabs.excelrtd", , "21422436","@bh,CADCHF,h4,close,0") -> 0.62709 | AA2: =RTD("fxbluelabs.excelrtd", , "21422436","@bh,CHFJPY,h4,close,0") -> 171.433 | AB2: =RTD("fxbluelabs.excelrtd", , "21422436","@bh,USDCAD,h4,close,0") -> 1.35917 | AC2: =RTD("fxbluelabs.excelrtd", , "21422436","@bh,USDCHF,h4,close,0") -> 0.85228 | AD2: =RTD("fxbluelabs.excelrtd", , "21422436","@bh,USDJPY,h4,close,0") -> 146.113 | AH2: 1 | AI2: =IF(C2=0,0,(C2-C3)*100/C3) -> -0.2846131 | AJ2: =IF(D2=0,0,(D2-D3)*100/D3) -> -0.063931611 | AK2: =IF(E2=0,0,(E2-E3)*100/E3) -> 0.042749397 | AL2: =IF(F2=0,0,(F2-F3)*100/F3) -> -0.16195319 | AM2: =IF(G2=0,0,(G2-G3)*100/G3) -> -0.18015461 | AN2: =IF(H2=0,0,(H2-H3)*100/H3) -> -0.093335487 | AO2: =IF(I2=0,0,(I2-I3)*100/I3) -> 0.011237515 | AP2: =IF(J2=0,0,(J2-J3)*100/J3) -> -0.0058842913 | ... BJ2: =IF(AD2=0,0,(AD2-AD3)*100/AD3) -> 0.32615114 | BN2: 1 | BO2: =AI2+SUM(AI3:AI37) -> 1.6964325 | BP2: =AJ2+SUM(AJ3:AJ37) -> -0.92281317 | BQ2: =AK2+SUM(AK3:AK37) -> -0.2114903 | BR2: =AL2+SUM(AL3:AL37) -> -0.55950758 | BS2: =AM2+SUM(AM3:AM37) -> 0.66779205 | BT2: =AN2+SUM(AN3:AN37) -> 1.4128663 | BU2: =AO2+SUM(AO3:AO37) -> 0.38590601 | BV2: =AP2+SUM(AP3:AP37) -> -0.4214654 | ... CP2: =BJ2+SUM(BJ3:BJ37) -> -1.9109828 | CU2: 1 | CV2: =BT2+BU2+BV2+BW2+BX2+BY2+BZ2 -> -1.4544019 | CW2: =CN2+CO2+CP2-CI2-CA2-BT2-BO2 -> -12.778491 | CX2: =CK2+CL2-CN2-CJ2-CD2-BU2-BS2 -> -4.5480297 | CY2: =CM2-CO2-CH2-CE2-BW2-BR2 -> 4.0625653 | CZ2: =CA2+CB2+CC2+CD2+CE2+CF2-BV2 -> 1.9246427 | DA2: =BO2+BP2+BQ2+BR2+BS2-BY2-CB2 -> 0.80805846 | DB2: =CG2+CH2+CI2+CJ2-CC2-BZ2-BP2 -> 8.2232746 | DC2: =-BQ2-BX2-CF2-CG2-CK2-CM2-CP2 -> 2.5349527 | DF2: 1 | DG2: =CN2 -> -1.0238396 | DH2: =BU2 -> 0.38590601 | DI2: =CO2 -> -2.2555967 | DJ2: =BW2 -> -0.84476574 | DK2: =-(CA2) -> -1.8458874 | DL2: =BV2 -> -0.4214654 | DM2: =-(BO2) -> -1.6964325 | DN2: =BY2 -> -0.28080969 | DO2: =-(CI2) -> -2.6328854 | DP2: =BZ2 -> -1.205075 | DQ2: =CP2 -> -1.9109828 | DR2: =BX2 -> -0.50105843 | DS2: =-(BT2) -> -1.4128663 | DT2: =BT2 -> 1.4128663 | DX2: 1 | DY2: =SUM(IF($EB$2="Buy", EN2, IF($EB$2="Sell", -EN2, 0)), IF($EC$2="Buy", EO2, IF($EC$2="Sell", -EO2, 0)), IF($ED$2="Buy", EP2, IF($ED$2="Sell", -EP2, 0)), IF($EE$2="Buy", EQ2, IF($EE$2="Sell", -EQ2, 0)), IF($EF$2="Buy", ER2, IF($EF$2="Sell", -ER2, 0)), IF($EG$2="Buy", ES2, IF($EG$2="Sell", -ES2, 0)), IF($EH$2="Buy", ET2, IF($EH$2="Sell", -ET2, 0)), IF($EI$2="Buy", EU2, IF($EI$2="Sell", -EU2, 0))) -> 11.324089 | EB2: Buy | EC2: Sell | ED2: - | EJ2: Buy | EM2: 1 | EN2: =BT2+BU2+BV2+BW2+BX2+BY2+BZ2 -> -1.4544019 | EO2: =CN2+CO2+CP2-CI2-CA2-BT2-BO2 -> -12.778491 | EP2: =CK2+CL2-CN2-CJ2-CD2-BU2-BS2 -> -4.5480297 | EQ2: =CM2-CO2-CH2-CE2-BW2-BR2 -> 4.0625653 | ER2: =CA2+CB2+CC2+CD2+CE2+CF2-BV2 -> 1.9246427 | ES2: =BO2+BP2+BQ2+BR2+BS2-BY2-CB2 -> 0.80805846 | ET2: =CG2+CH2+CI2+CJ2-CC2-BZ2-BP2 -> 8.2232746 | EU2: =-BQ2-BX2-CF2-CG2-CK2-CM2-CP2 -> 2.5349527 | EW2: =LARGE($EN$2:$EU$2,1) -> 8.2232746 | EX2: =INDEX(EN1:EU1,MATCH(EW2,EN2:EU2,0)) -> NZD
A3: previous | B3: 1 | C3: =RTD("fxbluelabs.excelrtd", , "21422436","@bh,AUDUSD,h4,close,1") -> 0.6746 | D3: =RTD("fxbluelabs.excelrtd", , "21422436","@bh,AUDNZD,h4,close,1") -> 1.09492 | E3: =RTD("fxbluelabs.excelrtd", , "21422436","@bh,AUDJPY,h4,close,1") -> 98.247 | F3: =RTD("fxbluelabs.excelrtd", , "21422436","@bh,AUDCHF,h4,close,1") -> 0.57424 | G3: =RTD("fxbluelabs.excelrtd", , "21422436","@bh,AUDCAD,h4,close,1") -> 0.91588 | H3: =RTD("fxbluelabs.excelrtd", , "21422436","@bh,EURUSD,h4,close,1") -> 1.11426 | I3: =RTD("fxbluelabs.excelrtd", , "21422436","@bh,EURCAD,h4,close,1") -> 1.51279 | J3: =RTD("fxbluelabs.excelrtd", , "21422436","@bh,EURGBP,h4,close,1") -> 0.84972 | K3: =RTD("fxbluelabs.excelrtd", , "21422436","@bh,EURCHF,h4,close,1") -> 0.94848 | L3: =RTD("fxbluelabs.excelrtd", , "21422436","@bh,EURJPY,h4,close,1") -> 162.276 | M3: =RTD("fxbluelabs.excelrtd", , "21422436","@bh,EURAUD,h4,close,1") -> 1.65172 | N3: =RTD("fxbluelabs.excelrtd", , "21422436","@bh,EURNZD,h4,close,1") -> 1.80851 | O3: =RTD("fxbluelabs.excelrtd", , "21422436","@bh,GBPUSD,h4,close,1") -> 1.31139 | P3: =RTD("fxbluelabs.excelrtd", , "21422436","@bh,GBPAUD,h4,close,1") -> 1.94387 | Q3: =RTD("fxbluelabs.excelrtd", , "21422436","@bh,GBPNZD,h4,close,1") -> 2.12842 | R3: =RTD("fxbluelabs.excelrtd", , "21422436","@bh,GBPCAD,h4,close,1") -> 1.78036 | S3: =RTD("fxbluelabs.excelrtd", , "21422436","@bh,GBPCHF,h4,close,1") -> 1.11615 | T3: =RTD("fxbluelabs.excelrtd", , "21422436","@bh,GBPJPY,h4,close,1") -> 190.958 | U3: =RTD("fxbluelabs.excelrtd", , "21422436","@bh,NZDJPY,h4,close,1") -> 89.728 | V3: =RTD("fxbluelabs.excelrtd", , "21422436","@bh,NZDCHF,h4,close,1") -> 0.52445 | W3: =RTD("fxbluelabs.excelrtd", , "21422436","@bh,NZDUSD,h4,close,1") -> 0.6161 | X3: =RTD("fxbluelabs.excelrtd", , "21422436","@bh,NZDCAD,h4,close,1") -> 0.83645 | Y3: =RTD("fxbluelabs.excelrtd", , "21422436","@bh,CADJPY,h4,close,1") -> 107.27 | Z3: =RTD("fxbluelabs.excelrtd", , "21422436","@bh,CADCHF,h4,close,1") -> 0.62698 | AA3: =RTD("fxbluelabs.excelrtd", , "21422436","@bh,CHFJPY,h4,close,1") -> 171.083 | AB3: =RTD("fxbluelabs.excelrtd", , "21422436","@bh,USDCAD,h4,close,1") -> 1.35779 | AC3: =RTD("fxbluelabs.excelrtd", , "21422436","@bh,USDCHF,h4,close,1") -> 0.85124 | AD3: =RTD("fxbluelabs.excelrtd", , "21422436","@bh,USDJPY,h4,close,1") -> 145.638 | AH3: 2 | AI3: =IF(C3=0,0,(C3-C4)*100/C4) -> 0.15886449 | AJ3: =IF(D3=0,0,(D3-D4)*100/D4) -> -0.00091330039 | AK3: =IF(E3=0,0,(E3-E4)*100/E4) -> 0.50535533 | AL3: =IF(F3=0,0,(F3-F4)*100/F4) -> 0.13776266 | AM3: =IF(G3=0,0,(G3-G4)*100/G4) -> 0.085236586 | AN3: =IF(H3=0,0,(H3-H4)*100/H4) -> -0.0071791374 | AO3: =IF(I3=0,0,(I3-I4)*100/I4) -> -0.077940778 | AP3: =IF(J3=0,0,(J3-J4)*100/J4) -> -0.23481895 | ... BJ3: =IF(AD3=0,0,(AD3-AD4)*100/AD4) -> 0.34657388 | BN3: 2 | BO3: =AI3+SUM(AI4:AI38) -> 1.9810456 | BP3: =AJ3+SUM(AJ4:AJ38) -> -0.85888156 | BQ3: =AK3+SUM(AK4:AK38) -> -0.25423969 | BR3: =AL3+SUM(AL4:AL38) -> -0.39755439 | BS3: =AM3+SUM(AM4:AM38) -> 0.84794666 | BT3: =AN3+SUM(AN4:AN38) -> 1.5062018 | BU3: =AO3+SUM(AO4:AO38) -> 0.3746685 | BV3: =AP3+SUM(AP4:AP38) -> -0.41558111 | ... CP3: =BJ3+SUM(BJ4:BJ38) -> -2.2371339 | CU3: 2 | CV3: =BT3+BU3+BV3+BW3+BX3+BY3+BZ3 -> -1.945657 | CW3: =CN3+CO3+CP3-CI3-CA3-BT3-BO3 -> -14.014935 | CX3: =CK3+CL3-CN3-CJ3-CD3-BU3-BS3 -> -4.9620656 | CY3: =CM3-CO3-CH3-CE3-BW3-BR3 -> 3.7748373 | CZ3: =CA3+CB3+CC3+CD3+CE3+CF3-BV3 -> 1.3975499 | DA3: =BO3+BP3+BQ3+BR3+BS3-BY3-CB3 -> 1.839495 | DB3: =CG3+CH3+CI3+CJ3-CC3-BZ3-BP3 -> 8.7641229 | DC3: =-BQ3-BX3-CF3-CG3-CK3-CM3-CP3 -> 3.90168 | DF3: 2 | DG3: =CN3 -> -1.1254753 | DH3: =BU3 -> 0.3746685 | DI3: =CO3 -> -2.3777714 | DJ3: =BW3 -> -0.87323234 | DK3: =-(CA3) -> -1.9320555 | DL3: =BV3 -> -0.41558111 | DM3: =-(BO3) -> -1.9810456 | DN3: =BY3 -> -0.47091455 | DO3: =-(CI3) -> -2.8552519 | DP3: =BZ3 -> -1.3328044 | DQ3: =CP3 -> -2.2371339 | DR3: =BX3 -> -0.73399491 | DS3: =-(BT3) -> -1.5062018 | DT3: =BT3 -> 1.5062018 | DX3: 2 | DY3: =SUM(IF($EB$2="Buy", EN3, IF($EB$2="Sell", -EN3, 0)), IF($EC$2="Buy", EO3, IF($EC$2="Sell", -EO3, 0)), IF($ED$2="Buy", EP3, IF($ED$2="Sell", -EP3, 0)), IF($EE$2="Buy", EQ3, IF($EE$2="Sell", -EQ3, 0)), IF($EF$2="Buy", ER3, IF($EF$2="Sell", -ER3, 0)), IF($EG$2="Buy", ES3, IF($EG$2="Sell", -ES3, 0)), IF($EH$2="Buy", ET3, IF($EH$2="Sell", -ET3, 0)), IF($EI$2="Buy", EU3, IF($EI$2="Sell", -EU3, 0))) -> 12.069278 | EJ3: Sell | EM3: 2 | EN3: =BT3+BU3+BV3+BW3+BX3+BY3+BZ3 -> -1.945657 | EO3: =CN3+CO3+CP3-CI3-CA3-BT3-BO3 -> -14.014935 | EP3: =CK3+CL3-CN3-CJ3-CD3-BU3-BS3 -> -4.9620656 | EQ3: =CM3-CO3-CH3-CE3-BW3-BR3 -> 3.7748373 | ER3: =CA3+CB3+CC3+CD3+CE3+CF3-BV3 -> 1.3975499 | ES3: =BO3+BP3+BQ3+BR3+BS3-BY3-CB3 -> 1.839495 | ET3: =CG3+CH3+CI3+CJ3-CC3-BZ3-BP3 -> 8.7641229 | EU3: =-BQ3-BX3-CF3-CG3-CK3-CM3-CP3 -> 3.90168 | EW3: =LARGE($EN$2:$EU$2,2) -> 4.0625653 | EX3: =INDEX(EN1:EU1,MATCH(EW3,EN2:EU2,0)) -> CHF
A4: previous | B4: 2 | C4: =RTD("fxbluelabs.excelrtd", , "21422436","@bh,AUDUSD,h4,close,2") -> 0.67353 | D4: =RTD("fxbluelabs.excelrtd", , "21422436","@bh,AUDNZD,h4,close,2") -> 1.09493 | E4: =RTD("fxbluelabs.excelrtd", , "21422436","@bh,AUDJPY,h4,close,2") -> 97.753 | F4: =RTD("fxbluelabs.excelrtd", , "21422436","@bh,AUDCHF,h4,close,2") -> 0.57345 | G4: =RTD("fxbluelabs.excelrtd", , "21422436","@bh,AUDCAD,h4,close,2") -> 0.9151 | H4: =RTD("fxbluelabs.excelrtd", , "21422436","@bh,EURUSD,h4,close,2") -> 1.11434 | I4: =RTD("fxbluelabs.excelrtd", , "21422436","@bh,EURCAD,h4,close,2") -> 1.51397 | J4: =RTD("fxbluelabs.excelrtd", , "21422436","@bh,EURGBP,h4,close,2") -> 0.85172 | K4: =RTD("fxbluelabs.excelrtd", , "21422436","@bh,EURCHF,h4,close,2") -> 0.94875 | L4: =RTD("fxbluelabs.excelrtd", , "21422436","@bh,EURJPY,h4,close,2") -> 161.729 | M4: =RTD("fxbluelabs.excelrtd", , "21422436","@bh,EURAUD,h4,close,2") -> 1.65444 | N4: =RTD("fxbluelabs.excelrtd", , "21422436","@bh,EURNZD,h4,close,2") -> 1.81151 | O4: =RTD("fxbluelabs.excelrtd", , "21422436","@bh,GBPUSD,h4,close,2") -> 1.30839 | P4: =RTD("fxbluelabs.excelrtd", , "21422436","@bh,GBPAUD,h4,close,2") -> 1.9425 | Q4: =RTD("fxbluelabs.excelrtd", , "21422436","@bh,GBPNZD,h4,close,2") -> 2.12695 | R4: =RTD("fxbluelabs.excelrtd", , "21422436","@bh,GBPCAD,h4,close,2") -> 1.77757 | S4: =RTD("fxbluelabs.excelrtd", , "21422436","@bh,GBPCHF,h4,close,2") -> 1.11384 | T4: =RTD("fxbluelabs.excelrtd", , "21422436","@bh,GBPJPY,h4,close,2") -> 189.863 | U4: =RTD("fxbluelabs.excelrtd", , "21422436","@bh,NZDJPY,h4,close,2") -> 89.275 | V4: =RTD("fxbluelabs.excelrtd", , "21422436","@bh,NZDCHF,h4,close,2") -> 0.52372 | W4: =RTD("fxbluelabs.excelrtd", , "21422436","@bh,NZDUSD,h4,close,2") -> 0.61512 | X4: =RTD("fxbluelabs.excelrtd", , "21422436","@bh,NZDCAD,h4,close,2") -> 0.83572 | Y4: =RTD("fxbluelabs.excelrtd", , "21422436","@bh,CADJPY,h4,close,2") -> 106.82 | Z4: =RTD("fxbluelabs.excelrtd", , "21422436","@bh,CADCHF,h4,close,2") -> 0.62664 | AA4: =RTD("fxbluelabs.excelrtd", , "21422436","@bh,CHFJPY,h4,close,2") -> 170.462 | AB4: =RTD("fxbluelabs.excelrtd", , "21422436","@bh,USDCAD,h4,close,2") -> 1.35877 | AC4: =RTD("fxbluelabs.excelrtd", , "21422436","@bh,USDCHF,h4,close,2") -> 0.85141 | AD4: =RTD("fxbluelabs.excelrtd", , "21422436","@bh,USDJPY,h4,close,2") -> 145.135 | AH4: 3 | AI4: =IF(C4=0,0,(C4-C5)*100/C5) -> -0.12159858 | AJ4: =IF(D4=0,0,(D4-D5)*100/D5) -> -0.069362685 | AK4: =IF(E4=0,0,(E4-E5)*100/E5) -> -0.25814746 | AL4: =IF(F4=0,0,(F4-F5)*100/F5) -> -0.16538997 | AM4: =IF(G4=0,0,(G4-G5)*100/G5) -> -0.11679055 | AN4: =IF(H4=0,0,(H4-H5)*100/H5) -> -0.038572979 | AO4: =IF(I4=0,0,(I4-I5)*100/I5) -> -0.035655096 | AP4: =IF(J4=0,0,(J4-J5)*100/J5) -> 0.01056797 | ... BJ4: =IF(AD4=0,0,(AD4-AD5)*100/AD5) -> -0.13692598 | BN4: 3 | BO4: =AI4+SUM(AI5:AI39) -> 1.8221812 | BP4: =AJ4+SUM(AJ5:AJ39) -> -0.85796826 | BQ4: =AK4+SUM(AK5:AK39) -> -0.75959503 | BR4: =AL4+SUM(AL5:AL39) -> -0.53531705 | BS4: =AM4+SUM(AM5:AM39) -> 0.76271007 | BT4: =AN4+SUM(AN5:AN39) -> 1.5133809 | BU4: =AO4+SUM(AO5:AO39) -> 0.45260928 | BV4: =AP4+SUM(AP5:AP39) -> -0.18076215 | ... CP4: =BJ4+SUM(BJ5:BJ39) -> -2.5837078 | CU4: 3 | CV4: =BT4+BU4+BV4+BW4+BX4+BY4+BZ4 -> -1.605466 | CW4: =CN4+CO4+CP4-CI4-CA4-BT4-BO4 -> -13.729125 | CX4: =CK4+CL4-CN4-CJ4-CD4-BU4-BS4 -> -5.2581152 | CY4: =CM4-CO4-CH4-CE4-BW4-BR4 -> 3.8466487 | CZ4: =CA4+CB4+CC4+CD4+CE4+CF4-BV4 -> -0.14727733 | DA4: =BO4+BP4+BQ4+BR4+BS4-BY4-CB4 -> 0.85931082 | DB4: =CG4+CH4+CI4+CJ4-CC4-BZ4-BP4 -> 7.7732383 | DC4: =-BQ4-BX4-CF4-CG4-CK4-CM4-CP4 -> 6.9615553 | DF4: 3 | DG4: =CN4 -> -1.0533513 | DH4: =BU4 -> 0.45260928 | DI4: =CO4 -> -2.3578045 | DJ4: =BW4 -> -0.84477384 | DK4: =-(CA4) -> -1.702766 | DL4: =BV4 -> -0.18076215 | DM4: =-(BO4) -> -1.8221812 | DN4: =BY4 -> -0.30650846 | DO4: =-(CI4) -> -2.6959334 | DP4: =BZ4 -> -1.1671967 | DQ4: =CP4 -> -2.5837078 | DR4: =BX4 -> -1.072215 | DS4: =-(BT4) -> -1.5133809 | DT4: =BT4 -> 1.5133809 | DX4: 3 | DY4: =SUM(IF($EB$2="Buy", EN4, IF($EB$2="Sell", -EN4, 0)), IF($EC$2="Buy", EO4, IF($EC$2="Sell", -EO4, 0)), IF($ED$2="Buy", EP4, IF($ED$2="Sell", -EP4, 0)), IF($EE$2="Buy", EQ4, IF($EE$2="Sell", -EQ4, 0)), IF($EF$2="Buy", ER4, IF($EF$2="Sell", -ER4, 0)), IF($EG$2="Buy", ES4, IF($EG$2="Sell", -ES4, 0)), IF($EH$2="Buy", ET4, IF($EH$2="Sell", -ET4, 0)), IF($EI$2="Buy", EU4, IF($EI$2="Sell", -EU4, 0))) -> 12.123659 | EJ4: ="-" -> - | EM4: 3 | EN4: =BT4+BU4+BV4+BW4+BX4+BY4+BZ4 -> -1.605466 | EO4: =CN4+CO4+CP4-CI4-CA4-BT4-BO4 -> -13.729125 | EP4: =CK4+CL4-CN4-CJ4-CD4-BU4-BS4 -> -5.2581152 | EQ4: =CM4-CO4-CH4-CE4-BW4-BR4 -> 3.8466487 | ER4: =CA4+CB4+CC4+CD4+CE4+CF4-BV4 -> -0.14727733 | ES4: =BO4+BP4+BQ4+BR4+BS4-BY4-CB4 -> 0.85931082 | ET4: =CG4+CH4+CI4+CJ4-CC4-BZ4-BP4 -> 7.7732383 | EU4: =-BQ4-BX4-CF4-CG4-CK4-CM4-CP4 -> 6.9615553 | EW4: =LARGE($EN$2:$EU$2,3) -> 2.5349527 | EX4: =INDEX(EN1:EU1,MATCH(EW4,EN2:EU2,0)) -> JPY
A5: previous | B5: 3 | C5: =RTD("fxbluelabs.excelrtd", , "21422436","@bh,AUDUSD,h4,close,3") -> 0.67435 | D5: =RTD("fxbluelabs.excelrtd", , "21422436","@bh,AUDNZD,h4,close,3") -> 1.09569 | E5: =RTD("fxbluelabs.excelrtd", , "21422436","@bh,AUDJPY,h4,close,3") -> 98.006 | F5: =RTD("fxbluelabs.excelrtd", , "21422436","@bh,AUDCHF,h4,close,3") -> 0.5744 | G5: =RTD("fxbluelabs.excelrtd", , "21422436","@bh,AUDCAD,h4,close,3") -> 0.91617 | H5: =RTD("fxbluelabs.excelrtd", , "21422436","@bh,EURUSD,h4,close,3") -> 1.11477 | I5: =RTD("fxbluelabs.excelrtd", , "21422436","@bh,EURCAD,h4,close,3") -> 1.51451 | J5: =RTD("fxbluelabs.excelrtd", , "21422436","@bh,EURGBP,h4,close,3") -> 0.85163 | K5: =RTD("fxbluelabs.excelrtd", , "21422436","@bh,EURCHF,h4,close,3") -> 0.94954 | L5: =RTD("fxbluelabs.excelrtd", , "21422436","@bh,EURJPY,h4,close,3") -> 162.01 | M5: =RTD("fxbluelabs.excelrtd", , "21422436","@bh,EURAUD,h4,close,3") -> 1.65309 | N5: =RTD("fxbluelabs.excelrtd", , "21422436","@bh,EURNZD,h4,close,3") -> 1.81128 | O5: =RTD("fxbluelabs.excelrtd", , "21422436","@bh,GBPUSD,h4,close,3") -> 1.30901 | P5: =RTD("fxbluelabs.excelrtd", , "21422436","@bh,GBPAUD,h4,close,3") -> 1.94101 | Q5: =RTD("fxbluelabs.excelrtd", , "21422436","@bh,GBPNZD,h4,close,3") -> 2.12678 | R5: =RTD("fxbluelabs.excelrtd", , "21422436","@bh,GBPCAD,h4,close,3") -> 1.77829 | S5: =RTD("fxbluelabs.excelrtd", , "21422436","@bh,GBPCHF,h4,close,3") -> 1.11482 | T5: =RTD("fxbluelabs.excelrtd", , "21422436","@bh,GBPJPY,h4,close,3") -> 190.209 | U5: =RTD("fxbluelabs.excelrtd", , "21422436","@bh,NZDJPY,h4,close,3") -> 89.445 | V5: =RTD("fxbluelabs.excelrtd", , "21422436","@bh,NZDCHF,h4,close,3") -> 0.52422 | W5: =RTD("fxbluelabs.excelrtd", , "21422436","@bh,NZDUSD,h4,close,3") -> 0.61544 | X5: =RTD("fxbluelabs.excelrtd", , "21422436","@bh,NZDCAD,h4,close,3") -> 0.83612 | Y5: =RTD("fxbluelabs.excelrtd", , "21422436","@bh,CADJPY,h4,close,3") -> 106.973 | Z5: =RTD("fxbluelabs.excelrtd", , "21422436","@bh,CADCHF,h4,close,3") -> 0.62696 | AA5: =RTD("fxbluelabs.excelrtd", , "21422436","@bh,CHFJPY,h4,close,3") -> 170.616 | AB5: =RTD("fxbluelabs.excelrtd", , "21422436","@bh,USDCAD,h4,close,3") -> 1.35871 | AC5: =RTD("fxbluelabs.excelrtd", , "21422436","@bh,USDCHF,h4,close,3") -> 0.85179 | AD5: =RTD("fxbluelabs.excelrtd", , "21422436","@bh,USDJPY,h4,close,3") -> 145.334 | AH5: 4 | AI5: =IF(C5=0,0,(C5-C6)*100/C6) -> -0.0088966652 | AJ5: =IF(D5=0,0,(D5-D6)*100/D6) -> 0.030127082 | AK5: =IF(E5=0,0,(E5-E6)*100/E6) -> 0.033682749 | AL5: =IF(F5=0,0,(F5-F6)*100/F6) -> 0.0087054932 | AM5: =IF(G5=0,0,(G5-G6)*100/G6) -> -0.058906306 | AN5: =IF(H5=0,0,(H5-H6)*100/H6) -> -0.019731119 | AO5: =IF(I5=0,0,(I5-I6)*100/I6) -> -0.071918712 | AP5: =IF(J5=0,0,(J5-J6)*100/J6) -> -0.014088641 | ... BJ5: =IF(AD5=0,0,(AD5-AD6)*100/AD6) -> 0.042678562 | BN5: 4 | BO5: =AI5+SUM(AI6:AI40) -> 1.9437797 | BP5: =AJ5+SUM(AJ6:AJ40) -> -0.78860557 | BQ5: =AK5+SUM(AK6:AK40) -> -0.50144757 | BR5: =AL5+SUM(AL6:AL40) -> -0.36992708 | BS5: =AM5+SUM(AM6:AM40) -> 0.87950062 | BT5: =AN5+SUM(AN6:AN40) -> 1.5519539 | BU5: =AO5+SUM(AO6:AO40) -> 0.48826437 | BV5: =AP5+SUM(AP6:AP40) -> -0.19133012 | ... CP5: =BJ5+SUM(BJ6:BJ40) -> -2.4467818 | CU5: 4 | CV5: =BT5+BU5+BV5+BW5+BX5+BY5+BZ5 -> -1.3795251 | CW5: =CN5+CO5+CP5-CI5-CA5-BT5-BO5 -> -13.811534 | CX5: =CK5+CL5-CN5-CJ5-CD5-BU5-BS5 -> -5.3004066 | CY5: =CM5-CO5-CH5-CE5-BW5-BR5 -> 3.4604234 | CZ5: =CA5+CB5+CC5+CD5+CE5+CF5-BV5 -> 0.13619728 | DA5: =BO5+BP5+BQ5+BR5+BS5-BY5-CB5 -> 1.7490295 | DB5: =CG5+CH5+CI5+CJ5-CC5-BZ5-BP5 -> 8.1098432 | DC5: =-BQ5-BX5-CF5-CG5-CK5-CM5-CP5 -> 5.7877818 | DF5: 4 | DG5: =CN5 -> -1.0577672 | DH5: =BU5 -> 0.48826437 | DI5: =CO5 -> -2.3131926 | DJ5: =BW5 -> -0.76157566 | DK5: =-(CA5) -> -1.7501301 | DL5: =BV5 -> -0.19133012 | DM5: =-(BO5) -> -1.9437797 | DN5: =BY5 -> -0.38817371 | DO5: =-(CI5) -> -2.7479287 | DP5: =BZ5 -> -1.1798949 | DQ5: =CP5 -> -2.4467818 | DR5: =BX5 -> -0.89876894 | DS5: =-(BT5) -> -1.5519539 | DT5: =BT5 -> 1.5519539 | DX5: 4 | DY5: =SUM(IF($EB$2="Buy", EN5, IF($EB$2="Sell", -EN5, 0)), IF($EC$2="Buy", EO5, IF($EC$2="Sell", -EO5, 0)), IF($ED$2="Buy", EP5, IF($ED$2="Sell", -EP5, 0)), IF($EE$2="Buy", EQ5, IF($EE$2="Sell", -EQ5, 0)), IF($EF$2="Buy", ER5, IF($EF$2="Sell", -ER5, 0)), IF($EG$2="Buy", ES5, IF($EG$2="Sell", -ES5, 0)), IF($EH$2="Buy", ET5, IF($EH$2="Sell", -ET5, 0)), IF($EI$2="Buy", EU5, IF($EI$2="Sell", -EU5, 0))) -> 12.432009 | EM5: 4 | EN5: =BT5+BU5+BV5+BW5+BX5+BY5+BZ5 -> -1.3795251 | EO5: =CN5+CO5+CP5-CI5-CA5-BT5-BO5 -> -13.811534 | EP5: =CK5+CL5-CN5-CJ5-CD5-BU5-BS5 -> -5.3004066 | EQ5: =CM5-CO5-CH5-CE5-BW5-BR5 -> 3.4604234 | ER5: =CA5+CB5+CC5+CD5+CE5+CF5-BV5 -> 0.13619728 | ES5: =BO5+BP5+BQ5+BR5+BS5-BY5-CB5 -> 1.7490295 | ET5: =CG5+CH5+CI5+CJ5-CC5-BZ5-BP5 -> 8.1098432 | EU5: =-BQ5-BX5-CF5-CG5-CK5-CM5-CP5 -> 5.7877818 | EW5: =LARGE($EN$2:$EU$2,4) -> 1.9246427 | EX5: =INDEX(EN1:EU1,MATCH(EW5,EN2:EU2,0)) -> GBP
A6: previous | B6: 4 | C6: =RTD("fxbluelabs.excelrtd", , "21422436","@bh,AUDUSD,h4,close,4") -> 0.67441 | D6: =RTD("fxbluelabs.excelrtd", , "21422436","@bh,AUDNZD,h4,close,4") -> 1.09536 | E6: =RTD("fxbluelabs.excelrtd", , "21422436","@bh,AUDJPY,h4,close,4") -> 97.973 | F6: =RTD("fxbluelabs.excelrtd", , "21422436","@bh,AUDCHF,h4,close,4") -> 0.57435 | G6: =RTD("fxbluelabs.excelrtd", , "21422436","@bh,AUDCAD,h4,close,4") -> 0.91671 | H6: =RTD("fxbluelabs.excelrtd", , "21422436","@bh,EURUSD,h4,close,4") -> 1.11499 | I6: =RTD("fxbluelabs.excelrtd", , "21422436","@bh,EURCAD,h4,close,4") -> 1.5156 | J6: =RTD("fxbluelabs.excelrtd", , "21422436","@bh,EURGBP,h4,close,4") -> 0.85175 | K6: =RTD("fxbluelabs.excelrtd", , "21422436","@bh,EURCHF,h4,close,4") -> 0.94961 | L6: =RTD("fxbluelabs.excelrtd", , "21422436","@bh,EURJPY,h4,close,4") -> 161.981 | M6: =RTD("fxbluelabs.excelrtd", , "21422436","@bh,EURAUD,h4,close,4") -> 1.65321 | N6: =RTD("fxbluelabs.excelrtd", , "21422436","@bh,EURNZD,h4,close,4") -> 1.81105 | O6: =RTD("fxbluelabs.excelrtd", , "21422436","@bh,GBPUSD,h4,close,4") -> 1.30909 | P6: =RTD("fxbluelabs.excelrtd", , "21422436","@bh,GBPAUD,h4,close,4") -> 1.941 | Q6: =RTD("fxbluelabs.excelrtd", , "21422436","@bh,GBPNZD,h4,close,4") -> 2.12611 | R6: =RTD("fxbluelabs.excelrtd", , "21422436","@bh,GBPCAD,h4,close,4") -> 1.77944 | S6: =RTD("fxbluelabs.excelrtd", , "21422436","@bh,GBPCHF,h4,close,4") -> 1.11488 | T6: =RTD("fxbluelabs.excelrtd", , "21422436","@bh,GBPJPY,h4,close,4") -> 190.173 | U6: =RTD("fxbluelabs.excelrtd", , "21422436","@bh,NZDJPY,h4,close,4") -> 89.406 | V6: =RTD("fxbluelabs.excelrtd", , "21422436","@bh,NZDCHF,h4,close,4") -> 0.52417 | W6: =RTD("fxbluelabs.excelrtd", , "21422436","@bh,NZDUSD,h4,close,4") -> 0.6157 | X6: =RTD("fxbluelabs.excelrtd", , "21422436","@bh,NZDCAD,h4,close,4") -> 0.83684 | Y6: =RTD("fxbluelabs.excelrtd", , "21422436","@bh,CADJPY,h4,close,4") -> 106.866 | Z6: =RTD("fxbluelabs.excelrtd", , "21422436","@bh,CADCHF,h4,close,4") -> 0.62649 | AA6: =RTD("fxbluelabs.excelrtd", , "21422436","@bh,CHFJPY,h4,close,4") -> 170.564 | AB6: =RTD("fxbluelabs.excelrtd", , "21422436","@bh,USDCAD,h4,close,4") -> 1.35934 | AC6: =RTD("fxbluelabs.excelrtd", , "21422436","@bh,USDCHF,h4,close,4") -> 0.85167 | AD6: =RTD("fxbluelabs.excelrtd", , "21422436","@bh,USDJPY,h4,close,4") -> 145.272 | AH6: 5 | AI6: =IF(C6=0,0,(C6-C7)*100/C7) -> 0.038567084 | AJ6: =IF(D6=0,0,(D6-D7)*100/D7) -> 0.026482325 | AK6: =IF(E6=0,0,(E6-E7)*100/E7) -> 0.092969085 | AL6: =IF(F6=0,0,(F6-F7)*100/F7) -> 0.074923334 | AM6: =IF(G6=0,0,(G6-G7)*100/G7) -> 0.061125362 | AN6: =IF(H6=0,0,(H6-H7)*100/H7) -> 0.030502848 | AO6: =IF(I6=0,0,(I6-I7)*100/I7) -> 0.055454329 | AP6: =IF(J6=0,0,(J6-J7)*100/J7) -> 0.021137429 | ... BJ6: =IF(AD6=0,0,(AD6-AD7)*100/AD7) -> 0.054410337 | BN6: 5 | BO6: =AI6+SUM(AI7:AI41) -> 1.9526764 | BP6: =AJ6+SUM(AJ7:AJ41) -> -0.81873265 | BQ6: =AK6+SUM(AK7:AK41) -> -0.53513032 | BR6: =AL6+SUM(AL7:AL41) -> -0.37863257 | BS6: =AM6+SUM(AM7:AM41) -> 0.93840693 | BT6: =AN6+SUM(AN7:AN41) -> 1.571685 | BU6: =AO6+SUM(AO7:AO41) -> 0.56018309 | BV6: =AP6+SUM(AP7:AP41) -> -0.17724148 | ... CP6: =BJ6+SUM(BJ7:BJ41) -> -2.4894604 | CU6: 5 | CV6: =BT6+BU6+BV6+BW6+BX6+BY6+BZ6 -> -1.2897597 | CW6: =CN6+CO6+CP6-CI6-CA6-BT6-BO6 -> -13.898924 | CX6: =CK6+CL6-CN6-CJ6-CD6-BU6-BS6 -> -5.8033892 | CY6: =CM6-CO6-CH6-CE6-BW6-BR6 -> 3.4495174 | CZ6: =CA6+CB6+CC6+CD6+CE6+CF6-BV6 -> 0.1472703 | DA6: =BO6+BP6+BQ6+BR6+BS6-BY6-CB6 -> 1.7375737 | DB6: =CG6+CH6+CI6+CJ6-CC6-BZ6-BP6 -> 8.2592892 | DC6: =-BQ6-BX6-CF6-CG6-CK6-CM6-CP6 -> 6.0752103 | DF6: 5 | DG6: =CN6 -> -1.0114212 | DH6: =BU6 -> 0.56018309 | DI6: =CO6 -> -2.3272825 | DJ6: =BW6 -> -0.75420422 | DK6: =-(CA6) -> -1.7562412 | DL6: =BV6 -> -0.17724148 | DM6: =-(BO6) -> -1.9526764 | DN6: =BY6 -> -0.3809151 | DO6: =-(CI6) -> -2.7901571 | DP6: =BZ6 -> -1.1925948 | DQ6: =CP6 -> -2.4894604 | DR6: =BX6 -> -0.91667227 | DS6: =-(BT6) -> -1.571685 | DT6: =BT6 -> 1.571685 | DX6: 5 | DY6: =SUM(IF($EB$2="Buy", EN6, IF($EB$2="Sell", -EN6, 0)), IF($EC$2="Buy", EO6, IF($EC$2="Sell", -EO6, 0)), IF($ED$2="Buy", EP6, IF($ED$2="Sell", -EP6, 0)), IF($EE$2="Buy", EQ6, IF($EE$2="Sell", -EQ6, 0)), IF($EF$2="Buy", ER6, IF($EF$2="Sell", -ER6, 0)), IF($EG$2="Buy", ES6, IF($EG$2="Sell", -ES6, 0)), IF($EH$2="Buy", ET6, IF($EH$2="Sell", -ET6, 0)), IF($EI$2="Buy", EU6, IF($EI$2="Sell", -EU6, 0))) -> 12.609164 | EM6: 5 | EN6: =BT6+BU6+BV6+BW6+BX6+BY6+BZ6 -> -1.2897597 | EO6: =CN6+CO6+CP6-CI6-CA6-BT6-BO6 -> -13.898924 | EP6: =CK6+CL6-CN6-CJ6-CD6-BU6-BS6 -> -5.8033892 | EQ6: =CM6-CO6-CH6-CE6-BW6-BR6 -> 3.4495174 | ER6: =CA6+CB6+CC6+CD6+CE6+CF6-BV6 -> 0.1472703 | ES6: =BO6+BP6+BQ6+BR6+BS6-BY6-CB6 -> 1.7375737 | ET6: =CG6+CH6+CI6+CJ6-CC6-BZ6-BP6 -> 8.2592892 | EU6: =-BQ6-BX6-CF6-CG6-CK6-CM6-CP6 -> 6.0752103 | EW6: =LARGE($EN$2:$EU$2,5) -> 0.80805846 | EX6: =INDEX(EN1:EU1,MATCH(EW6,EN2:EU2,0)) -> AUD
A7: previous | B7: 5 | C7: =RTD("fxbluelabs.excelrtd", , "21422436","@bh,AUDUSD,h4,close,5") -> 0.67415 | D7: =RTD("fxbluelabs.excelrtd", , "21422436","@bh,AUDNZD,h4,close,5") -> 1.09507 | E7: =RTD("fxbluelabs.excelrtd", , "21422436","@bh,AUDJPY,h4,close,5") -> 97.882 | F7: =RTD("fxbluelabs.excelrtd", , "21422436","@bh,AUDCHF,h4,close,5") -> 0.57392 | G7: =RTD("fxbluelabs.excelrtd", , "21422436","@bh,AUDCAD,h4,close,5") -> 0.91615 | H7: =RTD("fxbluelabs.excelrtd", , "21422436","@bh,EURUSD,h4,close,5") -> 1.11465 | I7: =RTD("fxbluelabs.excelrtd", , "21422436","@bh,EURCAD,h4,close,5") -> 1.51476 | J7: =RTD("fxbluelabs.excelrtd", , "21422436","@bh,EURGBP,h4,close,5") -> 0.85157 | K7: =RTD("fxbluelabs.excelrtd", , "21422436","@bh,EURCHF,h4,close,5") -> 0.94891 | L7: =RTD("fxbluelabs.excelrtd", , "21422436","@bh,EURJPY,h4,close,5") -> 161.836 | M7: =RTD("fxbluelabs.excelrtd", , "21422436","@bh,EURAUD,h4,close,5") -> 1.65338 | N7: =RTD("fxbluelabs.excelrtd", , "21422436","@bh,EURNZD,h4,close,5") -> 1.81058 | O7: =RTD("fxbluelabs.excelrtd", , "21422436","@bh,GBPUSD,h4,close,5") -> 1.30893 | P7: =RTD("fxbluelabs.excelrtd", , "21422436","@bh,GBPAUD,h4,close,5") -> 1.94158 | Q7: =RTD("fxbluelabs.excelrtd", , "21422436","@bh,GBPNZD,h4,close,5") -> 2.12617 | R7: =RTD("fxbluelabs.excelrtd", , "21422436","@bh,GBPCAD,h4,close,5") -> 1.77879 | S7: =RTD("fxbluelabs.excelrtd", , "21422436","@bh,GBPCHF,h4,close,5") -> 1.11432 | T7: =RTD("fxbluelabs.excelrtd", , "21422436","@bh,GBPJPY,h4,close,5") -> 190.048 | U7: =RTD("fxbluelabs.excelrtd", , "21422436","@bh,NZDJPY,h4,close,5") -> 89.377 | V7: =RTD("fxbluelabs.excelrtd", , "21422436","@bh,NZDCHF,h4,close,5") -> 0.52405 | W7: =RTD("fxbluelabs.excelrtd", , "21422436","@bh,NZDUSD,h4,close,5") -> 0.61557 | X7: =RTD("fxbluelabs.excelrtd", , "21422436","@bh,NZDCAD,h4,close,5") -> 0.83655 | Y7: =RTD("fxbluelabs.excelrtd", , "21422436","@bh,CADJPY,h4,close,5") -> 106.839 | Z7: =RTD("fxbluelabs.excelrtd", , "21422436","@bh,CADCHF,h4,close,5") -> 0.62644 | AA7: =RTD("fxbluelabs.excelrtd", , "21422436","@bh,CHFJPY,h4,close,5") -> 170.546 | AB7: =RTD("fxbluelabs.excelrtd", , "21422436","@bh,USDCAD,h4,close,5") -> 1.35902 | AC7: =RTD("fxbluelabs.excelrtd", , "21422436","@bh,USDCHF,h4,close,5") -> 0.85134 | AD7: =RTD("fxbluelabs.excelrtd", , "21422436","@bh,USDJPY,h4,close,5") -> 145.193 | AH7: 6 | AI7: =IF(C7=0,0,(C7-C8)*100/C8) -> -0.023727959 | AJ7: =IF(D7=0,0,(D7-D8)*100/D8) -> -0.18867237 | AK7: =IF(E7=0,0,(E7-E8)*100/E8) -> -0.42320291 | AL7: =IF(F7=0,0,(F7-F8)*100/F8) -> -0.33515672 | AM7: =IF(G7=0,0,(G7-G8)*100/G8) -> -0.083976792 | AN7: =IF(H7=0,0,(H7-H8)*100/H8) -> 0.19325843 | AO7: =IF(I7=0,0,(I7-I8)*100/I8) -> 0.13088486 | AP7: =IF(J7=0,0,(J7-J8)*100/J8) -> -0.14305984 | ... BJ7: =IF(AD7=0,0,(AD7-AD8)*100/AD8) -> -0.40129512 | BN7: 6 | BO7: =AI7+SUM(AI8:AI42) -> 1.9141093 | BP7: =AJ7+SUM(AJ8:AJ42) -> -0.84521498 | BQ7: =AK7+SUM(AK8:AK42) -> -0.6280994 | BR7: =AL7+SUM(AL8:AL42) -> -0.45355591 | BS7: =AM7+SUM(AM8:AM42) -> 0.87728157 | BT7: =AN7+SUM(AN8:AN42) -> 1.5411822 | BU7: =AO7+SUM(AO8:AO42) -> 0.50472876 | BV7: =AP7+SUM(AP8:AP42) -> -0.19837891 | ... CP7: =BJ7+SUM(BJ8:BJ42) -> -2.5438707 | CU7: 6 | CV7: =BT7+BU7+BV7+BW7+BX7+BY7+BZ7 -> -1.5758966 | CW7: =CN7+CO7+CP7-CI7-CA7-BT7-BO7 -> -13.913231 | CX7: =CK7+CL7-CN7-CJ7-CD7-BU7-BS7 -> -5.6253085 | CY7: =CM7-CO7-CH7-CE7-BW7-BR7 -> 3.6995711 | CZ7: =CA7+CB7+CC7+CD7+CE7+CF7-BV7 -> 0.036309137 | DA7: =BO7+BP7+BQ7+BR7+BS7-BY7-CB7 -> 1.403352 | DB7: =CG7+CH7+CI7+CJ7-CC7-BZ7-BP7 -> 8.1977779 | DC7: =-BQ7-BX7-CF7-CG7-CK7-CM7-CP7 -> 6.4462323 | DF7: 6 | DG7: =CN7 -> -1.0349676 | DH7: =BU7 -> 0.50472876 | DI7: =CO7 -> -2.366045 | DJ7: =BW7 -> -0.82797307 | DK7: =-(CA7) -> -1.7440175 | DL7: =BV7 -> -0.19837891 | DM7: =-(BO7) -> -1.9141093 | DN7: =BY7 -> -0.37063314 | DO7: =-(CI7) -> -2.7690385 | DP7: =BZ7 -> -1.2185533 | DQ7: =CP7 -> -2.5438707 | DR7: =BX7 -> -1.0062691 | DS7: =-(BT7) -> -1.5411822 | DT7: =BT7 -> 1.5411822 | DX7: 6 | DY7: =SUM(IF($EB$2="Buy", EN7, IF($EB$2="Sell", -EN7, 0)), IF($EC$2="Buy", EO7, IF($EC$2="Sell", -EO7, 0)), IF($ED$2="Buy", EP7, IF($ED$2="Sell", -EP7, 0)), IF($EE$2="Buy", EQ7, IF($EE$2="Sell", -EQ7, 0)), IF($EF$2="Buy", ER7, IF($EF$2="Sell", -ER7, 0)), IF($EG$2="Buy", ES7, IF($EG$2="Sell", -ES7, 0)), IF($EH$2="Buy", ET7, IF($EH$2="Sell", -ET7, 0)), IF($EI$2="Buy", EU7, IF($EI$2="Sell", -EU7, 0))) -> 12.337334 | EM7: 6 | EN7: =BT7+BU7+BV7+BW7+BX7+BY7+BZ7 -> -1.5758966 | EO7: =CN7+CO7+CP7-CI7-CA7-BT7-BO7 -> -13.913231 | EP7: =CK7+CL7-CN7-CJ7-CD7-BU7-BS7 -> -5.6253085 | EQ7: =CM7-CO7-CH7-CE7-BW7-BR7 -> 3.6995711 | ER7: =CA7+CB7+CC7+CD7+CE7+CF7-BV7 -> 0.036309137 | ES7: =BO7+BP7+BQ7+BR7+BS7-BY7-CB7 -> 1.403352 | ET7: =CG7+CH7+CI7+CJ7-CC7-BZ7-BP7 -> 8.1977779 | EU7: =-BQ7-BX7-CF7-CG7-CK7-CM7-CP7 -> 6.4462323 | EW7: =LARGE($EN$2:$EU$2,6) -> -1.4544019 | EX7: =INDEX(EN1:EU1,MATCH(EW7,EN2:EU2,0)) -> EUR
