Workbook
Name AUDCAD: #REF!
Name AUDCAD: #REF!
Name AUDCAD: #REF!
Name AUDCAD: #REF!
Name AUDCHF: #REF!
Name AUDCHF: #REF!
Name AUDCHF: #REF!
Name AUDCHF: #REF!
Name AUDJPY: #REF!
Name AUDNZD: #REF!
Name AUDUSD: #REF!
Name CADCHF: #REF!
Name CADJPY: #REF!
Name CHFJPY: #REF!
Name EURAUD: #REF!
Name EURCAD: #REF!
Name EURCHF: #REF!
Name EURGBP: #REF!
Name EURJPY: #REF!
Name EURNZD: #REF!
Name EURUSD: #REF!
Name GBPAUD: #REF!
Name GBPCAD: #REF!
Name GBPCHF: #REF!
Name GBPJPY: #REF!
Name GBPNZD: #REF!
Name GBPUSD: #REF!
Name NZDCAD: #REF!
Name NZDCHF: #REF!
Name NZDJPY: #REF!
Name NZDUSD: #REF!
Name Trend: [1]!CheckList_tbl[#Data]
Name Trend: [1]!CheckList_tbl[#Data]
Name Trend: [1]!CheckList_tbl[#Data]
Name Trend: [1]!CheckList_tbl[#Data]
Name USDCAD: #REF!
Name USDCAD: #REF!
Name USDCAD: #REF!
Name USDCAD: #REF!
Name USDCHF: #REF!
Name USDCHF: #REF!
Name USDCHF: #REF!
Name USDCHF: #REF!
Name USDJPY: #REF!
Name USDJPY: #REF!
Name USDJPY: #REF!
Name USDJPY: #REF!

Sheet SATORI H1
A1: Time | C1: AUDUSD | D1: AUDNZD | E1: AUDJPY | F1: AUDCHF | G1: AUDCAD | H1: EURUSD | I1: EURCAD | J1: EURGBP | K1: EURCHF | L1: EURJPY | M1: EURAUD | N1: EURNZD | O1: GBPUSD | P1: GBPAUD | Q1: GBPNZD | R1: GBPCAD | S1: GBPCHF | T1: GBPJPY | U1: NZDJPY | V1: NZDCHF | W1: NZDUSD | X1: NZDCAD | Y1: CADJPY | Z1: CADCHF | AA1: CHFJPY | AB1: USDCAD | AC1: USDCHF | AD1: USDJPY | AH1: ID | AI1: AUDUSD | AJ1: AUDNZD | AK1: AUDJPY | AL1: AUDCHF | AM1: AUDCAD | AN1: EURUSD | AO1: EURCAD | AP1: EURGBP | AQ1: EURCHF | AR1: EURJPY | AS1: EURAUD | AT1: EURNZD | AU1: GBPUSD | AV1: GBPAUD | AW1: GBPNZD | AX1: GBPCAD | AY1: GBPCHF | AZ1: GBPJPY | BA1: NZDJPY | BB1: NZDCHF | BC1: NZDUSD | BD1: NZDCAD | BE1: CADJPY | BF1: CADCHF | BG1: CHFJPY | BH1: USDCAD | BI1: USDCHF | BJ1: USDJPY | BN1: ID | BO1: AUDUSD | BP1: AUDNZD | BQ1: AUDJPY | BR1: AUDCHF | BS1: AUDCAD | BT1: EURUSD | BU1: EURCAD | BV1: EURGBP | BW1: EURCHF | BX1: EURJPY | BY1: EURAUD | BZ1: EURNZD | CA1: GBPUSD | CB1: GBPAUD | CC1: GBPNZD | CD1: GBPCAD | CE1: GBPCHF | CF1: GBPJPY | CG1: NZDJPY | CH1: NZDCHF | CI1: NZDUSD | CJ1: NZDCAD | CK1: CADJPY | CL1: CADCHF | CM1: CHFJPY | CN1: USDCAD | CO1: USDCHF | CP1: USDJPY | CU1: ID | CV1: EUR | CW1: USD | CX1: CAD | CY1: CHF | CZ1: GBP | DA1: AUD | DB1: NZD | DC1: JPY | DF1: ID | DG1: USDCAD | DH1: EURCAD | DI1: USDCHF | DJ1: EURCHF | DK1: USDGBP | DL1: EURGBP | DM1: USDAUD | DN1: EURAUD | DO1: USDNZD | DP1: EURNZD | DQ1: USDJPY | DR1: EURJPY | DS1: UE | DT1: EU | DX1: ID | DY1: Portfolio Performance | EA1: Portfolio | EB1: EUR | EC1: USD | ED1: CAD | EE1: CHF | EF1: GBP | EG1: AUD | EH1: NZD | EI1: JPY | EJ1: DD | EM1: ID | EN1: EUR | EO1: USD | EP1: CAD | EQ1: CHF | ER1: GBP | ES1: AUD | ET1: NZD | EU1: JPY | EW1: Market performance H1 | FB1: ID | FC1: EUR | FD1: USD | FE1: CAD | FF1: CHF | FG1: GBP | FH1: AUD | FI1: NZD | FJ1: JPY
A2: =NOW() -> 45526.807 | B2: LAST PRICE | C2: =RTD("fxbluelabs.excelrtd", , "21422436","@bh,AUDUSD,h1,close,0") -> 0.67268 | D2: =RTD("fxbluelabs.excelrtd", , "21422436","@bh,AUDNZD,h1,close,0") -> 1.09422 | E2: =RTD("fxbluelabs.excelrtd", , "21422436","@bh,AUDJPY,h1,close,0") -> 98.289 | F2: =RTD("fxbluelabs.excelrtd", , "21422436","@bh,AUDCHF,h1,close,0") -> 0.57331 | G2: =RTD("fxbluelabs.excelrtd", , "21422436","@bh,AUDCAD,h1,close,0") -> 0.91423 | H2: =RTD("fxbluelabs.excelrtd", , "21422436","@bh,EURUSD,h1,close,0") -> 1.11322 | I2: =RTD("fxbluelabs.excelrtd", , "21422436","@bh,EURCAD,h1,close,0") -> 1.51296 | J2: =RTD("fxbluelabs.excelrtd", , "21422436","@bh,EURGBP,h1,close,0") -> 0.84967 | K2: =RTD("fxbluelabs.excelrtd", , "21422436","@bh,EURCHF,h1,close,0") -> 0.94875 | L2: =RTD("fxbluelabs.excelrtd", , "21422436","@bh,EURJPY,h1,close,0") -> 162.654 | M2: =RTD("fxbluelabs.excelrtd", , "21422436","@bh,EURAUD,h1,close,0") -> 1.65486 | N2: =RTD("fxbluelabs.excelrtd", , "21422436","@bh,EURNZD,h1,close,0") -> 1.81082 | O2: =RTD("fxbluelabs.excelrtd", , "21422436","@bh,GBPUSD,h1,close,0") -> 1.31026 | P2: =RTD("fxbluelabs.excelrtd", , "21422436","@bh,GBPAUD,h1,close,0") -> 1.94763 | Q2: =RTD("fxbluelabs.excelrtd", , "21422436","@bh,GBPNZD,h1,close,0") -> 2.13106 | R2: =RTD("fxbluelabs.excelrtd", , "21422436","@bh,GBPCAD,h1,close,0") -> 1.78062 | S2: =RTD("fxbluelabs.excelrtd", , "21422436","@bh,GBPCHF,h1,close,0") -> 1.11654 | T2: =RTD("fxbluelabs.excelrtd", , "21422436","@bh,GBPJPY,h1,close,0") -> 191.417 | U2: =RTD("fxbluelabs.excelrtd", , "21422436","@bh,NZDJPY,h1,close,0") -> 89.816 | V2: =RTD("fxbluelabs.excelrtd", , "21422436","@bh,NZDCHF,h1,close,0") -> 0.52389 | W2: =RTD("fxbluelabs.excelrtd", , "21422436","@bh,NZDUSD,h1,close,0") -> 0.61473 | X2: =RTD("fxbluelabs.excelrtd", , "21422436","@bh,NZDCAD,h1,close,0") -> 0.83543 | Y2: =RTD("fxbluelabs.excelrtd", , "21422436","@bh,CADJPY,h1,close,0") -> 107.508 | Z2: =RTD("fxbluelabs.excelrtd", , "21422436","@bh,CADCHF,h1,close,0") -> 0.62709 | AA2: =RTD("fxbluelabs.excelrtd", , "21422436","@bh,CHFJPY,h1,close,0") -> 171.433 | AB2: =RTD("fxbluelabs.excelrtd", , "21422436","@bh,USDCAD,h1,close,0") -> 1.35917 | AC2: =RTD("fxbluelabs.excelrtd", , "21422436","@bh,USDCHF,h1,close,0") -> 0.85228 | AD2: =RTD("fxbluelabs.excelrtd", , "21422436","@bh,USDJPY,h1,close,0") -> 146.113 | AH2: 1 | AI2: =IF(C2=0,0,(C2-C3)*100/C3) -> -0.0594283 | AJ2: =IF(D2=0,0,(D2-D3)*100/D3) -> 0.0063976603 | AK2: =IF(E2=0,0,(E2-E3)*100/E3) -> 0.026459603 | AL2: =IF(F2=0,0,(F2-F3)*100/F3) -> -0.022670201 | AM2: =IF(G2=0,0,(G2-G3)*100/G3) -> -0.0032813423 | AN2: =IF(H2=0,0,(H2-H3)*100/H3) -> -0.041304504 | AO2: =IF(I2=0,0,(I2-I3)*100/I3) -> 0.014543147 | AP2: =IF(J2=0,0,(J2-J3)*100/J3) -> 0.030609482 | ... BJ2: =IF(AD2=0,0,(AD2-AD3)*100/AD3) -> 0.083566795 | BN2: 1 | BO2: =AI2+SUM(AI3:AI37) -> -0.1639926 | BP2: =AJ2+SUM(AJ3:AJ37) -> -0.28905934 | BQ2: =AK2+SUM(AK3:AK37) -> -0.1627883 | BR2: =AL2+SUM(AL3:AL37) -> -0.49868357 | BS2: =AM2+SUM(AM3:AM37) -> -0.29232313 | BT2: =AN2+SUM(AN3:AN37) -> 0.13635889 | BU2: =AO2+SUM(AO3:AO37) -> 0.0084329009 | BV2: =AP2+SUM(AP3:AP37) -> -0.4352855 | ... CP2: =BJ2+SUM(BJ3:BJ37) -> -0.00058242351 | CU2: 1 | CV2: =BT2+BU2+BV2+BW2+BX2+BY2+BZ2 -> -0.045986362 | CW2: =CN2+CO2+CP2-CI2-CA2-BT2-BO2 -> -1.1409315 | CX2: =CK2+CL2-CN2-CJ2-CD2-BU2-BS2 -> -0.11049285 | CY2: =CM2-CO2-CH2-CE2-BW2-BR2 -> 1.3474399 | CZ2: =CA2+CB2+CC2+CD2+CE2+CF2-BV2 -> 3.4208268 | DA2: =BO2+BP2+BQ2+BR2+BS2-BY2-CB2 -> -2.4396127 | DB2: =CG2+CH2+CI2+CJ2-CC2-BZ2-BP2 -> -0.12070079 | DC2: =-BQ2-BX2-CF2-CG2-CK2-CM2-CP2 -> -1.1171885 | DF2: 1 | DG2: =CN2 -> -0.12477692 | DH2: =BU2 -> 0.0084329009 | DI2: =CO2 -> -0.33428838 | DJ2: =BW2 -> -0.20038624 | DK2: =-(CA2) -> -0.57774933 | DL2: =BV2 -> -0.4352855 | DM2: =-(BO2) -> 0.1639926 | DN2: =BY2 -> 0.29911937 | DO2: =-(CI2) -> -0.1311682 | DP2: =BZ2 -> 0.011156271 | DQ2: =CP2 -> -0.00058242351 | DR2: =BX2 -> 0.13461794 | DS2: =-(BT2) -> -0.13635889 | DT2: =BT2 -> 0.13635889 | DX2: 1 | DY2: =SUM(IF($EB$2="Buy", EN2, IF($EB$2="Sell", -EN2, 0)), IF($EC$2="Buy", EO2, IF($EC$2="Sell", -EO2, 0)), IF($ED$2="Buy", EP2, IF($ED$2="Sell", -EP2, 0)), IF($EE$2="Buy", EQ2, IF($EE$2="Sell", -EQ2, 0)), IF($EF$2="Buy", ER2, IF($EF$2="Sell", -ER2, 0)), IF($EG$2="Buy", ES2, IF($EG$2="Sell", -ES2, 0)), IF($EH$2="Buy", ET2, IF($EH$2="Sell", -ET2, 0)), IF($EI$2="Buy", EU2, IF($EI$2="Sell", -EU2, 0))) -> 1.0949452 | EB2: Buy | EC2: Sell | ED2: - | EJ2: Buy | EM2: 1 | EN2: =BT2+BU2+BV2+BW2+BX2+BY2+BZ2 -> -0.045986362 | EO2: =CN2+CO2+CP2-CI2-CA2-BT2-BO2 -> -1.1409315 | EP2: =CK2+CL2-CN2-CJ2-CD2-BU2-BS2 -> -0.11049285 | EQ2: =CM2-CO2-CH2-CE2-BW2-BR2 -> 1.3474399 | ER2: =CA2+CB2+CC2+CD2+CE2+CF2-BV2 -> 3.4208268 | ES2: =BO2+BP2+BQ2+BR2+BS2-BY2-CB2 -> -2.4396127 | ET2: =CG2+CH2+CI2+CJ2-CC2-BZ2-BP2 -> -0.12070079 | EU2: =-BQ2-BX2-CF2-CG2-CK2-CM2-CP2 -> -1.1171885 | EW2: =LARGE($EN$2:$EU$2,1) -> 3.4208268 | EX2: =INDEX(EN1:EU1,MATCH(EW2,EN2:EU2,0)) -> GBP
A3: previous | B3: 1 | C3: =RTD("fxbluelabs.excelrtd", , "21422436","@bh,AUDUSD,h1,close,1") -> 0.67308 | D3: =RTD("fxbluelabs.excelrtd", , "21422436","@bh,AUDNZD,h1,close,1") -> 1.09415 | E3: =RTD("fxbluelabs.excelrtd", , "21422436","@bh,AUDJPY,h1,close,1") -> 98.263 | F3: =RTD("fxbluelabs.excelrtd", , "21422436","@bh,AUDCHF,h1,close,1") -> 0.57344 | G3: =RTD("fxbluelabs.excelrtd", , "21422436","@bh,AUDCAD,h1,close,1") -> 0.91426 | H3: =RTD("fxbluelabs.excelrtd", , "21422436","@bh,EURUSD,h1,close,1") -> 1.11368 | I3: =RTD("fxbluelabs.excelrtd", , "21422436","@bh,EURCAD,h1,close,1") -> 1.51274 | J3: =RTD("fxbluelabs.excelrtd", , "21422436","@bh,EURGBP,h1,close,1") -> 0.84941 | K3: =RTD("fxbluelabs.excelrtd", , "21422436","@bh,EURCHF,h1,close,1") -> 0.94881 | L3: =RTD("fxbluelabs.excelrtd", , "21422436","@bh,EURJPY,h1,close,1") -> 162.589 | M3: =RTD("fxbluelabs.excelrtd", , "21422436","@bh,EURAUD,h1,close,1") -> 1.6546 | N3: =RTD("fxbluelabs.excelrtd", , "21422436","@bh,EURNZD,h1,close,1") -> 1.81038 | O3: =RTD("fxbluelabs.excelrtd", , "21422436","@bh,GBPUSD,h1,close,1") -> 1.3112 | P3: =RTD("fxbluelabs.excelrtd", , "21422436","@bh,GBPAUD,h1,close,1") -> 1.94799 | Q3: =RTD("fxbluelabs.excelrtd", , "21422436","@bh,GBPNZD,h1,close,1") -> 2.13143 | R3: =RTD("fxbluelabs.excelrtd", , "21422436","@bh,GBPCAD,h1,close,1") -> 1.78098 | S3: =RTD("fxbluelabs.excelrtd", , "21422436","@bh,GBPCHF,h1,close,1") -> 1.11696 | T3: =RTD("fxbluelabs.excelrtd", , "21422436","@bh,GBPJPY,h1,close,1") -> 191.395 | U3: =RTD("fxbluelabs.excelrtd", , "21422436","@bh,NZDJPY,h1,close,1") -> 89.8 | V3: =RTD("fxbluelabs.excelrtd", , "21422436","@bh,NZDCHF,h1,close,1") -> 0.52405 | W3: =RTD("fxbluelabs.excelrtd", , "21422436","@bh,NZDUSD,h1,close,1") -> 0.61511 | X3: =RTD("fxbluelabs.excelrtd", , "21422436","@bh,NZDCAD,h1,close,1") -> 0.83551 | Y3: =RTD("fxbluelabs.excelrtd", , "21422436","@bh,CADJPY,h1,close,1") -> 107.478 | Z3: =RTD("fxbluelabs.excelrtd", , "21422436","@bh,CADCHF,h1,close,1") -> 0.62721 | AA3: =RTD("fxbluelabs.excelrtd", , "21422436","@bh,CHFJPY,h1,close,1") -> 171.357 | AB3: =RTD("fxbluelabs.excelrtd", , "21422436","@bh,USDCAD,h1,close,1") -> 1.35846 | AC3: =RTD("fxbluelabs.excelrtd", , "21422436","@bh,USDCHF,h1,close,1") -> 0.85197 | AD3: =RTD("fxbluelabs.excelrtd", , "21422436","@bh,USDJPY,h1,close,1") -> 145.991 | AH3: 2 | AI3: =IF(C3=0,0,(C3-C4)*100/C4) -> -0.086096844 | AJ3: =IF(D3=0,0,(D3-D4)*100/D4) -> -0.015534761 | AK3: =IF(E3=0,0,(E3-E4)*100/E4) -> 0.069249962 | AL3: =IF(F3=0,0,(F3-F4)*100/F4) -> -0.022665063 | AM3: =IF(G3=0,0,(G3-G4)*100/G4) -> -0.076506077 | AN3: =IF(H3=0,0,(H3-H4)*100/H4) -> -0.077161878 | AO3: =IF(I3=0,0,(I3-I4)*100/I4) -> -0.06540136 | AP3: =IF(J3=0,0,(J3-J4)*100/J4) -> -0.0058860923 | ... BJ3: =IF(AD3=0,0,(AD3-AD4)*100/AD4) -> 0.15573118 | BN3: 2 | BO3: =AI3+SUM(AI4:AI38) -> -0.1045643 | BP3: =AJ3+SUM(AJ4:AJ38) -> -0.295457 | BQ3: =AK3+SUM(AK4:AK38) -> -0.1892479 | BR3: =AL3+SUM(AL4:AL38) -> -0.47601337 | BS3: =AM3+SUM(AM4:AM38) -> -0.28904179 | BT3: =AN3+SUM(AN4:AN38) -> 0.1776634 | BU3: =AO3+SUM(AO4:AO38) -> -0.006110246 | BV3: =AP3+SUM(AP4:AP38) -> -0.46589498 | ... CP3: =BJ3+SUM(BJ4:BJ38) -> -0.084149219 | CU3: 2 | CV3: =BT3+BU3+BV3+BW3+BX3+BY3+BZ3 -> -0.12350694 | CW3: =CN3+CO3+CP3-CI3-CA3-BT3-BO3 -> -1.5473501 | CX3: =CK3+CL3-CN3-CJ3-CD3-BU3-BS3 -> -0.085534902 | CY3: =CM3-CO3-CH3-CE3-BW3-BR3 -> 1.2423469 | CZ3: =CA3+CB3+CC3+CD3+CE3+CF3-BV3 -> 3.6052872 | DA3: =BO3+BP3+BQ3+BR3+BS3-BY3-CB3 -> -2.3898569 | DB3: =CG3+CH3+CI3+CJ3-CC3-BZ3-BP3 -> -0.023291458 | DC3: =-BQ3-BX3-CF3-CG3-CK3-CM3-CP3 -> -0.86560754 | DF3: 2 | DG3: =CN3 -> -0.17704198 | DH3: =BU3 -> -0.006110246 | DI3: =CO3 -> -0.37067464 | DJ3: =BW3 -> -0.19406253 | DK3: =-(CA3) -> -0.64943939 | DL3: =BV3 -> -0.46589498 | DM3: =-(BO3) -> 0.1045643 | DN3: =BY3 -> 0.2834056 | DO3: =-(CI3) -> -0.19294577 | DP3: =BZ3 -> -0.013148019 | DQ3: =CP3 -> -0.084149219 | DR3: =BX3 -> 0.094639835 | DS3: =-(BT3) -> -0.1776634 | DT3: =BT3 -> 0.1776634 | DX3: 2 | DY3: =SUM(IF($EB$2="Buy", EN3, IF($EB$2="Sell", -EN3, 0)), IF($EC$2="Buy", EO3, IF($EC$2="Sell", -EO3, 0)), IF($ED$2="Buy", EP3, IF($ED$2="Sell", -EP3, 0)), IF($EE$2="Buy", EQ3, IF($EE$2="Sell", -EQ3, 0)), IF($EF$2="Buy", ER3, IF($EF$2="Sell", -ER3, 0)), IF($EG$2="Buy", ES3, IF($EG$2="Sell", -ES3, 0)), IF($EH$2="Buy", ET3, IF($EH$2="Sell", -ET3, 0)), IF($EI$2="Buy", EU3, IF($EI$2="Sell", -EU3, 0))) -> 1.4238431 | EJ3: Sell | EM3: 2 | EN3: =BT3+BU3+BV3+BW3+BX3+BY3+BZ3 -> -0.12350694 | EO3: =CN3+CO3+CP3-CI3-CA3-BT3-BO3 -> -1.5473501 | EP3: =CK3+CL3-CN3-CJ3-CD3-BU3-BS3 -> -0.085534902 | EQ3: =CM3-CO3-CH3-CE3-BW3-BR3 -> 1.2423469 | ER3: =CA3+CB3+CC3+CD3+CE3+CF3-BV3 -> 3.6052872 | ES3: =BO3+BP3+BQ3+BR3+BS3-BY3-CB3 -> -2.3898569 | ET3: =CG3+CH3+CI3+CJ3-CC3-BZ3-BP3 -> -0.023291458 | EU3: =-BQ3-BX3-CF3-CG3-CK3-CM3-CP3 -> -0.86560754 | EW3: =LARGE($EN$2:$EU$2,2) -> 1.3474399 | EX3: =INDEX(EN1:EU1,MATCH(EW3,EN2:EU2,0)) -> CHF
A4: previous | B4: 2 | C4: =RTD("fxbluelabs.excelrtd", , "21422436","@bh,AUDUSD,h1,close,2") -> 0.67366 | D4: =RTD("fxbluelabs.excelrtd", , "21422436","@bh,AUDNZD,h1,close,2") -> 1.09432 | E4: =RTD("fxbluelabs.excelrtd", , "21422436","@bh,AUDJPY,h1,close,2") -> 98.195 | F4: =RTD("fxbluelabs.excelrtd", , "21422436","@bh,AUDCHF,h1,close,2") -> 0.57357 | G4: =RTD("fxbluelabs.excelrtd", , "21422436","@bh,AUDCAD,h1,close,2") -> 0.91496 | H4: =RTD("fxbluelabs.excelrtd", , "21422436","@bh,EURUSD,h1,close,2") -> 1.11454 | I4: =RTD("fxbluelabs.excelrtd", , "21422436","@bh,EURCAD,h1,close,2") -> 1.51373 | J4: =RTD("fxbluelabs.excelrtd", , "21422436","@bh,EURGBP,h1,close,2") -> 0.84946 | K4: =RTD("fxbluelabs.excelrtd", , "21422436","@bh,EURCHF,h1,close,2") -> 0.94894 | L4: =RTD("fxbluelabs.excelrtd", , "21422436","@bh,EURJPY,h1,close,2") -> 162.458 | M4: =RTD("fxbluelabs.excelrtd", , "21422436","@bh,EURAUD,h1,close,2") -> 1.65443 | N4: =RTD("fxbluelabs.excelrtd", , "21422436","@bh,EURNZD,h1,close,2") -> 1.81049 | O4: =RTD("fxbluelabs.excelrtd", , "21422436","@bh,GBPUSD,h1,close,2") -> 1.31208 | P4: =RTD("fxbluelabs.excelrtd", , "21422436","@bh,GBPAUD,h1,close,2") -> 1.94762 | Q4: =RTD("fxbluelabs.excelrtd", , "21422436","@bh,GBPNZD,h1,close,2") -> 2.13135 | R4: =RTD("fxbluelabs.excelrtd", , "21422436","@bh,GBPCAD,h1,close,2") -> 1.78199 | S4: =RTD("fxbluelabs.excelrtd", , "21422436","@bh,GBPCHF,h1,close,2") -> 1.117 | T4: =RTD("fxbluelabs.excelrtd", , "21422436","@bh,GBPJPY,h1,close,2") -> 191.225 | U4: =RTD("fxbluelabs.excelrtd", , "21422436","@bh,NZDJPY,h1,close,2") -> 89.724 | V4: =RTD("fxbluelabs.excelrtd", , "21422436","@bh,NZDCHF,h1,close,2") -> 0.52409 | W4: =RTD("fxbluelabs.excelrtd", , "21422436","@bh,NZDUSD,h1,close,2") -> 0.61554 | X4: =RTD("fxbluelabs.excelrtd", , "21422436","@bh,NZDCAD,h1,close,2") -> 0.83601 | Y4: =RTD("fxbluelabs.excelrtd", , "21422436","@bh,CADJPY,h1,close,2") -> 107.321 | Z4: =RTD("fxbluelabs.excelrtd", , "21422436","@bh,CADCHF,h1,close,2") -> 0.62688 | AA4: =RTD("fxbluelabs.excelrtd", , "21422436","@bh,CHFJPY,h1,close,2") -> 171.196 | AB4: =RTD("fxbluelabs.excelrtd", , "21422436","@bh,USDCAD,h1,close,2") -> 1.3583 | AC4: =RTD("fxbluelabs.excelrtd", , "21422436","@bh,USDCHF,h1,close,2") -> 0.85143 | AD4: =RTD("fxbluelabs.excelrtd", , "21422436","@bh,USDJPY,h1,close,2") -> 145.764 | AH4: 3 | AI4: =IF(C4=0,0,(C4-C5)*100/C5) -> -0.050445104 | AJ4: =IF(D4=0,0,(D4-D5)*100/D5) -> 0.018279531 | AK4: =IF(E4=0,0,(E4-E5)*100/E5) -> 0.058081477 | AL4: =IF(F4=0,0,(F4-F5)*100/F5) -> 0 | AM4: =IF(G4=0,0,(G4-G5)*100/G5) -> -0.017484046 | AN4: =IF(H4=0,0,(H4-H5)*100/H5) -> 0.050270202 | AO4: =IF(I4=0,0,(I4-I5)*100/I5) -> 0.081984013 | AP4: =IF(J4=0,0,(J4-J5)*100/J5) -> 0.081294108 | ... BJ4: =IF(AD4=0,0,(AD4-AD5)*100/AD5) -> 0.10644946 | BN4: 3 | BO4: =AI4+SUM(AI5:AI39) -> -0.018467455 | BP4: =AJ4+SUM(AJ5:AJ39) -> -0.27992224 | BQ4: =AK4+SUM(AK5:AK39) -> -0.25849786 | BR4: =AL4+SUM(AL5:AL39) -> -0.4533483 | BS4: =AM4+SUM(AM5:AM39) -> -0.21253571 | BT4: =AN4+SUM(AN5:AN39) -> 0.25482527 | BU4: =AO4+SUM(AO5:AO39) -> 0.059291114 | BV4: =AP4+SUM(AP5:AP39) -> -0.46000889 | ... CP4: =BJ4+SUM(BJ5:BJ39) -> -0.2398804 | CU4: 3 | CV4: =BT4+BU4+BV4+BW4+BX4+BY4+BZ4 -> -0.046194077 | CW4: =CN4+CO4+CP4-CI4-CA4-BT4-BO4 -> -2.0784686 | CX4: =CK4+CL4-CN4-CJ4-CD4-BU4-BS4 -> -0.53108077 | CY4: =CM4-CO4-CH4-CE4-BW4-BR4 -> 1.1641475 | CZ4: =CA4+CB4+CC4+CD4+CE4+CF4-BV4 -> 3.6150779 | DA4: =BO4+BP4+BQ4+BR4+BS4-BY4-CB4 -> -2.2290312 | DB4: =CG4+CH4+CI4+CJ4-CC4-BZ4-BP4 -> 0.011444898 | DC4: =-BQ4-BX4-CF4-CG4-CK4-CM4-CP4 -> -0.1460511 | DF4: 3 | DG4: =CN4 -> -0.18882141 | DH4: =BU4 -> 0.059291114 | DI4: =CO4 -> -0.43409735 | DJ4: =BW4 -> -0.18036303 | DK4: =-(CA4) -> -0.71650847 | DL4: =BV4 -> -0.46000889 | DM4: =-(BO4) -> 0.018467455 | DN4: =BY4 -> 0.27313016 | DO4: =-(CI4) -> -0.26280313 | DP4: =BZ4 -> -0.0070723154 | DQ4: =CP4 -> -0.2398804 | DR4: =BX4 -> 0.014003609 | DS4: =-(BT4) -> -0.25482527 | DT4: =BT4 -> 0.25482527 | DX4: 3 | DY4: =SUM(IF($EB$2="Buy", EN4, IF($EB$2="Sell", -EN4, 0)), IF($EC$2="Buy", EO4, IF($EC$2="Sell", -EO4, 0)), IF($ED$2="Buy", EP4, IF($ED$2="Sell", -EP4, 0)), IF($EE$2="Buy", EQ4, IF($EE$2="Sell", -EQ4, 0)), IF($EF$2="Buy", ER4, IF($EF$2="Sell", -ER4, 0)), IF($EG$2="Buy", ES4, IF($EG$2="Sell", -ES4, 0)), IF($EH$2="Buy", ET4, IF($EH$2="Sell", -ET4, 0)), IF($EI$2="Buy", EU4, IF($EI$2="Sell", -EU4, 0))) -> 2.0322745 | EJ4: ="-" -> - | EM4: 3 | EN4: =BT4+BU4+BV4+BW4+BX4+BY4+BZ4 -> -0.046194077 | EO4: =CN4+CO4+CP4-CI4-CA4-BT4-BO4 -> -2.0784686 | EP4: =CK4+CL4-CN4-CJ4-CD4-BU4-BS4 -> -0.53108077 | EQ4: =CM4-CO4-CH4-CE4-BW4-BR4 -> 1.1641475 | ER4: =CA4+CB4+CC4+CD4+CE4+CF4-BV4 -> 3.6150779 | ES4: =BO4+BP4+BQ4+BR4+BS4-BY4-CB4 -> -2.2290312 | ET4: =CG4+CH4+CI4+CJ4-CC4-BZ4-BP4 -> 0.011444898 | EU4: =-BQ4-BX4-CF4-CG4-CK4-CM4-CP4 -> -0.1460511 | EW4: =LARGE($EN$2:$EU$2,3) -> -0.045986362 | EX4: =INDEX(EN1:EU1,MATCH(EW4,EN2:EU2,0)) -> EUR
A5: previous | B5: 3 | C5: =RTD("fxbluelabs.excelrtd", , "21422436","@bh,AUDUSD,h1,close,3") -> 0.674 | D5: =RTD("fxbluelabs.excelrtd", , "21422436","@bh,AUDNZD,h1,close,3") -> 1.09412 | E5: =RTD("fxbluelabs.excelrtd", , "21422436","@bh,AUDJPY,h1,close,3") -> 98.138 | F5: =RTD("fxbluelabs.excelrtd", , "21422436","@bh,AUDCHF,h1,close,3") -> 0.57357 | G5: =RTD("fxbluelabs.excelrtd", , "21422436","@bh,AUDCAD,h1,close,3") -> 0.91512 | H5: =RTD("fxbluelabs.excelrtd", , "21422436","@bh,EURUSD,h1,close,3") -> 1.11398 | I5: =RTD("fxbluelabs.excelrtd", , "21422436","@bh,EURCAD,h1,close,3") -> 1.51249 | J5: =RTD("fxbluelabs.excelrtd", , "21422436","@bh,EURGBP,h1,close,3") -> 0.84877 | K5: =RTD("fxbluelabs.excelrtd", , "21422436","@bh,EURCHF,h1,close,3") -> 0.94798 | L5: =RTD("fxbluelabs.excelrtd", , "21422436","@bh,EURJPY,h1,close,3") -> 162.198 | M5: =RTD("fxbluelabs.excelrtd", , "21422436","@bh,EURAUD,h1,close,3") -> 1.65275 | N5: =RTD("fxbluelabs.excelrtd", , "21422436","@bh,EURNZD,h1,close,3") -> 1.80836 | O5: =RTD("fxbluelabs.excelrtd", , "21422436","@bh,GBPUSD,h1,close,3") -> 1.31254 | P5: =RTD("fxbluelabs.excelrtd", , "21422436","@bh,GBPAUD,h1,close,3") -> 1.94728 | Q5: =RTD("fxbluelabs.excelrtd", , "21422436","@bh,GBPNZD,h1,close,3") -> 2.13065 | R5: =RTD("fxbluelabs.excelrtd", , "21422436","@bh,GBPCAD,h1,close,3") -> 1.78202 | S5: =RTD("fxbluelabs.excelrtd", , "21422436","@bh,GBPCHF,h1,close,3") -> 1.11682 | T5: =RTD("fxbluelabs.excelrtd", , "21422436","@bh,GBPJPY,h1,close,3") -> 191.085 | U5: =RTD("fxbluelabs.excelrtd", , "21422436","@bh,NZDJPY,h1,close,3") -> 89.688 | V5: =RTD("fxbluelabs.excelrtd", , "21422436","@bh,NZDCHF,h1,close,3") -> 0.52418 | W5: =RTD("fxbluelabs.excelrtd", , "21422436","@bh,NZDUSD,h1,close,3") -> 0.61596 | X5: =RTD("fxbluelabs.excelrtd", , "21422436","@bh,NZDCAD,h1,close,3") -> 0.8363 | Y5: =RTD("fxbluelabs.excelrtd", , "21422436","@bh,CADJPY,h1,close,3") -> 107.241 | Z5: =RTD("fxbluelabs.excelrtd", , "21422436","@bh,CADCHF,h1,close,3") -> 0.62677 | AA5: =RTD("fxbluelabs.excelrtd", , "21422436","@bh,CHFJPY,h1,close,3") -> 171.1 | AB5: =RTD("fxbluelabs.excelrtd", , "21422436","@bh,USDCAD,h1,close,3") -> 1.35787 | AC5: =RTD("fxbluelabs.excelrtd", , "21422436","@bh,USDCHF,h1,close,3") -> 0.851 | AD5: =RTD("fxbluelabs.excelrtd", , "21422436","@bh,USDJPY,h1,close,3") -> 145.609 | AH5: 4 | AI5: =IF(C5=0,0,(C5-C6)*100/C6) -> -0.088941595 | AJ5: =IF(D5=0,0,(D5-D6)*100/D6) -> -0.073064699 | AK5: =IF(E5=0,0,(E5-E6)*100/E6) -> -0.11094486 | AL5: =IF(F5=0,0,(F5-F6)*100/F6) -> -0.11667595 | AM5: =IF(G5=0,0,(G5-G6)*100/G6) -> -0.082980303 | AN5: =IF(H5=0,0,(H5-H6)*100/H6) -> -0.025128785 | AO5: =IF(I5=0,0,(I5-I6)*100/I6) -> -0.019830908 | AP5: =IF(J5=0,0,(J5-J6)*100/J6) -> -0.11180153 | ... BJ5: =IF(AD5=0,0,(AD5-AD6)*100/AD6) -> -0.019912386 | BN5: 4 | BO5: =AI5+SUM(AI6:AI40) -> 0.031977649 | BP5: =AJ5+SUM(AJ6:AJ40) -> -0.29820177 | BQ5: =AK5+SUM(AK6:AK40) -> -0.31657934 | BR5: =AL5+SUM(AL6:AL40) -> -0.4533483 | BS5: =AM5+SUM(AM6:AM40) -> -0.19505167 | BT5: =AN5+SUM(AN6:AN40) -> 0.20455507 | BU5: =AO5+SUM(AO6:AO40) -> -0.0226929 | BV5: =AP5+SUM(AP6:AP40) -> -0.54130299 | ... CP5: =BJ5+SUM(BJ6:BJ40) -> -0.34632986 | CU5: 4 | CV5: =BT5+BU5+BV5+BW5+BX5+BY5+BZ5 -> -0.74074332 | CW5: =CN5+CO5+CP5-CI5-CA5-BT5-BO5 -> -2.3705218 | CX5: =CK5+CL5-CN5-CJ5-CD5-BU5-BS5 -> -0.56342222 | CY5: =CM5-CO5-CH5-CE5-BW5-BR5 -> 1.2587843 | CZ5: =CA5+CB5+CC5+CD5+CE5+CF5-BV5 -> 3.593405 | DA5: =BO5+BP5+BQ5+BR5+BS5-BY5-CB5 -> -2.118354 | DB5: =CG5+CH5+CI5+CJ5-CC5-BZ5-BP5 -> 0.26025786 | DC5: =-BQ5-BX5-CF5-CG5-CK5-CM5-CP5 -> 0.4228886 | DF5: 4 | DG5: =CN5 -> -0.22048866 | DH5: =BU5 -> -0.0226929 | DI5: =CO5 -> -0.48462614 | DJ5: =BW5 -> -0.28163099 | DK5: =-(CA5) -> -0.75155502 | DL5: =BV5 -> -0.54130299 | DM5: =-(BO5) -> -0.031977649 | DN5: =BY5 -> 0.17148139 | DO5: =-(CI5) -> -0.33098937 | DP5: =BZ5 -> -0.1248586 | DQ5: =CP5 -> -0.34632986 | DR5: =BX5 -> -0.1462943 | DS5: =-(BT5) -> -0.20455507 | DT5: =BT5 -> 0.20455507 | DX5: 4 | DY5: =SUM(IF($EB$2="Buy", EN5, IF($EB$2="Sell", -EN5, 0)), IF($EC$2="Buy", EO5, IF($EC$2="Sell", -EO5, 0)), IF($ED$2="Buy", EP5, IF($ED$2="Sell", -EP5, 0)), IF($EE$2="Buy", EQ5, IF($EE$2="Sell", -EQ5, 0)), IF($EF$2="Buy", ER5, IF($EF$2="Sell", -ER5, 0)), IF($EG$2="Buy", ES5, IF($EG$2="Sell", -ES5, 0)), IF($EH$2="Buy", ET5, IF($EH$2="Sell", -ET5, 0)), IF($EI$2="Buy", EU5, IF($EI$2="Sell", -EU5, 0))) -> 1.6297785 | EM5: 4 | EN5: =BT5+BU5+BV5+BW5+BX5+BY5+BZ5 -> -0.74074332 | EO5: =CN5+CO5+CP5-CI5-CA5-BT5-BO5 -> -2.3705218 | EP5: =CK5+CL5-CN5-CJ5-CD5-BU5-BS5 -> -0.56342222 | EQ5: =CM5-CO5-CH5-CE5-BW5-BR5 -> 1.2587843 | ER5: =CA5+CB5+CC5+CD5+CE5+CF5-BV5 -> 3.593405 | ES5: =BO5+BP5+BQ5+BR5+BS5-BY5-CB5 -> -2.118354 | ET5: =CG5+CH5+CI5+CJ5-CC5-BZ5-BP5 -> 0.26025786 | EU5: =-BQ5-BX5-CF5-CG5-CK5-CM5-CP5 -> 0.4228886 | EW5: =LARGE($EN$2:$EU$2,4) -> -0.11049285 | EX5: =INDEX(EN1:EU1,MATCH(EW5,EN2:EU2,0)) -> CAD
A6: previous | B6: 4 | C6: =RTD("fxbluelabs.excelrtd", , "21422436","@bh,AUDUSD,h1,close,4") -> 0.6746 | D6: =RTD("fxbluelabs.excelrtd", , "21422436","@bh,AUDNZD,h1,close,4") -> 1.09492 | E6: =RTD("fxbluelabs.excelrtd", , "21422436","@bh,AUDJPY,h1,close,4") -> 98.247 | F6: =RTD("fxbluelabs.excelrtd", , "21422436","@bh,AUDCHF,h1,close,4") -> 0.57424 | G6: =RTD("fxbluelabs.excelrtd", , "21422436","@bh,AUDCAD,h1,close,4") -> 0.91588 | H6: =RTD("fxbluelabs.excelrtd", , "21422436","@bh,EURUSD,h1,close,4") -> 1.11426 | I6: =RTD("fxbluelabs.excelrtd", , "21422436","@bh,EURCAD,h1,close,4") -> 1.51279 | J6: =RTD("fxbluelabs.excelrtd", , "21422436","@bh,EURGBP,h1,close,4") -> 0.84972 | K6: =RTD("fxbluelabs.excelrtd", , "21422436","@bh,EURCHF,h1,close,4") -> 0.94848 | L6: =RTD("fxbluelabs.excelrtd", , "21422436","@bh,EURJPY,h1,close,4") -> 162.276 | M6: =RTD("fxbluelabs.excelrtd", , "21422436","@bh,EURAUD,h1,close,4") -> 1.65172 | N6: =RTD("fxbluelabs.excelrtd", , "21422436","@bh,EURNZD,h1,close,4") -> 1.80851 | O6: =RTD("fxbluelabs.excelrtd", , "21422436","@bh,GBPUSD,h1,close,4") -> 1.31139 | P6: =RTD("fxbluelabs.excelrtd", , "21422436","@bh,GBPAUD,h1,close,4") -> 1.94387 | Q6: =RTD("fxbluelabs.excelrtd", , "21422436","@bh,GBPNZD,h1,close,4") -> 2.12842 | R6: =RTD("fxbluelabs.excelrtd", , "21422436","@bh,GBPCAD,h1,close,4") -> 1.78036 | S6: =RTD("fxbluelabs.excelrtd", , "21422436","@bh,GBPCHF,h1,close,4") -> 1.11615 | T6: =RTD("fxbluelabs.excelrtd", , "21422436","@bh,GBPJPY,h1,close,4") -> 190.958 | U6: =RTD("fxbluelabs.excelrtd", , "21422436","@bh,NZDJPY,h1,close,4") -> 89.728 | V6: =RTD("fxbluelabs.excelrtd", , "21422436","@bh,NZDCHF,h1,close,4") -> 0.52445 | W6: =RTD("fxbluelabs.excelrtd", , "21422436","@bh,NZDUSD,h1,close,4") -> 0.6161 | X6: =RTD("fxbluelabs.excelrtd", , "21422436","@bh,NZDCAD,h1,close,4") -> 0.83645 | Y6: =RTD("fxbluelabs.excelrtd", , "21422436","@bh,CADJPY,h1,close,4") -> 107.27 | Z6: =RTD("fxbluelabs.excelrtd", , "21422436","@bh,CADCHF,h1,close,4") -> 0.62698 | AA6: =RTD("fxbluelabs.excelrtd", , "21422436","@bh,CHFJPY,h1,close,4") -> 171.083 | AB6: =RTD("fxbluelabs.excelrtd", , "21422436","@bh,USDCAD,h1,close,4") -> 1.35779 | AC6: =RTD("fxbluelabs.excelrtd", , "21422436","@bh,USDCHF,h1,close,4") -> 0.85124 | AD6: =RTD("fxbluelabs.excelrtd", , "21422436","@bh,USDJPY,h1,close,4") -> 145.638 | AH6: 5 | AI6: =IF(C6=0,0,(C6-C7)*100/C7) -> -0.037045269 | AJ6: =IF(D6=0,0,(D6-D7)*100/D7) -> 0.035631732 | AK6: =IF(E6=0,0,(E6-E7)*100/E7) -> 0.23158539 | AL6: =IF(F6=0,0,(F6-F7)*100/F7) -> 0.083658673 | AM6: =IF(G6=0,0,(G6-G7)*100/G7) -> -0.025106155 | AN6: =IF(H6=0,0,(H6-H7)*100/H7) -> 0.04938449 | AO6: =IF(I6=0,0,(I6-I7)*100/I7) -> 0.061513632 | AP6: =IF(J6=0,0,(J6-J7)*100/J7) -> -0.074087141 | ... BJ6: =IF(AD6=0,0,(AD6-AD7)*100/AD7) -> 0.26850628 | BN6: 5 | BO6: =AI6+SUM(AI7:AI41) -> 0.12091924 | BP6: =AJ6+SUM(AJ7:AJ41) -> -0.22513707 | BQ6: =AK6+SUM(AK7:AK41) -> -0.20563448 | BR6: =AL6+SUM(AL7:AL41) -> -0.33667235 | BS6: =AM6+SUM(AM7:AM41) -> -0.11207136 | BT6: =AN6+SUM(AN7:AN41) -> 0.22968386 | BU6: =AO6+SUM(AO7:AO41) -> -0.0028619911 | BV6: =AP6+SUM(AP7:AP41) -> -0.42950146 | ... CP6: =BJ6+SUM(BJ7:BJ41) -> -0.32641748 | CU6: 5 | CV6: =BT6+BU6+BV6+BW6+BX6+BY6+BZ6 -> -0.53726502 | CW6: =CN6+CO6+CP6-CI6-CA6-BT6-BO6 -> -2.3774079 | CX6: =CK6+CL6-CN6-CJ6-CD6-BU6-BS6 -> -0.52450639 | CY6: =CM6-CO6-CH6-CE6-BW6-BR6 -> 1.0598068 | CZ6: =CA6+CB6+CC6+CD6+CE6+CF6-BV6 -> 2.8939403 | DA6: =BO6+BP6+BQ6+BR6+BS6-BY6-CB6 -> -1.4079641 | DB6: =CG6+CH6+CI6+CJ6-CC6-BZ6-BP6 -> 0.42038978 | DC6: =-BQ6-BX6-CF6-CG6-CK6-CM6-CP6 -> 0.2487948 | DF6: 5 | DG6: =CN6 -> -0.22638058 | DH6: =BU6 -> -0.0028619911 | DI6: =CO6 -> -0.45643197 | DJ6: =BW6 -> -0.22891507 | DK6: =-(CA6) -> -0.66386181 | DL6: =BV6 -> -0.42950146 | DM6: =-(BO6) -> -0.12091924 | DN6: =BY6 -> 0.10912215 | DO6: =-(CI6) -> -0.35371296 | DP6: =BZ6 -> -0.11656448 | DQ6: =CP6 -> -0.32641748 | DR6: =BX6 -> -0.098228041 | DS6: =-(BT6) -> -0.22968386 | DT6: =BT6 -> 0.22968386 | DX6: 5 | DY6: =SUM(IF($EB$2="Buy", EN6, IF($EB$2="Sell", -EN6, 0)), IF($EC$2="Buy", EO6, IF($EC$2="Sell", -EO6, 0)), IF($ED$2="Buy", EP6, IF($ED$2="Sell", -EP6, 0)), IF($EE$2="Buy", EQ6, IF($EE$2="Sell", -EQ6, 0)), IF($EF$2="Buy", ER6, IF($EF$2="Sell", -ER6, 0)), IF($EG$2="Buy", ES6, IF($EG$2="Sell", -ES6, 0)), IF($EH$2="Buy", ET6, IF($EH$2="Sell", -ET6, 0)), IF($EI$2="Buy", EU6, IF($EI$2="Sell", -EU6, 0))) -> 1.8401429 | EM6: 5 | EN6: =BT6+BU6+BV6+BW6+BX6+BY6+BZ6 -> -0.53726502 | EO6: =CN6+CO6+CP6-CI6-CA6-BT6-BO6 -> -2.3774079 | EP6: =CK6+CL6-CN6-CJ6-CD6-BU6-BS6 -> -0.52450639 | EQ6: =CM6-CO6-CH6-CE6-BW6-BR6 -> 1.0598068 | ER6: =CA6+CB6+CC6+CD6+CE6+CF6-BV6 -> 2.8939403 | ES6: =BO6+BP6+BQ6+BR6+BS6-BY6-CB6 -> -1.4079641 | ET6: =CG6+CH6+CI6+CJ6-CC6-BZ6-BP6 -> 0.42038978 | EU6: =-BQ6-BX6-CF6-CG6-CK6-CM6-CP6 -> 0.2487948 | EW6: =LARGE($EN$2:$EU$2,5) -> -0.12070079 | EX6: =INDEX(EN1:EU1,MATCH(EW6,EN2:EU2,0)) -> NZD
A7: previous | B7: 5 | C7: =RTD("fxbluelabs.excelrtd", , "21422436","@bh,AUDUSD,h1,close,5") -> 0.67485 | D7: =RTD("fxbluelabs.excelrtd", , "21422436","@bh,AUDNZD,h1,close,5") -> 1.09453 | E7: =RTD("fxbluelabs.excelrtd", , "21422436","@bh,AUDJPY,h1,close,5") -> 98.02 | F7: =RTD("fxbluelabs.excelrtd", , "21422436","@bh,AUDCHF,h1,close,5") -> 0.57376 | G7: =RTD("fxbluelabs.excelrtd", , "21422436","@bh,AUDCAD,h1,close,5") -> 0.91611 | H7: =RTD("fxbluelabs.excelrtd", , "21422436","@bh,EURUSD,h1,close,5") -> 1.11371 | I7: =RTD("fxbluelabs.excelrtd", , "21422436","@bh,EURCAD,h1,close,5") -> 1.51186 | J7: =RTD("fxbluelabs.excelrtd", , "21422436","@bh,EURGBP,h1,close,5") -> 0.85035 | K7: =RTD("fxbluelabs.excelrtd", , "21422436","@bh,EURCHF,h1,close,5") -> 0.94683 | L7: =RTD("fxbluelabs.excelrtd", , "21422436","@bh,EURJPY,h1,close,5") -> 161.761 | M7: =RTD("fxbluelabs.excelrtd", , "21422436","@bh,EURAUD,h1,close,5") -> 1.65028 | N7: =RTD("fxbluelabs.excelrtd", , "21422436","@bh,EURNZD,h1,close,5") -> 1.8063 | O7: =RTD("fxbluelabs.excelrtd", , "21422436","@bh,GBPUSD,h1,close,5") -> 1.30979 | P7: =RTD("fxbluelabs.excelrtd", , "21422436","@bh,GBPAUD,h1,close,5") -> 1.94078 | Q7: =RTD("fxbluelabs.excelrtd", , "21422436","@bh,GBPNZD,h1,close,5") -> 2.12428 | R7: =RTD("fxbluelabs.excelrtd", , "21422436","@bh,GBPCAD,h1,close,5") -> 1.77798 | S7: =RTD("fxbluelabs.excelrtd", , "21422436","@bh,GBPCHF,h1,close,5") -> 1.11344 | T7: =RTD("fxbluelabs.excelrtd", , "21422436","@bh,GBPJPY,h1,close,5") -> 190.216 | U7: =RTD("fxbluelabs.excelrtd", , "21422436","@bh,NZDJPY,h1,close,5") -> 89.552 | V7: =RTD("fxbluelabs.excelrtd", , "21422436","@bh,NZDCHF,h1,close,5") -> 0.52419 | W7: =RTD("fxbluelabs.excelrtd", , "21422436","@bh,NZDUSD,h1,close,5") -> 0.61655 | X7: =RTD("fxbluelabs.excelrtd", , "21422436","@bh,NZDCAD,h1,close,5") -> 0.83697 | Y7: =RTD("fxbluelabs.excelrtd", , "21422436","@bh,CADJPY,h1,close,5") -> 106.996 | Z7: =RTD("fxbluelabs.excelrtd", , "21422436","@bh,CADCHF,h1,close,5") -> 0.62629 | AA7: =RTD("fxbluelabs.excelrtd", , "21422436","@bh,CHFJPY,h1,close,5") -> 170.837 | AB7: =RTD("fxbluelabs.excelrtd", , "21422436","@bh,USDCAD,h1,close,5") -> 1.35763 | AC7: =RTD("fxbluelabs.excelrtd", , "21422436","@bh,USDCHF,h1,close,5") -> 0.85022 | AD7: =RTD("fxbluelabs.excelrtd", , "21422436","@bh,USDJPY,h1,close,5") -> 145.248 | AH7: 6 | AI7: =IF(C7=0,0,(C7-C8)*100/C8) -> 0.11274459 | AJ7: =IF(D7=0,0,(D7-D8)*100/D8) -> 0 | AK7: =IF(E7=0,0,(E7-E8)*100/E8) -> 0.02142879 | AL7: =IF(F7=0,0,(F7-F8)*100/F8) -> 0.034869935 | AM7: =IF(G7=0,0,(G7-G8)*100/G8) -> 0.066630257 | AN7: =IF(H7=0,0,(H7-H8)*100/H8) -> -0.11121575 | AO7: =IF(I7=0,0,(I7-I8)*100/I8) -> -0.15717456 | AP7: =IF(J7=0,0,(J7-J8)*100/J8) -> -0.14912755 | ... BJ7: =IF(AD7=0,0,(AD7-AD8)*100/AD8) -> -0.091483756 | BN7: 6 | BO7: =AI7+SUM(AI8:AI42) -> 0.15796451 | BP7: =AJ7+SUM(AJ8:AJ42) -> -0.26076881 | BQ7: =AK7+SUM(AK8:AK42) -> -0.43721987 | BR7: =AL7+SUM(AL8:AL42) -> -0.42033102 | BS7: =AM7+SUM(AM8:AM42) -> -0.086965207 | BT7: =AN7+SUM(AN8:AN42) -> 0.18029937 | BU7: =AO7+SUM(AO8:AO42) -> -0.064375623 | BV7: =AP7+SUM(AP8:AP42) -> -0.35541432 | ... CP7: =BJ7+SUM(BJ8:BJ42) -> -0.59492376 | CU7: 6 | CV7: =BT7+BU7+BV7+BW7+BX7+BY7+BZ7 -> -1.2763201 | CW7: =CN7+CO7+CP7-CI7-CA7-BT7-BO7 -> -2.7161589 | CX7: =CK7+CL7-CN7-CJ7-CD7-BU7-BS7 -> -0.77083971 | CY7: =CM7-CO7-CH7-CE7-BW7-BR7 -> 1.5866934 | CZ7: =CA7+CB7+CC7+CD7+CE7+CF7-BV7 -> 1.5762598 | DA7: =BO7+BP7+BQ7+BR7+BS7-BY7-CB7 -> -1.4502162 | DB7: =CG7+CH7+CI7+CJ7-CC7-BZ7-BP7 -> 0.66224209 | DC7: =-BQ7-BX7-CF7-CG7-CK7-CM7-CP7 -> 2.0539554 | DF7: 6 | DG7: =CN7 -> -0.23816583 | DH7: =BU7 -> -0.064375623 | DI7: =CO7 -> -0.57640092 | DJ7: =BW7 -> -0.40318077 | DK7: =-(CA7) -> -0.54170482 | DL7: =BV7 -> -0.35541432 | DM7: =-(BO7) -> -0.15796451 | DN7: =BY7 -> 0.021864233 | DO7: =-(CI7) -> -0.42669974 | DP7: =BZ7 -> -0.23891403 | DQ7: =CP7 -> -0.59492376 | DR7: =BX7 -> -0.41659897 | DS7: =-(BT7) -> -0.18029937 | DT7: =BT7 -> 0.18029937 | DX7: 6 | DY7: =SUM(IF($EB$2="Buy", EN7, IF($EB$2="Sell", -EN7, 0)), IF($EC$2="Buy", EO7, IF($EC$2="Sell", -EO7, 0)), IF($ED$2="Buy", EP7, IF($ED$2="Sell", -EP7, 0)), IF($EE$2="Buy", EQ7, IF($EE$2="Sell", -EQ7, 0)), IF($EF$2="Buy", ER7, IF($EF$2="Sell", -ER7, 0)), IF($EG$2="Buy", ES7, IF($EG$2="Sell", -ES7, 0)), IF($EH$2="Buy", ET7, IF($EH$2="Sell", -ET7, 0)), IF($EI$2="Buy", EU7, IF($EI$2="Sell", -EU7, 0))) -> 1.4398388 | EM7: 6 | EN7: =BT7+BU7+BV7+BW7+BX7+BY7+BZ7 -> -1.2763201 | EO7: =CN7+CO7+CP7-CI7-CA7-BT7-BO7 -> -2.7161589 | EP7: =CK7+CL7-CN7-CJ7-CD7-BU7-BS7 -> -0.77083971 | EQ7: =CM7-CO7-CH7-CE7-BW7-BR7 -> 1.5866934 | ER7: =CA7+CB7+CC7+CD7+CE7+CF7-BV7 -> 1.5762598 | ES7: =BO7+BP7+BQ7+BR7+BS7-BY7-CB7 -> -1.4502162 | ET7: =CG7+CH7+CI7+CJ7-CC7-BZ7-BP7 -> 0.66224209 | EU7: =-BQ7-BX7-CF7-CG7-CK7-CM7-CP7 -> 2.0539554 | EW7: =LARGE($EN$2:$EU$2,6) -> -1.1171885 | EX7: =INDEX(EN1:EU1,MATCH(EW7,EN2:EU2,0)) -> JPY
A8: previous | B8: 6 | C8: =RTD("fxbluelabs.excelrtd", , "21422436","@bh,AUDUSD,h1,close,6") -> 0.67409 | D8: =RTD("fxbluelabs.excelrtd", , "21422436","@bh,AUDNZD,h1,close,6") -> 1.09453 | E8: =RTD("fxbluelabs.excelrtd", , "21422436","@bh,AUDJPY,h1,close,6") -> 97.999 | F8: =RTD("fxbluelabs.excelrtd", , "21422436","@bh,AUDCHF,h1,close,6") -> 0.57356 | G8: =RTD("fxbluelabs.excelrtd", , "21422436","@bh,AUDCAD,h1,close,6") -> 0.9155 | H8: =RTD("fxbluelabs.excelrtd", , "21422436","@bh,EURUSD,h1,close,6") -> 1.11495 | I8: =RTD("fxbluelabs.excelrtd", , "21422436","@bh,EURCAD,h1,close,6") -> 1.51424 | J8: =RTD("fxbluelabs.excelrtd", , "21422436","@bh,EURGBP,h1,close,6") -> 0.85162 | K8: =RTD("fxbluelabs.excelrtd", , "21422436","@bh,EURCHF,h1,close,6") -> 0.94868 | L8: =RTD("fxbluelabs.excelrtd", , "21422436","@bh,EURJPY,h1,close,6") -> 162.091 | M8: =RTD("fxbluelabs.excelrtd", , "21422436","@bh,EURAUD,h1,close,6") -> 1.654 | N8: =RTD("fxbluelabs.excelrtd", , "21422436","@bh,EURNZD,h1,close,6") -> 1.81036 | O8: =RTD("fxbluelabs.excelrtd", , "21422436","@bh,GBPUSD,h1,close,6") -> 1.30925 | P8: =RTD("fxbluelabs.excelrtd", , "21422436","@bh,GBPAUD,h1,close,6") -> 1.94218 | Q8: =RTD("fxbluelabs.excelrtd", , "21422436","@bh,GBPNZD,h1,close,6") -> 2.1258 | R8: =RTD("fxbluelabs.excelrtd", , "21422436","@bh,GBPCAD,h1,close,6") -> 1.77807 | S8: =RTD("fxbluelabs.excelrtd", , "21422436","@bh,GBPCHF,h1,close,6") -> 1.11387 | T8: =RTD("fxbluelabs.excelrtd", , "21422436","@bh,GBPJPY,h1,close,6") -> 190.311 | U8: =RTD("fxbluelabs.excelrtd", , "21422436","@bh,NZDJPY,h1,close,6") -> 89.528 | V8: =RTD("fxbluelabs.excelrtd", , "21422436","@bh,NZDCHF,h1,close,6") -> 0.52398 | W8: =RTD("fxbluelabs.excelrtd", , "21422436","@bh,NZDUSD,h1,close,6") -> 0.61582 | X8: =RTD("fxbluelabs.excelrtd", , "21422436","@bh,NZDCAD,h1,close,6") -> 0.83635 | Y8: =RTD("fxbluelabs.excelrtd", , "21422436","@bh,CADJPY,h1,close,6") -> 107.044 | Z8: =RTD("fxbluelabs.excelrtd", , "21422436","@bh,CADCHF,h1,close,6") -> 0.6265 | AA8: =RTD("fxbluelabs.excelrtd", , "21422436","@bh,CHFJPY,h1,close,6") -> 170.853 | AB8: =RTD("fxbluelabs.excelrtd", , "21422436","@bh,USDCAD,h1,close,6") -> 1.35825 | AC8: =RTD("fxbluelabs.excelrtd", , "21422436","@bh,USDCHF,h1,close,6") -> 0.85088 | AD8: =RTD("fxbluelabs.excelrtd", , "21422436","@bh,USDJPY,h1,close,6") -> 145.381 | AH8: 7 | AI8: =IF(C8=0,0,(C8-C9)*100/C9) -> 0.031162818 | AJ8: =IF(D8=0,0,(D8-D9)*100/D9) -> -0.052962716 | AK8: =IF(E8=0,0,(E8-E9)*100/E9) -> 0.10623627 | AL8: =IF(F8=0,0,(F8-F9)*100/F9) -> -0.03485778 | AM8: =IF(G8=0,0,(G8-G9)*100/G9) -> 0.010924186 | AN8: =IF(H8=0,0,(H8-H9)*100/H9) -> 0.056536722 | AO8: =IF(I8=0,0,(I8-I9)*100/I9) -> 0.038978628 | AP8: =IF(J8=0,0,(J8-J9)*100/J9) -> -0.011740948 | ... BJ8: =IF(AD8=0,0,(AD8-AD9)*100/AD9) -> 0.07572055 | BN8: 7 | BO8: =AI8+SUM(AI9:AI43) -> 0.045219924 | BP8: =AJ8+SUM(AJ9:AJ43) -> -0.26076881 | BQ8: =AK8+SUM(AK9:AK43) -> -0.45864866 | BR8: =AL8+SUM(AL9:AL43) -> -0.45520096 | BS8: =AM8+SUM(AM9:AM43) -> -0.15359546 | BT8: =AN8+SUM(AN9:AN43) -> 0.29151512 | BU8: =AO8+SUM(AO9:AO43) -> 0.092798933 | BV8: =AP8+SUM(AP9:AP43) -> -0.20628677 | ... CP8: =BJ8+SUM(BJ9:BJ43) -> -0.50344 | CU8: 7 | CV8: =BT8+BU8+BV8+BW8+BX8+BY8+BZ8 -> -0.011031025 | CW8: =CN8+CO8+CP8-CI8-CA8-BT8-BO8 -> -2.3401465 | CX8: =CK8+CL8-CN8-CJ8-CD8-BU8-BS8 -> -0.75960008 | CY8: =CM8-CO8-CH8-CE8-BW8-BR8 -> 1.3598273 | CZ8: =CA8+CB8+CC8+CD8+CE8+CF8-BV8 -> 1.6230578 | DA8: =BO8+BP8+BQ8+BR8+BS8-BY8-CB8 -> -1.982883 | DB8: =CG8+CH8+CI8+CJ8-CC8-BZ8-BP8 -> 0.10691691 | DC8: =-BQ8-BX8-CF8-CG8-CK8-CM8-CP8 -> 1.7029939 | DF8: 7 | DG8: =CN8 -> -0.19251885 | DH8: =BU8 -> 0.092798933 | DI8: =CO8 -> -0.49883417 | DJ8: =BW8 -> -0.20817297 | DK8: =-(CA8) -> -0.50045984 | DL8: =BV8 -> -0.20628677 | DM8: =-(BO8) -> -0.045219924 | DN8: =BY8 -> 0.24677354 | DO8: =-(CI8) -> -0.3081586 | DP8: =BZ8 -> -0.014649244 | DQ8: =CP8 -> -0.50344 | DR8: =BX8 -> -0.21300963 | DS8: =-(BT8) -> -0.29151512 | DT8: =BT8 -> 0.29151512 | DX8: 7 | DY8: =SUM(IF($EB$2="Buy", EN8, IF($EB$2="Sell", -EN8, 0)), IF($EC$2="Buy", EO8, IF($EC$2="Sell", -EO8, 0)), IF($ED$2="Buy", EP8, IF($ED$2="Sell", -EP8, 0)), IF($EE$2="Buy", EQ8, IF($EE$2="Sell", -EQ8, 0)), IF($EF$2="Buy", ER8, IF($EF$2="Sell", -ER8, 0)), IF($EG$2="Buy", ES8, IF($EG$2="Sell", -ES8, 0)), IF($EH$2="Buy", ET8, IF($EH$2="Sell", -ET8, 0)), IF($EI$2="Buy", EU8, IF($EI$2="Sell", -EU8, 0))) -> 2.3291155 | EM8: 7 | EN8: =BT8+BU8+BV8+BW8+BX8+BY8+BZ8 -> -0.011031025 | EO8: =CN8+CO8+CP8-CI8-CA8-BT8-BO8 -> -2.3401465 | EP8: =CK8+CL8-CN8-CJ8-CD8-BU8-BS8 -> -0.75960008 | EQ8: =CM8-CO8-CH8-CE8-BW8-BR8 -> 1.3598273 | ER8: =CA8+CB8+CC8+CD8+CE8+CF8-BV8 -> 1.6230578 | ES8: =BO8+BP8+BQ8+BR8+BS8-BY8-CB8 -> -1.982883 | ET8: =CG8+CH8+CI8+CJ8-CC8-BZ8-BP8 -> 0.10691691 | EU8: =-BQ8-BX8-CF8-CG8-CK8-CM8-CP8 -> 1.7029939 | EW8: =LARGE($EN$2:$EU$2,7) -> -1.1409315 | EX8: =INDEX(EN1:EU1,MATCH(EW8,EN2:EU2,0)) -> USD
A9: previous | B9: 7 | C9: =RTD("fxbluelabs.excelrtd", , "21422436","@bh,AUDUSD,h1,close,7") -> 0.67388 | D9: =RTD("fxbluelabs.excelrtd", , "21422436","@bh,AUDNZD,h1,close,7") -> 1.09511 | E9: =RTD("fxbluelabs.excelrtd", , "21422436","@bh,AUDJPY,h1,close,7") -> 97.895 | F9: =RTD("fxbluelabs.excelrtd", , "21422436","@bh,AUDCHF,h1,close,7") -> 0.57376 | G9: =RTD("fxbluelabs.excelrtd", , "21422436","@bh,AUDCAD,h1,close,7") -> 0.9154 | H9: =RTD("fxbluelabs.excelrtd", , "21422436","@bh,EURUSD,h1,close,7") -> 1.11432 | I9: =RTD("fxbluelabs.excelrtd", , "21422436","@bh,EURCAD,h1,close,7") -> 1.51365 | J9: =RTD("fxbluelabs.excelrtd", , "21422436","@bh,EURGBP,h1,close,7") -> 0.85172 | K9: =RTD("fxbluelabs.excelrtd", , "21422436","@bh,EURCHF,h1,close,7") -> 0.94875 | L9: =RTD("fxbluelabs.excelrtd", , "21422436","@bh,EURJPY,h1,close,7") -> 161.87 | M9: =RTD("fxbluelabs.excelrtd", , "21422436","@bh,EURAUD,h1,close,7") -> 1.65355 | N9: =RTD("fxbluelabs.excelrtd", , "21422436","@bh,EURNZD,h1,close,7") -> 1.81082 | O9: =RTD("fxbluelabs.excelrtd", , "21422436","@bh,GBPUSD,h1,close,7") -> 1.30836 | P9: =RTD("fxbluelabs.excelrtd", , "21422436","@bh,GBPAUD,h1,close,7") -> 1.94146 | Q9: =RTD("fxbluelabs.excelrtd", , "21422436","@bh,GBPNZD,h1,close,7") -> 2.12615 | R9: =RTD("fxbluelabs.excelrtd", , "21422436","@bh,GBPCAD,h1,close,7") -> 1.7772 | S9: =RTD("fxbluelabs.excelrtd", , "21422436","@bh,GBPCHF,h1,close,7") -> 1.11384 | T9: =RTD("fxbluelabs.excelrtd", , "21422436","@bh,GBPJPY,h1,close,7") -> 190.038 | U9: =RTD("fxbluelabs.excelrtd", , "21422436","@bh,NZDJPY,h1,close,7") -> 89.391 | V9: =RTD("fxbluelabs.excelrtd", , "21422436","@bh,NZDCHF,h1,close,7") -> 0.52392 | W9: =RTD("fxbluelabs.excelrtd", , "21422436","@bh,NZDUSD,h1,close,7") -> 0.61534 | X9: =RTD("fxbluelabs.excelrtd", , "21422436","@bh,NZDCAD,h1,close,7") -> 0.83586 | Y9: =RTD("fxbluelabs.excelrtd", , "21422436","@bh,CADJPY,h1,close,7") -> 106.941 | Z9: =RTD("fxbluelabs.excelrtd", , "21422436","@bh,CADCHF,h1,close,7") -> 0.62679 | AA9: =RTD("fxbluelabs.excelrtd", , "21422436","@bh,CHFJPY,h1,close,7") -> 170.617 | AB9: =RTD("fxbluelabs.excelrtd", , "21422436","@bh,USDCAD,h1,close,7") -> 1.35852 | AC9: =RTD("fxbluelabs.excelrtd", , "21422436","@bh,USDCHF,h1,close,7") -> 0.85143 | AD9: =RTD("fxbluelabs.excelrtd", , "21422436","@bh,USDJPY,h1,close,7") -> 145.271 | AH9: 8 | AI9: =IF(C9=0,0,(C9-C10)*100/C10) -> 0.05196502 | AJ9: =IF(D9=0,0,(D9-D10)*100/D10) -> 0.016439407 | AK9: =IF(E9=0,0,(E9-E10)*100/E10) -> 0.14526408 | AL9: =IF(F9=0,0,(F9-F10)*100/F10) -> 0.054058767 | AM9: =IF(G9=0,0,(G9-G10)*100/G10) -> 0.032783302 | AN9: =IF(H9=0,0,(H9-H10)*100/H10) -> -0.0017947844 | AO9: =IF(I9=0,0,(I9-I10)*100/I10) -> -0.021136482 | AP9: =IF(J9=0,0,(J9-J10)*100/J10) -> 0 | ... BJ9: =IF(AD9=0,0,(AD9-AD10)*100/AD10) -> 0.09370586 | BN9: 8 | BO9: =AI9+SUM(AI10:AI44) -> 0.014057106 | BP9: =AJ9+SUM(AJ10:AJ44) -> -0.20780609 | BQ9: =AK9+SUM(AK10:AK44) -> -0.56488493 | BR9: =AL9+SUM(AL10:AL44) -> -0.42034318 | BS9: =AM9+SUM(AM10:AM44) -> -0.16451965 | BT9: =AN9+SUM(AN10:AN44) -> 0.2349784 | BU9: =AO9+SUM(AO10:AO44) -> 0.053820305 | BV9: =AP9+SUM(AP10:AP44) -> -0.19454583 | ... CP9: =BJ9+SUM(BJ10:BJ44) -> -0.57916055 | CU9: 8 | CV9: =BT9+BU9+BV9+BW9+BX9+BY9+BZ9 -> -0.22576793 | CW9: =CN9+CO9+CP9-CI9-CA9-BT9-BO9 -> -2.097666 | CX9: =CK9+CL9-CN9-CJ9-CD9-BU9-BS9 -> -0.67204347 | CY9: =CM9-CO9-CH9-CE9-BW9-BR9 -> 1.1288182 | CZ9: =CA9+CB9+CC9+CD9+CE9+CF9-BV9 -> 1.3273667 | DA9: =BO9+BP9+BQ9+BR9+BS9-BY9-CB9 -> -1.9790862 | DB9: =CG9+CH9+CI9+CJ9-CC9-BZ9-BP9 -> -0.28924966 | DC9: =-BQ9-BX9-CF9-CG9-CK9-CM9-CP9 -> 2.5530311 | DF9: 8 | DG9: =CN9 -> -0.17264428 | DH9: =BU9 -> 0.053820305 | DI9: =CO9 -> -0.43423696 | DJ9: =BW9 -> -0.20079484 | DK9: =-(CA9) -> -0.43243574 | DL9: =BV9 -> -0.19454583 | DM9: =-(BO9) -> -0.014057106 | DN9: =BY9 -> 0.21955937 | DO9: =-(CI9) -> -0.23015295 | DP9: =BZ9 -> 0.010753613 | DQ9: =CP9 -> -0.57916055 | DR9: =BX9 -> -0.34953894 | DS9: =-(BT9) -> -0.2349784 | DT9: =BT9 -> 0.2349784 | DX9: 8 | DY9: =SUM(IF($EB$2="Buy", EN9, IF($EB$2="Sell", -EN9, 0)), IF($EC$2="Buy", EO9, IF($EC$2="Sell", -EO9, 0)), IF($ED$2="Buy", EP9, IF($ED$2="Sell", -EP9, 0)), IF($EE$2="Buy", EQ9, IF($EE$2="Sell", -EQ9, 0)), IF($EF$2="Buy", ER9, IF($EF$2="Sell", -ER9, 0)), IF($EG$2="Buy", ES9, IF($EG$2="Sell", -ES9, 0)), IF($EH$2="Buy", ET9, IF($EH$2="Sell", -ET9, 0)), IF($EI$2="Buy", EU9, IF($EI$2="Sell", -EU9, 0))) -> 1.8718981 | EM9: 8 | EN9: =BT9+BU9+BV9+BW9+BX9+BY9+BZ9 -> -0.22576793 | EO9: =CN9+CO9+CP9-CI9-CA9-BT9-BO9 -> -2.097666 | EP9: =CK9+CL9-CN9-CJ9-CD9-BU9-BS9 -> -0.67204347 | EQ9: =CM9-CO9-CH9-CE9-BW9-BR9 -> 1.1288182 | ER9: =CA9+CB9+CC9+CD9+CE9+CF9-BV9 -> 1.3273667 | ES9: =BO9+BP9+BQ9+BR9+BS9-BY9-CB9 -> -1.9790862 | ET9: =CG9+CH9+CI9+CJ9-CC9-BZ9-BP9 -> -0.28924966 | EU9: =-BQ9-BX9-CF9-CG9-CK9-CM9-CP9 -> 2.5530311 | EW9: =LARGE($EN$2:$EU$2,8) -> -2.4396127 | EX9: =INDEX(EN1:EU1,MATCH(EW9,EN2:EU2,0)) -> AUD
A10: previous | B10: 8 | C10: =RTD("fxbluelabs.excelrtd", , "21422436","@bh,AUDUSD,h1,close,8") -> 0.67353 | D10: =RTD("fxbluelabs.excelrtd", , "21422436","@bh,AUDNZD,h1,close,8") -> 1.09493 | E10: =RTD("fxbluelabs.excelrtd", , "21422436","@bh,AUDJPY,h1,close,8") -> 97.753 | F10: =RTD("fxbluelabs.excelrtd", , "21422436","@bh,AUDCHF,h1,close,8") -> 0.57345 | G10: =RTD("fxbluelabs.excelrtd", , "21422436","@bh,AUDCAD,h1,close,8") -> 0.9151 | H10: =RTD("fxbluelabs.excelrtd", , "21422436","@bh,EURUSD,h1,close,8") -> 1.11434 | I10: =RTD("fxbluelabs.excelrtd", , "21422436","@bh,EURCAD,h1,close,8") -> 1.51397 | J10: =RTD("fxbluelabs.excelrtd", , "21422436","@bh,EURGBP,h1,close,8") -> 0.85172 | K10: =RTD("fxbluelabs.excelrtd", , "21422436","@bh,EURCHF,h1,close,8") -> 0.94875 | L10: =RTD("fxbluelabs.excelrtd", , "21422436","@bh,EURJPY,h1,close,8") -> 161.729 | M10: =RTD("fxbluelabs.excelrtd", , "21422436","@bh,EURAUD,h1,close,8") -> 1.65444 | N10: =RTD("fxbluelabs.excelrtd", , "21422436","@bh,EURNZD,h1,close,8") -> 1.81151 | O10: =RTD("fxbluelabs.excelrtd", , "21422436","@bh,GBPUSD,h1,close,8") -> 1.30839 | P10: =RTD("fxbluelabs.excelrtd", , "21422436","@bh,GBPAUD,h1,close,8") -> 1.9425 | Q10: =RTD("fxbluelabs.excelrtd", , "21422436","@bh,GBPNZD,h1,close,8") -> 2.12695 | R10: =RTD("fxbluelabs.excelrtd", , "21422436","@bh,GBPCAD,h1,close,8") -> 1.77757 | S10: =RTD("fxbluelabs.excelrtd", , "21422436","@bh,GBPCHF,h1,close,8") -> 1.11384 | T10: =RTD("fxbluelabs.excelrtd", , "21422436","@bh,GBPJPY,h1,close,8") -> 189.863 | U10: =RTD("fxbluelabs.excelrtd", , "21422436","@bh,NZDJPY,h1,close,8") -> 89.275 | V10: =RTD("fxbluelabs.excelrtd", , "21422436","@bh,NZDCHF,h1,close,8") -> 0.52372 | W10: =RTD("fxbluelabs.excelrtd", , "21422436","@bh,NZDUSD,h1,close,8") -> 0.61512 | X10: =RTD("fxbluelabs.excelrtd", , "21422436","@bh,NZDCAD,h1,close,8") -> 0.83572 | Y10: =RTD("fxbluelabs.excelrtd", , "21422436","@bh,CADJPY,h1,close,8") -> 106.82 | Z10: =RTD("fxbluelabs.excelrtd", , "21422436","@bh,CADCHF,h1,close,8") -> 0.62664 | AA10: =RTD("fxbluelabs.excelrtd", , "21422436","@bh,CHFJPY,h1,close,8") -> 170.462 | AB10: =RTD("fxbluelabs.excelrtd", , "21422436","@bh,USDCAD,h1,close,8") -> 1.35877 | AC10: =RTD("fxbluelabs.excelrtd", , "21422436","@bh,USDCHF,h1,close,8") -> 0.85141 | AD10: =RTD("fxbluelabs.excelrtd", , "21422436","@bh,USDJPY,h1,close,8") -> 145.135 | AH10: 9 | AI10: =IF(C10=0,0,(C10-C11)*100/C11) -> 0.041589306 | AJ10: =IF(D10=0,0,(D10-D11)*100/D11) -> 0.021924015 | AK10: =IF(E10=0,0,(E10-E11)*100/E11) -> -0.049079253 | AL10: =IF(F10=0,0,(F10-F11)*100/F11) -> 0.052342319 | AM10: =IF(G10=0,0,(G10-G11)*100/G11) -> 0.041542767 | AN10: =IF(H10=0,0,(H10-H11)*100/H11) -> -0.012561912 | AO10: =IF(I10=0,0,(I10-I11)*100/I11) -> -0.012548212 | AP10: =IF(J10=0,0,(J10-J11)*100/J11) -> 0.0082193389 | ... BJ10: =IF(AD10=0,0,(AD10-AD11)*100/AD11) -> -0.090179395 | BN10: 9 | BO10: =AI10+SUM(AI11:AI45) -> -0.037907914 | BP10: =AJ10+SUM(AJ11:AJ45) -> -0.2242455 | BQ10: =AK10+SUM(AK11:AK45) -> -0.71014902 | BR10: =AL10+SUM(AL11:AL45) -> -0.47440194 | BS10: =AM10+SUM(AM11:AM45) -> -0.19730295 | BT10: =AN10+SUM(AN11:AN45) -> 0.23677318 | BU10: =AO10+SUM(AO11:AO45) -> 0.074956787 | BV10: =AP10+SUM(AP11:AP45) -> -0.19454583 | ... CP10: =BJ10+SUM(BJ11:BJ45) -> -0.67286641 | CU10: 9 | CV10: =BT10+BU10+BV10+BW10+BX10+BY10+BZ10 -> -0.19813514 | CW10: =CN10+CO10+CP10-CI10-CA10-BT10-BO10 -> -2.0916792 | CX10: =CK10+CL10-CN10-CJ10-CD10-BU10-BS10 -> -0.82007041 | CY10: =CM10-CO10-CH10-CE10-BW10-BR10 -> 1.132485 | CZ10: =CA10+CB10+CC10+CD10+CE10+CF10-BV10 -> 1.3494546 | DA10: =BO10+BP10+BQ10+BR10+BS10-BY10-CB10 -> -2.3869306 | DB10: =CG10+CH10+CI10+CJ10-CC10-BZ10-BP10 -> -0.5691539 | DC10: =-BQ10-BX10-CF10-CG10-CK10-CM10-CP10 -> 3.3054952 | DF10: 9 | DG10: =CN10 -> -0.15424529 | DH10: =BU10 -> 0.074956787 | DI10: =CO10 -> -0.43658601 | DJ10: =BW10 -> -0.20079484 | DK10: =-(CA10) -> -0.43472864 | DL10: =BV10 -> -0.19454583 | DM10: =-(BO10) -> 0.037907914 | DN10: =BY10 -> 0.27335401 | DO10: =-(CI10) -> -0.19438757 | DP10: =BZ10 -> 0.048843383 | DQ10: =CP10 -> -0.67286641 | DR10: =BX10 -> -0.43672182 | DS10: =-(BT10) -> -0.23677318 | DT10: =BT10 -> 0.23677318 | DX10: 9 | DY10: =SUM(IF($EB$2="Buy", EN10, IF($EB$2="Sell", -EN10, 0)), IF($EC$2="Buy", EO10, IF($EC$2="Sell", -EO10, 0)), IF($ED$2="Buy", EP10, IF($ED$2="Sell", -EP10, 0)), IF($EE$2="Buy", EQ10, IF($EE$2="Sell", -EQ10, 0)), IF($EF$2="Buy", ER10, IF($EF$2="Sell", -ER10, 0)), IF($EG$2="Buy", ES10, IF($EG$2="Sell", -ES10, 0)), IF($EH$2="Buy", ET10, IF($EH$2="Sell", -ET10, 0)), IF($EI$2="Buy", EU10, IF($EI$2="Sell", -EU10, 0))) -> 1.893544 | EM10: 9 | EN10: =BT10+BU10+BV10+BW10+BX10+BY10+BZ10 -> -0.19813514 | EO10: =CN10+CO10+CP10-CI10-CA10-BT10-BO10 -> -2.0916792 | EP10: =CK10+CL10-CN10-CJ10-CD10-BU10-BS10 -> -0.82007041 | EQ10: =CM10-CO10-CH10-CE10-BW10-BR10 -> 1.132485 | ER10: =CA10+CB10+CC10+CD10+CE10+CF10-BV10 -> 1.3494546 | ES10: =BO10+BP10+BQ10+BR10+BS10-BY10-CB10 -> -2.3869306 | ET10: =CG10+CH10+CI10+CJ10-CC10-BZ10-BP10 -> -0.5691539 | EU10: =-BQ10-BX10-CF10-CG10-CK10-CM10-CP10 -> 3.3054952
A11: previous | B11: 9 | C11: =RTD("fxbluelabs.excelrtd", , "21422436","@bh,AUDUSD,h1,close,9") -> 0.67325 | D11: =RTD("fxbluelabs.excelrtd", , "21422436","@bh,AUDNZD,h1,close,9") -> 1.09469 | E11: =RTD("fxbluelabs.excelrtd", , "21422436","@bh,AUDJPY,h1,close,9") -> 97.801 | F11: =RTD("fxbluelabs.excelrtd", , "21422436","@bh,AUDCHF,h1,close,9") -> 0.57315 | G11: =RTD("fxbluelabs.excelrtd", , "21422436","@bh,AUDCAD,h1,close,9") -> 0.91472 | H11: =RTD("fxbluelabs.excelrtd", , "21422436","@bh,EURUSD,h1,close,9") -> 1.11448 | I11: =RTD("fxbluelabs.excelrtd", , "21422436","@bh,EURCAD,h1,close,9") -> 1.51416 | J11: =RTD("fxbluelabs.excelrtd", , "21422436","@bh,EURGBP,h1,close,9") -> 0.85165 | K11: =RTD("fxbluelabs.excelrtd", , "21422436","@bh,EURCHF,h1,close,9") -> 0.94874 | L11: =RTD("fxbluelabs.excelrtd", , "21422436","@bh,EURJPY,h1,close,9") -> 161.894 | M11: =RTD("fxbluelabs.excelrtd", , "21422436","@bh,EURAUD,h1,close,9") -> 1.65533 | N11: =RTD("fxbluelabs.excelrtd", , "21422436","@bh,EURNZD,h1,close,9") -> 1.81209 | O11: =RTD("fxbluelabs.excelrtd", , "21422436","@bh,GBPUSD,h1,close,9") -> 1.30868 | P11: =RTD("fxbluelabs.excelrtd", , "21422436","@bh,GBPAUD,h1,close,9") -> 1.94371 | Q11: =RTD("fxbluelabs.excelrtd", , "21422436","@bh,GBPNZD,h1,close,9") -> 2.12781 | R11: =RTD("fxbluelabs.excelrtd", , "21422436","@bh,GBPCAD,h1,close,9") -> 1.77795 | S11: =RTD("fxbluelabs.excelrtd", , "21422436","@bh,GBPCHF,h1,close,9") -> 1.11395 | T11: =RTD("fxbluelabs.excelrtd", , "21422436","@bh,GBPJPY,h1,close,9") -> 190.076 | U11: =RTD("fxbluelabs.excelrtd", , "21422436","@bh,NZDJPY,h1,close,9") -> 89.333 | V11: =RTD("fxbluelabs.excelrtd", , "21422436","@bh,NZDCHF,h1,close,9") -> 0.52353 | W11: =RTD("fxbluelabs.excelrtd", , "21422436","@bh,NZDUSD,h1,close,9") -> 0.61496 | X11: =RTD("fxbluelabs.excelrtd", , "21422436","@bh,NZDCAD,h1,close,9") -> 0.83551 | Y11: =RTD("fxbluelabs.excelrtd", , "21422436","@bh,CADJPY,h1,close,9") -> 106.919 | Z11: =RTD("fxbluelabs.excelrtd", , "21422436","@bh,CADCHF,h1,close,9") -> 0.62659 | AA11: =RTD("fxbluelabs.excelrtd", , "21422436","@bh,CHFJPY,h1,close,9") -> 170.636 | AB11: =RTD("fxbluelabs.excelrtd", , "21422436","@bh,USDCAD,h1,close,9") -> 1.35877 | AC11: =RTD("fxbluelabs.excelrtd", , "21422436","@bh,USDCHF,h1,close,9") -> 0.85132 | AD11: =RTD("fxbluelabs.excelrtd", , "21422436","@bh,USDJPY,h1,close,9") -> 145.266 | AH11: 10 | AI11: =IF(C11=0,0,(C11-C12)*100/C12) -> 0.028229281 | AJ11: =IF(D11=0,0,(D11-D12)*100/D12) -> 0.00091350897 | AK11: =IF(E11=0,0,(E11-E12)*100/E12) -> -0.096021247 | AL11: =IF(F11=0,0,(F11-F12)*100/F12) -> -0.052314936 | AM11: =IF(G11=0,0,(G11-G12)*100/G12) -> 0.02733824 | AN11: =IF(H11=0,0,(H11-H12)*100/H12) -> 0.013461003 | AO11: =IF(I11=0,0,(I11-I12)*100/I12) -> 0.012549786 | AP11: =IF(J11=0,0,(J11-J12)*100/J12) -> 0.0035226979 | ... BJ11: =IF(AD11=0,0,(AD11-AD12)*100/AD12) -> -0.12375727 | BN11: 10 | BO11: =AI11+SUM(AI12:AI46) -> -0.07949722 | BP11: =AJ11+SUM(AJ12:AJ46) -> -0.24616951 | BQ11: =AK11+SUM(AK12:AK46) -> -0.66106976 | BR11: =AL11+SUM(AL12:AL46) -> -0.52674426 | BS11: =AM11+SUM(AM12:AM46) -> -0.23884572 | BT11: =AN11+SUM(AN12:AN46) -> 0.24933509 | BU11: =AO11+SUM(AO12:AO46) -> 0.087504999 | BV11: =AP11+SUM(AP12:AP46) -> -0.20276516 | ... CP11: =BJ11+SUM(BJ12:BJ46) -> -0.58268702 | CU11: 10 | CV11: =BT11+BU11+BV11+BW11+BX11+BY11+BZ11 -> 0.0053931131 | CW11: =CN11+CO11+CP11-CI11-CA11-BT11-BO11 -> -1.979186 | CX11: =CK11+CL11-CN11-CJ11-CD11-BU11-BS11 -> -0.70270068 | CY11: =CM11-CO11-CH11-CE11-BW11-BR11 -> 1.3248419 | CZ11: =CA11+CB11+CC11+CD11+CE11+CF11-BV11 -> 1.625811 | DA11: =BO11+BP11+BQ11+BR11+BS11-BY11-CB11 -> -2.6112676 | DB11: =CG11+CH11+CI11+CJ11-CC11-BZ11-BP11 -> -0.64217305 | DC11: =-BQ11-BX11-CF11-CG11-CK11-CM11-CP11 -> 2.6927671 | DF11: 10 | DG11: =CN11 -> -0.15424529 | DH11: =BU11 -> 0.087504999 | DI11: =CO11 -> -0.44715782 | DJ11: =BW11 -> -0.20184887 | DK11: =-(CA11) -> -0.45688837 | DL11: =BV11 -> -0.20276516 | DM11: =-(BO11) -> 0.07949722 | DN11: =BY11 -> 0.32711972 | DO11: =-(CI11) -> -0.16836962 | DP11: =BZ11 -> 0.080850623 | DQ11: =CP11 -> -0.58268702 | DR11: =BX11 -> -0.33480328 | DS11: =-(BT11) -> -0.24933509 | DT11: =BT11 -> 0.24933509 | DX11: 10 | DY11: =SUM(IF($EB$2="Buy", EN11, IF($EB$2="Sell", -EN11, 0)), IF($EC$2="Buy", EO11, IF($EC$2="Sell", -EO11, 0)), IF($ED$2="Buy", EP11, IF($ED$2="Sell", -EP11, 0)), IF($EE$2="Buy", EQ11, IF($EE$2="Sell", -EQ11, 0)), IF($EF$2="Buy", ER11, IF($EF$2="Sell", -ER11, 0)), IF($EG$2="Buy", ES11, IF($EG$2="Sell", -ES11, 0)), IF($EH$2="Buy", ET11, IF($EH$2="Sell", -ET11, 0)), IF($EI$2="Buy", EU11, IF($EI$2="Sell", -EU11, 0))) -> 1.9845791 | EM11: 10 | EN11: =BT11+BU11+BV11+BW11+BX11+BY11+BZ11 -> 0.0053931131 | EO11: =CN11+CO11+CP11-CI11-CA11-BT11-BO11 -> -1.979186 | EP11: =CK11+CL11-CN11-CJ11-CD11-BU11-BS11 -> -0.70270068 | EQ11: =CM11-CO11-CH11-CE11-BW11-BR11 -> 1.3248419 | ER11: =CA11+CB11+CC11+CD11+CE11+CF11-BV11 -> 1.625811 | ES11: =BO11+BP11+BQ11+BR11+BS11-BY11-CB11 -> -2.6112676 | ET11: =CG11+CH11+CI11+CJ11-CC11-BZ11-BP11 -> -0.64217305 | EU11: =-BQ11-BX11-CF11-CG11-CK11-CM11-CP11 -> 2.6927671
A12: previous | B12: 10 | C12: =RTD("fxbluelabs.excelrtd", , "21422436","@bh,AUDUSD,h1,close,10") -> 0.67306 | D12: =RTD("fxbluelabs.excelrtd", , "21422436","@bh,AUDNZD,h1,close,10") -> 1.09468 | E12: =RTD("fxbluelabs.excelrtd", , "21422436","@bh,AUDJPY,h1,close,10") -> 97.895 | F12: =RTD("fxbluelabs.excelrtd", , "21422436","@bh,AUDCHF,h1,close,10") -> 0.57345 | G12: =RTD("fxbluelabs.excelrtd", , "21422436","@bh,AUDCAD,h1,close,10") -> 0.91447 | H12: =RTD("fxbluelabs.excelrtd", , "21422436","@bh,EURUSD,h1,close,10") -> 1.11433 | I12: =RTD("fxbluelabs.excelrtd", , "21422436","@bh,EURCAD,h1,close,10") -> 1.51397 | J12: =RTD("fxbluelabs.excelrtd", , "21422436","@bh,EURGBP,h1,close,10") -> 0.85162 | K12: =RTD("fxbluelabs.excelrtd", , "21422436","@bh,EURCHF,h1,close,10") -> 0.94935 | L12: =RTD("fxbluelabs.excelrtd", , "21422436","@bh,EURJPY,h1,close,10") -> 162.069 | M12: =RTD("fxbluelabs.excelrtd", , "21422436","@bh,EURAUD,h1,close,10") -> 1.65557 | N12: =RTD("fxbluelabs.excelrtd", , "21422436","@bh,EURNZD,h1,close,10") -> 1.81232 | O12: =RTD("fxbluelabs.excelrtd", , "21422436","@bh,GBPUSD,h1,close,10") -> 1.30851 | P12: =RTD("fxbluelabs.excelrtd", , "21422436","@bh,GBPAUD,h1,close,10") -> 1.94402 | Q12: =RTD("fxbluelabs.excelrtd", , "21422436","@bh,GBPNZD,h1,close,10") -> 2.12812 | R12: =RTD("fxbluelabs.excelrtd", , "21422436","@bh,GBPCAD,h1,close,10") -> 1.77775 | S12: =RTD("fxbluelabs.excelrtd", , "21422436","@bh,GBPCHF,h1,close,10") -> 1.11471 | T12: =RTD("fxbluelabs.excelrtd", , "21422436","@bh,GBPJPY,h1,close,10") -> 190.29 | U12: =RTD("fxbluelabs.excelrtd", , "21422436","@bh,NZDJPY,h1,close,10") -> 89.425 | V12: =RTD("fxbluelabs.excelrtd", , "21422436","@bh,NZDCHF,h1,close,10") -> 0.52383 | W12: =RTD("fxbluelabs.excelrtd", , "21422436","@bh,NZDUSD,h1,close,10") -> 0.61483 | X12: =RTD("fxbluelabs.excelrtd", , "21422436","@bh,NZDCAD,h1,close,10") -> 0.83533 | Y12: =RTD("fxbluelabs.excelrtd", , "21422436","@bh,CADJPY,h1,close,10") -> 107.051 | Z12: =RTD("fxbluelabs.excelrtd", , "21422436","@bh,CADCHF,h1,close,10") -> 0.62708 | AA12: =RTD("fxbluelabs.excelrtd", , "21422436","@bh,CHFJPY,h1,close,10") -> 170.711 | AB12: =RTD("fxbluelabs.excelrtd", , "21422436","@bh,USDCAD,h1,close,10") -> 1.35877 | AC12: =RTD("fxbluelabs.excelrtd", , "21422436","@bh,USDCHF,h1,close,10") -> 0.852 | AD12: =RTD("fxbluelabs.excelrtd", , "21422436","@bh,USDJPY,h1,close,10") -> 145.446 | AH12: 11 | AI12: =IF(C12=0,0,(C12-C13)*100/C13) -> -0.11427215 | AJ12: =IF(D12=0,0,(D12-D13)*100/D13) -> -0.090355673 | AK12: =IF(E12=0,0,(E12-E13)*100/E13) -> -0.22931105 | AL12: =IF(F12=0,0,(F12-F13)*100/F13) -> -0.14626757 | AM12: =IF(G12=0,0,(G12-G13)*100/G13) -> -0.13214223 | AN12: =IF(H12=0,0,(H12-H13)*100/H13) -> 0 | AO12: =IF(I12=0,0,(I12-I13)*100/I13) -> -0.020471775 | AP12: =IF(J12=0,0,(J12-J13)*100/J13) -> 0.003522822 | ... BJ12: =IF(AD12=0,0,(AD12-AD13)*100/AD13) -> -0.11743134 | BN12: 11 | BO12: =AI12+SUM(AI13:AI47) -> -0.1077265 | BP12: =AJ12+SUM(AJ13:AJ47) -> -0.24708302 | BQ12: =AK12+SUM(AK13:AK47) -> -0.56504852 | BR12: =AL12+SUM(AL13:AL47) -> -0.47442933 | BS12: =AM12+SUM(AM13:AM47) -> -0.26618396 | BT12: =AN12+SUM(AN13:AN47) -> 0.23587409 | BU12: =AO12+SUM(AO13:AO47) -> 0.074955213 | BV12: =AP12+SUM(AP13:AP47) -> -0.20628786 | ... CP12: =BJ12+SUM(BJ13:BJ47) -> -0.45892975 | CU12: 11 | CV12: =BT12+BU12+BV12+BW12+BX12+BY12+BZ12 -> 0.17528025 | CW12: =CN12+CO12+CP12-CI12-CA12-BT12-BO12 -> -1.6997903 | CX12: =CK12+CL12-CN12-CJ12-CD12-BU12-BS12 -> -0.42856844 | CY12: =CM12-CO12-CH12-CE12-BW12-BR12 -> 1.0469445 | CZ12: =CA12+CB12+CC12+CD12+CE12+CF12-BV12 -> 1.8162439 | DA12: =BO12+BP12+BQ12+BR12+BS12-BY12-CB12 -> -2.5498553 | DB12: =CG12+CH12+CI12+CJ12-CC12-BZ12-BP12 -> -0.55105973 | DC12: =-BQ12-BX12-CF12-CG12-CK12-CM12-CP12 -> 1.9824308 | DF12: 11 | DG12: =CN12 -> -0.15424529 | DH12: =BU12 -> 0.074955213 | DI12: =CO12 -> -0.36734562 | DJ12: =BW12 -> -0.13759438 | DK12: =-(CA12) -> -0.4438965 | DL12: =BV12 -> -0.20628786 | DM12: =-(BO12) -> 0.1077265 | DN12: =BY12 -> 0.34161624 | DO12: =-(CI12) -> -0.14722556 | DP12: =BZ12 -> 0.093541539 | DQ12: =CP12 -> -0.45892975 | DR12: =BX12 -> -0.22682458 | DS12: =-(BT12) -> -0.23587409 | DT12: =BT12 -> 0.23587409 | DX12: 11 | DY12: =SUM(IF($EB$2="Buy", EN12, IF($EB$2="Sell", -EN12, 0)), IF($EC$2="Buy", EO12, IF($EC$2="Sell", -EO12, 0)), IF($ED$2="Buy", EP12, IF($ED$2="Sell", -EP12, 0)), IF($EE$2="Buy", EQ12, IF($EE$2="Sell", -EQ12, 0)), IF($EF$2="Buy", ER12, IF($EF$2="Sell", -ER12, 0)), IF($EG$2="Buy", ES12, IF($EG$2="Sell", -ES12, 0)), IF($EH$2="Buy", ET12, IF($EH$2="Sell", -ET12, 0)), IF($EI$2="Buy", EU12, IF($EI$2="Sell", -EU12, 0))) -> 1.8750705 | EM12: 11 | EN12: =BT12+BU12+BV12+BW12+BX12+BY12+BZ12 -> 0.17528025 | EO12: =CN12+CO12+CP12-CI12-CA12-BT12-BO12 -> -1.6997903 | EP12: =CK12+CL12-CN12-CJ12-CD12-BU12-BS12 -> -0.42856844 | EQ12: =CM12-CO12-CH12-CE12-BW12-BR12 -> 1.0469445 | ER12: =CA12+CB12+CC12+CD12+CE12+CF12-BV12 -> 1.8162439 | ES12: =BO12+BP12+BQ12+BR12+BS12-BY12-CB12 -> -2.5498553 | ET12: =CG12+CH12+CI12+CJ12-CC12-BZ12-BP12 -> -0.55105973 | EU12: =-BQ12-BX12-CF12-CG12-CK12-CM12-CP12 -> 1.9824308 | EW12: Market performance H4
