Workbook

Sheet Sheet1
B2: The Just Criterion : The optimal risk and withdrawal strategy
B3: Document by : Justus L. Ludovic | G3: The Just Criterion
G4: Final Capital | I4: =G1022 -> 22.393562
B5: The Just Criterion is a formula that helps you maximize the growth of your bankroll while also maximizing the expected withdrawals. The formula is inputted with the probability of winning and the profit/loss ratio to give the fraction of the bankroll you should risk and the fraction of the profit you should withdraw if you win. This system is designed to be resistant to catastrophic drawdowns and to help you withdraw profit regularly without affecting your capital too much. | G5: Final Total withdrawals | I5: =H1022 -> 265.22673
G6: Final Total Capital+withdrawals | I6: =I1022 -> 287.6203
G7: Maximum Drawdown | I7: =MIN(K23:K1022)-1 -> -0.58371522
G8: Average Drawdown | I8: =GEOMEAN(K24:K1022)-1 -> -0.11127514
G9: The Kelly Criterion
G10: Fractional kelly | I10: 1
G11: Kelly Final Capital | I11: =J1022 -> 128772.21
G12: Kelly Maximum Drawdown | I12: =MIN(L23:L1022)-1 -> -0.97455471
G13: Kelly Average Drawdown | I13: =GEOMEAN(L23:L1022)-1 -> -0.69419305
B15: Inputs | D15: outputs | H15: Please do CTRL+S to refresh the simulation
B16: p : probability of wining | C16: 0.6 | D16: f : fraction of the capital | F16: =C16-C16*SQRT((1-C16)/(C16*C17)) -> 0.11010205
B17: b : the profit/loss ratio | C17: 1 | D17: w : fraction to withdraw | F17: =1-SQRT((1-C16)/(C16*C17)) -> 0.18350342
B18: Capital | D18: Amount
B19: Initial capital in usd | C19: 100 | D19: amount to risk | F19: =C19*F16 -> 11.010205
D20: amount to withdraw after a win | F20: =F17*F19 -> 2.0204103
J21: Comparaison with Kelly
A22: N° | B22: initial capital | C22: fraction to risk | D22: win? | E22: profit/loss | F22: to withdraw | G22: capital | H22: total withdrawls | I22: total capital+withdraws | J22: kelly | K22: drawdown | L22: kelly drawdown
A23: 0 | B23: =C19 -> 100 | C23: =B23*$F$16 -> 11.010205 | D23: =IF(RAND()<$C$16,TRUE,FALSE) -> TRUE | E23: =IF(D23,C23*$C$17,-C23) -> 11.010205 | F23: =IF(D23,E23*$F$17,0) -> 2.0204103 | G23: =B23+E23-F23 -> 108.98979 | H23: =F23 -> 2.0204103 | I23: =H23+G23 -> 111.01021 | J23: =Sheet2!E6 -> 120 | K23: =I23/MAX($I$23:I23) -> 1 | L23: =J23/MAX($J$23:J23) -> 1
A24: 1 | B24: =G23 -> 108.98979 | C24: =B24*$F$16 -> 12 | D24: =IF(RAND()<$C$16,TRUE,FALSE) -> FALSE | E24: =IF(D24,C24*$C$17,-C24) -> -12 | F24: =IF(D24,E24*$F$17,0) -> 0 | G24: =B24+E24-F24 -> 96.989795 | H24: =H23+F24 -> 2.0204103 | I24: =H24+G24 -> 99.010205 | J24: =Sheet2!E7 -> 96 | K24: =I24/MAX($I$23:I24) -> 0.89190183 | L24: =J24/MAX($J$23:J24) -> 0.8
A25: 2 | B25: =G24 -> 96.989795 | C25: =B25*$F$16 -> 10.678775 | D25: =IF(RAND()<$C$16,TRUE,FALSE) -> TRUE | E25: =IF(D25,C25*$C$17,-C25) -> 10.678775 | F25: =IF(D25,E25*$F$17,0) -> 1.9595918 | G25: =B25+E25-F25 -> 105.70898 | H25: =H24+F25 -> 3.9800021 | I25: =H25+G25 -> 109.68898 | J25: =Sheet2!E8 -> 115.2 | K25: =I25/MAX($I$23:I25) -> 0.98809817 | L25: =J25/MAX($J$23:J25) -> 0.96
A26: 3 | B26: =G25 -> 105.70898 | C26: =B26*$F$16 -> 11.638775 | D26: =IF(RAND()<$C$16,TRUE,FALSE) -> TRUE | E26: =IF(D26,C26*$C$17,-C26) -> 11.638775 | F26: =IF(D26,E26*$F$17,0) -> 2.1357551 | G26: =B26+E26-F26 -> 115.212 | H26: =H25+F26 -> 6.1157572 | I26: =H26+G26 -> 121.32776 | J26: =Sheet2!E9 -> 138.24 | K26: =I26/MAX($I$23:I26) -> 1 | L26: =J26/MAX($J$23:J26) -> 1
A27: 4 | B27: =G26 -> 115.212 | C27: =B27*$F$16 -> 12.685077 | D27: =IF(RAND()<$C$16,TRUE,FALSE) -> FALSE | E27: =IF(D27,C27*$C$17,-C27) -> -12.685077 | F27: =IF(D27,E27*$F$17,0) -> 0 | G27: =B27+E27-F27 -> 102.52692 | H27: =H26+F27 -> 6.1157572 | I27: =H27+G27 -> 108.64268 | J27: =Sheet2!E10 -> 110.592 | K27: =I27/MAX($I$23:I27) -> 0.89544785 | L27: =J27/MAX($J$23:J27) -> 0.8
A28: 5 | B28: =G27 -> 102.52692 | C28: =B28*$F$16 -> 11.288424 | D28: =IF(RAND()<$C$16,TRUE,FALSE) -> TRUE | E28: =IF(D28,C28*$C$17,-C28) -> 11.288424 | F28: =IF(D28,E28*$F$17,0) -> 2.0714645 | G28: =B28+E28-F28 -> 111.74388 | H28: =H27+F28 -> 8.1872216 | I28: =H28+G28 -> 119.9311 | J28: =Sheet2!E11 -> 132.7104 | K28: =I28/MAX($I$23:I28) -> 0.98848859 | L28: =J28/MAX($J$23:J28) -> 0.96
A29: 6 | B29: =G28 -> 111.74388 | C29: =B29*$F$16 -> 12.303231 | D29: =IF(RAND()<$C$16,TRUE,FALSE) -> TRUE | E29: =IF(D29,C29*$C$17,-C29) -> 12.303231 | F29: =IF(D29,E29*$F$17,0) -> 2.2576849 | G29: =B29+E29-F29 -> 121.78943 | H29: =H28+F29 -> 10.444907 | I29: =H29+G29 -> 132.23433 | J29: =Sheet2!E12 -> 159.25248 | K29: =I29/MAX($I$23:I29) -> 1 | L29: =J29/MAX($J$23:J29) -> 1
A30: 7 | B30: =G29 -> 121.78943 | C30: =B30*$F$16 -> 13.409266 | D30: =IF(RAND()<$C$16,TRUE,FALSE) -> FALSE | E30: =IF(D30,C30*$C$17,-C30) -> -13.409266 | F30: =IF(D30,E30*$F$17,0) -> 0 | G30: =B30+E30-F30 -> 108.38016 | H30: =H29+F30 -> 10.444907 | I30: =H30+G30 -> 118.82507 | J30: =Sheet2!E13 -> 127.40198 | K30: =I30/MAX($I$23:I30) -> 0.89859467 | L30: =J30/MAX($J$23:J30) -> 0.8
A31: 8 | B31: =G30 -> 108.38016 | C31: =B31*$F$16 -> 11.932878 | D31: =IF(RAND()<$C$16,TRUE,FALSE) -> FALSE | E31: =IF(D31,C31*$C$17,-C31) -> -11.932878 | F31: =IF(D31,E31*$F$17,0) -> 0 | G31: =B31+E31-F31 -> 96.447283 | H31: =H30+F31 -> 10.444907 | I31: =H31+G31 -> 106.89219 | J31: =Sheet2!E14 -> 101.92159 | K31: =I31/MAX($I$23:I31) -> 0.80835428 | L31: =J31/MAX($J$23:J31) -> 0.64
A32: 9 | B32: =G31 -> 96.447283 | C32: =B32*$F$16 -> 10.619044 | D32: =IF(RAND()<$C$16,TRUE,FALSE) -> TRUE | E32: =IF(D32,C32*$C$17,-C32) -> 10.619044 | F32: =IF(D32,E32*$F$17,0) -> 1.9486308 | G32: =B32+E32-F32 -> 105.1177 | H32: =H31+F32 -> 12.393537 | I32: =H32+G32 -> 117.51123 | J32: =Sheet2!E15 -> 122.3059 | K32: =I32/MAX($I$23:I32) -> 0.88865902 | L32: =J32/MAX($J$23:J32) -> 0.768
A33: 10 | B33: =G32 -> 105.1177 | C33: =B33*$F$16 -> 11.573674 | D33: =IF(RAND()<$C$16,TRUE,FALSE) -> TRUE | E33: =IF(D33,C33*$C$17,-C33) -> 11.573674 | F33: =IF(D33,E33*$F$17,0) -> 2.1238087 | G33: =B33+E33-F33 -> 114.56756 | H33: =H32+F33 -> 14.517346 | I33: =H33+G33 -> 129.08491 | J33: =Sheet2!E16 -> 146.76709 | K33: =I33/MAX($I$23:I33) -> 0.97618299 | L33: =J33/MAX($J$23:J33) -> 0.9216
A34: 11 | B34: =G33 -> 114.56756 | C34: =B34*$F$16 -> 12.614124 | D34: =IF(RAND()<$C$16,TRUE,FALSE) -> FALSE | E34: =IF(D34,C34*$C$17,-C34) -> -12.614124 | F34: =IF(D34,E34*$F$17,0) -> 0 | G34: =B34+E34-F34 -> 101.95344 | H34: =H33+F34 -> 14.517346 | I34: =H34+G34 -> 116.47078 | J34: =Sheet2!E17 -> 117.41367 | K34: =I34/MAX($I$23:I34) -> 0.8807908 | L34: =J34/MAX($J$23:J34) -> 0.73728
A35: 12 | B35: =G34 -> 101.95344 | C35: =B35*$F$16 -> 11.225283 | D35: =IF(RAND()<$C$16,TRUE,FALSE) -> TRUE | E35: =IF(D35,C35*$C$17,-C35) -> 11.225283 | F35: =IF(D35,E35*$F$17,0) -> 2.0598777 | G35: =B35+E35-F35 -> 111.11884 | H35: =H34+F35 -> 16.577224 | I35: =H35+G35 -> 127.69607 | J35: =Sheet2!E18 -> 140.8964 | K35: =I35/MAX($I$23:I35) -> 0.96568012 | L35: =J35/MAX($J$23:J35) -> 0.884736
... A1022: 999 | B1022: =G1021 -> 25.164191 | C1022: =B1022*$F$16 -> 2.7706291 | D1022: =IF(RAND()<$C$16,TRUE,FALSE) -> FALSE | E1022: =IF(D1022,C1022*$C$17,-C1022) -> -2.7706291 | F1022: =IF(D1022,E1022*$F$17,0) -> 0 | G1022: =B1022+E1022-F1022 -> 22.393562 | H1022: =H1021+F1022 -> 265.22673 | I1022: =H1022+G1022 -> 287.6203 | J1022: =Sheet2!E1005 -> 128772.21 | K1022: =I1022/MAX($I$23:I1022) -> 0.94810481 | L1022: =J1022/MAX($J$23:J1022) -> 0.34039431
A1023: 1000

Sheet Sheet2
C2: =Sheet1!I10 -> 1
B3: kelly | C3: =C2*(Sheet1!C16*(Sheet1!C17+1)-1)/Sheet1!C17 -> 0.2
A6: 1 | B6: =Sheet1!B23 -> 100 | C6: =$C$3*B6 -> 20 | D6: =Sheet1!D23 -> TRUE | E6: =IF(D6,B6+Sheet1!$C$17*C6,B6-C6) -> 120
A7: 2 | B7: =E6 -> 120 | C7: =$C$3*B7 -> 24 | D7: =Sheet1!D24 -> FALSE | E7: =IF(D7,B7+Sheet1!$C$17*C7,B7-C7) -> 96
A8: 3 | B8: =E7 -> 96 | C8: =$C$3*B8 -> 19.2 | D8: =Sheet1!D25 -> TRUE | E8: =IF(D8,B8+Sheet1!$C$17*C8,B8-C8) -> 115.2
A9: 4 | B9: =E8 -> 115.2 | C9: =$C$3*B9 -> 23.04 | D9: =Sheet1!D26 -> TRUE | E9: =IF(D9,B9+Sheet1!$C$17*C9,B9-C9) -> 138.24
A10: 5 | B10: =E9 -> 138.24 | C10: =$C$3*B10 -> 27.648 | D10: =Sheet1!D27 -> FALSE | E10: =IF(D10,B10+Sheet1!$C$17*C10,B10-C10) -> 110.592
A11: 6 | B11: =E10 -> 110.592 | C11: =$C$3*B11 -> 22.1184 | D11: =Sheet1!D28 -> TRUE | E11: =IF(D11,B11+Sheet1!$C$17*C11,B11-C11) -> 132.7104
A12: 7 | B12: =E11 -> 132.7104 | C12: =$C$3*B12 -> 26.54208 | D12: =Sheet1!D29 -> TRUE | E12: =IF(D12,B12+Sheet1!$C$17*C12,B12-C12) -> 159.25248
A13: 8 | B13: =E12 -> 159.25248 | C13: =$C$3*B13 -> 31.850496 | D13: =Sheet1!D30 -> FALSE | E13: =IF(D13,B13+Sheet1!$C$17*C13,B13-C13) -> 127.40198
A14: 9 | B14: =E13 -> 127.40198 | C14: =$C$3*B14 -> 25.480397 | D14: =Sheet1!D31 -> FALSE | E14: =IF(D14,B14+Sheet1!$C$17*C14,B14-C14) -> 101.92159
A15: 10 | B15: =E14 -> 101.92159 | C15: =$C$3*B15 -> 20.384317 | D15: =Sheet1!D32 -> TRUE | E15: =IF(D15,B15+Sheet1!$C$17*C15,B15-C15) -> 122.3059
A16: 11 | B16: =E15 -> 122.3059 | C16: =$C$3*B16 -> 24.461181 | D16: =Sheet1!D33 -> TRUE | E16: =IF(D16,B16+Sheet1!$C$17*C16,B16-C16) -> 146.76709
A17: 12 | B17: =E16 -> 146.76709 | C17: =$C$3*B17 -> 29.353417 | D17: =Sheet1!D34 -> FALSE | E17: =IF(D17,B17+Sheet1!$C$17*C17,B17-C17) -> 117.41367
A18: 13 | B18: =E17 -> 117.41367 | C18: =$C$3*B18 -> 23.482734 | D18: =Sheet1!D35 -> TRUE | E18: =IF(D18,B18+Sheet1!$C$17*C18,B18-C18) -> 140.8964
... A1005: 1000 | B1005: =E1004 -> 160965.26 | C1005: =$C$3*B1005 -> 32193.051 | D1005: =Sheet1!D1022 -> FALSE | E1005: =IF(D1005,B1005+Sheet1!$C$17*C1005,B1005-C1005) -> 128772.21
