Workbook

Sheet Secondary Progression
A3: DAY FOR YEAR | B3: =13+(10/60) -> 13.166667 | C3: Degrees
B4: =(13+(10/60))/365.25 -> 0.036048369
A5: Change per DAY | B5: =B4 -> 0.036048369

Sheet Gold 2022
A1: 36892 | B1: 33.686333
A2: 37257 | B2: =B1+('Secondary Progression'!$B$5) -> 33.722382
A3: 37622 | B3: =B2+('Secondary Progression'!$B$5) -> 33.75843
A4: 37987 | B4: =B3+('Secondary Progression'!$B$5) -> 33.794478
A5: 38353 | B5: =B4+('Secondary Progression'!$B$5) -> 33.830527
A6: 38718 | B6: =B5+('Secondary Progression'!$B$5) -> 33.866575
A7: 39083 | B7: =B6+('Secondary Progression'!$B$5) -> 33.902624
A8: 39448 | B8: =B7+('Secondary Progression'!$B$5) -> 33.938672
A9: 39814 | B9: =B8+('Secondary Progression'!$B$5) -> 33.97472
A10: 40179 | B10: =B9+('Secondary Progression'!$B$5) -> 34.010769
A11: 40544 | B11: =B10+('Secondary Progression'!$B$5) -> 34.046817
A12: 40909 | B12: =B11+('Secondary Progression'!$B$5) -> 34.082865
A13: 41275 | B13: =B12+('Secondary Progression'!$B$5) -> 34.118914
... A151: 47969 | B151: =B150+('Secondary Progression'!$B$5) -> 39.093589
A152: 37043 | B152: =B151+('Secondary Progression'!$B$5+(1/60)) -> 39.146304
A153: 37408 | B153: =B152+('Secondary Progression'!$B$5+(1/60)) -> 39.199019
A154: 37773 | B154: =B153+('Secondary Progression'!$B$5+(1/60)) -> 39.251734 | C154: 150 | D154: Pluto | E154: 189.221
A155: 38139 | B155: =B154+('Secondary Progression'!$B$5) -> 39.287782
A156: 38504 | B156: =B155+('Secondary Progression'!$B$5) -> 39.32383
A157: 38869 | B157: =B156+('Secondary Progression'!$B$5) -> 39.359879
A158: 39234 | B158: =B157+('Secondary Progression'!$B$5) -> 39.395927
A159: 39600 | B159: =B158+('Secondary Progression'!$B$5) -> 39.431976
A160: 39965 | B160: =B159+('Secondary Progression'!$B$5) -> 39.468024
A161: 40330 | B161: =B160+('Secondary Progression'!$B$5) -> 39.504072
A162: 40695 | B162: =B161+('Secondary Progression'!$B$5) -> 39.540121
A163: 41061 | B163: =B162+('Secondary Progression'!$B$5) -> 39.576169
A164: 41426 | B164: =B163+('Secondary Progression'!$B$5) -> 39.612217
A165: 41791 | B165: =B164+('Secondary Progression'!$B$5) -> 39.648266 | C165: 120 | D165: Sun | E165: 279.637
A166: 42156 | B166: =B165+('Secondary Progression'!$B$5) -> 39.684314
A167: 42522 | B167: =B166+('Secondary Progression'!$B$5) -> 39.720363
A168: 42887 | B168: =B167+('Secondary Progression'!$B$5) -> 39.756411
A169: 43252 | B169: =B168+('Secondary Progression'!$B$5) -> 39.792459
A170: 43617 | B170: =B169+('Secondary Progression'!$B$5) -> 39.828508
A171: 43983 | B171: =B170+('Secondary Progression'!$B$5) -> 39.864556 | C171: 120 | D171: MC | E171: 279.87
A172: 44348 | B172: =B171+('Secondary Progression'!$B$5) -> 39.900604
A173: 44713 | B173: =B172+('Secondary Progression'!$B$5) -> 39.936653
A174: 45078 | B174: =B173+('Secondary Progression'!$B$5) -> 39.972701
A175: 45444 | B175: =B174+('Secondary Progression'!$B$5) -> 40.008749
A176: 45809 | B176: =B175+('Secondary Progression'!$B$5) -> 40.044798
A177: 46174 | B177: =B176+('Secondary Progression'!$B$5) -> 40.080846
A178: 46539 | B178: =B177+('Secondary Progression'!$B$5) -> 40.116895
A179: 46905 | B179: =B178+('Secondary Progression'!$B$5) -> 40.152943
A180: 47270 | B180: =B179+('Secondary Progression'!$B$5) -> 40.188991
A181: 47635 | B181: =B180+('Secondary Progression'!$B$5) -> 40.22504
A182: 37073 | B182: =B181+('Secondary Progression'!$B$5) -> 40.261088
A183: 37438 | B183: =B182+('Secondary Progression'!$B$5) -> 40.297136
... A185: 38169 | B185: =B184+('Secondary Progression'!$B$5) -> 40.369233
A186: 38534 | B186: =B185+('Secondary Progression'!$B$5) -> 40.405282 | C186: 150 | D186: Neptune | E186: 250.424
A187: 38899 | B187: =B186+('Secondary Progression'!$B$5) -> 40.44133
A188: 39264 | B188: =B187+('Secondary Progression'!$B$5) -> 40.477378
A189: 39630 | B189: =B188+('Secondary Progression'!$B$5) -> 40.513427
A190: 39995 | B190: =B189+('Secondary Progression'!$B$5) -> 40.549475
A191: 40360 | B191: =B190+('Secondary Progression'!$B$5) -> 40.585523
A192: 40725 | B192: =B191+('Secondary Progression'!$B$5) -> 40.621572
A193: 41091 | B193: =B192+('Secondary Progression'!$B$5) -> 40.65762
A194: 41456 | B194: =B193+('Secondary Progression'!$B$5) -> 40.693668
A195: 41821 | B195: =B194+('Secondary Progression'!$B$5) -> 40.729717
A196: 42186 | B196: =B195+('Secondary Progression'!$B$5) -> 40.765765
A197: 42552 | B197: =B196+('Secondary Progression'!$B$5) -> 40.801814
A198: 42917 | B198: =B197+('Secondary Progression'!$B$5) -> 40.837862
... A264: 44440 | B264: =B263+('Secondary Progression'!$B$5) -> 43.217054
A265: 44805 | B265: =B264+('Secondary Progression'!$B$5) -> 43.253103 | C265: 60 | D265: Jupiter | E265: 343.266
A266: 45170 | B266: =B265+('Secondary Progression'!$B$5) -> 43.289151
A267: 45536 | B267: =B266+('Secondary Progression'!$B$5) -> 43.325199
A268: 45901 | B268: =B267+('Secondary Progression'!$B$5) -> 43.361248
A269: 46266 | B269: =B268+('Secondary Progression'!$B$5) -> 43.397296
A270: 46631 | B270: =B269+('Secondary Progression'!$B$5) -> 43.433345
A271: 46997 | B271: =B270+('Secondary Progression'!$B$5) -> 43.469393
A272: 47362 | B272: =B271+('Secondary Progression'!$B$5) -> 43.505441
A273: 47727 | B273: =B272+('Secondary Progression'!$B$5) -> 43.54149
A274: 37165 | B274: =B273+('Secondary Progression'!$B$5) -> 43.577538
A275: 37530 | B275: =B274+('Secondary Progression'!$B$5) -> 43.613586
A276: 37895 | B276: =B275+('Secondary Progression'!$B$5) -> 43.649635
A277: 38261 | B277: =B276+('Secondary Progression'!$B$5) -> 43.685683
... A305: 37196 | B305: =B304+('Secondary Progression'!$B$5) -> 44.695037
A306: 37561 | B306: =B305+('Secondary Progression'!$B$5) -> 44.731086 | C306: 150 | D306: Mars | E306: 254.75
A307: 37926 | B307: =B306+('Secondary Progression'!$B$5) -> 44.767134
A308: 38292 | B308: =B307+('Secondary Progression'!$B$5) -> 44.803183
A309: 38657 | B309: =B308+('Secondary Progression'!$B$5) -> 44.839231 | C309: 90 | D309: Moon | E309: 134.853
A310: 39022 | B310: =B309+('Secondary Progression'!$B$5) -> 44.875279
A311: 39387 | B311: =B310+('Secondary Progression'!$B$5) -> 44.911328
A312: 39753 | B312: =B311+('Secondary Progression'!$B$5) -> 44.947376
A313: 40118 | B313: =B312+('Secondary Progression'!$B$5) -> 44.983424
A314: 40483 | B314: =B313+('Secondary Progression'!$B$5) -> 45.019473
A315: 40848 | B315: =B314+('Secondary Progression'!$B$5) -> 45.055521
A316: 41214 | B316: =B315+('Secondary Progression'!$B$5) -> 45.091569
A317: 41579 | B317: =B316+('Secondary Progression'!$B$5) -> 45.127618
A318: 41944 | B318: =B317+('Secondary Progression'!$B$5) -> 45.163666
A319: 42309 | B319: =B318+('Secondary Progression'!$B$5) -> 45.199715
A320: 42675 | B320: =B319+('Secondary Progression'!$B$5) -> 45.235763
A321: 43040 | B321: =B320+('Secondary Progression'!$B$5) -> 45.271811
... A337: 37956 | B337: =B336+('Secondary Progression'!$B$5) -> 45.848585
A338: 38322 | B338: =B337+('Secondary Progression'!$B$5) -> 45.884634 | C338: 60 | D338: Saturn | E338: 105.898
A339: 38687 | B339: =B338+('Secondary Progression'!$B$5) -> 45.920682
A340: 39052 | B340: =B339+('Secondary Progression'!$B$5) -> 45.95673
A341: 39417 | B341: =B340+('Secondary Progression'!$B$5) -> 45.992779
A342: 39783 | B342: =B341+('Secondary Progression'!$B$5) -> 46.028827
A343: 40148 | B343: =B342+('Secondary Progression'!$B$5) -> 46.064875
A344: 40513 | B344: =B343+('Secondary Progression'!$B$5) -> 46.100924
A345: 40878 | B345: =B344+('Secondary Progression'!$B$5) -> 46.136972
...
