Workbook

Sheet Secondary Progression
A3: DAY FOR YEAR | B3: =13+(10/60) -> 13.166667 | C3: Degrees
B4: =(13+(10/60))/365.25 -> 0.036048369
A5: Change per DAY | B5: =B4 -> 0.036048369

Sheet Gold 2022
A1: 36892 | B1: 33.686333
A2: 37257 | B2: =B1+('Secondary Progression'!$B$5) -> 33.722382
A3: 37622 | B3: =B2+('Secondary Progression'!$B$5) -> 33.75843
A4: 37987 | B4: =B3+('Secondary Progression'!$B$5) -> 33.794478
A5: 38353 | B5: =B4+('Secondary Progression'!$B$5) -> 33.830527
A6: 38718 | B6: =B5+('Secondary Progression'!$B$5) -> 33.866575
A7: 39083 | B7: =B6+('Secondary Progression'!$B$5) -> 33.902624
A8: 39448 | B8: =B7+('Secondary Progression'!$B$5) -> 33.938672
A9: 39814 | B9: =B8+('Secondary Progression'!$B$5) -> 33.97472
A10: 40179 | B10: =B9+('Secondary Progression'!$B$5) -> 34.010769
A11: 40544 | B11: =B10+('Secondary Progression'!$B$5) -> 34.046817
A12: 40909 | B12: =B11+('Secondary Progression'!$B$5) -> 34.082865
A13: 41275 | B13: =B12+('Secondary Progression'!$B$5) -> 34.118914
... A151: 47969 | B151: =B150+('Secondary Progression'!$B$5) -> 39.093589
A152: 37043 | B152: =B151+('Secondary Progression'!$B$5+(1/60)) -> 39.146304
A153: 37408 | B153: =B152+('Secondary Progression'!$B$5+(1/60)) -> 39.199019
A154: 37773 | B154: =B153+('Secondary Progression'!$B$5+(1/60)) -> 39.251734 | C154: 150 | D154: Pluto | E154: 189.221
A155: 38139 | B155: =B154+('Secondary Progression'!$B$5) -> 39.287782
A156: 38504 | B156: =B155+('Secondary Progression'!$B$5) -> 39.32383
A157: 38869 | B157: =B156+('Secondary Progression'!$B$5) -> 39.359879
A158: 39234 | B158: =B157+('Secondary Progression'!$B$5) -> 39.395927
A159: 39600 | B159: =B158+('Secondary Progression'!$B$5) -> 39.431976
A160: 39965 | B160: =B159+('Secondary Progression'!$B$5) -> 39.468024
A161: 40330 | B161: =B160+('Secondary Progression'!$B$5) -> 39.504072
A162: 40695 | B162: =B161+('Secondary Progression'!$B$5) -> 39.540121
A163: 41061 | B163: =B162+('Secondary Progression'!$B$5) -> 39.576169
A164: 41426 | B164: =B163+('Secondary Progression'!$B$5) -> 39.612217
A165: 41791 | B165: =B164+('Secondary Progression'!$B$5) -> 39.648266 | C165: 120 | D165: Sun | E165: 279.637
A166: 42156 | B166: =B165+('Secondary Progression'!$B$5) -> 39.684314
A167: 42522 | B167: =B166+('Secondary Progression'!$B$5) -> 39.720363
A168: 42887 | B168: =B167+('Secondary Progression'!$B$5) -> 39.756411
A169: 43252 | B169: =B168+('Secondary Progression'!$B$5) -> 39.792459
A170: 43617 | B170: =B169+('Secondary Progression'!$B$5) -> 39.828508
A171: 43983 | B171: =B170+('Secondary Progression'!$B$5) -> 39.864556 | C171: 120 | D171: MC | E171: 279.87
A172: 44348 | B172: =B171+('Secondary Progression'!$B$5) -> 39.900604
A173: 44713 | B173: =B172+('Secondary Progression'!$B$5) -> 39.936653
A174: 45078 | B174: =B173+('Secondary Progression'!$B$5) -> 39.972701
A175: 45444 | B175: =B174+('Secondary Progression'!$B$5) -> 40.008749
A176: 45809 | B176: =B175+('Secondary Progression'!$B$5) -> 40.044798
A177: 46174 | B177: =B176+('Secondary Progression'!$B$5) -> 40.080846
...
