Workbook

Sheet Trades 

Sheet Dashboard
C4: EMA Setting | J4: Stochistic Setting | Q4: Fib Level - 50 or 61.8
C5: Daily | D5: 4 Hr | E5: 1 Hr | F5: 30 Min | G5: 15 Min | H5: 5 Min | J5: Daily | K5: 4 Hr | L5: 1 Hr | M5: 30 Min | N5: 15 Min | O5: 5 Min | Q5: Daily | R5: 4 Hr | S5: 1 Hr | T5: 30 Min | U5: 15 Min | V5: 5 Min
A7: EURUSD | C7: =Daily!L7 -> Long | D7: ='H4'!L7 -> Long | E7: ='1Hr'!L7 -> Long | F7: ='30Min'!L7 -> Short | G7: ='15Min'!L7 -> Short | H7: ='5Min'!L7 -> Long | J7: =Daily!N7 -> Wait | K7: ='H4'!N7 -> Wait | L7: ='1Hr'!N7 -> Wait | M7: ='30Min'!N7 -> Wait | N7: ='15Min'!N7 -> Wait | O7: ='5Min'!N7 -> Wait
A8: EURGBP | C8: =Daily!L8 -> Short | D8: ='H4'!L8 -> Short | E8: ='1Hr'!L8 -> Short | F8: ='30Min'!L8 -> Short | G8: ='15Min'!L8 -> Short | H8: ='5Min'!L8 -> Short | J8: =Daily!N8 -> Wait | K8: ='H4'!N8 -> Wait | L8: ='1Hr'!N8 -> Wait | M8: ='30Min'!N8 -> Wait | N8: ='15Min'!N8 -> Wait | O8: ='5Min'!N8 -> Wait
A9: EURJPY | C9: =Daily!L9 -> Short | D9: ='H4'!L9 -> Short | E9: ='1Hr'!L9 -> Short | F9: ='30Min'!L9 -> Short | G9: ='15Min'!L9 -> Short | H9: ='5Min'!L9 -> Long | J9: =Daily!N9 -> Wait | K9: ='H4'!N9 -> Wait | L9: ='1Hr'!N9 -> Wait | M9: ='30Min'!N9 -> Wait | N9: ='15Min'!N9 -> Wait | O9: ='5Min'!N9 -> Wait
A10: EURAUD | C10: =Daily!L10 -> Short | D10: ='H4'!L10 -> Short | E10: ='1Hr'!L10 -> Short | F10: ='30Min'!L10 -> Short | G10: ='15Min'!L10 -> Short | H10: ='5Min'!L10 -> Long | J10: =Daily!N10 -> Wait | K10: ='H4'!N10 -> Wait | L10: ='1Hr'!N10 -> Wait | M10: ='30Min'!N10 -> Wait | N10: ='15Min'!N10 -> Wait | O10: ='5Min'!N10 -> Wait
A11: EURCAD | C11: =Daily!L11 -> Short | D11: ='H4'!L11 -> Long | E11: ='1Hr'!L11 -> Wait | F11: ='30Min'!L11 -> Long | G11: ='15Min'!L11 -> Long | H11: ='5Min'!L11 -> Long | J11: =Daily!N11 -> Wait | K11: ='H4'!N11 -> Wait | L11: ='1Hr'!N11 -> Wait | M11: ='30Min'!N11 -> Wait | N11: ='15Min'!N11 -> Wait | O11: ='5Min'!N11 -> Wait
A12: EURNZD | C12: =Daily!L12 -> Short | D12: ='H4'!L12 -> Short | E12: ='1Hr'!L12 -> Short | F12: ='30Min'!L12 -> Short | G12: ='15Min'!L12 -> Short | H12: ='5Min'!L12 -> Long | J12: =Daily!N12 -> Wait | K12: ='H4'!N12 -> Wait | L12: ='1Hr'!N12 -> Wait | M12: ='30Min'!N12 -> Wait | N12: ='15Min'!N12 -> Short | O12: ='5Min'!N12 -> Wait
A13: EURCHF | C13: =Daily!L13 -> Long | D13: ='H4'!L13 -> Long | E13: ='1Hr'!L13 -> Long | F13: ='30Min'!L13 -> Wait | G13: ='15Min'!L13 -> Short | H13: ='5Min'!L13 -> Short | J13: =Daily!N13 -> Wait | K13: ='H4'!N13 -> Wait | L13: ='1Hr'!N13 -> Wait | M13: ='30Min'!N13 -> Wait | N13: ='15Min'!N13 -> Wait | O13: ='5Min'!N13 -> Wait
A14: USDJPY | C14: =Daily!L14 -> Short | D14: ='H4'!L14 -> Short | E14: ='1Hr'!L14 -> Short | F14: ='30Min'!L14 -> Short | G14: ='15Min'!L14 -> Long | H14: ='5Min'!L14 -> Wait | J14: =Daily!N14 -> Wait | K14: ='H4'!N14 -> Wait | L14: ='1Hr'!N14 -> Wait | M14: ='30Min'!N14 -> Wait | N14: ='15Min'!N14 -> Wait | O14: ='5Min'!N14 -> Wait
A15: USDCAD | C15: =Daily!L15 -> Short | D15: ='H4'!L15 -> Short | E15: ='1Hr'!L15 -> Short | F15: ='30Min'!L15 -> Long | G15: ='15Min'!L15 -> Long | H15: ='5Min'!L15 -> Long | J15: =Daily!N15 -> Wait | K15: ='H4'!N15 -> Wait | L15: ='1Hr'!N15 -> Wait | M15: ='30Min'!N15 -> Wait | N15: ='15Min'!N15 -> Short | O15: ='5Min'!N15 -> Wait
A16: USDCHF | C16: =Daily!L16 -> Short | D16: ='H4'!L16 -> Short | E16: ='1Hr'!L16 -> Wait | F16: ='30Min'!L16 -> Long | G16: ='15Min'!L16 -> Long | H16: ='5Min'!L16 -> Short | J16: =Daily!N16 -> Wait | K16: ='H4'!N16 -> Wait | L16: ='1Hr'!N16 -> Wait | M16: ='30Min'!N16 -> Wait | N16: ='15Min'!N16 -> Wait | O16: ='5Min'!N16 -> Wait
A17: GBPUSD | C17: =Daily!L17 -> Long | D17: ='H4'!L17 -> Long | E17: ='1Hr'!L17 -> Long | F17: ='30Min'!L17 -> Long | G17: ='15Min'!L17 -> Long | H17: ='5Min'!L17 -> Long | J17: =Daily!N17 -> Wait | K17: ='H4'!N17 -> Wait | L17: ='1Hr'!N17 -> Wait | M17: ='30Min'!N17 -> Wait | N17: ='15Min'!N17 -> Wait | O17: ='5Min'!N17 -> Wait
A18: GBPCAD | C18: =Daily!L18 -> Long | D18: ='H4'!L18 -> Long | E18: ='1Hr'!L18 -> Long | F18: ='30Min'!L18 -> Long | G18: ='15Min'!L18 -> Long | H18: ='5Min'!L18 -> Long | J18: =Daily!N18 -> Wait | K18: ='H4'!N18 -> Wait | L18: ='1Hr'!N18 -> Short | M18: ='30Min'!N18 -> Short | N18: ='15Min'!N18 -> Wait | O18: ='5Min'!N18 -> Wait
... A35: XAUUSD | C35: =Daily!L35 -> Short | D35: ='H4'!L35 -> Short | E35: ='1Hr'!L35 -> Wait | F35: ='30Min'!L35 -> Long | G35: ='15Min'!L35 -> Long | H35: ='5Min'!L35 -> Short | J35: =Daily!N35 -> Wait | K35: ='H4'!N35 -> Wait | L35: ='1Hr'!N35 -> Wait | M35: ='30Min'!N35 -> Wait | N35: ='15Min'!N35 -> Wait | O35: ='5Min'!N35 -> Wait

Sheet Daily
A1: Type Account Number | D1: 8249924 | E1: Type (Open/High/Low/Close) | H1: Close | I1: Type Time Frame | K1: D1 | L1: Type Look Back Period | N1: 0
G2: 3 | H2: 3 | I2: 3 | J2: 3
G3: 3 | H3: 3 | I3: 3 | J3: 3
C4: EMA | D4: EMA | E4: EMA | G4: Stoch 5 | H4: Stoch 14 | I4: Stoch 24 | J4: Stoch 36 | L4: EMA Trend | N4: Stoch Trend | R4: Fib Level
C5: 20 | D5: 34 | E5: 50 | G5: 5 | H5: 14 | I5: 24 | J5: 36
G6: Stoch | H6: Stoch | I6: Stoch | J6: Stoch | R6: 50 Level | S6: 61.8 Level
A7: EURUSD | C7: =RTD("fxbluelabs.excelrtd",,$D$1,CONCATENATE("@ema,",A7,",",$K$1,",",$H$1,",",$C$5,",",$N$1)) -> 1.181299 | D7: =RTD("fxbluelabs.excelrtd",,$D$1,CONCATENATE("@ema,",A7,",",$K$1,",",$H$1,",",$D$5,",",$N$1)) -> 1.179617 | E7: =RTD("fxbluelabs.excelrtd",,$D$1,CONCATENATE("@ema,",A7,",",$K$1,",",$H$1,",",$E$5,",",$N$1)) -> 1.177677 | G7: =RTD("fxbluelabs.excelrtd",,$D$1,CONCATENATE("@stoch,",A7,",",$K$1,",",$G$5,",",$G$2,",",$G$3,",",$N$1)) -> 69.431892 | H7: =RTD("fxbluelabs.excelrtd",,$D$1,CONCATENATE("@stoch,",A7,",",$K$1,",",$H$5,",",$H$2,",",$H$3,",",$N$1)) -> 81.800042 | I7: =RTD("fxbluelabs.excelrtd",,$D$1,CONCATENATE("@stoch,",A7,",",$K$1,",",$I$5,",",$I$2,",",$I$3,",",$N$1)) -> 81.800042 | J7: =RTD("fxbluelabs.excelrtd",,$D$1,CONCATENATE("@stoch,",A7,",",$K$1,",",$J$5,",",$J$2,",",$J$3,",",$N$1)) -> 81.800042 | L7: =IF((AND(C7>D7, D7>E7)), "Long", IF((AND(C7<D7, D7<E7)), "Short", "Wait ")) -> Long | N7: =IF((AND(G7<20, H7<20,I7<20,J7<20)), "Long", IF((AND(G7>80, H7>80,I7>80,J7>80)), "Short", IF((AND(G7<30, H7>70,I7>70,J7>70)), "Long Sling", IF((AND(G7>70, H7<30,I7<30,J7<30)), "Short Sling", "Wait ")))) -> Wait
A8: EURGBP | C8: =RTD("fxbluelabs.excelrtd",,$D$1,CONCATENATE("@ema,",A8,",",$K$1,",",$H$1,",",$C$5,",",$N$1)) -> 0.89815 | D8: =RTD("fxbluelabs.excelrtd",,$D$1,CONCATENATE("@ema,",A8,",",$K$1,",",$H$1,",",$D$5,",",$N$1)) -> 0.900551 | E8: =RTD("fxbluelabs.excelrtd",,$D$1,CONCATENATE("@ema,",A8,",",$K$1,",",$H$1,",",$E$5,",",$N$1)) -> 0.90185 | G8: =RTD("fxbluelabs.excelrtd",,$D$1,CONCATENATE("@stoch,",A8,",",$K$1,",",$G$5,",",$G$2,",",$G$3,",",$N$1)) -> 28.259259 | H8: =RTD("fxbluelabs.excelrtd",,$D$1,CONCATENATE("@stoch,",A8,",",$K$1,",",$H$5,",",$H$2,",",$H$3,",",$N$1)) -> 36.335902 | I8: =RTD("fxbluelabs.excelrtd",,$D$1,CONCATENATE("@stoch,",A8,",",$K$1,",",$I$5,",",$I$2,",",$I$3,",",$N$1)) -> 26.237681 | J8: =RTD("fxbluelabs.excelrtd",,$D$1,CONCATENATE("@stoch,",A8,",",$K$1,",",$J$5,",",$J$2,",",$J$3,",",$N$1)) -> 25.069237 | L8: =IF((AND(C8>D8, D8>E8)), "Long", IF((AND(C8<D8, D8<E8)), "Short", "Wait ")) -> Short | N8: =IF((AND(G8<20, H8<20,I8<20,J8<20)), "Long", IF((AND(G8>80, H8>80,I8>80,J8>80)), "Short", IF((AND(G8<30, H8>70,I8>70,J8>70)), "Long Sling", IF((AND(G8>70, H8<30,I8<30,J8<30)), "Short Sling", "Wait ")))) -> Wait
A9: EURJPY | C9: =RTD("fxbluelabs.excelrtd",,$D$1,CONCATENATE("@ema,",A9,",",$K$1,",",$H$1,",",$C$5,",",$N$1)) -> 123.44175 | D9: =RTD("fxbluelabs.excelrtd",,$D$1,CONCATENATE("@ema,",A9,",",$K$1,",",$H$1,",",$D$5,",",$N$1)) -> 123.54878 | E9: =RTD("fxbluelabs.excelrtd",,$D$1,CONCATENATE("@ema,",A9,",",$K$1,",",$H$1,",",$E$5,",",$N$1)) -> 123.61648 | G9: =RTD("fxbluelabs.excelrtd",,$D$1,CONCATENATE("@stoch,",A9,",",$K$1,",",$G$5,",",$G$2,",",$G$3,",",$N$1)) -> 13.982869 | H9: =RTD("fxbluelabs.excelrtd",,$D$1,CONCATENATE("@stoch,",A9,",",$K$1,",",$H$5,",",$H$2,",",$H$3,",",$N$1)) -> 41.291889 | I9: =RTD("fxbluelabs.excelrtd",,$D$1,CONCATENATE("@stoch,",A9,",",$K$1,",",$I$5,",",$I$2,",",$I$3,",",$N$1)) -> 42.732613 | J9: =RTD("fxbluelabs.excelrtd",,$D$1,CONCATENATE("@stoch,",A9,",",$K$1,",",$J$5,",",$J$2,",",$J$3,",",$N$1)) -> 42.732613 | L9: =IF((AND(C9>D9, D9>E9)), "Long", IF((AND(C9<D9, D9<E9)), "Short", "Wait ")) -> Short | N9: =IF((AND(G9<20, H9<20,I9<20,J9<20)), "Long", IF((AND(G9>80, H9>80,I9>80,J9>80)), "Short", IF((AND(G9<30, H9>70,I9>70,J9>70)), "Long Sling", IF((AND(G9>70, H9<30,I9<30,J9<30)), "Short Sling", "Wait ")))) -> Wait
A10: EURAUD | C10: =RTD("fxbluelabs.excelrtd",,$D$1,CONCATENATE("@ema,",A10,",",$K$1,",",$H$1,",",$C$5,",",$N$1)) -> 1.632571 | D10: =RTD("fxbluelabs.excelrtd",,$D$1,CONCATENATE("@ema,",A10,",",$K$1,",",$H$1,",",$D$5,",",$N$1)) -> 1.636281 | E10: =RTD("fxbluelabs.excelrtd",,$D$1,CONCATENATE("@ema,",A10,",",$K$1,",",$H$1,",",$E$5,",",$N$1)) -> 1.637931 | G10: =RTD("fxbluelabs.excelrtd",,$D$1,CONCATENATE("@stoch,",A10,",",$K$1,",",$G$5,",",$G$2,",",$G$3,",",$N$1)) -> 50.723046 | H10: =RTD("fxbluelabs.excelrtd",,$D$1,CONCATENATE("@stoch,",A10,",",$K$1,",",$H$5,",",$H$2,",",$H$3,",",$N$1)) -> 22.418879 | I10: =RTD("fxbluelabs.excelrtd",,$D$1,CONCATENATE("@stoch,",A10,",",$K$1,",",$I$5,",",$I$2,",",$I$3,",",$N$1)) -> 15.578331 | J10: =RTD("fxbluelabs.excelrtd",,$D$1,CONCATENATE("@stoch,",A10,",",$K$1,",",$J$5,",",$J$2,",",$J$3,",",$N$1)) -> 15.578331 | L10: =IF((AND(C10>D10, D10>E10)), "Long", IF((AND(C10<D10, D10<E10)), "Short", "Wait ")) -> Short | N10: =IF((AND(G10<20, H10<20,I10<20,J10<20)), "Long", IF((AND(G10>80, H10>80,I10>80,J10>80)), "Short", IF((AND(G10<30, H10>70,I10>70,J10>70)), "Long Sling", IF((AND(G10>70, H10<30,I10<30,J10<30)), "Short Sling", "Wait ")))) -> Wait
A11: EURCAD | C11: =RTD("fxbluelabs.excelrtd",,$D$1,CONCATENATE("@ema,",A11,",",$K$1,",",$H$1,",",$C$5,",",$N$1)) -> 1.549798 | D11: =RTD("fxbluelabs.excelrtd",,$D$1,CONCATENATE("@ema,",A11,",",$K$1,",",$H$1,",",$D$5,",",$N$1)) -> 1.550866 | E11: =RTD("fxbluelabs.excelrtd",,$D$1,CONCATENATE("@ema,",A11,",",$K$1,",",$H$1,",",$E$5,",",$N$1)) -> 1.551674 | G11: =RTD("fxbluelabs.excelrtd",,$D$1,CONCATENATE("@stoch,",A11,",",$K$1,",",$G$5,",",$G$2,",",$G$3,",",$N$1)) -> 58.539205 | H11: =RTD("fxbluelabs.excelrtd",,$D$1,CONCATENATE("@stoch,",A11,",",$K$1,",",$H$5,",",$H$2,",",$H$3,",",$N$1)) -> 75.897562 | I11: =RTD("fxbluelabs.excelrtd",,$D$1,CONCATENATE("@stoch,",A11,",",$K$1,",",$I$5,",",$I$2,",",$I$3,",",$N$1)) -> 57.996255 | J11: =RTD("fxbluelabs.excelrtd",,$D$1,CONCATENATE("@stoch,",A11,",",$K$1,",",$J$5,",",$J$2,",",$J$3,",",$N$1)) -> 54.457535 | L11: =IF((AND(C11>D11, D11>E11)), "Long", IF((AND(C11<D11, D11<E11)), "Short", "Wait ")) -> Short | N11: =IF((AND(G11<20, H11<20,I11<20,J11<20)), "Long", IF((AND(G11>80, H11>80,I11>80,J11>80)), "Short", IF((AND(G11<30, H11>70,I11>70,J11>70)), "Long Sling", IF((AND(G11>70, H11<30,I11<30,J11<30)), "Short Sling", "Wait ")))) -> Wait
A12: EURNZD | C12: =RTD("fxbluelabs.excelrtd",,$D$1,CONCATENATE("@ema,",A12,",",$K$1,",",$H$1,",",$C$5,",",$N$1)) -> 1.734957 | D12: =RTD("fxbluelabs.excelrtd",,$D$1,CONCATENATE("@ema,",A12,",",$K$1,",",$H$1,",",$D$5,",",$N$1)) -> 1.745549 | E12: =RTD("fxbluelabs.excelrtd",,$D$1,CONCATENATE("@ema,",A12,",",$K$1,",",$H$1,",",$E$5,",",$N$1)) -> 1.752146 | G12: =RTD("fxbluelabs.excelrtd",,$D$1,CONCATENATE("@stoch,",A12,",",$K$1,",",$G$5,",",$G$2,",",$G$3,",",$N$1)) -> 24.382756 | H12: =RTD("fxbluelabs.excelrtd",,$D$1,CONCATENATE("@stoch,",A12,",",$K$1,",",$H$5,",",$H$2,",",$H$3,",",$N$1)) -> 13.551919 | I12: =RTD("fxbluelabs.excelrtd",,$D$1,CONCATENATE("@stoch,",A12,",",$K$1,",",$I$5,",",$I$2,",",$I$3,",",$N$1)) -> 8.373475 | J12: =RTD("fxbluelabs.excelrtd",,$D$1,CONCATENATE("@stoch,",A12,",",$K$1,",",$J$5,",",$J$2,",",$J$3,",",$N$1)) -> 8.373475 | L12: =IF((AND(C12>D12, D12>E12)), "Long", IF((AND(C12<D12, D12<E12)), "Short", "Wait ")) -> Short | N12: =IF((AND(G12<20, H12<20,I12<20,J12<20)), "Long", IF((AND(G12>80, H12>80,I12>80,J12>80)), "Short", IF((AND(G12<30, H12>70,I12>70,J12>70)), "Long Sling", IF((AND(G12>70, H12<30,I12<30,J12<30)), "Short Sling", "Wait ")))) -> Wait
A13: EURCHF | C13: =RTD("fxbluelabs.excelrtd",,$D$1,CONCATENATE("@ema,",A13,",",$K$1,",",$H$1,",",$C$5,",",$N$1)) -> 1.077156 | D13: =RTD("fxbluelabs.excelrtd",,$D$1,CONCATENATE("@ema,",A13,",",$K$1,",",$H$1,",",$D$5,",",$N$1)) -> 1.07622 | E13: =RTD("fxbluelabs.excelrtd",,$D$1,CONCATENATE("@ema,",A13,",",$K$1,",",$H$1,",",$E$5,",",$N$1)) -> 1.075789 | G13: =RTD("fxbluelabs.excelrtd",,$D$1,CONCATENATE("@stoch,",A13,",",$K$1,",",$G$5,",",$G$2,",",$G$3,",",$N$1)) -> 44.4 | H13: =RTD("fxbluelabs.excelrtd",,$D$1,CONCATENATE("@stoch,",A13,",",$K$1,",",$H$5,",",$H$2,",",$H$3,",",$N$1)) -> 86.177407 | I13: =RTD("fxbluelabs.excelrtd",,$D$1,CONCATENATE("@stoch,",A13,",",$K$1,",",$I$5,",",$I$2,",",$I$3,",",$N$1)) -> 86.177407 | J13: =RTD("fxbluelabs.excelrtd",,$D$1,CONCATENATE("@stoch,",A13,",",$K$1,",",$J$5,",",$J$2,",",$J$3,",",$N$1)) -> 86.177407 | L13: =IF((AND(C13>D13, D13>E13)), "Long", IF((AND(C13<D13, D13<E13)), "Short", "Wait ")) -> Long | N13: =IF((AND(G13<20, H13<20,I13<20,J13<20)), "Long", IF((AND(G13>80, H13>80,I13>80,J13>80)), "Short", IF((AND(G13<30, H13>70,I13>70,J13>70)), "Long Sling", IF((AND(G13>70, H13<30,I13<30,J13<30)), "Short Sling", "Wait ")))) -> Wait
A14: USDJPY | C14: =RTD("fxbluelabs.excelrtd",,$D$1,CONCATENATE("@ema,",A14,",",$K$1,",",$H$1,",",$C$5,",",$N$1)) -> 104.49841 | D14: =RTD("fxbluelabs.excelrtd",,$D$1,CONCATENATE("@ema,",A14,",",$K$1,",",$H$1,",",$D$5,",",$N$1)) -> 104.73852 | E14: =RTD("fxbluelabs.excelrtd",,$D$1,CONCATENATE("@ema,",A14,",",$K$1,",",$H$1,",",$E$5,",",$N$1)) -> 104.97098 | G14: =RTD("fxbluelabs.excelrtd",,$D$1,CONCATENATE("@stoch,",A14,",",$K$1,",",$G$5,",",$G$2,",",$G$3,",",$N$1)) -> 8.654046 | H14: =RTD("fxbluelabs.excelrtd",,$D$1,CONCATENATE("@stoch,",A14,",",$K$1,",",$H$5,",",$H$2,",",$H$3,",",$N$1)) -> 24.61682 | I14: =RTD("fxbluelabs.excelrtd",,$D$1,CONCATENATE("@stoch,",A14,",",$K$1,",",$I$5,",",$I$2,",",$I$3,",",$N$1)) -> 23.937273 | J14: =RTD("fxbluelabs.excelrtd",,$D$1,CONCATENATE("@stoch,",A14,",",$K$1,",",$J$5,",",$J$2,",",$J$3,",",$N$1)) -> 20.998181 | L14: =IF((AND(C14>D14, D14>E14)), "Long", IF((AND(C14<D14, D14<E14)), "Short", "Wait ")) -> Short | N14: =IF((AND(G14<20, H14<20,I14<20,J14<20)), "Long", IF((AND(G14>80, H14>80,I14>80,J14>80)), "Short", IF((AND(G14<30, H14>70,I14>70,J14>70)), "Long Sling", IF((AND(G14>70, H14<30,I14<30,J14<30)), "Short Sling", "Wait ")))) -> Wait
A15: USDCAD | C15: =RTD("fxbluelabs.excelrtd",,$D$1,CONCATENATE("@ema,",A15,",",$K$1,",",$H$1,",",$C$5,",",$N$1)) -> 1.31203 | D15: =RTD("fxbluelabs.excelrtd",,$D$1,CONCATENATE("@ema,",A15,",",$K$1,",",$H$1,",",$D$5,",",$N$1)) -> 1.314816 | E15: =RTD("fxbluelabs.excelrtd",,$D$1,CONCATENATE("@ema,",A15,",",$K$1,",",$H$1,",",$E$5,",",$N$1)) -> 1.317725 | G15: =RTD("fxbluelabs.excelrtd",,$D$1,CONCATENATE("@stoch,",A15,",",$K$1,",",$G$5,",",$G$2,",",$G$3,",",$N$1)) -> 39.679201 | H15: =RTD("fxbluelabs.excelrtd",,$D$1,CONCATENATE("@stoch,",A15,",",$K$1,",",$H$5,",",$H$2,",",$H$3,",",$N$1)) -> 37.311768 | I15: =RTD("fxbluelabs.excelrtd",,$D$1,CONCATENATE("@stoch,",A15,",",$K$1,",",$I$5,",",$I$2,",",$I$3,",",$N$1)) -> 33.824485 | J15: =RTD("fxbluelabs.excelrtd",,$D$1,CONCATENATE("@stoch,",A15,",",$K$1,",",$J$5,",",$J$2,",",$J$3,",",$N$1)) -> 33.093068 | L15: =IF((AND(C15>D15, D15>E15)), "Long", IF((AND(C15<D15, D15<E15)), "Short", "Wait ")) -> Short | N15: =IF((AND(G15<20, H15<20,I15<20,J15<20)), "Long", IF((AND(G15>80, H15>80,I15>80,J15>80)), "Short", IF((AND(G15<30, H15>70,I15>70,J15>70)), "Long Sling", IF((AND(G15>70, H15<30,I15<30,J15<30)), "Short Sling", "Wait ")))) -> Wait
A16: USDCHF | C16: =RTD("fxbluelabs.excelrtd",,$D$1,CONCATENATE("@ema,",A16,",",$K$1,",",$H$1,",",$C$5,",",$N$1)) -> 0.911847 | D16: =RTD("fxbluelabs.excelrtd",,$D$1,CONCATENATE("@ema,",A16,",",$K$1,",",$H$1,",",$D$5,",",$N$1)) -> 0.912365 | E16: =RTD("fxbluelabs.excelrtd",,$D$1,CONCATENATE("@ema,",A16,",",$K$1,",",$H$1,",",$E$5,",",$N$1)) -> 0.91355 | G16: =RTD("fxbluelabs.excelrtd",,$D$1,CONCATENATE("@stoch,",A16,",",$K$1,",",$G$5,",",$G$2,",",$G$3,",",$N$1)) -> 27.770115 | H16: =RTD("fxbluelabs.excelrtd",,$D$1,CONCATENATE("@stoch,",A16,",",$K$1,",",$H$5,",",$H$2,",",$H$3,",",$N$1)) -> 56.843849 | I16: =RTD("fxbluelabs.excelrtd",,$D$1,CONCATENATE("@stoch,",A16,",",$K$1,",",$I$5,",",$I$2,",",$I$3,",",$N$1)) -> 55.876258 | J16: =RTD("fxbluelabs.excelrtd",,$D$1,CONCATENATE("@stoch,",A16,",",$K$1,",",$J$5,",",$J$2,",",$J$3,",",$N$1)) -> 51.451547 | L16: =IF((AND(C16>D16, D16>E16)), "Long", IF((AND(C16<D16, D16<E16)), "Short", "Wait ")) -> Short | N16: =IF((AND(G16<20, H16<20,I16<20,J16<20)), "Long", IF((AND(G16>80, H16>80,I16>80,J16>80)), "Short", IF((AND(G16<30, H16>70,I16>70,J16>70)), "Long Sling", IF((AND(G16>70, H16<30,I16<30,J16<30)), "Short Sling", "Wait ")))) -> Wait
A17: GBPUSD | C17: =RTD("fxbluelabs.excelrtd",,$D$1,CONCATENATE("@ema,",A17,",",$K$1,",",$H$1,",",$C$5,",",$N$1)) -> 1.315253 | D17: =RTD("fxbluelabs.excelrtd",,$D$1,CONCATENATE("@ema,",A17,",",$K$1,",",$H$1,",",$D$5,",",$N$1)) -> 1.309904 | E17: =RTD("fxbluelabs.excelrtd",,$D$1,CONCATENATE("@ema,",A17,",",$K$1,",",$H$1,",",$E$5,",",$N$1)) -> 1.305868 | G17: =RTD("fxbluelabs.excelrtd",,$D$1,CONCATENATE("@stoch,",A17,",",$K$1,",",$G$5,",",$G$2,",",$G$3,",",$N$1)) -> 79.202989 | H17: =RTD("fxbluelabs.excelrtd",,$D$1,CONCATENATE("@stoch,",A17,",",$K$1,",",$H$5,",",$H$2,",",$H$3,",",$N$1)) -> 90.826864 | I17: =RTD("fxbluelabs.excelrtd",,$D$1,CONCATENATE("@stoch,",A17,",",$K$1,",",$I$5,",",$I$2,",",$I$3,",",$N$1)) -> 91.184992 | J17: =RTD("fxbluelabs.excelrtd",,$D$1,CONCATENATE("@stoch,",A17,",",$K$1,",",$J$5,",",$J$2,",",$J$3,",",$N$1)) -> 91.775916 | L17: =IF((AND(C17>D17, D17>E17)), "Long", IF((AND(C17<D17, D17<E17)), "Short", "Wait ")) -> Long | N17: =IF((AND(G17<20, H17<20,I17<20,J17<20)), "Long", IF((AND(G17>80, H17>80,I17>80,J17>80)), "Short", IF((AND(G17<30, H17>70,I17>70,J17>70)), "Long Sling", IF((AND(G17>70, H17<30,I17<30,J17<30)), "Short Sling", "Wait ")))) -> Wait
A18: GBPCAD | C18: =RTD("fxbluelabs.excelrtd",,$D$1,CONCATENATE("@ema,",A18,",",$K$1,",",$H$1,",",$C$5,",",$N$1)) -> 1.725507 | D18: =RTD("fxbluelabs.excelrtd",,$D$1,CONCATENATE("@ema,",A18,",",$K$1,",",$H$1,",",$D$5,",",$N$1)) -> 1.722102 | E18: =RTD("fxbluelabs.excelrtd",,$D$1,CONCATENATE("@ema,",A18,",",$K$1,",",$H$1,",",$E$5,",",$N$1)) -> 1.720524 | G18: =RTD("fxbluelabs.excelrtd",,$D$1,CONCATENATE("@stoch,",A18,",",$K$1,",",$G$5,",",$G$2,",",$G$3,",",$N$1)) -> 77.363897 | H18: =RTD("fxbluelabs.excelrtd",,$D$1,CONCATENATE("@stoch,",A18,",",$K$1,",",$H$5,",",$H$2,",",$H$3,",",$N$1)) -> 89.232167 | I18: =RTD("fxbluelabs.excelrtd",,$D$1,CONCATENATE("@stoch,",A18,",",$K$1,",",$I$5,",",$I$2,",",$I$3,",",$N$1)) -> 89.559471 | J18: =RTD("fxbluelabs.excelrtd",,$D$1,CONCATENATE("@stoch,",A18,",",$K$1,",",$J$5,",",$J$2,",",$J$3,",",$N$1)) -> 90.667454 | L18: =IF((AND(C18>D18, D18>E18)), "Long", IF((AND(C18<D18, D18<E18)), "Short", "Wait ")) -> Long | N18: =IF((AND(G18<20, H18<20,I18<20,J18<20)), "Long", IF((AND(G18>80, H18>80,I18>80,J18>80)), "Short", IF((AND(G18<30, H18>70,I18>70,J18>70)), "Long Sling", IF((AND(G18>70, H18<30,I18<30,J18<30)), "Short Sling", "Wait ")))) -> Wait
... A35: XAUUSD | C35: =RTD("fxbluelabs.excelrtd",,$D$1,CONCATENATE("@ema,",A35,",",$K$1,",",$H$1,",",$C$5,",",$N$1)) -> 1887.2886 | D35: =RTD("fxbluelabs.excelrtd",,$D$1,CONCATENATE("@ema,",A35,",",$K$1,",",$H$1,",",$D$5,",",$N$1)) -> 1893.5356 | E35: =RTD("fxbluelabs.excelrtd",,$D$1,CONCATENATE("@ema,",A35,",",$K$1,",",$H$1,",",$E$5,",",$N$1)) -> 1895.9641 | G35: =RTD("fxbluelabs.excelrtd",,$D$1,CONCATENATE("@stoch,",A35,",",$K$1,",",$G$5,",",$G$2,",",$G$3,",",$N$1)) -> 31.864984 | H35: =RTD("fxbluelabs.excelrtd",,$D$1,CONCATENATE("@stoch,",A35,",",$K$1,",",$H$5,",",$H$2,",",$H$3,",",$N$1)) -> 16.742029 | I35: =RTD("fxbluelabs.excelrtd",,$D$1,CONCATENATE("@stoch,",A35,",",$K$1,",",$I$5,",",$I$2,",",$I$3,",",$N$1)) -> 16.742029 | J35: =RTD("fxbluelabs.excelrtd",,$D$1,CONCATENATE("@stoch,",A35,",",$K$1,",",$J$5,",",$J$2,",",$J$3,",",$N$1)) -> 16.742029 | L35: =IF((AND(C35>D35, D35>E35)), "Long", IF((AND(C35<D35, D35<E35)), "Short", "Wait ")) -> Short | N35: =IF((AND(G35<20, H35<20,I35<20,J35<20)), "Long", IF((AND(G35>80, H35>80,I35>80,J35>80)), "Short", IF((AND(G35<30, H35>70,I35>70,J35>70)), "Long Sling", IF((AND(G35>70, H35<30,I35<30,J35<30)), "Short Sling", "Wait ")))) -> Wait

Sheet H4
A1: Type Account Number | D1: 8249924 | E1: Type (Open/High/Low/Close) | H1: Close | I1: Type Time Frame | K1: H4 | L1: Type Look Back Period | N1: 0
G2: 3 | H2: 3 | I2: 3 | J2: 3
G3: 3 | H3: 3 | I3: 3 | J3: 3
C4: EMA | D4: EMA | E4: EMA | G4: Stoch 5 | H4: Stoch 14 | I4: Stoch 24 | J4: Stoch 36 | L4: EMA Trend | N4: Stoch Trend | R4: Fib Level
C5: 20 | D5: 34 | E5: 50 | G5: 5 | H5: 14 | I5: 24 | J5: 36
G6: Stoch | H6: Stoch | I6: Stoch | J6: Stoch | R6: 50 Level | S6: 61.8 Level
A7: EURUSD | C7: =RTD("fxbluelabs.excelrtd",,$D$1,CONCATENATE("@ema,",A7,",",$K$1,",",$H$1,",",$C$5,",",$N$1)) -> 1.185738 | D7: =RTD("fxbluelabs.excelrtd",,$D$1,CONCATENATE("@ema,",A7,",",$K$1,",",$H$1,",",$D$5,",",$N$1)) -> 1.184978 | E7: =RTD("fxbluelabs.excelrtd",,$D$1,CONCATENATE("@ema,",A7,",",$K$1,",",$H$1,",",$E$5,",",$N$1)) -> 1.184009 | G7: =RTD("fxbluelabs.excelrtd",,$D$1,CONCATENATE("@stoch,",A7,",",$K$1,",",$G$5,",",$G$2,",",$G$3,",",$N$1)) -> 27.804107 | H7: =RTD("fxbluelabs.excelrtd",,$D$1,CONCATENATE("@stoch,",A7,",",$K$1,",",$H$5,",",$H$2,",",$H$3,",",$N$1)) -> 59.107143 | I7: =RTD("fxbluelabs.excelrtd",,$D$1,CONCATENATE("@stoch,",A7,",",$K$1,",",$I$5,",",$I$2,",",$I$3,",",$N$1)) -> 56.872852 | J7: =RTD("fxbluelabs.excelrtd",,$D$1,CONCATENATE("@stoch,",A7,",",$K$1,",",$J$5,",",$J$2,",",$J$3,",",$N$1)) -> 66.455062 | L7: =IF((AND(C7>D7, D7>E7)), "Long", IF((AND(C7<D7, D7<E7)), "Short", "Wait ")) -> Long | N7: =IF((AND(G7<20, H7<20,I7<20,J7<20)), "Long", IF((AND(G7>80, H7>80,I7>80,J7>80)), "Short", IF((AND(G7<30, H7>70,I7>70,J7>70)), "Long Sling", IF((AND(G7>70, H7<30,I7<30,J7<30)), "Short Sling", "Wait ")))) -> Wait
A8: EURGBP | C8: =RTD("fxbluelabs.excelrtd",,$D$1,CONCATENATE("@ema,",A8,",",$K$1,",",$H$1,",",$C$5,",",$N$1)) -> 0.894539 | D8: =RTD("fxbluelabs.excelrtd",,$D$1,CONCATENATE("@ema,",A8,",",$K$1,",",$H$1,",",$D$5,",",$N$1)) -> 0.895127 | E8: =RTD("fxbluelabs.excelrtd",,$D$1,CONCATENATE("@ema,",A8,",",$K$1,",",$H$1,",",$E$5,",",$N$1)) -> 0.895788 | G8: =RTD("fxbluelabs.excelrtd",,$D$1,CONCATENATE("@stoch,",A8,",",$K$1,",",$G$5,",",$G$2,",",$G$3,",",$N$1)) -> 26.502058 | H8: =RTD("fxbluelabs.excelrtd",,$D$1,CONCATENATE("@stoch,",A8,",",$K$1,",",$H$5,",",$H$2,",",$H$3,",",$N$1)) -> 32.991803 | I8: =RTD("fxbluelabs.excelrtd",,$D$1,CONCATENATE("@stoch,",A8,",",$K$1,",",$I$5,",",$I$2,",",$I$3,",",$N$1)) -> 22.591207 | J8: =RTD("fxbluelabs.excelrtd",,$D$1,CONCATENATE("@stoch,",A8,",",$K$1,",",$J$5,",",$J$2,",",$J$3,",",$N$1)) -> 18.069585 | L8: =IF((AND(C8>D8, D8>E8)), "Long", IF((AND(C8<D8, D8<E8)), "Short", "Wait ")) -> Short | N8: =IF((AND(G8<20, H8<20,I8<20,J8<20)), "Long", IF((AND(G8>80, H8>80,I8>80,J8>80)), "Short", IF((AND(G8<30, H8>70,I8>70,J8>70)), "Long Sling", IF((AND(G8>70, H8<30,I8<30,J8<30)), "Short Sling", "Wait ")))) -> Wait
A9: EURJPY | C9: =RTD("fxbluelabs.excelrtd",,$D$1,CONCATENATE("@ema,",A9,",",$K$1,",",$H$1,",",$C$5,",",$N$1)) -> 123.27969 | D9: =RTD("fxbluelabs.excelrtd",,$D$1,CONCATENATE("@ema,",A9,",",$K$1,",",$H$1,",",$D$5,",",$N$1)) -> 123.39351 | E9: =RTD("fxbluelabs.excelrtd",,$D$1,CONCATENATE("@ema,",A9,",",$K$1,",",$H$1,",",$E$5,",",$N$1)) -> 123.43484 | G9: =RTD("fxbluelabs.excelrtd",,$D$1,CONCATENATE("@stoch,",A9,",",$K$1,",",$G$5,",",$G$2,",",$G$3,",",$N$1)) -> 27.762238 | H9: =RTD("fxbluelabs.excelrtd",,$D$1,CONCATENATE("@stoch,",A9,",",$K$1,",",$H$5,",",$H$2,",",$H$3,",",$N$1)) -> 42.871142 | I9: =RTD("fxbluelabs.excelrtd",,$D$1,CONCATENATE("@stoch,",A9,",",$K$1,",",$I$5,",",$I$2,",",$I$3,",",$N$1)) -> 24.717514 | J9: =RTD("fxbluelabs.excelrtd",,$D$1,CONCATENATE("@stoch,",A9,",",$K$1,",",$J$5,",",$J$2,",",$J$3,",",$N$1)) -> 18.320771 | L9: =IF((AND(C9>D9, D9>E9)), "Long", IF((AND(C9<D9, D9<E9)), "Short", "Wait ")) -> Short | N9: =IF((AND(G9<20, H9<20,I9<20,J9<20)), "Long", IF((AND(G9>80, H9>80,I9>80,J9>80)), "Short", IF((AND(G9<30, H9>70,I9>70,J9>70)), "Long Sling", IF((AND(G9>70, H9<30,I9<30,J9<30)), "Short Sling", "Wait ")))) -> Wait
A10: EURAUD | C10: =RTD("fxbluelabs.excelrtd",,$D$1,CONCATENATE("@ema,",A10,",",$K$1,",",$H$1,",",$C$5,",",$N$1)) -> 1.625407 | D10: =RTD("fxbluelabs.excelrtd",,$D$1,CONCATENATE("@ema,",A10,",",$K$1,",",$H$1,",",$D$5,",",$N$1)) -> 1.625559 | E10: =RTD("fxbluelabs.excelrtd",,$D$1,CONCATENATE("@ema,",A10,",",$K$1,",",$H$1,",",$E$5,",",$N$1)) -> 1.626637 | G10: =RTD("fxbluelabs.excelrtd",,$D$1,CONCATENATE("@stoch,",A10,",",$K$1,",",$G$5,",",$G$2,",",$G$3,",",$N$1)) -> 14.87699 | H10: =RTD("fxbluelabs.excelrtd",,$D$1,CONCATENATE("@stoch,",A10,",",$K$1,",",$H$5,",",$H$2,",",$H$3,",",$N$1)) -> 27.884177 | I10: =RTD("fxbluelabs.excelrtd",,$D$1,CONCATENATE("@stoch,",A10,",",$K$1,",",$I$5,",",$I$2,",",$I$3,",",$N$1)) -> 35.593565 | J10: =RTD("fxbluelabs.excelrtd",,$D$1,CONCATENATE("@stoch,",A10,",",$K$1,",",$J$5,",",$J$2,",",$J$3,",",$N$1)) -> 38.069512 | L10: =IF((AND(C10>D10, D10>E10)), "Long", IF((AND(C10<D10, D10<E10)), "Short", "Wait ")) -> Short | N10: =IF((AND(G10<20, H10<20,I10<20,J10<20)), "Long", IF((AND(G10>80, H10>80,I10>80,J10>80)), "Short", IF((AND(G10<30, H10>70,I10>70,J10>70)), "Long Sling", IF((AND(G10>70, H10<30,I10<30,J10<30)), "Short Sling", "Wait ")))) -> Wait
A11: EURCAD | C11: =RTD("fxbluelabs.excelrtd",,$D$1,CONCATENATE("@ema,",A11,",",$K$1,",",$H$1,",",$C$5,",",$N$1)) -> 1.551141 | D11: =RTD("fxbluelabs.excelrtd",,$D$1,CONCATENATE("@ema,",A11,",",$K$1,",",$H$1,",",$D$5,",",$N$1)) -> 1.55052 | E11: =RTD("fxbluelabs.excelrtd",,$D$1,CONCATENATE("@ema,",A11,",",$K$1,",",$H$1,",",$E$5,",",$N$1)) -> 1.549811 | G11: =RTD("fxbluelabs.excelrtd",,$D$1,CONCATENATE("@stoch,",A11,",",$K$1,",",$G$5,",",$G$2,",",$G$3,",",$N$1)) -> 56.256572 | H11: =RTD("fxbluelabs.excelrtd",,$D$1,CONCATENATE("@stoch,",A11,",",$K$1,",",$H$5,",",$H$2,",",$H$3,",",$N$1)) -> 55.588865 | I11: =RTD("fxbluelabs.excelrtd",,$D$1,CONCATENATE("@stoch,",A11,",",$K$1,",",$I$5,",",$I$2,",",$I$3,",",$N$1)) -> 37.369755 | J11: =RTD("fxbluelabs.excelrtd",,$D$1,CONCATENATE("@stoch,",A11,",",$K$1,",",$J$5,",",$J$2,",",$J$3,",",$N$1)) -> 40.053908 | L11: =IF((AND(C11>D11, D11>E11)), "Long", IF((AND(C11<D11, D11<E11)), "Short", "Wait ")) -> Long | N11: =IF((AND(G11<20, H11<20,I11<20,J11<20)), "Long", IF((AND(G11>80, H11>80,I11>80,J11>80)), "Short", IF((AND(G11<30, H11>70,I11>70,J11>70)), "Long Sling", IF((AND(G11>70, H11<30,I11<30,J11<30)), "Short Sling", "Wait ")))) -> Wait
A12: EURNZD | C12: =RTD("fxbluelabs.excelrtd",,$D$1,CONCATENATE("@ema,",A12,",",$K$1,",",$H$1,",",$C$5,",",$N$1)) -> 1.714834 | D12: =RTD("fxbluelabs.excelrtd",,$D$1,CONCATENATE("@ema,",A12,",",$K$1,",",$H$1,",",$D$5,",",$N$1)) -> 1.717756 | E12: =RTD("fxbluelabs.excelrtd",,$D$1,CONCATENATE("@ema,",A12,",",$K$1,",",$H$1,",",$E$5,",",$N$1)) -> 1.721424 | G12: =RTD("fxbluelabs.excelrtd",,$D$1,CONCATENATE("@stoch,",A12,",",$K$1,",",$G$5,",",$G$2,",",$G$3,",",$N$1)) -> 23.058054 | H12: =RTD("fxbluelabs.excelrtd",,$D$1,CONCATENATE("@stoch,",A12,",",$K$1,",",$H$5,",",$H$2,",",$H$3,",",$N$1)) -> 20.583942 | I12: =RTD("fxbluelabs.excelrtd",,$D$1,CONCATENATE("@stoch,",A12,",",$K$1,",",$I$5,",",$I$2,",",$I$3,",",$N$1)) -> 13.579454 | J12: =RTD("fxbluelabs.excelrtd",,$D$1,CONCATENATE("@stoch,",A12,",",$K$1,",",$J$5,",",$J$2,",",$J$3,",",$N$1)) -> 10.200145 | L12: =IF((AND(C12>D12, D12>E12)), "Long", IF((AND(C12<D12, D12<E12)), "Short", "Wait ")) -> Short | N12: =IF((AND(G12<20, H12<20,I12<20,J12<20)), "Long", IF((AND(G12>80, H12>80,I12>80,J12>80)), "Short", IF((AND(G12<30, H12>70,I12>70,J12>70)), "Long Sling", IF((AND(G12>70, H12<30,I12<30,J12<30)), "Short Sling", "Wait ")))) -> Wait
A13: EURCHF | C13: =RTD("fxbluelabs.excelrtd",,$D$1,CONCATENATE("@ema,",A13,",",$K$1,",",$H$1,",",$C$5,",",$N$1)) -> 1.080504 | D13: =RTD("fxbluelabs.excelrtd",,$D$1,CONCATENATE("@ema,",A13,",",$K$1,",",$H$1,",",$D$5,",",$N$1)) -> 1.080108 | E13: =RTD("fxbluelabs.excelrtd",,$D$1,CONCATENATE("@ema,",A13,",",$K$1,",",$H$1,",",$E$5,",",$N$1)) -> 1.079345 | G13: =RTD("fxbluelabs.excelrtd",,$D$1,CONCATENATE("@stoch,",A13,",",$K$1,",",$G$5,",",$G$2,",",$G$3,",",$N$1)) -> 38.078704 | H13: =RTD("fxbluelabs.excelrtd",,$D$1,CONCATENATE("@stoch,",A13,",",$K$1,",",$H$5,",",$H$2,",",$H$3,",",$N$1)) -> 45.804541 | I13: =RTD("fxbluelabs.excelrtd",,$D$1,CONCATENATE("@stoch,",A13,",",$K$1,",",$I$5,",",$I$2,",",$I$3,",",$N$1)) -> 44.572526 | J13: =RTD("fxbluelabs.excelrtd",,$D$1,CONCATENATE("@stoch,",A13,",",$K$1,",",$J$5,",",$J$2,",",$J$3,",",$N$1)) -> 46.128769 | L13: =IF((AND(C13>D13, D13>E13)), "Long", IF((AND(C13<D13, D13<E13)), "Short", "Wait ")) -> Long | N13: =IF((AND(G13<20, H13<20,I13<20,J13<20)), "Long", IF((AND(G13>80, H13>80,I13>80,J13>80)), "Short", IF((AND(G13<30, H13>70,I13>70,J13>70)), "Long Sling", IF((AND(G13>70, H13<30,I13<30,J13<30)), "Short Sling", "Wait ")))) -> Wait
A14: USDJPY | C14: =RTD("fxbluelabs.excelrtd",,$D$1,CONCATENATE("@ema,",A14,",",$K$1,",",$H$1,",",$C$5,",",$N$1)) -> 103.96891 | D14: =RTD("fxbluelabs.excelrtd",,$D$1,CONCATENATE("@ema,",A14,",",$K$1,",",$H$1,",",$D$5,",",$N$1)) -> 104.13215 | E14: =RTD("fxbluelabs.excelrtd",,$D$1,CONCATENATE("@ema,",A14,",",$K$1,",",$H$1,",",$E$5,",",$N$1)) -> 104.25275 | G14: =RTD("fxbluelabs.excelrtd",,$D$1,CONCATENATE("@stoch,",A14,",",$K$1,",",$G$5,",",$G$2,",",$G$3,",",$N$1)) -> 55.798319 | H14: =RTD("fxbluelabs.excelrtd",,$D$1,CONCATENATE("@stoch,",A14,",",$K$1,",",$H$5,",",$H$2,",",$H$3,",",$N$1)) -> 30.023641 | I14: =RTD("fxbluelabs.excelrtd",,$D$1,CONCATENATE("@stoch,",A14,",",$K$1,",",$I$5,",",$I$2,",",$I$3,",",$N$1)) -> 16.350177 | J14: =RTD("fxbluelabs.excelrtd",,$D$1,CONCATENATE("@stoch,",A14,",",$K$1,",",$J$5,",",$J$2,",",$J$3,",",$N$1)) -> 10.797024 | L14: =IF((AND(C14>D14, D14>E14)), "Long", IF((AND(C14<D14, D14<E14)), "Short", "Wait ")) -> Short | N14: =IF((AND(G14<20, H14<20,I14<20,J14<20)), "Long", IF((AND(G14>80, H14>80,I14>80,J14>80)), "Short", IF((AND(G14<30, H14>70,I14>70,J14>70)), "Long Sling", IF((AND(G14>70, H14<30,I14<30,J14<30)), "Short Sling", "Wait ")))) -> Wait
A15: USDCAD | C15: =RTD("fxbluelabs.excelrtd",,$D$1,CONCATENATE("@ema,",A15,",",$K$1,",",$H$1,",",$C$5,",",$N$1)) -> 1.308218 | D15: =RTD("fxbluelabs.excelrtd",,$D$1,CONCATENATE("@ema,",A15,",",$K$1,",",$H$1,",",$D$5,",",$N$1)) -> 1.308527 | E15: =RTD("fxbluelabs.excelrtd",,$D$1,CONCATENATE("@ema,",A15,",",$K$1,",",$H$1,",",$E$5,",",$N$1)) -> 1.309004 | G15: =RTD("fxbluelabs.excelrtd",,$D$1,CONCATENATE("@stoch,",A15,",",$K$1,",",$G$5,",",$G$2,",",$G$3,",",$N$1)) -> 71.928666 | H15: =RTD("fxbluelabs.excelrtd",,$D$1,CONCATENATE("@stoch,",A15,",",$K$1,",",$H$5,",",$H$2,",",$H$3,",",$N$1)) -> 49.272116 | I15: =RTD("fxbluelabs.excelrtd",,$D$1,CONCATENATE("@stoch,",A15,",",$K$1,",",$I$5,",",$I$2,",",$I$3,",",$N$1)) -> 49.272116 | J15: =RTD("fxbluelabs.excelrtd",,$D$1,CONCATENATE("@stoch,",A15,",",$K$1,",",$J$5,",",$J$2,",",$J$3,",",$N$1)) -> 31.814895 | L15: =IF((AND(C15>D15, D15>E15)), "Long", IF((AND(C15<D15, D15<E15)), "Short", "Wait ")) -> Short | N15: =IF((AND(G15<20, H15<20,I15<20,J15<20)), "Long", IF((AND(G15>80, H15>80,I15>80,J15>80)), "Short", IF((AND(G15<30, H15>70,I15>70,J15>70)), "Long Sling", IF((AND(G15>70, H15<30,I15<30,J15<30)), "Short Sling", "Wait ")))) -> Wait
A16: USDCHF | C16: =RTD("fxbluelabs.excelrtd",,$D$1,CONCATENATE("@ema,",A16,",",$K$1,",",$H$1,",",$C$5,",",$N$1)) -> 0.911258 | D16: =RTD("fxbluelabs.excelrtd",,$D$1,CONCATENATE("@ema,",A16,",",$K$1,",",$H$1,",",$D$5,",",$N$1)) -> 0.911507 | E16: =RTD("fxbluelabs.excelrtd",,$D$1,CONCATENATE("@ema,",A16,",",$K$1,",",$H$1,",",$E$5,",",$N$1)) -> 0.911611 | G16: =RTD("fxbluelabs.excelrtd",,$D$1,CONCATENATE("@stoch,",A16,",",$K$1,",",$G$5,",",$G$2,",",$G$3,",",$N$1)) -> 60.272537 | H16: =RTD("fxbluelabs.excelrtd",,$D$1,CONCATENATE("@stoch,",A16,",",$K$1,",",$H$5,",",$H$2,",",$H$3,",",$N$1)) -> 39.930556 | I16: =RTD("fxbluelabs.excelrtd",,$D$1,CONCATENATE("@stoch,",A16,",",$K$1,",",$I$5,",",$I$2,",",$I$3,",",$N$1)) -> 42.286071 | J16: =RTD("fxbluelabs.excelrtd",,$D$1,CONCATENATE("@stoch,",A16,",",$K$1,",",$J$5,",",$J$2,",",$J$3,",",$N$1)) -> 31.739334 | L16: =IF((AND(C16>D16, D16>E16)), "Long", IF((AND(C16<D16, D16<E16)), "Short", "Wait ")) -> Short | N16: =IF((AND(G16<20, H16<20,I16<20,J16<20)), "Long", IF((AND(G16>80, H16>80,I16>80,J16>80)), "Short", IF((AND(G16<30, H16>70,I16>70,J16>70)), "Long Sling", IF((AND(G16>70, H16<30,I16<30,J16<30)), "Short Sling", "Wait ")))) -> Wait
A17: GBPUSD | C17: =RTD("fxbluelabs.excelrtd",,$D$1,CONCATENATE("@ema,",A17,",",$K$1,",",$H$1,",",$C$5,",",$N$1)) -> 1.325478 | D17: =RTD("fxbluelabs.excelrtd",,$D$1,CONCATENATE("@ema,",A17,",",$K$1,",",$H$1,",",$D$5,",",$N$1)) -> 1.32377 | E17: =RTD("fxbluelabs.excelrtd",,$D$1,CONCATENATE("@ema,",A17,",",$K$1,",",$H$1,",",$E$5,",",$N$1)) -> 1.321722 | G17: =RTD("fxbluelabs.excelrtd",,$D$1,CONCATENATE("@stoch,",A17,",",$K$1,",",$G$5,",",$G$2,",",$G$3,",",$N$1)) -> 68.929016 | H17: =RTD("fxbluelabs.excelrtd",,$D$1,CONCATENATE("@stoch,",A17,",",$K$1,",",$H$5,",",$H$2,",",$H$3,",",$N$1)) -> 71.640938 | I17: =RTD("fxbluelabs.excelrtd",,$D$1,CONCATENATE("@stoch,",A17,",",$K$1,",",$I$5,",",$I$2,",",$I$3,",",$N$1)) -> 74.898785 | J17: =RTD("fxbluelabs.excelrtd",,$D$1,CONCATENATE("@stoch,",A17,",",$K$1,",",$J$5,",",$J$2,",",$J$3,",",$N$1)) -> 83.869919 | L17: =IF((AND(C17>D17, D17>E17)), "Long", IF((AND(C17<D17, D17<E17)), "Short", "Wait ")) -> Long | N17: =IF((AND(G17<20, H17<20,I17<20,J17<20)), "Long", IF((AND(G17>80, H17>80,I17>80,J17>80)), "Short", IF((AND(G17<30, H17>70,I17>70,J17>70)), "Long Sling", IF((AND(G17>70, H17<30,I17<30,J17<30)), "Short Sling", "Wait ")))) -> Wait
A18: GBPCAD | C18: =RTD("fxbluelabs.excelrtd",,$D$1,CONCATENATE("@ema,",A18,",",$K$1,",",$H$1,",",$C$5,",",$N$1)) -> 1.733973 | D18: =RTD("fxbluelabs.excelrtd",,$D$1,CONCATENATE("@ema,",A18,",",$K$1,",",$H$1,",",$D$5,",",$N$1)) -> 1.732144 | E18: =RTD("fxbluelabs.excelrtd",,$D$1,CONCATENATE("@ema,",A18,",",$K$1,",",$H$1,",",$E$5,",",$N$1)) -> 1.730083 | G18: =RTD("fxbluelabs.excelrtd",,$D$1,CONCATENATE("@stoch,",A18,",",$K$1,",",$G$5,",",$G$2,",",$G$3,",",$N$1)) -> 74.198988 | H18: =RTD("fxbluelabs.excelrtd",,$D$1,CONCATENATE("@stoch,",A18,",",$K$1,",",$H$5,",",$H$2,",",$H$3,",",$N$1)) -> 62.755763 | I18: =RTD("fxbluelabs.excelrtd",,$D$1,CONCATENATE("@stoch,",A18,",",$K$1,",",$I$5,",",$I$2,",",$I$3,",",$N$1)) -> 73.658179 | J18: =RTD("fxbluelabs.excelrtd",,$D$1,CONCATENATE("@stoch,",A18,",",$K$1,",",$J$5,",",$J$2,",",$J$3,",",$N$1)) -> 76.735156 | L18: =IF((AND(C18>D18, D18>E18)), "Long", IF((AND(C18<D18, D18<E18)), "Short", "Wait ")) -> Long | N18: =IF((AND(G18<20, H18<20,I18<20,J18<20)), "Long", IF((AND(G18>80, H18>80,I18>80,J18>80)), "Short", IF((AND(G18<30, H18>70,I18>70,J18>70)), "Long Sling", IF((AND(G18>70, H18<30,I18<30,J18<30)), "Short Sling", "Wait ")))) -> Wait
... A35: XAUUSD | C35: =RTD("fxbluelabs.excelrtd",,$D$1,CONCATENATE("@ema,",A35,",",$K$1,",",$H$1,",",$C$5,",",$N$1)) -> 1871.6572 | D35: =RTD("fxbluelabs.excelrtd",,$D$1,CONCATENATE("@ema,",A35,",",$K$1,",",$H$1,",",$D$5,",",$N$1)) -> 1875.6579 | E35: =RTD("fxbluelabs.excelrtd",,$D$1,CONCATENATE("@ema,",A35,",",$K$1,",",$H$1,",",$E$5,",",$N$1)) -> 1879.4647 | G35: =RTD("fxbluelabs.excelrtd",,$D$1,CONCATENATE("@stoch,",A35,",",$K$1,",",$G$5,",",$G$2,",",$G$3,",",$N$1)) -> 60.034269 | H35: =RTD("fxbluelabs.excelrtd",,$D$1,CONCATENATE("@stoch,",A35,",",$K$1,",",$H$5,",",$H$2,",",$H$3,",",$N$1)) -> 54.40887 | I35: =RTD("fxbluelabs.excelrtd",,$D$1,CONCATENATE("@stoch,",A35,",",$K$1,",",$I$5,",",$I$2,",",$I$3,",",$N$1)) -> 42.055102 | J35: =RTD("fxbluelabs.excelrtd",,$D$1,CONCATENATE("@stoch,",A35,",",$K$1,",",$J$5,",",$J$2,",",$J$3,",",$N$1)) -> 37.738968 | L35: =IF((AND(C35>D35, D35>E35)), "Long", IF((AND(C35<D35, D35<E35)), "Short", "Wait ")) -> Short | N35: =IF((AND(G35<20, H35<20,I35<20,J35<20)), "Long", IF((AND(G35>80, H35>80,I35>80,J35>80)), "Short", IF((AND(G35<30, H35>70,I35>70,J35>70)), "Long Sling", IF((AND(G35>70, H35<30,I35<30,J35<30)), "Short Sling", "Wait ")))) -> Wait

Sheet 1Hr
A1: Type Account Number | D1: 8249924 | E1: Type (Open/High/Low/Close) | H1: Close | I1: Type Time Frame | K1: H1 | L1: Type Look Back Period | N1: 0
G2: 3 | H2: 3 | I2: 3 | J2: 3
G3: 3 | H3: 3 | I3: 3 | J3: 3
C4: EMA | D4: EMA | E4: EMA | G4: Stoch 5 | H4: Stoch 14 | I4: Stoch 24 | J4: Stoch 36 | L4: EMA Trend | N4: Stoch Trend | R4: Fib Level
C5: 20 | D5: 34 | E5: 50 | G5: 5 | H5: 14 | I5: 24 | J5: 36
G6: Stoch | H6: Stoch | I6: Stoch | J6: Stoch | R6: 50 Level | S6: 61.8 Level
A7: EURUSD | C7: =RTD("fxbluelabs.excelrtd",,$D$1,CONCATENATE("@ema,",A7,",",$K$1,",",$H$1,",",$C$5,",",$N$1)) -> 1.186232 | D7: =RTD("fxbluelabs.excelrtd",,$D$1,CONCATENATE("@ema,",A7,",",$K$1,",",$H$1,",",$D$5,",",$N$1)) -> 1.186192 | E7: =RTD("fxbluelabs.excelrtd",,$D$1,CONCATENATE("@ema,",A7,",",$K$1,",",$H$1,",",$E$5,",",$N$1)) -> 1.186081 | G7: =RTD("fxbluelabs.excelrtd",,$D$1,CONCATENATE("@stoch,",A7,",",$K$1,",",$G$5,",",$G$2,",",$G$3,",",$N$1)) -> 51.750973 | H7: =RTD("fxbluelabs.excelrtd",,$D$1,CONCATENATE("@stoch,",A7,",",$K$1,",",$H$5,",",$H$2,",",$H$3,",",$N$1)) -> 25.527831 | I7: =RTD("fxbluelabs.excelrtd",,$D$1,CONCATENATE("@stoch,",A7,",",$K$1,",",$I$5,",",$I$2,",",$I$3,",",$N$1)) -> 21.521036 | J7: =RTD("fxbluelabs.excelrtd",,$D$1,CONCATENATE("@stoch,",A7,",",$K$1,",",$J$5,",",$J$2,",",$J$3,",",$N$1)) -> 56.65773 | L7: =IF((AND(C7>D7, D7>E7)), "Long", IF((AND(C7<D7, D7<E7)), "Short", "Wait ")) -> Long | N7: =IF((AND(G7<20, H7<20,I7<20,J7<20)), "Long", IF((AND(G7>80, H7>80,I7>80,J7>80)), "Short", IF((AND(G7<30, H7>70,I7>70,J7>70)), "Long Sling", IF((AND(G7>70, H7<30,I7<30,J7<30)), "Short Sling", "Wait ")))) -> Wait
A8: EURGBP | C8: =RTD("fxbluelabs.excelrtd",,$D$1,CONCATENATE("@ema,",A8,",",$K$1,",",$H$1,",",$C$5,",",$N$1)) -> 0.893499 | D8: =RTD("fxbluelabs.excelrtd",,$D$1,CONCATENATE("@ema,",A8,",",$K$1,",",$H$1,",",$D$5,",",$N$1)) -> 0.893928 | E8: =RTD("fxbluelabs.excelrtd",,$D$1,CONCATENATE("@ema,",A8,",",$K$1,",",$H$1,",",$E$5,",",$N$1)) -> 0.894211 | G8: =RTD("fxbluelabs.excelrtd",,$D$1,CONCATENATE("@stoch,",A8,",",$K$1,",",$G$5,",",$G$2,",",$G$3,",",$N$1)) -> 29.391304 | H8: =RTD("fxbluelabs.excelrtd",,$D$1,CONCATENATE("@stoch,",A8,",",$K$1,",",$H$5,",",$H$2,",",$H$3,",",$N$1)) -> 13.943894 | I8: =RTD("fxbluelabs.excelrtd",,$D$1,CONCATENATE("@stoch,",A8,",",$K$1,",",$I$5,",",$I$2,",",$I$3,",",$N$1)) -> 13.192818 | J8: =RTD("fxbluelabs.excelrtd",,$D$1,CONCATENATE("@stoch,",A8,",",$K$1,",",$J$5,",",$J$2,",",$J$3,",",$N$1)) -> 12.435614 | L8: =IF((AND(C8>D8, D8>E8)), "Long", IF((AND(C8<D8, D8<E8)), "Short", "Wait ")) -> Short | N8: =IF((AND(G8<20, H8<20,I8<20,J8<20)), "Long", IF((AND(G8>80, H8>80,I8>80,J8>80)), "Short", IF((AND(G8<30, H8>70,I8>70,J8>70)), "Long Sling", IF((AND(G8>70, H8<30,I8<30,J8<30)), "Short Sling", "Wait ")))) -> Wait
A9: EURJPY | C9: =RTD("fxbluelabs.excelrtd",,$D$1,CONCATENATE("@ema,",A9,",",$K$1,",",$H$1,",",$C$5,",",$N$1)) -> 123.15694 | D9: =RTD("fxbluelabs.excelrtd",,$D$1,CONCATENATE("@ema,",A9,",",$K$1,",",$H$1,",",$D$5,",",$N$1)) -> 123.17261 | E9: =RTD("fxbluelabs.excelrtd",,$D$1,CONCATENATE("@ema,",A9,",",$K$1,",",$H$1,",",$E$5,",",$N$1)) -> 123.20468 | G9: =RTD("fxbluelabs.excelrtd",,$D$1,CONCATENATE("@stoch,",A9,",",$K$1,",",$G$5,",",$G$2,",",$G$3,",",$N$1)) -> 60.280374 | H9: =RTD("fxbluelabs.excelrtd",,$D$1,CONCATENATE("@stoch,",A9,",",$K$1,",",$H$5,",",$H$2,",",$H$3,",",$N$1)) -> 32.375479 | I9: =RTD("fxbluelabs.excelrtd",,$D$1,CONCATENATE("@stoch,",A9,",",$K$1,",",$I$5,",",$I$2,",",$I$3,",",$N$1)) -> 23.920736 | J9: =RTD("fxbluelabs.excelrtd",,$D$1,CONCATENATE("@stoch,",A9,",",$K$1,",",$J$5,",",$J$2,",",$J$3,",",$N$1)) -> 38.676554 | L9: =IF((AND(C9>D9, D9>E9)), "Long", IF((AND(C9<D9, D9<E9)), "Short", "Wait ")) -> Short | N9: =IF((AND(G9<20, H9<20,I9<20,J9<20)), "Long", IF((AND(G9>80, H9>80,I9>80,J9>80)), "Short", IF((AND(G9<30, H9>70,I9>70,J9>70)), "Long Sling", IF((AND(G9>70, H9<30,I9<30,J9<30)), "Short Sling", "Wait ")))) -> Wait
A10: EURAUD | C10: =RTD("fxbluelabs.excelrtd",,$D$1,CONCATENATE("@ema,",A10,",",$K$1,",",$H$1,",",$C$5,",",$N$1)) -> 1.624389 | D10: =RTD("fxbluelabs.excelrtd",,$D$1,CONCATENATE("@ema,",A10,",",$K$1,",",$H$1,",",$D$5,",",$N$1)) -> 1.625234 | E10: =RTD("fxbluelabs.excelrtd",,$D$1,CONCATENATE("@ema,",A10,",",$K$1,",",$H$1,",",$E$5,",",$N$1)) -> 1.625458 | G10: =RTD("fxbluelabs.excelrtd",,$D$1,CONCATENATE("@stoch,",A10,",",$K$1,",",$G$5,",",$G$2,",",$G$3,",",$N$1)) -> 51.902439 | H10: =RTD("fxbluelabs.excelrtd",,$D$1,CONCATENATE("@stoch,",A10,",",$K$1,",",$H$5,",",$H$2,",",$H$3,",",$N$1)) -> 18.627451 | I10: =RTD("fxbluelabs.excelrtd",,$D$1,CONCATENATE("@stoch,",A10,",",$K$1,",",$I$5,",",$I$2,",",$I$3,",",$N$1)) -> 13.72549 | J10: =RTD("fxbluelabs.excelrtd",,$D$1,CONCATENATE("@stoch,",A10,",",$K$1,",",$J$5,",",$J$2,",",$J$3,",",$N$1)) -> 13.72549 | L10: =IF((AND(C10>D10, D10>E10)), "Long", IF((AND(C10<D10, D10<E10)), "Short", "Wait ")) -> Short | N10: =IF((AND(G10<20, H10<20,I10<20,J10<20)), "Long", IF((AND(G10>80, H10>80,I10>80,J10>80)), "Short", IF((AND(G10<30, H10>70,I10>70,J10>70)), "Long Sling", IF((AND(G10>70, H10<30,I10<30,J10<30)), "Short Sling", "Wait ")))) -> Wait
A11: EURCAD | C11: =RTD("fxbluelabs.excelrtd",,$D$1,CONCATENATE("@ema,",A11,",",$K$1,",",$H$1,",",$C$5,",",$N$1)) -> 1.551045 | D11: =RTD("fxbluelabs.excelrtd",,$D$1,CONCATENATE("@ema,",A11,",",$K$1,",",$H$1,",",$D$5,",",$N$1)) -> 1.551027 | E11: =RTD("fxbluelabs.excelrtd",,$D$1,CONCATENATE("@ema,",A11,",",$K$1,",",$H$1,",",$E$5,",",$N$1)) -> 1.551075 | G11: =RTD("fxbluelabs.excelrtd",,$D$1,CONCATENATE("@stoch,",A11,",",$K$1,",",$G$5,",",$G$2,",",$G$3,",",$N$1)) -> 81.606607 | H11: =RTD("fxbluelabs.excelrtd",,$D$1,CONCATENATE("@stoch,",A11,",",$K$1,",",$H$5,",",$H$2,",",$H$3,",",$N$1)) -> 81.052632 | I11: =RTD("fxbluelabs.excelrtd",,$D$1,CONCATENATE("@stoch,",A11,",",$K$1,",",$I$5,",",$I$2,",",$I$3,",",$N$1)) -> 76.919033 | J11: =RTD("fxbluelabs.excelrtd",,$D$1,CONCATENATE("@stoch,",A11,",",$K$1,",",$J$5,",",$J$2,",",$J$3,",",$N$1)) -> 76.919033 | L11: =IF((AND(C11>D11, D11>E11)), "Long", IF((AND(C11<D11, D11<E11)), "Short", "Wait ")) -> Wait | N11: =IF((AND(G11<20, H11<20,I11<20,J11<20)), "Long", IF((AND(G11>80, H11>80,I11>80,J11>80)), "Short", IF((AND(G11<30, H11>70,I11>70,J11>70)), "Long Sling", IF((AND(G11>70, H11<30,I11<30,J11<30)), "Short Sling", "Wait ")))) -> Wait
A12: EURNZD | C12: =RTD("fxbluelabs.excelrtd",,$D$1,CONCATENATE("@ema,",A12,",",$K$1,",",$H$1,",",$C$5,",",$N$1)) -> 1.710518 | D12: =RTD("fxbluelabs.excelrtd",,$D$1,CONCATENATE("@ema,",A12,",",$K$1,",",$H$1,",",$D$5,",",$N$1)) -> 1.711993 | E12: =RTD("fxbluelabs.excelrtd",,$D$1,CONCATENATE("@ema,",A12,",",$K$1,",",$H$1,",",$E$5,",",$N$1)) -> 1.713184 | G12: =RTD("fxbluelabs.excelrtd",,$D$1,CONCATENATE("@stoch,",A12,",",$K$1,",",$G$5,",",$G$2,",",$G$3,",",$N$1)) -> 65.266106 | H12: =RTD("fxbluelabs.excelrtd",,$D$1,CONCATENATE("@stoch,",A12,",",$K$1,",",$H$5,",",$H$2,",",$H$3,",",$N$1)) -> 31.972556 | I12: =RTD("fxbluelabs.excelrtd",,$D$1,CONCATENATE("@stoch,",A12,",",$K$1,",",$I$5,",",$I$2,",",$I$3,",",$N$1)) -> 23.411203 | J12: =RTD("fxbluelabs.excelrtd",,$D$1,CONCATENATE("@stoch,",A12,",",$K$1,",",$J$5,",",$J$2,",",$J$3,",",$N$1)) -> 23.411203 | L12: =IF((AND(C12>D12, D12>E12)), "Long", IF((AND(C12<D12, D12<E12)), "Short", "Wait ")) -> Short | N12: =IF((AND(G12<20, H12<20,I12<20,J12<20)), "Long", IF((AND(G12>80, H12>80,I12>80,J12>80)), "Short", IF((AND(G12<30, H12>70,I12>70,J12>70)), "Long Sling", IF((AND(G12>70, H12<30,I12<30,J12<30)), "Short Sling", "Wait ")))) -> Wait
A13: EURCHF | C13: =RTD("fxbluelabs.excelrtd",,$D$1,CONCATENATE("@ema,",A13,",",$K$1,",",$H$1,",",$C$5,",",$N$1)) -> 1.08074 | D13: =RTD("fxbluelabs.excelrtd",,$D$1,CONCATENATE("@ema,",A13,",",$K$1,",",$H$1,",",$D$5,",",$N$1)) -> 1.080704 | E13: =RTD("fxbluelabs.excelrtd",,$D$1,CONCATENATE("@ema,",A13,",",$K$1,",",$H$1,",",$E$5,",",$N$1)) -> 1.080664 | G13: =RTD("fxbluelabs.excelrtd",,$D$1,CONCATENATE("@stoch,",A13,",",$K$1,",",$G$5,",",$G$2,",",$G$3,",",$N$1)) -> 35.31746 | H13: =RTD("fxbluelabs.excelrtd",,$D$1,CONCATENATE("@stoch,",A13,",",$K$1,",",$H$5,",",$H$2,",",$H$3,",",$N$1)) -> 37.037037 | I13: =RTD("fxbluelabs.excelrtd",,$D$1,CONCATENATE("@stoch,",A13,",",$K$1,",",$I$5,",",$I$2,",",$I$3,",",$N$1)) -> 37.037037 | J13: =RTD("fxbluelabs.excelrtd",,$D$1,CONCATENATE("@stoch,",A13,",",$K$1,",",$J$5,",",$J$2,",",$J$3,",",$N$1)) -> 43.333333 | L13: =IF((AND(C13>D13, D13>E13)), "Long", IF((AND(C13<D13, D13<E13)), "Short", "Wait ")) -> Long | N13: =IF((AND(G13<20, H13<20,I13<20,J13<20)), "Long", IF((AND(G13>80, H13>80,I13>80,J13>80)), "Short", IF((AND(G13<30, H13>70,I13>70,J13>70)), "Long Sling", IF((AND(G13>70, H13<30,I13<30,J13<30)), "Short Sling", "Wait ")))) -> Wait
A14: USDJPY | C14: =RTD("fxbluelabs.excelrtd",,$D$1,CONCATENATE("@ema,",A14,",",$K$1,",",$H$1,",",$C$5,",",$N$1)) -> 103.82044 | D14: =RTD("fxbluelabs.excelrtd",,$D$1,CONCATENATE("@ema,",A14,",",$K$1,",",$H$1,",",$D$5,",",$N$1)) -> 103.83692 | E14: =RTD("fxbluelabs.excelrtd",,$D$1,CONCATENATE("@ema,",A14,",",$K$1,",",$H$1,",",$E$5,",",$N$1)) -> 103.87372 | G14: =RTD("fxbluelabs.excelrtd",,$D$1,CONCATENATE("@stoch,",A14,",",$K$1,",",$G$5,",",$G$2,",",$G$3,",",$N$1)) -> 63.117871 | H14: =RTD("fxbluelabs.excelrtd",,$D$1,CONCATENATE("@stoch,",A14,",",$K$1,",",$H$5,",",$H$2,",",$H$3,",",$N$1)) -> 66.666667 | I14: =RTD("fxbluelabs.excelrtd",,$D$1,CONCATENATE("@stoch,",A14,",",$K$1,",",$I$5,",",$I$2,",",$I$3,",",$N$1)) -> 59.615385 | J14: =RTD("fxbluelabs.excelrtd",,$D$1,CONCATENATE("@stoch,",A14,",",$K$1,",",$J$5,",",$J$2,",",$J$3,",",$N$1)) -> 24.07767 | L14: =IF((AND(C14>D14, D14>E14)), "Long", IF((AND(C14<D14, D14<E14)), "Short", "Wait ")) -> Short | N14: =IF((AND(G14<20, H14<20,I14<20,J14<20)), "Long", IF((AND(G14>80, H14>80,I14>80,J14>80)), "Short", IF((AND(G14<30, H14>70,I14>70,J14>70)), "Long Sling", IF((AND(G14>70, H14<30,I14<30,J14<30)), "Short Sling", "Wait ")))) -> Wait
A15: USDCAD | C15: =RTD("fxbluelabs.excelrtd",,$D$1,CONCATENATE("@ema,",A15,",",$K$1,",",$H$1,",",$C$5,",",$N$1)) -> 1.307588 | D15: =RTD("fxbluelabs.excelrtd",,$D$1,CONCATENATE("@ema,",A15,",",$K$1,",",$H$1,",",$D$5,",",$N$1)) -> 1.30761 | E15: =RTD("fxbluelabs.excelrtd",,$D$1,CONCATENATE("@ema,",A15,",",$K$1,",",$H$1,",",$E$5,",",$N$1)) -> 1.307769 | G15: =RTD("fxbluelabs.excelrtd",,$D$1,CONCATENATE("@stoch,",A15,",",$K$1,",",$G$5,",",$G$2,",",$G$3,",",$N$1)) -> 85.576077 | H15: =RTD("fxbluelabs.excelrtd",,$D$1,CONCATENATE("@stoch,",A15,",",$K$1,",",$H$5,",",$H$2,",",$H$3,",",$N$1)) -> 90.520231 | I15: =RTD("fxbluelabs.excelrtd",,$D$1,CONCATENATE("@stoch,",A15,",",$K$1,",",$I$5,",",$I$2,",",$I$3,",",$N$1)) -> 90.520231 | J15: =RTD("fxbluelabs.excelrtd",,$D$1,CONCATENATE("@stoch,",A15,",",$K$1,",",$J$5,",",$J$2,",",$J$3,",",$N$1)) -> 61.848341 | L15: =IF((AND(C15>D15, D15>E15)), "Long", IF((AND(C15<D15, D15<E15)), "Short", "Wait ")) -> Short | N15: =IF((AND(G15<20, H15<20,I15<20,J15<20)), "Long", IF((AND(G15>80, H15>80,I15>80,J15>80)), "Short", IF((AND(G15<30, H15>70,I15>70,J15>70)), "Long Sling", IF((AND(G15>70, H15<30,I15<30,J15<30)), "Short Sling", "Wait ")))) -> Wait
A16: USDCHF | C16: =RTD("fxbluelabs.excelrtd",,$D$1,CONCATENATE("@ema,",A16,",",$K$1,",",$H$1,",",$C$5,",",$N$1)) -> 0.911079 | D16: =RTD("fxbluelabs.excelrtd",,$D$1,CONCATENATE("@ema,",A16,",",$K$1,",",$H$1,",",$D$5,",",$N$1)) -> 0.911077 | E16: =RTD("fxbluelabs.excelrtd",,$D$1,CONCATENATE("@ema,",A16,",",$K$1,",",$H$1,",",$E$5,",",$N$1)) -> 0.911127 | G16: =RTD("fxbluelabs.excelrtd",,$D$1,CONCATENATE("@stoch,",A16,",",$K$1,",",$G$5,",",$G$2,",",$G$3,",",$N$1)) -> 42.619543 | H16: =RTD("fxbluelabs.excelrtd",,$D$1,CONCATENATE("@stoch,",A16,",",$K$1,",",$H$5,",",$H$2,",",$H$3,",",$N$1)) -> 64.465409 | I16: =RTD("fxbluelabs.excelrtd",,$D$1,CONCATENATE("@stoch,",A16,",",$K$1,",",$I$5,",",$I$2,",",$I$3,",",$N$1)) -> 64.465409 | J16: =RTD("fxbluelabs.excelrtd",,$D$1,CONCATENATE("@stoch,",A16,",",$K$1,",",$J$5,",",$J$2,",",$J$3,",",$N$1)) -> 42.708333 | L16: =IF((AND(C16>D16, D16>E16)), "Long", IF((AND(C16<D16, D16<E16)), "Short", "Wait ")) -> Wait | N16: =IF((AND(G16<20, H16<20,I16<20,J16<20)), "Long", IF((AND(G16>80, H16>80,I16>80,J16>80)), "Short", IF((AND(G16<30, H16>70,I16>70,J16>70)), "Long Sling", IF((AND(G16>70, H16<30,I16<30,J16<30)), "Short Sling", "Wait ")))) -> Wait
A17: GBPUSD | C17: =RTD("fxbluelabs.excelrtd",,$D$1,CONCATENATE("@ema,",A17,",",$K$1,",",$H$1,",",$C$5,",",$N$1)) -> 1.327578 | D17: =RTD("fxbluelabs.excelrtd",,$D$1,CONCATENATE("@ema,",A17,",",$K$1,",",$H$1,",",$D$5,",",$N$1)) -> 1.326896 | E17: =RTD("fxbluelabs.excelrtd",,$D$1,CONCATENATE("@ema,",A17,",",$K$1,",",$H$1,",",$E$5,",",$N$1)) -> 1.326353 | G17: =RTD("fxbluelabs.excelrtd",,$D$1,CONCATENATE("@stoch,",A17,",",$K$1,",",$G$5,",",$G$2,",",$G$3,",",$N$1)) -> 69.51567 | H17: =RTD("fxbluelabs.excelrtd",,$D$1,CONCATENATE("@stoch,",A17,",",$K$1,",",$H$5,",",$H$2,",",$H$3,",",$N$1)) -> 78.207739 | I17: =RTD("fxbluelabs.excelrtd",,$D$1,CONCATENATE("@stoch,",A17,",",$K$1,",",$I$5,",",$I$2,",",$I$3,",",$N$1)) -> 79.962547 | J17: =RTD("fxbluelabs.excelrtd",,$D$1,CONCATENATE("@stoch,",A17,",",$K$1,",",$J$5,",",$J$2,",",$J$3,",",$N$1)) -> 89.560976 | L17: =IF((AND(C17>D17, D17>E17)), "Long", IF((AND(C17<D17, D17<E17)), "Short", "Wait ")) -> Long | N17: =IF((AND(G17<20, H17<20,I17<20,J17<20)), "Long", IF((AND(G17>80, H17>80,I17>80,J17>80)), "Short", IF((AND(G17<30, H17>70,I17>70,J17>70)), "Long Sling", IF((AND(G17>70, H17<30,I17<30,J17<30)), "Short Sling", "Wait ")))) -> Wait
A18: GBPCAD | C18: =RTD("fxbluelabs.excelrtd",,$D$1,CONCATENATE("@ema,",A18,",",$K$1,",",$H$1,",",$C$5,",",$N$1)) -> 1.735888 | D18: =RTD("fxbluelabs.excelrtd",,$D$1,CONCATENATE("@ema,",A18,",",$K$1,",",$H$1,",",$D$5,",",$N$1)) -> 1.735029 | E18: =RTD("fxbluelabs.excelrtd",,$D$1,CONCATENATE("@ema,",A18,",",$K$1,",",$H$1,",",$E$5,",",$N$1)) -> 1.734531 | G18: =RTD("fxbluelabs.excelrtd",,$D$1,CONCATENATE("@stoch,",A18,",",$K$1,",",$G$5,",",$G$2,",",$G$3,",",$N$1)) -> 84.022663 | H18: =RTD("fxbluelabs.excelrtd",,$D$1,CONCATENATE("@stoch,",A18,",",$K$1,",",$H$5,",",$H$2,",",$H$3,",",$N$1)) -> 90.014164 | I18: =RTD("fxbluelabs.excelrtd",,$D$1,CONCATENATE("@stoch,",A18,",",$K$1,",",$I$5,",",$I$2,",",$I$3,",",$N$1)) -> 90.014164 | J18: =RTD("fxbluelabs.excelrtd",,$D$1,CONCATENATE("@stoch,",A18,",",$K$1,",",$J$5,",",$J$2,",",$J$3,",",$N$1)) -> 92.042889 | L18: =IF((AND(C18>D18, D18>E18)), "Long", IF((AND(C18<D18, D18<E18)), "Short", "Wait ")) -> Long | N18: =IF((AND(G18<20, H18<20,I18<20,J18<20)), "Long", IF((AND(G18>80, H18>80,I18>80,J18>80)), "Short", IF((AND(G18<30, H18>70,I18>70,J18>70)), "Long Sling", IF((AND(G18>70, H18<30,I18<30,J18<30)), "Short Sling", "Wait ")))) -> Short
... A35: XAUUSD | C35: =RTD("fxbluelabs.excelrtd",,$D$1,CONCATENATE("@ema,",A35,",",$K$1,",",$H$1,",",$C$5,",",$N$1)) -> 1869.9059 | D35: =RTD("fxbluelabs.excelrtd",,$D$1,CONCATENATE("@ema,",A35,",",$K$1,",",$H$1,",",$D$5,",",$N$1)) -> 1869.1853 | E35: =RTD("fxbluelabs.excelrtd",,$D$1,CONCATENATE("@ema,",A35,",",$K$1,",",$H$1,",",$E$5,",",$N$1)) -> 1869.8079 | G35: =RTD("fxbluelabs.excelrtd",,$D$1,CONCATENATE("@stoch,",A35,",",$K$1,",",$G$5,",",$G$2,",",$G$3,",",$N$1)) -> 28.612385 | H35: =RTD("fxbluelabs.excelrtd",,$D$1,CONCATENATE("@stoch,",A35,",",$K$1,",",$H$5,",",$H$2,",",$H$3,",",$N$1)) -> 59.774367 | I35: =RTD("fxbluelabs.excelrtd",,$D$1,CONCATENATE("@stoch,",A35,",",$K$1,",",$I$5,",",$I$2,",",$I$3,",",$N$1)) -> 61.599576 | J35: =RTD("fxbluelabs.excelrtd",,$D$1,CONCATENATE("@stoch,",A35,",",$K$1,",",$J$5,",",$J$2,",",$J$3,",",$N$1)) -> 73.18787 | L35: =IF((AND(C35>D35, D35>E35)), "Long", IF((AND(C35<D35, D35<E35)), "Short", "Wait ")) -> Wait | N35: =IF((AND(G35<20, H35<20,I35<20,J35<20)), "Long", IF((AND(G35>80, H35>80,I35>80,J35>80)), "Short", IF((AND(G35<30, H35>70,I35>70,J35>70)), "Long Sling", IF((AND(G35>70, H35<30,I35<30,J35<30)), "Short Sling", "Wait ")))) -> Wait

Sheet 30Min
A1: Type Account Number | D1: 8249924 | E1: Type (Open/High/Low/Close) | H1: Close | I1: Type Time Frame | K1: M30 | L1: Type Look Back Period | N1: 0
G2: 3 | H2: 3 | I2: 3 | J2: 3
G3: 3 | H3: 3 | I3: 3 | J3: 3
C4: EMA | D4: EMA | E4: EMA | G4: Stoch 5 | H4: Stoch 14 | I4: Stoch 24 | J4: Stoch 36 | L4: EMA Trend | N4: Stoch Trend | R4: Fib Level
C5: 20 | D5: 34 | E5: 50 | G5: 5 | H5: 14 | I5: 24 | J5: 36
G6: Stoch | H6: Stoch | I6: Stoch | J6: Stoch | R6: 50 Level | S6: 61.8 Level
A7: EURUSD | C7: =RTD("fxbluelabs.excelrtd",,$D$1,CONCATENATE("@ema,",A7,",",$K$1,",",$H$1,",",$C$5,",",$N$1)) -> 1.186044 | D7: =RTD("fxbluelabs.excelrtd",,$D$1,CONCATENATE("@ema,",A7,",",$K$1,",",$H$1,",",$D$5,",",$N$1)) -> 1.186198 | E7: =RTD("fxbluelabs.excelrtd",,$D$1,CONCATENATE("@ema,",A7,",",$K$1,",",$H$1,",",$E$5,",",$N$1)) -> 1.186212 | G7: =RTD("fxbluelabs.excelrtd",,$D$1,CONCATENATE("@stoch,",A7,",",$K$1,",",$G$5,",",$G$2,",",$G$3,",",$N$1)) -> 52.631579 | H7: =RTD("fxbluelabs.excelrtd",,$D$1,CONCATENATE("@stoch,",A7,",",$K$1,",",$H$5,",",$H$2,",",$H$3,",",$N$1)) -> 35.332464 | I7: =RTD("fxbluelabs.excelrtd",,$D$1,CONCATENATE("@stoch,",A7,",",$K$1,",",$I$5,",",$I$2,",",$I$3,",",$N$1)) -> 31.585082 | J7: =RTD("fxbluelabs.excelrtd",,$D$1,CONCATENATE("@stoch,",A7,",",$K$1,",",$J$5,",",$J$2,",",$J$3,",",$N$1)) -> 21.925566 | L7: =IF((AND(C7>D7, D7>E7)), "Long", IF((AND(C7<D7, D7<E7)), "Short", "Wait ")) -> Short | N7: =IF((AND(G7<20, H7<20,I7<20,J7<20)), "Long", IF((AND(G7>80, H7>80,I7>80,J7>80)), "Short", IF((AND(G7<30, H7>70,I7>70,J7>70)), "Long Sling", IF((AND(G7>70, H7<30,I7<30,J7<30)), "Short Sling", "Wait ")))) -> Wait
A8: EURGBP | C8: =RTD("fxbluelabs.excelrtd",,$D$1,CONCATENATE("@ema,",A8,",",$K$1,",",$H$1,",",$C$5,",",$N$1)) -> 0.892919 | D8: =RTD("fxbluelabs.excelrtd",,$D$1,CONCATENATE("@ema,",A8,",",$K$1,",",$H$1,",",$D$5,",",$N$1)) -> 0.893356 | E8: =RTD("fxbluelabs.excelrtd",,$D$1,CONCATENATE("@ema,",A8,",",$K$1,",",$H$1,",",$E$5,",",$N$1)) -> 0.893682 | G8: =RTD("fxbluelabs.excelrtd",,$D$1,CONCATENATE("@stoch,",A8,",",$K$1,",",$G$5,",",$G$2,",",$G$3,",",$N$1)) -> 21.375921 | H8: =RTD("fxbluelabs.excelrtd",,$D$1,CONCATENATE("@stoch,",A8,",",$K$1,",",$H$5,",",$H$2,",",$H$3,",",$N$1)) -> 16.465257 | I8: =RTD("fxbluelabs.excelrtd",,$D$1,CONCATENATE("@stoch,",A8,",",$K$1,",",$I$5,",",$I$2,",",$I$3,",",$N$1)) -> 12.718786 | J8: =RTD("fxbluelabs.excelrtd",,$D$1,CONCATENATE("@stoch,",A8,",",$K$1,",",$J$5,",",$J$2,",",$J$3,",",$N$1)) -> 8.993399 | L8: =IF((AND(C8>D8, D8>E8)), "Long", IF((AND(C8<D8, D8<E8)), "Short", "Wait ")) -> Short | N8: =IF((AND(G8<20, H8<20,I8<20,J8<20)), "Long", IF((AND(G8>80, H8>80,I8>80,J8>80)), "Short", IF((AND(G8<30, H8>70,I8>70,J8>70)), "Long Sling", IF((AND(G8>70, H8<30,I8<30,J8<30)), "Short Sling", "Wait ")))) -> Wait
A9: EURJPY | C9: =RTD("fxbluelabs.excelrtd",,$D$1,CONCATENATE("@ema,",A9,",",$K$1,",",$H$1,",",$C$5,",",$N$1)) -> 123.13437 | D9: =RTD("fxbluelabs.excelrtd",,$D$1,CONCATENATE("@ema,",A9,",",$K$1,",",$H$1,",",$D$5,",",$N$1)) -> 123.15215 | E9: =RTD("fxbluelabs.excelrtd",,$D$1,CONCATENATE("@ema,",A9,",",$K$1,",",$H$1,",",$E$5,",",$N$1)) -> 123.1618 | G9: =RTD("fxbluelabs.excelrtd",,$D$1,CONCATENATE("@stoch,",A9,",",$K$1,",",$G$5,",",$G$2,",",$G$3,",",$N$1)) -> 43.478261 | H9: =RTD("fxbluelabs.excelrtd",,$D$1,CONCATENATE("@stoch,",A9,",",$K$1,",",$H$5,",",$H$2,",",$H$3,",",$N$1)) -> 53.957997 | I9: =RTD("fxbluelabs.excelrtd",,$D$1,CONCATENATE("@stoch,",A9,",",$K$1,",",$I$5,",",$I$2,",",$I$3,",",$N$1)) -> 41.697878 | J9: =RTD("fxbluelabs.excelrtd",,$D$1,CONCATENATE("@stoch,",A9,",",$K$1,",",$J$5,",",$J$2,",",$J$3,",",$N$1)) -> 23.63765 | L9: =IF((AND(C9>D9, D9>E9)), "Long", IF((AND(C9<D9, D9<E9)), "Short", "Wait ")) -> Short | N9: =IF((AND(G9<20, H9<20,I9<20,J9<20)), "Long", IF((AND(G9>80, H9>80,I9>80,J9>80)), "Short", IF((AND(G9<30, H9>70,I9>70,J9>70)), "Long Sling", IF((AND(G9>70, H9<30,I9<30,J9<30)), "Short Sling", "Wait ")))) -> Wait
A10: EURAUD | C10: =RTD("fxbluelabs.excelrtd",,$D$1,CONCATENATE("@ema,",A10,",",$K$1,",",$H$1,",",$C$5,",",$N$1)) -> 1.623086 | D10: =RTD("fxbluelabs.excelrtd",,$D$1,CONCATENATE("@ema,",A10,",",$K$1,",",$H$1,",",$D$5,",",$N$1)) -> 1.624099 | E10: =RTD("fxbluelabs.excelrtd",,$D$1,CONCATENATE("@ema,",A10,",",$K$1,",",$H$1,",",$E$5,",",$N$1)) -> 1.624845 | G10: =RTD("fxbluelabs.excelrtd",,$D$1,CONCATENATE("@stoch,",A10,",",$K$1,",",$G$5,",",$G$2,",",$G$3,",",$N$1)) -> 64.558824 | H10: =RTD("fxbluelabs.excelrtd",,$D$1,CONCATENATE("@stoch,",A10,",",$K$1,",",$H$5,",",$H$2,",",$H$3,",",$N$1)) -> 61.367521 | I10: =RTD("fxbluelabs.excelrtd",,$D$1,CONCATENATE("@stoch,",A10,",",$K$1,",",$I$5,",",$I$2,",",$I$3,",",$N$1)) -> 32.740538 | J10: =RTD("fxbluelabs.excelrtd",,$D$1,CONCATENATE("@stoch,",A10,",",$K$1,",",$J$5,",",$J$2,",",$J$3,",",$N$1)) -> 24.716007 | L10: =IF((AND(C10>D10, D10>E10)), "Long", IF((AND(C10<D10, D10<E10)), "Short", "Wait ")) -> Short | N10: =IF((AND(G10<20, H10<20,I10<20,J10<20)), "Long", IF((AND(G10>80, H10>80,I10>80,J10>80)), "Short", IF((AND(G10<30, H10>70,I10>70,J10>70)), "Long Sling", IF((AND(G10>70, H10<30,I10<30,J10<30)), "Short Sling", "Wait ")))) -> Wait
A11: EURCAD | C11: =RTD("fxbluelabs.excelrtd",,$D$1,CONCATENATE("@ema,",A11,",",$K$1,",",$H$1,",",$C$5,",",$N$1)) -> 1.551145 | D11: =RTD("fxbluelabs.excelrtd",,$D$1,CONCATENATE("@ema,",A11,",",$K$1,",",$H$1,",",$D$5,",",$N$1)) -> 1.550928 | E11: =RTD("fxbluelabs.excelrtd",,$D$1,CONCATENATE("@ema,",A11,",",$K$1,",",$H$1,",",$E$5,",",$N$1)) -> 1.550885 | G11: =RTD("fxbluelabs.excelrtd",,$D$1,CONCATENATE("@stoch,",A11,",",$K$1,",",$G$5,",",$G$2,",",$G$3,",",$N$1)) -> 56.065574 | H11: =RTD("fxbluelabs.excelrtd",,$D$1,CONCATENATE("@stoch,",A11,",",$K$1,",",$H$5,",",$H$2,",",$H$3,",",$N$1)) -> 81.879648 | I11: =RTD("fxbluelabs.excelrtd",,$D$1,CONCATENATE("@stoch,",A11,",",$K$1,",",$I$5,",",$I$2,",",$I$3,",",$N$1)) -> 84.345794 | J11: =RTD("fxbluelabs.excelrtd",,$D$1,CONCATENATE("@stoch,",A11,",",$K$1,",",$J$5,",",$J$2,",",$J$3,",",$N$1)) -> 75.920084 | L11: =IF((AND(C11>D11, D11>E11)), "Long", IF((AND(C11<D11, D11<E11)), "Short", "Wait ")) -> Long | N11: =IF((AND(G11<20, H11<20,I11<20,J11<20)), "Long", IF((AND(G11>80, H11>80,I11>80,J11>80)), "Short", IF((AND(G11<30, H11>70,I11>70,J11>70)), "Long Sling", IF((AND(G11>70, H11<30,I11<30,J11<30)), "Short Sling", "Wait ")))) -> Wait
A12: EURNZD | C12: =RTD("fxbluelabs.excelrtd",,$D$1,CONCATENATE("@ema,",A12,",",$K$1,",",$H$1,",",$C$5,",",$N$1)) -> 1.709148 | D12: =RTD("fxbluelabs.excelrtd",,$D$1,CONCATENATE("@ema,",A12,",",$K$1,",",$H$1,",",$D$5,",",$N$1)) -> 1.710148 | E12: =RTD("fxbluelabs.excelrtd",,$D$1,CONCATENATE("@ema,",A12,",",$K$1,",",$H$1,",",$E$5,",",$N$1)) -> 1.711151 | G12: =RTD("fxbluelabs.excelrtd",,$D$1,CONCATENATE("@stoch,",A12,",",$K$1,",",$G$5,",",$G$2,",",$G$3,",",$N$1)) -> 77.5 | H12: =RTD("fxbluelabs.excelrtd",,$D$1,CONCATENATE("@stoch,",A12,",",$K$1,",",$H$5,",",$H$2,",",$H$3,",",$N$1)) -> 78.024853 | I12: =RTD("fxbluelabs.excelrtd",,$D$1,CONCATENATE("@stoch,",A12,",",$K$1,",",$I$5,",",$I$2,",",$I$3,",",$N$1)) -> 64.591229 | J12: =RTD("fxbluelabs.excelrtd",,$D$1,CONCATENATE("@stoch,",A12,",",$K$1,",",$J$5,",",$J$2,",",$J$3,",",$N$1)) -> 36.129618 | L12: =IF((AND(C12>D12, D12>E12)), "Long", IF((AND(C12<D12, D12<E12)), "Short", "Wait ")) -> Short | N12: =IF((AND(G12<20, H12<20,I12<20,J12<20)), "Long", IF((AND(G12>80, H12>80,I12>80,J12>80)), "Short", IF((AND(G12<30, H12>70,I12>70,J12>70)), "Long Sling", IF((AND(G12>70, H12<30,I12<30,J12<30)), "Short Sling", "Wait ")))) -> Wait
A13: EURCHF | C13: =RTD("fxbluelabs.excelrtd",,$D$1,CONCATENATE("@ema,",A13,",",$K$1,",",$H$1,",",$C$5,",",$N$1)) -> 1.080692 | D13: =RTD("fxbluelabs.excelrtd",,$D$1,CONCATENATE("@ema,",A13,",",$K$1,",",$H$1,",",$D$5,",",$N$1)) -> 1.080742 | E13: =RTD("fxbluelabs.excelrtd",,$D$1,CONCATENATE("@ema,",A13,",",$K$1,",",$H$1,",",$E$5,",",$N$1)) -> 1.080732 | G13: =RTD("fxbluelabs.excelrtd",,$D$1,CONCATENATE("@stoch,",A13,",",$K$1,",",$G$5,",",$G$2,",",$G$3,",",$N$1)) -> 10.945274 | H13: =RTD("fxbluelabs.excelrtd",,$D$1,CONCATENATE("@stoch,",A13,",",$K$1,",",$H$5,",",$H$2,",",$H$3,",",$N$1)) -> 24.295775 | I13: =RTD("fxbluelabs.excelrtd",,$D$1,CONCATENATE("@stoch,",A13,",",$K$1,",",$I$5,",",$I$2,",",$I$3,",",$N$1)) -> 15.937941 | J13: =RTD("fxbluelabs.excelrtd",,$D$1,CONCATENATE("@stoch,",A13,",",$K$1,",",$J$5,",",$J$2,",",$J$3,",",$N$1)) -> 31.018519 | L13: =IF((AND(C13>D13, D13>E13)), "Long", IF((AND(C13<D13, D13<E13)), "Short", "Wait ")) -> Wait | N13: =IF((AND(G13<20, H13<20,I13<20,J13<20)), "Long", IF((AND(G13>80, H13>80,I13>80,J13>80)), "Short", IF((AND(G13<30, H13>70,I13>70,J13>70)), "Long Sling", IF((AND(G13>70, H13<30,I13<30,J13<30)), "Short Sling", "Wait ")))) -> Wait
A14: USDJPY | C14: =RTD("fxbluelabs.excelrtd",,$D$1,CONCATENATE("@ema,",A14,",",$K$1,",",$H$1,",",$C$5,",",$N$1)) -> 103.81795 | D14: =RTD("fxbluelabs.excelrtd",,$D$1,CONCATENATE("@ema,",A14,",",$K$1,",",$H$1,",",$D$5,",",$N$1)) -> 103.81925 | E14: =RTD("fxbluelabs.excelrtd",,$D$1,CONCATENATE("@ema,",A14,",",$K$1,",",$H$1,",",$E$5,",",$N$1)) -> 103.82605 | G14: =RTD("fxbluelabs.excelrtd",,$D$1,CONCATENATE("@stoch,",A14,",",$K$1,",",$G$5,",",$G$2,",",$G$3,",",$N$1)) -> 40 | H14: =RTD("fxbluelabs.excelrtd",,$D$1,CONCATENATE("@stoch,",A14,",",$K$1,",",$H$5,",",$H$2,",",$H$3,",",$N$1)) -> 77.021277 | I14: =RTD("fxbluelabs.excelrtd",,$D$1,CONCATENATE("@stoch,",A14,",",$K$1,",",$I$5,",",$I$2,",",$I$3,",",$N$1)) -> 74.691358 | J14: =RTD("fxbluelabs.excelrtd",,$D$1,CONCATENATE("@stoch,",A14,",",$K$1,",",$J$5,",",$J$2,",",$J$3,",",$N$1)) -> 65.053763 | L14: =IF((AND(C14>D14, D14>E14)), "Long", IF((AND(C14<D14, D14<E14)), "Short", "Wait ")) -> Short | N14: =IF((AND(G14<20, H14<20,I14<20,J14<20)), "Long", IF((AND(G14>80, H14>80,I14>80,J14>80)), "Short", IF((AND(G14<30, H14>70,I14>70,J14>70)), "Long Sling", IF((AND(G14>70, H14<30,I14<30,J14<30)), "Short Sling", "Wait ")))) -> Wait
A15: USDCAD | C15: =RTD("fxbluelabs.excelrtd",,$D$1,CONCATENATE("@ema,",A15,",",$K$1,",",$H$1,",",$C$5,",",$N$1)) -> 1.307879 | D15: =RTD("fxbluelabs.excelrtd",,$D$1,CONCATENATE("@ema,",A15,",",$K$1,",",$H$1,",",$D$5,",",$N$1)) -> 1.307519 | E15: =RTD("fxbluelabs.excelrtd",,$D$1,CONCATENATE("@ema,",A15,",",$K$1,",",$H$1,",",$E$5,",",$N$1)) -> 1.307463 | G15: =RTD("fxbluelabs.excelrtd",,$D$1,CONCATENATE("@stoch,",A15,",",$K$1,",",$G$5,",",$G$2,",",$G$3,",",$N$1)) -> 58.296943 | H15: =RTD("fxbluelabs.excelrtd",,$D$1,CONCATENATE("@stoch,",A15,",",$K$1,",",$H$5,",",$H$2,",",$H$3,",",$N$1)) -> 88.296569 | I15: =RTD("fxbluelabs.excelrtd",,$D$1,CONCATENATE("@stoch,",A15,",",$K$1,",",$I$5,",",$I$2,",",$I$3,",",$N$1)) -> 88.97865 | J15: =RTD("fxbluelabs.excelrtd",,$D$1,CONCATENATE("@stoch,",A15,",",$K$1,",",$J$5,",",$J$2,",",$J$3,",",$N$1)) -> 88.97865 | L15: =IF((AND(C15>D15, D15>E15)), "Long", IF((AND(C15<D15, D15<E15)), "Short", "Wait ")) -> Long | N15: =IF((AND(G15<20, H15<20,I15<20,J15<20)), "Long", IF((AND(G15>80, H15>80,I15>80,J15>80)), "Short", IF((AND(G15<30, H15>70,I15>70,J15>70)), "Long Sling", IF((AND(G15>70, H15<30,I15<30,J15<30)), "Short Sling", "Wait ")))) -> Wait
A16: USDCHF | C16: =RTD("fxbluelabs.excelrtd",,$D$1,CONCATENATE("@ema,",A16,",",$K$1,",",$H$1,",",$C$5,",",$N$1)) -> 0.91118 | D16: =RTD("fxbluelabs.excelrtd",,$D$1,CONCATENATE("@ema,",A16,",",$K$1,",",$H$1,",",$D$5,",",$N$1)) -> 0.911101 | E16: =RTD("fxbluelabs.excelrtd",,$D$1,CONCATENATE("@ema,",A16,",",$K$1,",",$H$1,",",$E$5,",",$N$1)) -> 0.911081 | G16: =RTD("fxbluelabs.excelrtd",,$D$1,CONCATENATE("@stoch,",A16,",",$K$1,",",$G$5,",",$G$2,",",$G$3,",",$N$1)) -> 16.037736 | H16: =RTD("fxbluelabs.excelrtd",,$D$1,CONCATENATE("@stoch,",A16,",",$K$1,",",$H$5,",",$H$2,",",$H$3,",",$N$1)) -> 54.798331 | I16: =RTD("fxbluelabs.excelrtd",,$D$1,CONCATENATE("@stoch,",A16,",",$K$1,",",$I$5,",",$I$2,",",$I$3,",",$N$1)) -> 51.920694 | J16: =RTD("fxbluelabs.excelrtd",,$D$1,CONCATENATE("@stoch,",A16,",",$K$1,",",$J$5,",",$J$2,",",$J$3,",",$N$1)) -> 59.32914 | L16: =IF((AND(C16>D16, D16>E16)), "Long", IF((AND(C16<D16, D16<E16)), "Short", "Wait ")) -> Long | N16: =IF((AND(G16<20, H16<20,I16<20,J16<20)), "Long", IF((AND(G16>80, H16>80,I16>80,J16>80)), "Short", IF((AND(G16<30, H16>70,I16>70,J16>70)), "Long Sling", IF((AND(G16>70, H16<30,I16<30,J16<30)), "Short Sling", "Wait ")))) -> Wait
A17: GBPUSD | C17: =RTD("fxbluelabs.excelrtd",,$D$1,CONCATENATE("@ema,",A17,",",$K$1,",",$H$1,",",$C$5,",",$N$1)) -> 1.32823 | D17: =RTD("fxbluelabs.excelrtd",,$D$1,CONCATENATE("@ema,",A17,",",$K$1,",",$H$1,",",$D$5,",",$N$1)) -> 1.327754 | E17: =RTD("fxbluelabs.excelrtd",,$D$1,CONCATENATE("@ema,",A17,",",$K$1,",",$H$1,",",$E$5,",",$N$1)) -> 1.327285 | G17: =RTD("fxbluelabs.excelrtd",,$D$1,CONCATENATE("@stoch,",A17,",",$K$1,",",$G$5,",",$G$2,",",$G$3,",",$N$1)) -> 76.827586 | H17: =RTD("fxbluelabs.excelrtd",,$D$1,CONCATENATE("@stoch,",A17,",",$K$1,",",$H$5,",",$H$2,",",$H$3,",",$N$1)) -> 78.727445 | I17: =RTD("fxbluelabs.excelrtd",,$D$1,CONCATENATE("@stoch,",A17,",",$K$1,",",$I$5,",",$I$2,",",$I$3,",",$N$1)) -> 81.654382 | J17: =RTD("fxbluelabs.excelrtd",,$D$1,CONCATENATE("@stoch,",A17,",",$K$1,",",$J$5,",",$J$2,",",$J$3,",",$N$1)) -> 84.79294 | L17: =IF((AND(C17>D17, D17>E17)), "Long", IF((AND(C17<D17, D17<E17)), "Short", "Wait ")) -> Long | N17: =IF((AND(G17<20, H17<20,I17<20,J17<20)), "Long", IF((AND(G17>80, H17>80,I17>80,J17>80)), "Short", IF((AND(G17<30, H17>70,I17>70,J17>70)), "Long Sling", IF((AND(G17>70, H17<30,I17<30,J17<30)), "Short Sling", "Wait ")))) -> Wait
A18: GBPCAD | C18: =RTD("fxbluelabs.excelrtd",,$D$1,CONCATENATE("@ema,",A18,",",$K$1,",",$H$1,",",$C$5,",",$N$1)) -> 1.737128 | D18: =RTD("fxbluelabs.excelrtd",,$D$1,CONCATENATE("@ema,",A18,",",$K$1,",",$H$1,",",$D$5,",",$N$1)) -> 1.736032 | E18: =RTD("fxbluelabs.excelrtd",,$D$1,CONCATENATE("@ema,",A18,",",$K$1,",",$H$1,",",$E$5,",",$N$1)) -> 1.735348 | G18: =RTD("fxbluelabs.excelrtd",,$D$1,CONCATENATE("@stoch,",A18,",",$K$1,",",$G$5,",",$G$2,",",$G$3,",",$N$1)) -> 82.892057 | H18: =RTD("fxbluelabs.excelrtd",,$D$1,CONCATENATE("@stoch,",A18,",",$K$1,",",$H$5,",",$H$2,",",$H$3,",",$N$1)) -> 92.304458 | I18: =RTD("fxbluelabs.excelrtd",,$D$1,CONCATENATE("@stoch,",A18,",",$K$1,",",$I$5,",",$I$2,",",$I$3,",",$N$1)) -> 93.51983 | J18: =RTD("fxbluelabs.excelrtd",,$D$1,CONCATENATE("@stoch,",A18,",",$K$1,",",$J$5,",",$J$2,",",$J$3,",",$N$1)) -> 93.51983 | L18: =IF((AND(C18>D18, D18>E18)), "Long", IF((AND(C18<D18, D18<E18)), "Short", "Wait ")) -> Long | N18: =IF((AND(G18<20, H18<20,I18<20,J18<20)), "Long", IF((AND(G18>80, H18>80,I18>80,J18>80)), "Short", IF((AND(G18<30, H18>70,I18>70,J18>70)), "Long Sling", IF((AND(G18>70, H18<30,I18<30,J18<30)), "Short Sling", "Wait ")))) -> Short
... A35: XAUUSD | C35: =RTD("fxbluelabs.excelrtd",,$D$1,CONCATENATE("@ema,",A35,",",$K$1,",",$H$1,",",$C$5,",",$N$1)) -> 1871.7551 | D35: =RTD("fxbluelabs.excelrtd",,$D$1,CONCATENATE("@ema,",A35,",",$K$1,",",$H$1,",",$D$5,",",$N$1)) -> 1870.5145 | E35: =RTD("fxbluelabs.excelrtd",,$D$1,CONCATENATE("@ema,",A35,",",$K$1,",",$H$1,",",$E$5,",",$N$1)) -> 1869.6234 | G35: =RTD("fxbluelabs.excelrtd",,$D$1,CONCATENATE("@stoch,",A35,",",$K$1,",",$G$5,",",$G$2,",",$G$3,",",$N$1)) -> 20.617761 | H35: =RTD("fxbluelabs.excelrtd",,$D$1,CONCATENATE("@stoch,",A35,",",$K$1,",",$H$5,",",$H$2,",",$H$3,",",$N$1)) -> 22.819 | I35: =RTD("fxbluelabs.excelrtd",,$D$1,CONCATENATE("@stoch,",A35,",",$K$1,",",$I$5,",",$I$2,",",$I$3,",",$N$1)) -> 49.192724 | J35: =RTD("fxbluelabs.excelrtd",,$D$1,CONCATENATE("@stoch,",A35,",",$K$1,",",$J$5,",",$J$2,",",$J$3,",",$N$1)) -> 56.108757 | L35: =IF((AND(C35>D35, D35>E35)), "Long", IF((AND(C35<D35, D35<E35)), "Short", "Wait ")) -> Long | N35: =IF((AND(G35<20, H35<20,I35<20,J35<20)), "Long", IF((AND(G35>80, H35>80,I35>80,J35>80)), "Short", IF((AND(G35<30, H35>70,I35>70,J35>70)), "Long Sling", IF((AND(G35>70, H35<30,I35<30,J35<30)), "Short Sling", "Wait ")))) -> Wait

Sheet 15Min
A1: Type Account Number | D1: 8249924 | E1: Type (Open/High/Low/Close) | H1: Close | I1: Type Time Frame | K1: M15 | L1: Type Look Back Period | N1: 0
G2: 3 | H2: 3 | I2: 3 | J2: 3
G3: 3 | H3: 3 | I3: 3 | J3: 3
C4: EMA | D4: EMA | E4: EMA | G4: Stoch 5 | H4: Stoch 14 | I4: Stoch 24 | J4: Stoch 36 | L4: EMA Trend | N4: Stoch Trend | R4: Fib Level
C5: 20 | D5: 34 | E5: 50 | G5: 5 | H5: 14 | I5: 24 | J5: 36
G6: Stoch | H6: Stoch | I6: Stoch | J6: Stoch | R6: 50 Level | S6: 61.8 Level
A7: EURUSD | C7: =RTD("fxbluelabs.excelrtd",,$D$1,CONCATENATE("@ema,",A7,",",$K$1,",",$H$1,",",$C$5,",",$N$1)) -> 1.185895 | D7: =RTD("fxbluelabs.excelrtd",,$D$1,CONCATENATE("@ema,",A7,",",$K$1,",",$H$1,",",$D$5,",",$N$1)) -> 1.186012 | E7: =RTD("fxbluelabs.excelrtd",,$D$1,CONCATENATE("@ema,",A7,",",$K$1,",",$H$1,",",$E$5,",",$N$1)) -> 1.186142 | G7: =RTD("fxbluelabs.excelrtd",,$D$1,CONCATENATE("@stoch,",A7,",",$K$1,",",$G$5,",",$G$2,",",$G$3,",",$N$1)) -> 52.469136 | H7: =RTD("fxbluelabs.excelrtd",,$D$1,CONCATENATE("@stoch,",A7,",",$K$1,",",$H$5,",",$H$2,",",$H$3,",",$N$1)) -> 77.286136 | I7: =RTD("fxbluelabs.excelrtd",,$D$1,CONCATENATE("@stoch,",A7,",",$K$1,",",$I$5,",",$I$2,",",$I$3,",",$N$1)) -> 64.02439 | J7: =RTD("fxbluelabs.excelrtd",,$D$1,CONCATENATE("@stoch,",A7,",",$K$1,",",$J$5,",",$J$2,",",$J$3,",",$N$1)) -> 39.923954 | L7: =IF((AND(C7>D7, D7>E7)), "Long", IF((AND(C7<D7, D7<E7)), "Short", "Wait ")) -> Short | N7: =IF((AND(G7<20, H7<20,I7<20,J7<20)), "Long", IF((AND(G7>80, H7>80,I7>80,J7>80)), "Short", IF((AND(G7<30, H7>70,I7>70,J7>70)), "Long Sling", IF((AND(G7>70, H7<30,I7<30,J7<30)), "Short Sling", "Wait ")))) -> Wait
A8: EURGBP | C8: =RTD("fxbluelabs.excelrtd",,$D$1,CONCATENATE("@ema,",A8,",",$K$1,",",$H$1,",",$C$5,",",$N$1)) -> 0.892652 | D8: =RTD("fxbluelabs.excelrtd",,$D$1,CONCATENATE("@ema,",A8,",",$K$1,",",$H$1,",",$D$5,",",$N$1)) -> 0.892884 | E8: =RTD("fxbluelabs.excelrtd",,$D$1,CONCATENATE("@ema,",A8,",",$K$1,",",$H$1,",",$E$5,",",$N$1)) -> 0.893152 | G8: =RTD("fxbluelabs.excelrtd",,$D$1,CONCATENATE("@stoch,",A8,",",$K$1,",",$G$5,",",$G$2,",",$G$3,",",$N$1)) -> 53.684211 | H8: =RTD("fxbluelabs.excelrtd",,$D$1,CONCATENATE("@stoch,",A8,",",$K$1,",",$H$5,",",$H$2,",",$H$3,",",$N$1)) -> 33.15508 | I8: =RTD("fxbluelabs.excelrtd",,$D$1,CONCATENATE("@stoch,",A8,",",$K$1,",",$I$5,",",$I$2,",",$I$3,",",$N$1)) -> 33.15508 | J8: =RTD("fxbluelabs.excelrtd",,$D$1,CONCATENATE("@stoch,",A8,",",$K$1,",",$J$5,",",$J$2,",",$J$3,",",$N$1)) -> 23.019802 | L8: =IF((AND(C8>D8, D8>E8)), "Long", IF((AND(C8<D8, D8<E8)), "Short", "Wait ")) -> Short | N8: =IF((AND(G8<20, H8<20,I8<20,J8<20)), "Long", IF((AND(G8>80, H8>80,I8>80,J8>80)), "Short", IF((AND(G8<30, H8>70,I8>70,J8>70)), "Long Sling", IF((AND(G8>70, H8<30,I8<30,J8<30)), "Short Sling", "Wait ")))) -> Wait
A9: EURJPY | C9: =RTD("fxbluelabs.excelrtd",,$D$1,CONCATENATE("@ema,",A9,",",$K$1,",",$H$1,",",$C$5,",",$N$1)) -> 123.12237 | D9: =RTD("fxbluelabs.excelrtd",,$D$1,CONCATENATE("@ema,",A9,",",$K$1,",",$H$1,",",$D$5,",",$N$1)) -> 123.1319 | E9: =RTD("fxbluelabs.excelrtd",,$D$1,CONCATENATE("@ema,",A9,",",$K$1,",",$H$1,",",$E$5,",",$N$1)) -> 123.14473 | G9: =RTD("fxbluelabs.excelrtd",,$D$1,CONCATENATE("@stoch,",A9,",",$K$1,",",$G$5,",",$G$2,",",$G$3,",",$N$1)) -> 51.546392 | H9: =RTD("fxbluelabs.excelrtd",,$D$1,CONCATENATE("@stoch,",A9,",",$K$1,",",$H$5,",",$H$2,",",$H$3,",",$N$1)) -> 66.901408 | I9: =RTD("fxbluelabs.excelrtd",,$D$1,CONCATENATE("@stoch,",A9,",",$K$1,",",$I$5,",",$I$2,",",$I$3,",",$N$1)) -> 71.868132 | J9: =RTD("fxbluelabs.excelrtd",,$D$1,CONCATENATE("@stoch,",A9,",",$K$1,",",$J$5,",",$J$2,",",$J$3,",",$N$1)) -> 49.129853 | L9: =IF((AND(C9>D9, D9>E9)), "Long", IF((AND(C9<D9, D9<E9)), "Short", "Wait ")) -> Short | N9: =IF((AND(G9<20, H9<20,I9<20,J9<20)), "Long", IF((AND(G9>80, H9>80,I9>80,J9>80)), "Short", IF((AND(G9<30, H9>70,I9>70,J9>70)), "Long Sling", IF((AND(G9>70, H9<30,I9<30,J9<30)), "Short Sling", "Wait ")))) -> Wait
A10: EURAUD | C10: =RTD("fxbluelabs.excelrtd",,$D$1,CONCATENATE("@ema,",A10,",",$K$1,",",$H$1,",",$C$5,",",$N$1)) -> 1.622706 | D10: =RTD("fxbluelabs.excelrtd",,$D$1,CONCATENATE("@ema,",A10,",",$K$1,",",$H$1,",",$D$5,",",$N$1)) -> 1.622972 | E10: =RTD("fxbluelabs.excelrtd",,$D$1,CONCATENATE("@ema,",A10,",",$K$1,",",$H$1,",",$E$5,",",$N$1)) -> 1.623554 | G10: =RTD("fxbluelabs.excelrtd",,$D$1,CONCATENATE("@stoch,",A10,",",$K$1,",",$G$5,",",$G$2,",",$G$3,",",$N$1)) -> 79.152542 | H10: =RTD("fxbluelabs.excelrtd",,$D$1,CONCATENATE("@stoch,",A10,",",$K$1,",",$H$5,",",$H$2,",",$H$3,",",$N$1)) -> 83.773087 | I10: =RTD("fxbluelabs.excelrtd",,$D$1,CONCATENATE("@stoch,",A10,",",$K$1,",",$I$5,",",$I$2,",",$I$3,",",$N$1)) -> 87.929342 | J10: =RTD("fxbluelabs.excelrtd",,$D$1,CONCATENATE("@stoch,",A10,",",$K$1,",",$J$5,",",$J$2,",",$J$3,",",$N$1)) -> 72.668289 | L10: =IF((AND(C10>D10, D10>E10)), "Long", IF((AND(C10<D10, D10<E10)), "Short", "Wait ")) -> Short | N10: =IF((AND(G10<20, H10<20,I10<20,J10<20)), "Long", IF((AND(G10>80, H10>80,I10>80,J10>80)), "Short", IF((AND(G10<30, H10>70,I10>70,J10>70)), "Long Sling", IF((AND(G10>70, H10<30,I10<30,J10<30)), "Short Sling", "Wait ")))) -> Wait
A11: EURCAD | C11: =RTD("fxbluelabs.excelrtd",,$D$1,CONCATENATE("@ema,",A11,",",$K$1,",",$H$1,",",$C$5,",",$N$1)) -> 1.551748 | D11: =RTD("fxbluelabs.excelrtd",,$D$1,CONCATENATE("@ema,",A11,",",$K$1,",",$H$1,",",$D$5,",",$N$1)) -> 1.551253 | E11: =RTD("fxbluelabs.excelrtd",,$D$1,CONCATENATE("@ema,",A11,",",$K$1,",",$H$1,",",$E$5,",",$N$1)) -> 1.551014 | G11: =RTD("fxbluelabs.excelrtd",,$D$1,CONCATENATE("@stoch,",A11,",",$K$1,",",$G$5,",",$G$2,",",$G$3,",",$N$1)) -> 78.032787 | H11: =RTD("fxbluelabs.excelrtd",,$D$1,CONCATENATE("@stoch,",A11,",",$K$1,",",$H$5,",",$H$2,",",$H$3,",",$N$1)) -> 80.808081 | I11: =RTD("fxbluelabs.excelrtd",,$D$1,CONCATENATE("@stoch,",A11,",",$K$1,",",$I$5,",",$I$2,",",$I$3,",",$N$1)) -> 89.953734 | J11: =RTD("fxbluelabs.excelrtd",,$D$1,CONCATENATE("@stoch,",A11,",",$K$1,",",$J$5,",",$J$2,",",$J$3,",",$N$1)) -> 90.89275 | L11: =IF((AND(C11>D11, D11>E11)), "Long", IF((AND(C11<D11, D11<E11)), "Short", "Wait ")) -> Long | N11: =IF((AND(G11<20, H11<20,I11<20,J11<20)), "Long", IF((AND(G11>80, H11>80,I11>80,J11>80)), "Short", IF((AND(G11<30, H11>70,I11>70,J11>70)), "Long Sling", IF((AND(G11>70, H11<30,I11<30,J11<30)), "Short Sling", "Wait ")))) -> Wait
A12: EURNZD | C12: =RTD("fxbluelabs.excelrtd",,$D$1,CONCATENATE("@ema,",A12,",",$K$1,",",$H$1,",",$C$5,",",$N$1)) -> 1.708957 | D12: =RTD("fxbluelabs.excelrtd",,$D$1,CONCATENATE("@ema,",A12,",",$K$1,",",$H$1,",",$D$5,",",$N$1)) -> 1.709012 | E12: =RTD("fxbluelabs.excelrtd",,$D$1,CONCATENATE("@ema,",A12,",",$K$1,",",$H$1,",",$E$5,",",$N$1)) -> 1.709513 | G12: =RTD("fxbluelabs.excelrtd",,$D$1,CONCATENATE("@stoch,",A12,",",$K$1,",",$G$5,",",$G$2,",",$G$3,",",$N$1)) -> 84.345479 | H12: =RTD("fxbluelabs.excelrtd",,$D$1,CONCATENATE("@stoch,",A12,",",$K$1,",",$H$5,",",$H$2,",",$H$3,",",$N$1)) -> 90.47619 | I12: =RTD("fxbluelabs.excelrtd",,$D$1,CONCATENATE("@stoch,",A12,",",$K$1,",",$I$5,",",$I$2,",",$I$3,",",$N$1)) -> 92.477302 | J12: =RTD("fxbluelabs.excelrtd",,$D$1,CONCATENATE("@stoch,",A12,",",$K$1,",",$J$5,",",$J$2,",",$J$3,",",$N$1)) -> 91.351698 | L12: =IF((AND(C12>D12, D12>E12)), "Long", IF((AND(C12<D12, D12<E12)), "Short", "Wait ")) -> Short | N12: =IF((AND(G12<20, H12<20,I12<20,J12<20)), "Long", IF((AND(G12>80, H12>80,I12>80,J12>80)), "Short", IF((AND(G12<30, H12>70,I12>70,J12>70)), "Long Sling", IF((AND(G12>70, H12<30,I12<30,J12<30)), "Short Sling", "Wait ")))) -> Short
A13: EURCHF | C13: =RTD("fxbluelabs.excelrtd",,$D$1,CONCATENATE("@ema,",A13,",",$K$1,",",$H$1,",",$C$5,",",$N$1)) -> 1.08062 | D13: =RTD("fxbluelabs.excelrtd",,$D$1,CONCATENATE("@ema,",A13,",",$K$1,",",$H$1,",",$D$5,",",$N$1)) -> 1.080687 | E13: =RTD("fxbluelabs.excelrtd",,$D$1,CONCATENATE("@ema,",A13,",",$K$1,",",$H$1,",",$E$5,",",$N$1)) -> 1.080729 | G13: =RTD("fxbluelabs.excelrtd",,$D$1,CONCATENATE("@stoch,",A13,",",$K$1,",",$G$5,",",$G$2,",",$G$3,",",$N$1)) -> 20.512821 | H13: =RTD("fxbluelabs.excelrtd",,$D$1,CONCATENATE("@stoch,",A13,",",$K$1,",",$H$5,",",$H$2,",",$H$3,",",$N$1)) -> 18.348624 | I13: =RTD("fxbluelabs.excelrtd",,$D$1,CONCATENATE("@stoch,",A13,",",$K$1,",",$I$5,",",$I$2,",",$I$3,",",$N$1)) -> 15.748031 | J13: =RTD("fxbluelabs.excelrtd",,$D$1,CONCATENATE("@stoch,",A13,",",$K$1,",",$J$5,",",$J$2,",",$J$3,",",$N$1)) -> 15.821501 | L13: =IF((AND(C13>D13, D13>E13)), "Long", IF((AND(C13<D13, D13<E13)), "Short", "Wait ")) -> Short | N13: =IF((AND(G13<20, H13<20,I13<20,J13<20)), "Long", IF((AND(G13>80, H13>80,I13>80,J13>80)), "Short", IF((AND(G13<30, H13>70,I13>70,J13>70)), "Long Sling", IF((AND(G13>70, H13<30,I13<30,J13<30)), "Short Sling", "Wait ")))) -> Wait
A14: USDJPY | C14: =RTD("fxbluelabs.excelrtd",,$D$1,CONCATENATE("@ema,",A14,",",$K$1,",",$H$1,",",$C$5,",",$N$1)) -> 103.82104 | D14: =RTD("fxbluelabs.excelrtd",,$D$1,CONCATENATE("@ema,",A14,",",$K$1,",",$H$1,",",$D$5,",",$N$1)) -> 103.81862 | E14: =RTD("fxbluelabs.excelrtd",,$D$1,CONCATENATE("@ema,",A14,",",$K$1,",",$H$1,",",$E$5,",",$N$1)) -> 103.81795 | G14: =RTD("fxbluelabs.excelrtd",,$D$1,CONCATENATE("@stoch,",A14,",",$K$1,",",$G$5,",",$G$2,",",$G$3,",",$N$1)) -> 42.857143 | H14: =RTD("fxbluelabs.excelrtd",,$D$1,CONCATENATE("@stoch,",A14,",",$K$1,",",$H$5,",",$H$2,",",$H$3,",",$N$1)) -> 26.865672 | I14: =RTD("fxbluelabs.excelrtd",,$D$1,CONCATENATE("@stoch,",A14,",",$K$1,",",$I$5,",",$I$2,",",$I$3,",",$N$1)) -> 58.865248 | J14: =RTD("fxbluelabs.excelrtd",,$D$1,CONCATENATE("@stoch,",A14,",",$K$1,",",$J$5,",",$J$2,",",$J$3,",",$N$1)) -> 73.045267 | L14: =IF((AND(C14>D14, D14>E14)), "Long", IF((AND(C14<D14, D14<E14)), "Short", "Wait ")) -> Long | N14: =IF((AND(G14<20, H14<20,I14<20,J14<20)), "Long", IF((AND(G14>80, H14>80,I14>80,J14>80)), "Short", IF((AND(G14<30, H14>70,I14>70,J14>70)), "Long Sling", IF((AND(G14>70, H14<30,I14<30,J14<30)), "Short Sling", "Wait ")))) -> Wait
A15: USDCAD | C15: =RTD("fxbluelabs.excelrtd",,$D$1,CONCATENATE("@ema,",A15,",",$K$1,",",$H$1,",",$C$5,",",$N$1)) -> 1.308555 | D15: =RTD("fxbluelabs.excelrtd",,$D$1,CONCATENATE("@ema,",A15,",",$K$1,",",$H$1,",",$D$5,",",$N$1)) -> 1.308 | E15: =RTD("fxbluelabs.excelrtd",,$D$1,CONCATENATE("@ema,",A15,",",$K$1,",",$H$1,",",$E$5,",",$N$1)) -> 1.30765 | G15: =RTD("fxbluelabs.excelrtd",,$D$1,CONCATENATE("@stoch,",A15,",",$K$1,",",$G$5,",",$G$2,",",$G$3,",",$N$1)) -> 83.900227 | H15: =RTD("fxbluelabs.excelrtd",,$D$1,CONCATENATE("@stoch,",A15,",",$K$1,",",$H$5,",",$H$2,",",$H$3,",",$N$1)) -> 80.085653 | I15: =RTD("fxbluelabs.excelrtd",,$D$1,CONCATENATE("@stoch,",A15,",",$K$1,",",$I$5,",",$I$2,",",$I$3,",",$N$1)) -> 92.571885 | J15: =RTD("fxbluelabs.excelrtd",,$D$1,CONCATENATE("@stoch,",A15,",",$K$1,",",$J$5,",",$J$2,",",$J$3,",",$N$1)) -> 94.639769 | L15: =IF((AND(C15>D15, D15>E15)), "Long", IF((AND(C15<D15, D15<E15)), "Short", "Wait ")) -> Long | N15: =IF((AND(G15<20, H15<20,I15<20,J15<20)), "Long", IF((AND(G15>80, H15>80,I15>80,J15>80)), "Short", IF((AND(G15<30, H15>70,I15>70,J15>70)), "Long Sling", IF((AND(G15>70, H15<30,I15<30,J15<30)), "Short Sling", "Wait ")))) -> Short
A16: USDCHF | C16: =RTD("fxbluelabs.excelrtd",,$D$1,CONCATENATE("@ema,",A16,",",$K$1,",",$H$1,",",$C$5,",",$N$1)) -> 0.911235 | D16: =RTD("fxbluelabs.excelrtd",,$D$1,CONCATENATE("@ema,",A16,",",$K$1,",",$H$1,",",$D$5,",",$N$1)) -> 0.911198 | E16: =RTD("fxbluelabs.excelrtd",,$D$1,CONCATENATE("@ema,",A16,",",$K$1,",",$H$1,",",$E$5,",",$N$1)) -> 0.911133 | G16: =RTD("fxbluelabs.excelrtd",,$D$1,CONCATENATE("@stoch,",A16,",",$K$1,",",$G$5,",",$G$2,",",$G$3,",",$N$1)) -> 13.173653 | H16: =RTD("fxbluelabs.excelrtd",,$D$1,CONCATENATE("@stoch,",A16,",",$K$1,",",$H$5,",",$H$2,",",$H$3,",",$N$1)) -> 6.567164 | I16: =RTD("fxbluelabs.excelrtd",,$D$1,CONCATENATE("@stoch,",A16,",",$K$1,",",$I$5,",",$I$2,",",$I$3,",",$N$1)) -> 23.240938 | J16: =RTD("fxbluelabs.excelrtd",,$D$1,CONCATENATE("@stoch,",A16,",",$K$1,",",$J$5,",",$J$2,",",$J$3,",",$N$1)) -> 51.612903 | L16: =IF((AND(C16>D16, D16>E16)), "Long", IF((AND(C16<D16, D16<E16)), "Short", "Wait ")) -> Long | N16: =IF((AND(G16<20, H16<20,I16<20,J16<20)), "Long", IF((AND(G16>80, H16>80,I16>80,J16>80)), "Short", IF((AND(G16<30, H16>70,I16>70,J16>70)), "Long Sling", IF((AND(G16>70, H16<30,I16<30,J16<30)), "Short Sling", "Wait ")))) -> Wait
A17: GBPUSD | C17: =RTD("fxbluelabs.excelrtd",,$D$1,CONCATENATE("@ema,",A17,",",$K$1,",",$H$1,",",$C$5,",",$N$1)) -> 1.32846 | D17: =RTD("fxbluelabs.excelrtd",,$D$1,CONCATENATE("@ema,",A17,",",$K$1,",",$H$1,",",$D$5,",",$N$1)) -> 1.328249 | E17: =RTD("fxbluelabs.excelrtd",,$D$1,CONCATENATE("@ema,",A17,",",$K$1,",",$H$1,",",$E$5,",",$N$1)) -> 1.327998 | G17: =RTD("fxbluelabs.excelrtd",,$D$1,CONCATENATE("@stoch,",A17,",",$K$1,",",$G$5,",",$G$2,",",$G$3,",",$N$1)) -> 55.626327 | H17: =RTD("fxbluelabs.excelrtd",,$D$1,CONCATENATE("@stoch,",A17,",",$K$1,",",$H$5,",",$H$2,",",$H$3,",",$N$1)) -> 72.174739 | I17: =RTD("fxbluelabs.excelrtd",,$D$1,CONCATENATE("@stoch,",A17,",",$K$1,",",$I$5,",",$I$2,",",$I$3,",",$N$1)) -> 72.174739 | J17: =RTD("fxbluelabs.excelrtd",,$D$1,CONCATENATE("@stoch,",A17,",",$K$1,",",$J$5,",",$J$2,",",$J$3,",",$N$1)) -> 76.003276 | L17: =IF((AND(C17>D17, D17>E17)), "Long", IF((AND(C17<D17, D17<E17)), "Short", "Wait ")) -> Long | N17: =IF((AND(G17<20, H17<20,I17<20,J17<20)), "Long", IF((AND(G17>80, H17>80,I17>80,J17>80)), "Short", IF((AND(G17<30, H17>70,I17>70,J17>70)), "Long Sling", IF((AND(G17>70, H17<30,I17<30,J17<30)), "Short Sling", "Wait ")))) -> Wait
A18: GBPCAD | C18: =RTD("fxbluelabs.excelrtd",,$D$1,CONCATENATE("@ema,",A18,",",$K$1,",",$H$1,",",$C$5,",",$N$1)) -> 1.738327 | D18: =RTD("fxbluelabs.excelrtd",,$D$1,CONCATENATE("@ema,",A18,",",$K$1,",",$H$1,",",$D$5,",",$N$1)) -> 1.73732 | E18: =RTD("fxbluelabs.excelrtd",,$D$1,CONCATENATE("@ema,",A18,",",$K$1,",",$H$1,",",$E$5,",",$N$1)) -> 1.736529 | G18: =RTD("fxbluelabs.excelrtd",,$D$1,CONCATENATE("@stoch,",A18,",",$K$1,",",$G$5,",",$G$2,",",$G$3,",",$N$1)) -> 78.303426 | H18: =RTD("fxbluelabs.excelrtd",,$D$1,CONCATENATE("@stoch,",A18,",",$K$1,",",$H$5,",",$H$2,",",$H$3,",",$N$1)) -> 88.719512 | I18: =RTD("fxbluelabs.excelrtd",,$D$1,CONCATENATE("@stoch,",A18,",",$K$1,",",$I$5,",",$I$2,",",$I$3,",",$N$1)) -> 91.995673 | J18: =RTD("fxbluelabs.excelrtd",,$D$1,CONCATENATE("@stoch,",A18,",",$K$1,",",$J$5,",",$J$2,",",$J$3,",",$N$1)) -> 94.7924 | L18: =IF((AND(C18>D18, D18>E18)), "Long", IF((AND(C18<D18, D18<E18)), "Short", "Wait ")) -> Long | N18: =IF((AND(G18<20, H18<20,I18<20,J18<20)), "Long", IF((AND(G18>80, H18>80,I18>80,J18>80)), "Short", IF((AND(G18<30, H18>70,I18>70,J18>70)), "Long Sling", IF((AND(G18>70, H18<30,I18<30,J18<30)), "Short Sling", "Wait ")))) -> Wait
... A35: XAUUSD | C35: =RTD("fxbluelabs.excelrtd",,$D$1,CONCATENATE("@ema,",A35,",",$K$1,",",$H$1,",",$C$5,",",$N$1)) -> 1872.4048 | D35: =RTD("fxbluelabs.excelrtd",,$D$1,CONCATENATE("@ema,",A35,",",$K$1,",",$H$1,",",$D$5,",",$N$1)) -> 1872.0722 | E35: =RTD("fxbluelabs.excelrtd",,$D$1,CONCATENATE("@ema,",A35,",",$K$1,",",$H$1,",",$E$5,",",$N$1)) -> 1871.3387 | G35: =RTD("fxbluelabs.excelrtd",,$D$1,CONCATENATE("@stoch,",A35,",",$K$1,",",$G$5,",",$G$2,",",$G$3,",",$N$1)) -> 26.306769 | H35: =RTD("fxbluelabs.excelrtd",,$D$1,CONCATENATE("@stoch,",A35,",",$K$1,",",$H$5,",",$H$2,",",$H$3,",",$N$1)) -> 20.223979 | I35: =RTD("fxbluelabs.excelrtd",,$D$1,CONCATENATE("@stoch,",A35,",",$K$1,",",$I$5,",",$I$2,",",$I$3,",",$N$1)) -> 14.515366 | J35: =RTD("fxbluelabs.excelrtd",,$D$1,CONCATENATE("@stoch,",A35,",",$K$1,",",$J$5,",",$J$2,",",$J$3,",",$N$1)) -> 39.299522 | L35: =IF((AND(C35>D35, D35>E35)), "Long", IF((AND(C35<D35, D35<E35)), "Short", "Wait ")) -> Long | N35: =IF((AND(G35<20, H35<20,I35<20,J35<20)), "Long", IF((AND(G35>80, H35>80,I35>80,J35>80)), "Short", IF((AND(G35<30, H35>70,I35>70,J35>70)), "Long Sling", IF((AND(G35>70, H35<30,I35<30,J35<30)), "Short Sling", "Wait ")))) -> Wait

Sheet 5Min
A1: Type Account Number | D1: 8249924 | E1: Type (Open/High/Low/Close) | H1: Close | I1: Type Time Frame | K1: M5 | L1: Type Look Back Period | N1: 0
G2: 3 | H2: 3 | I2: 3 | J2: 3
G3: 3 | H3: 3 | I3: 3 | J3: 3
C4: EMA | D4: EMA | E4: EMA | G4: Stoch 5 | H4: Stoch 14 | I4: Stoch 24 | J4: Stoch 36 | L4: EMA Trend | N4: Stoch Trend | R4: Fib Level
C5: 20 | D5: 34 | E5: 50 | G5: 5 | H5: 14 | I5: 24 | J5: 36
G6: Stoch | H6: Stoch | I6: Stoch | J6: Stoch | R6: 50 Level | S6: 61.8 Level
A7: EURUSD | C7: =RTD("fxbluelabs.excelrtd",,$D$1,CONCATENATE("@ema,",A7,",",$K$1,",",$H$1,",",$C$5,",",$N$1)) -> 1.185946 | D7: =RTD("fxbluelabs.excelrtd",,$D$1,CONCATENATE("@ema,",A7,",",$K$1,",",$H$1,",",$D$5,",",$N$1)) -> 1.185894 | E7: =RTD("fxbluelabs.excelrtd",,$D$1,CONCATENATE("@ema,",A7,",",$K$1,",",$H$1,",",$E$5,",",$N$1)) -> 1.185886 | G7: =RTD("fxbluelabs.excelrtd",,$D$1,CONCATENATE("@stoch,",A7,",",$K$1,",",$G$5,",",$G$2,",",$G$3,",",$N$1)) -> 63.428571 | H7: =RTD("fxbluelabs.excelrtd",,$D$1,CONCATENATE("@stoch,",A7,",",$K$1,",",$H$5,",",$H$2,",",$H$3,",",$N$1)) -> 63.636364 | I7: =RTD("fxbluelabs.excelrtd",,$D$1,CONCATENATE("@stoch,",A7,",",$K$1,",",$I$5,",",$I$2,",",$I$3,",",$N$1)) -> 71.555556 | J7: =RTD("fxbluelabs.excelrtd",,$D$1,CONCATENATE("@stoch,",A7,",",$K$1,",",$J$5,",",$J$2,",",$J$3,",",$N$1)) -> 76.029963 | L7: =IF((AND(C7>D7, D7>E7)), "Long", IF((AND(C7<D7, D7<E7)), "Short", "Wait ")) -> Long | N7: =IF((AND(G7<20, H7<20,I7<20,J7<20)), "Long", IF((AND(G7>80, H7>80,I7>80,J7>80)), "Short", IF((AND(G7<30, H7>70,I7>70,J7>70)), "Long Sling", IF((AND(G7>70, H7<30,I7<30,J7<30)), "Short Sling", "Wait ")))) -> Wait
A8: EURGBP | C8: =RTD("fxbluelabs.excelrtd",,$D$1,CONCATENATE("@ema,",A8,",",$K$1,",",$H$1,",",$C$5,",",$N$1)) -> 0.892542 | D8: =RTD("fxbluelabs.excelrtd",,$D$1,CONCATENATE("@ema,",A8,",",$K$1,",",$H$1,",",$D$5,",",$N$1)) -> 0.892574 | E8: =RTD("fxbluelabs.excelrtd",,$D$1,CONCATENATE("@ema,",A8,",",$K$1,",",$H$1,",",$E$5,",",$N$1)) -> 0.892632 | G8: =RTD("fxbluelabs.excelrtd",,$D$1,CONCATENATE("@stoch,",A8,",",$K$1,",",$G$5,",",$G$2,",",$G$3,",",$N$1)) -> 58.604651 | H8: =RTD("fxbluelabs.excelrtd",,$D$1,CONCATENATE("@stoch,",A8,",",$K$1,",",$H$5,",",$H$2,",",$H$3,",",$N$1)) -> 64.561404 | I8: =RTD("fxbluelabs.excelrtd",,$D$1,CONCATENATE("@stoch,",A8,",",$K$1,",",$I$5,",",$I$2,",",$I$3,",",$N$1)) -> 56.097561 | J8: =RTD("fxbluelabs.excelrtd",,$D$1,CONCATENATE("@stoch,",A8,",",$K$1,",",$J$5,",",$J$2,",",$J$3,",",$N$1)) -> 47.911548 | L8: =IF((AND(C8>D8, D8>E8)), "Long", IF((AND(C8<D8, D8<E8)), "Short", "Wait ")) -> Short | N8: =IF((AND(G8<20, H8<20,I8<20,J8<20)), "Long", IF((AND(G8>80, H8>80,I8>80,J8>80)), "Short", IF((AND(G8<30, H8>70,I8>70,J8>70)), "Long Sling", IF((AND(G8>70, H8<30,I8<30,J8<30)), "Short Sling", "Wait ")))) -> Wait
A9: EURJPY | C9: =RTD("fxbluelabs.excelrtd",,$D$1,CONCATENATE("@ema,",A9,",",$K$1,",",$H$1,",",$C$5,",",$N$1)) -> 123.12709 | D9: =RTD("fxbluelabs.excelrtd",,$D$1,CONCATENATE("@ema,",A9,",",$K$1,",",$H$1,",",$D$5,",",$N$1)) -> 123.12289 | E9: =RTD("fxbluelabs.excelrtd",,$D$1,CONCATENATE("@ema,",A9,",",$K$1,",",$H$1,",",$E$5,",",$N$1)) -> 123.12165 | G9: =RTD("fxbluelabs.excelrtd",,$D$1,CONCATENATE("@stoch,",A9,",",$K$1,",",$G$5,",",$G$2,",",$G$3,",",$N$1)) -> 63.636364 | H9: =RTD("fxbluelabs.excelrtd",,$D$1,CONCATENATE("@stoch,",A9,",",$K$1,",",$H$5,",",$H$2,",",$H$3,",",$N$1)) -> 65.765766 | I9: =RTD("fxbluelabs.excelrtd",,$D$1,CONCATENATE("@stoch,",A9,",",$K$1,",",$I$5,",",$I$2,",",$I$3,",",$N$1)) -> 65.765766 | J9: =RTD("fxbluelabs.excelrtd",,$D$1,CONCATENATE("@stoch,",A9,",",$K$1,",",$J$5,",",$J$2,",",$J$3,",",$N$1)) -> 69.84127 | L9: =IF((AND(C9>D9, D9>E9)), "Long", IF((AND(C9<D9, D9<E9)), "Short", "Wait ")) -> Long | N9: =IF((AND(G9<20, H9<20,I9<20,J9<20)), "Long", IF((AND(G9>80, H9>80,I9>80,J9>80)), "Short", IF((AND(G9<30, H9>70,I9>70,J9>70)), "Long Sling", IF((AND(G9>70, H9<30,I9<30,J9<30)), "Short Sling", "Wait ")))) -> Wait
A10: EURAUD | C10: =RTD("fxbluelabs.excelrtd",,$D$1,CONCATENATE("@ema,",A10,",",$K$1,",",$H$1,",",$C$5,",",$N$1)) -> 1.623177 | D10: =RTD("fxbluelabs.excelrtd",,$D$1,CONCATENATE("@ema,",A10,",",$K$1,",",$H$1,",",$D$5,",",$N$1)) -> 1.622893 | E10: =RTD("fxbluelabs.excelrtd",,$D$1,CONCATENATE("@ema,",A10,",",$K$1,",",$H$1,",",$E$5,",",$N$1)) -> 1.622733 | G10: =RTD("fxbluelabs.excelrtd",,$D$1,CONCATENATE("@stoch,",A10,",",$K$1,",",$G$5,",",$G$2,",",$G$3,",",$N$1)) -> 49.339207 | H10: =RTD("fxbluelabs.excelrtd",,$D$1,CONCATENATE("@stoch,",A10,",",$K$1,",",$H$5,",",$H$2,",",$H$3,",",$N$1)) -> 80.991736 | I10: =RTD("fxbluelabs.excelrtd",,$D$1,CONCATENATE("@stoch,",A10,",",$K$1,",",$I$5,",",$I$2,",",$I$3,",",$N$1)) -> 83.088235 | J10: =RTD("fxbluelabs.excelrtd",,$D$1,CONCATENATE("@stoch,",A10,",",$K$1,",",$J$5,",",$J$2,",",$J$3,",",$N$1)) -> 84.58445 | L10: =IF((AND(C10>D10, D10>E10)), "Long", IF((AND(C10<D10, D10<E10)), "Short", "Wait ")) -> Long | N10: =IF((AND(G10<20, H10<20,I10<20,J10<20)), "Long", IF((AND(G10>80, H10>80,I10>80,J10>80)), "Short", IF((AND(G10<30, H10>70,I10>70,J10>70)), "Long Sling", IF((AND(G10>70, H10<30,I10<30,J10<30)), "Short Sling", "Wait ")))) -> Wait
A11: EURCAD | C11: =RTD("fxbluelabs.excelrtd",,$D$1,CONCATENATE("@ema,",A11,",",$K$1,",",$H$1,",",$C$5,",",$N$1)) -> 1.552472 | D11: =RTD("fxbluelabs.excelrtd",,$D$1,CONCATENATE("@ema,",A11,",",$K$1,",",$H$1,",",$D$5,",",$N$1)) -> 1.552184 | E11: =RTD("fxbluelabs.excelrtd",,$D$1,CONCATENATE("@ema,",A11,",",$K$1,",",$H$1,",",$E$5,",",$N$1)) -> 1.551862 | G11: =RTD("fxbluelabs.excelrtd",,$D$1,CONCATENATE("@stoch,",A11,",",$K$1,",",$G$5,",",$G$2,",",$G$3,",",$N$1)) -> 57.063712 | H11: =RTD("fxbluelabs.excelrtd",,$D$1,CONCATENATE("@stoch,",A11,",",$K$1,",",$H$5,",",$H$2,",",$H$3,",",$N$1)) -> 77.339181 | I11: =RTD("fxbluelabs.excelrtd",,$D$1,CONCATENATE("@stoch,",A11,",",$K$1,",",$I$5,",",$I$2,",",$I$3,",",$N$1)) -> 77.339181 | J11: =RTD("fxbluelabs.excelrtd",,$D$1,CONCATENATE("@stoch,",A11,",",$K$1,",",$J$5,",",$J$2,",",$J$3,",",$N$1)) -> 79.082321 | L11: =IF((AND(C11>D11, D11>E11)), "Long", IF((AND(C11<D11, D11<E11)), "Short", "Wait ")) -> Long | N11: =IF((AND(G11<20, H11<20,I11<20,J11<20)), "Long", IF((AND(G11>80, H11>80,I11>80,J11>80)), "Short", IF((AND(G11<30, H11>70,I11>70,J11>70)), "Long Sling", IF((AND(G11>70, H11<30,I11<30,J11<30)), "Short Sling", "Wait ")))) -> Wait
A12: EURNZD | C12: =RTD("fxbluelabs.excelrtd",,$D$1,CONCATENATE("@ema,",A12,",",$K$1,",",$H$1,",",$C$5,",",$N$1)) -> 1.709741 | D12: =RTD("fxbluelabs.excelrtd",,$D$1,CONCATENATE("@ema,",A12,",",$K$1,",",$H$1,",",$D$5,",",$N$1)) -> 1.709245 | E12: =RTD("fxbluelabs.excelrtd",,$D$1,CONCATENATE("@ema,",A12,",",$K$1,",",$H$1,",",$E$5,",",$N$1)) -> 1.708936 | G12: =RTD("fxbluelabs.excelrtd",,$D$1,CONCATENATE("@stoch,",A12,",",$K$1,",",$G$5,",",$G$2,",",$G$3,",",$N$1)) -> 62.608696 | H12: =RTD("fxbluelabs.excelrtd",,$D$1,CONCATENATE("@stoch,",A12,",",$K$1,",",$H$5,",",$H$2,",",$H$3,",",$N$1)) -> 83.834586 | I12: =RTD("fxbluelabs.excelrtd",,$D$1,CONCATENATE("@stoch,",A12,",",$K$1,",",$I$5,",",$I$2,",",$I$3,",",$N$1)) -> 87.390029 | J12: =RTD("fxbluelabs.excelrtd",,$D$1,CONCATENATE("@stoch,",A12,",",$K$1,",",$J$5,",",$J$2,",",$J$3,",",$N$1)) -> 88.594164 | L12: =IF((AND(C12>D12, D12>E12)), "Long", IF((AND(C12<D12, D12<E12)), "Short", "Wait ")) -> Long | N12: =IF((AND(G12<20, H12<20,I12<20,J12<20)), "Long", IF((AND(G12>80, H12>80,I12>80,J12>80)), "Short", IF((AND(G12<30, H12>70,I12>70,J12>70)), "Long Sling", IF((AND(G12>70, H12<30,I12<30,J12<30)), "Short Sling", "Wait ")))) -> Wait
A13: EURCHF | C13: =RTD("fxbluelabs.excelrtd",,$D$1,CONCATENATE("@ema,",A13,",",$K$1,",",$H$1,",",$C$5,",",$N$1)) -> 1.080541 | D13: =RTD("fxbluelabs.excelrtd",,$D$1,CONCATENATE("@ema,",A13,",",$K$1,",",$H$1,",",$D$5,",",$N$1)) -> 1.0806 | E13: =RTD("fxbluelabs.excelrtd",,$D$1,CONCATENATE("@ema,",A13,",",$K$1,",",$H$1,",",$E$5,",",$N$1)) -> 1.080637 | G13: =RTD("fxbluelabs.excelrtd",,$D$1,CONCATENATE("@stoch,",A13,",",$K$1,",",$G$5,",",$G$2,",",$G$3,",",$N$1)) -> 39.2 | H13: =RTD("fxbluelabs.excelrtd",,$D$1,CONCATENATE("@stoch,",A13,",",$K$1,",",$H$5,",",$H$2,",",$H$3,",",$N$1)) -> 28 | I13: =RTD("fxbluelabs.excelrtd",,$D$1,CONCATENATE("@stoch,",A13,",",$K$1,",",$I$5,",",$I$2,",",$I$3,",",$N$1)) -> 22.477064 | J13: =RTD("fxbluelabs.excelrtd",,$D$1,CONCATENATE("@stoch,",A13,",",$K$1,",",$J$5,",",$J$2,",",$J$3,",",$N$1)) -> 22.477064 | L13: =IF((AND(C13>D13, D13>E13)), "Long", IF((AND(C13<D13, D13<E13)), "Short", "Wait ")) -> Short | N13: =IF((AND(G13<20, H13<20,I13<20,J13<20)), "Long", IF((AND(G13>80, H13>80,I13>80,J13>80)), "Short", IF((AND(G13<30, H13>70,I13>70,J13>70)), "Long Sling", IF((AND(G13>70, H13<30,I13<30,J13<30)), "Short Sling", "Wait ")))) -> Wait
A14: USDJPY | C14: =RTD("fxbluelabs.excelrtd",,$D$1,CONCATENATE("@ema,",A14,",",$K$1,",",$H$1,",",$C$5,",",$N$1)) -> 103.82095 | D14: =RTD("fxbluelabs.excelrtd",,$D$1,CONCATENATE("@ema,",A14,",",$K$1,",",$H$1,",",$D$5,",",$N$1)) -> 103.82152 | E14: =RTD("fxbluelabs.excelrtd",,$D$1,CONCATENATE("@ema,",A14,",",$K$1,",",$H$1,",",$E$5,",",$N$1)) -> 103.82097 | G14: =RTD("fxbluelabs.excelrtd",,$D$1,CONCATENATE("@stoch,",A14,",",$K$1,",",$G$5,",",$G$2,",",$G$3,",",$N$1)) -> 71.621622 | H14: =RTD("fxbluelabs.excelrtd",,$D$1,CONCATENATE("@stoch,",A14,",",$K$1,",",$H$5,",",$H$2,",",$H$3,",",$N$1)) -> 67.088608 | I14: =RTD("fxbluelabs.excelrtd",,$D$1,CONCATENATE("@stoch,",A14,",",$K$1,",",$I$5,",",$I$2,",",$I$3,",",$N$1)) -> 50.961538 | J14: =RTD("fxbluelabs.excelrtd",,$D$1,CONCATENATE("@stoch,",A14,",",$K$1,",",$J$5,",",$J$2,",",$J$3,",",$N$1)) -> 48.181818 | L14: =IF((AND(C14>D14, D14>E14)), "Long", IF((AND(C14<D14, D14<E14)), "Short", "Wait ")) -> Wait | N14: =IF((AND(G14<20, H14<20,I14<20,J14<20)), "Long", IF((AND(G14>80, H14>80,I14>80,J14>80)), "Short", IF((AND(G14<30, H14>70,I14>70,J14>70)), "Long Sling", IF((AND(G14>70, H14<30,I14<30,J14<30)), "Short Sling", "Wait ")))) -> Wait
A15: USDCAD | C15: =RTD("fxbluelabs.excelrtd",,$D$1,CONCATENATE("@ema,",A15,",",$K$1,",",$H$1,",",$C$5,",",$N$1)) -> 1.309119 | D15: =RTD("fxbluelabs.excelrtd",,$D$1,CONCATENATE("@ema,",A15,",",$K$1,",",$H$1,",",$D$5,",",$N$1)) -> 1.308921 | E15: =RTD("fxbluelabs.excelrtd",,$D$1,CONCATENATE("@ema,",A15,",",$K$1,",",$H$1,",",$E$5,",",$N$1)) -> 1.308652 | G15: =RTD("fxbluelabs.excelrtd",,$D$1,CONCATENATE("@stoch,",A15,",",$K$1,",",$G$5,",",$G$2,",",$G$3,",",$N$1)) -> 53.939394 | H15: =RTD("fxbluelabs.excelrtd",,$D$1,CONCATENATE("@stoch,",A15,",",$K$1,",",$H$5,",",$H$2,",",$H$3,",",$N$1)) -> 83.655914 | I15: =RTD("fxbluelabs.excelrtd",,$D$1,CONCATENATE("@stoch,",A15,",",$K$1,",",$I$5,",",$I$2,",",$I$3,",",$N$1)) -> 83.655914 | J15: =RTD("fxbluelabs.excelrtd",,$D$1,CONCATENATE("@stoch,",A15,",",$K$1,",",$J$5,",",$J$2,",",$J$3,",",$N$1)) -> 83.655914 | L15: =IF((AND(C15>D15, D15>E15)), "Long", IF((AND(C15<D15, D15<E15)), "Short", "Wait ")) -> Long | N15: =IF((AND(G15<20, H15<20,I15<20,J15<20)), "Long", IF((AND(G15>80, H15>80,I15>80,J15>80)), "Short", IF((AND(G15<30, H15>70,I15>70,J15>70)), "Long Sling", IF((AND(G15>70, H15<30,I15<30,J15<30)), "Short Sling", "Wait ")))) -> Wait
A16: USDCHF | C16: =RTD("fxbluelabs.excelrtd",,$D$1,CONCATENATE("@ema,",A16,",",$K$1,",",$H$1,",",$C$5,",",$N$1)) -> 0.91113 | D16: =RTD("fxbluelabs.excelrtd",,$D$1,CONCATENATE("@ema,",A16,",",$K$1,",",$H$1,",",$D$5,",",$N$1)) -> 0.911218 | E16: =RTD("fxbluelabs.excelrtd",,$D$1,CONCATENATE("@ema,",A16,",",$K$1,",",$H$1,",",$E$5,",",$N$1)) -> 0.911253 | G16: =RTD("fxbluelabs.excelrtd",,$D$1,CONCATENATE("@stoch,",A16,",",$K$1,",",$G$5,",",$G$2,",",$G$3,",",$N$1)) -> 25.688073 | H16: =RTD("fxbluelabs.excelrtd",,$D$1,CONCATENATE("@stoch,",A16,",",$K$1,",",$H$5,",",$H$2,",",$H$3,",",$N$1)) -> 15.555556 | I16: =RTD("fxbluelabs.excelrtd",,$D$1,CONCATENATE("@stoch,",A16,",",$K$1,",",$I$5,",",$I$2,",",$I$3,",",$N$1)) -> 11.155378 | J16: =RTD("fxbluelabs.excelrtd",,$D$1,CONCATENATE("@stoch,",A16,",",$K$1,",",$J$5,",",$J$2,",",$J$3,",",$N$1)) -> 11.155378 | L16: =IF((AND(C16>D16, D16>E16)), "Long", IF((AND(C16<D16, D16<E16)), "Short", "Wait ")) -> Short | N16: =IF((AND(G16<20, H16<20,I16<20,J16<20)), "Long", IF((AND(G16>80, H16>80,I16>80,J16>80)), "Short", IF((AND(G16<30, H16>70,I16>70,J16>70)), "Long Sling", IF((AND(G16>70, H16<30,I16<30,J16<30)), "Short Sling", "Wait ")))) -> Wait
A17: GBPUSD | C17: =RTD("fxbluelabs.excelrtd",,$D$1,CONCATENATE("@ema,",A17,",",$K$1,",",$H$1,",",$C$5,",",$N$1)) -> 1.32867 | D17: =RTD("fxbluelabs.excelrtd",,$D$1,CONCATENATE("@ema,",A17,",",$K$1,",",$H$1,",",$D$5,",",$N$1)) -> 1.328572 | E17: =RTD("fxbluelabs.excelrtd",,$D$1,CONCATENATE("@ema,",A17,",",$K$1,",",$H$1,",",$E$5,",",$N$1)) -> 1.328481 | G17: =RTD("fxbluelabs.excelrtd",,$D$1,CONCATENATE("@stoch,",A17,",",$K$1,",",$G$5,",",$G$2,",",$G$3,",",$N$1)) -> 40.569395 | H17: =RTD("fxbluelabs.excelrtd",,$D$1,CONCATENATE("@stoch,",A17,",",$K$1,",",$H$5,",",$H$2,",",$H$3,",",$N$1)) -> 49.893843 | I17: =RTD("fxbluelabs.excelrtd",,$D$1,CONCATENATE("@stoch,",A17,",",$K$1,",",$I$5,",",$I$2,",",$I$3,",",$N$1)) -> 57.932264 | J17: =RTD("fxbluelabs.excelrtd",,$D$1,CONCATENATE("@stoch,",A17,",",$K$1,",",$J$5,",",$J$2,",",$J$3,",",$N$1)) -> 63.586207 | L17: =IF((AND(C17>D17, D17>E17)), "Long", IF((AND(C17<D17, D17<E17)), "Short", "Wait ")) -> Long | N17: =IF((AND(G17<20, H17<20,I17<20,J17<20)), "Long", IF((AND(G17>80, H17>80,I17>80,J17>80)), "Short", IF((AND(G17<30, H17>70,I17>70,J17>70)), "Long Sling", IF((AND(G17>70, H17<30,I17<30,J17<30)), "Short Sling", "Wait ")))) -> Wait
A18: GBPCAD | C18: =RTD("fxbluelabs.excelrtd",,$D$1,CONCATENATE("@ema,",A18,",",$K$1,",",$H$1,",",$C$5,",",$N$1)) -> 1.739359 | D18: =RTD("fxbluelabs.excelrtd",,$D$1,CONCATENATE("@ema,",A18,",",$K$1,",",$H$1,",",$D$5,",",$N$1)) -> 1.738968 | E18: =RTD("fxbluelabs.excelrtd",,$D$1,CONCATENATE("@ema,",A18,",",$K$1,",",$H$1,",",$E$5,",",$N$1)) -> 1.738492 | G18: =RTD("fxbluelabs.excelrtd",,$D$1,CONCATENATE("@stoch,",A18,",",$K$1,",",$G$5,",",$G$2,",",$G$3,",",$N$1)) -> 57.21519 | H18: =RTD("fxbluelabs.excelrtd",,$D$1,CONCATENATE("@stoch,",A18,",",$K$1,",",$H$5,",",$H$2,",",$H$3,",",$N$1)) -> 73.839009 | I18: =RTD("fxbluelabs.excelrtd",,$D$1,CONCATENATE("@stoch,",A18,",",$K$1,",",$I$5,",",$I$2,",",$I$3,",",$N$1)) -> 74.962963 | J18: =RTD("fxbluelabs.excelrtd",,$D$1,CONCATENATE("@stoch,",A18,",",$K$1,",",$J$5,",",$J$2,",",$J$3,",",$N$1)) -> 84.17603 | L18: =IF((AND(C18>D18, D18>E18)), "Long", IF((AND(C18<D18, D18<E18)), "Short", "Wait ")) -> Long | N18: =IF((AND(G18<20, H18<20,I18<20,J18<20)), "Long", IF((AND(G18>80, H18>80,I18>80,J18>80)), "Short", IF((AND(G18<30, H18>70,I18>70,J18>70)), "Long Sling", IF((AND(G18>70, H18<30,I18<30,J18<30)), "Short Sling", "Wait ")))) -> Wait
... A35: XAUUSD | C35: =RTD("fxbluelabs.excelrtd",,$D$1,CONCATENATE("@ema,",A35,",",$K$1,",",$H$1,",",$C$5,",",$N$1)) -> 1871.7558 | D35: =RTD("fxbluelabs.excelrtd",,$D$1,CONCATENATE("@ema,",A35,",",$K$1,",",$H$1,",",$D$5,",",$N$1)) -> 1872.2209 | E35: =RTD("fxbluelabs.excelrtd",,$D$1,CONCATENATE("@ema,",A35,",",$K$1,",",$H$1,",",$E$5,",",$N$1)) -> 1872.4571 | G35: =RTD("fxbluelabs.excelrtd",,$D$1,CONCATENATE("@stoch,",A35,",",$K$1,",",$G$5,",",$G$2,",",$G$3,",",$N$1)) -> 65.075377 | H35: =RTD("fxbluelabs.excelrtd",,$D$1,CONCATENATE("@stoch,",A35,",",$K$1,",",$H$5,",",$H$2,",",$H$3,",",$N$1)) -> 28.706084 | I35: =RTD("fxbluelabs.excelrtd",,$D$1,CONCATENATE("@stoch,",A35,",",$K$1,",",$I$5,",",$I$2,",",$I$3,",",$N$1)) -> 26.336478 | J35: =RTD("fxbluelabs.excelrtd",,$D$1,CONCATENATE("@stoch,",A35,",",$K$1,",",$J$5,",",$J$2,",",$J$3,",",$N$1)) -> 22.068511 | L35: =IF((AND(C35>D35, D35>E35)), "Long", IF((AND(C35<D35, D35<E35)), "Short", "Wait ")) -> Short | N35: =IF((AND(G35<20, H35<20,I35<20,J35<20)), "Long", IF((AND(G35>80, H35>80,I35>80,J35>80)), "Short", IF((AND(G35<30, H35>70,I35>70,J35>70)), "Long Sling", IF((AND(G35>70, H35<30,I35<30,J35<30)), "Short Sling", "Wait ")))) -> Wait
