Workbook

Sheet SUMMARY
A23: SUMMARY ANALYSIS:
A25: Domestic production increasing to all time high
A27: Net imports down slightly
A29: Refinery Input increasing slightly
A30: GS reducing slightly
A31: DS reducing slightly
A33: CS down slightly
A34: Stocks slowly being worked off
A37: Net crude imports continue to drop as exports rise
A38: Expect Domestic production to stay high at these prices
A39: Expect GS, DS to reduce slowly
A41: Price level of oil possilby range 60 - 50

Sheet Tot Stocks
B3: Tot Stocks
A6: 8 | B6: ='Crude Stocks'!B6+GS!$B$25+DS!$B$26 -> 815.6
A7: 7 | B7: ='Crude Stocks'!B7+GS!$B$25+DS!$B$26 -> 824.2
A8: 6 | B8: ='Crude Stocks'!B8+GS!$B$25+DS!$B$26 -> 820.5
A9: 5 | B9: ='Crude Stocks'!B9+GS!$B$25+DS!$B$26 -> 816.9
A10: 4 | B10: ='Crude Stocks'!B10+GS!$B$25+DS!$B$26 -> 815.6
A11: 3 | B11: ='Crude Stocks'!B11+GS!$B$25+DS!$B$26 -> 814.7
A12: 2 | B12: ='Crude Stocks'!B12+GS!$B$25+DS!$B$26 -> 806.8
A13: 1 | B13: ='Crude Stocks'!B13+GS!$B$25+DS!$B$26 -> 809.4
A14: 51 | B14: ='Crude Stocks'!B14+GS!$B$25+DS!$B$26 -> 811.1
A15: =A16+1 -> 50 | B15: ='Crude Stocks'!B15+GS!$B$25+DS!$B$26 -> 811.2
A16: =A17+1 -> 49 | B16: ='Crude Stocks'!B16+GS!$B$25+DS!$B$26 -> 811.7
A17: =A18+1 -> 48 | B17: ='Crude Stocks'!B17+GS!$B$25+DS!$B$26 -> 812.9
A18: =A19+1 -> 47 | B18: ='Crude Stocks'!B18+GS!$B$25+DS!$B$26 -> 820.2
A19: =A20+1 -> 46 | B19: ='Crude Stocks'!B19+GS!$B$25+DS!$B$26 -> 816.6
A20: =A21+1 -> 45 | B20: ='Crude Stocks'!B20+GS!$B$25+DS!$B$26 -> 811.8
A21: =A22+1 -> 44 | B21: ='Crude Stocks'!B21+GS!$B$25+DS!$B$26 -> 801.5
A22: =A23+1 -> 43 | B22: ='Crude Stocks'!B22+GS!$B$25+DS!$B$26 -> 795.7
A23: =A24+1 -> 42 | B23: ='Crude Stocks'!B23+GS!$B$25+DS!$B$26 -> 792.5
A24: =A25+1 -> 41 | B24: ='Crude Stocks'!B24+GS!$B$25+DS!$B$26 -> 786.1
A25: =A26+1 -> 40 | B25: ='Crude Stocks'!B25+GS!$B$25+DS!$B$26 -> 779.7
A26: =A27+1 -> 39 | B26: ='Crude Stocks'!B26+GS!$B$25+DS!$B$26 -> 773.7
... A48: =A49+1 -> 17 | B48: ='Crude Stocks'!B48+GS!$B$25+DS!$B$26 -> 805.7
A49: 16 | B49: ='Crude Stocks'!B49+GS!$B$25+DS!$B$26 -> 799.4

Sheet Crude Stocks
A3: Wk No | B3: Crude Stocks
A6: 8 | B6: 445.9
A7: 7 | B7: 454.5
A8: 6 | B8: 450.8
A9: 5 | B9: 447.2
A10: 4 | B10: 445.9
A11: 3 | B11: 445
A12: 2 | B12: 437.1
A13: 1 | B13: 439.7
A14: 51 | B14: 441.4
A15: 50 | B15: 441.5
A16: 49 | B16: 442
A17: =A18+1 -> 48 | B17: 443.2
A18: =A19+1 -> 47 | B18: 450.5
A19: =A20+1 -> 46 | B19: 446.9
A20: =A21+1 -> 45 | B20: 442.1
A21: =A22+1 -> 44 | B21: 431.8
A22: =A23+1 -> 43 | B22: 426
A23: =A24+1 -> 42 | B23: 422.8
A24: =A25+1 -> 41 | B24: 416.4
A25: =A26+1 -> 40 | B25: 410
A26: =A27+1 -> 39 | B26: 404
A27: =A28+1 -> 38 | B27: 396
A28: =A29+1 -> 37 | B28: 394
... A48: =A49+1 -> 17 | B48: 436
A49: 16 | B49: 429.7

Sheet GS
A3: Wk No | B3: Gasoline Stocks
A6: 8 | B6: 254.9
A7: 7 | B7: 256.8
A8: 6 | B8: 256.3
A9: 5 | B9: 257.9
A10: 4 | B10: 257.4
A11: 3 | B11: 259.6
A12: 2 | B12: 255.6
A13: 1 | B13: 248.1
A14: 51 | B14: 240
A15: 50 | B15: 230.1
A16: =A17+1 -> 49 | B16: 228.3
A17: =A18+1 -> 48 | B17: 226.3
A18: =A19+1 -> 47 | B18: 224.6
A19: =A20+1 -> 46 | B19: 225.3
A20: =A21+1 -> 45 | B20: 226.8
A21: =A22+1 -> 44 | B21: 228
A22: =A23+1 -> 43 | B22: 226.2
A23: =A24+1 -> 42 | B23: 229.3
A24: =A25+1 -> 41 | B24: 234.2
A25: =A26+1 -> 40 | B25: 236.2
A26: =A27+1 -> 39 | B26: 235.2
A27: =A28+1 -> 38 | B27: 235.7
... A48: =A49+1 -> 17 | B48: 238
A49: 16 | B49: 236.8

Sheet DS
A3: Wk No | B3: Distillate Stocks
A7: 8 | B7: 138.4
A8: 7 | B8: 138.7
A9: 6 | B9: 140.2
A10: 5 | B10: 139
A11: 4 | B11: 141.3
A12: 3 | B12: 142.4
A13: 2 | B13: 143
A14: 1 | B14: 140
A15: 51 | B15: 129.4
A16: 50 | B16: 119.9
A17: =A18+1 -> 49 | B17: 124.1
A18: =A19+1 -> 48 | B18: 125.6
A19: =A20+1 -> 47 | B19: 121.8
A20: =A21+1 -> 46 | B20: 119.3
A21: =A22+1 -> 45 | B21: 119.3
A22: =A23+1 -> 44 | B22: 122.9
A23: =A24+1 -> 43 | B23: 126.3
A24: =A25+1 -> 42 | B24: 130.4
A25: =A26+1 -> 41 | B25: 132.6
A26: =A27+1 -> 40 | B26: 133.5
A27: =A28+1 -> 39 | B27: 136.1
A28: =A29+1 -> 38 | B28: 137.9
... A49: =A50+1 -> 17 | B49: 118.8
A50: 16 | B50: 122.7

Sheet IN - Dom Prod
A3: Wk No | B3: Dom Product
A9: 8 | B9: 12100
A10: 7 | B10: 12000
A11: 6 | B11: 11900
A12: 5 | B12: 11900
A13: 4 | B13: 11900
A14: 3 | B14: 11900
A15: 2 | B15: 11900
A16: 1 | B16: 11700
A17: 51 | B17: 11700
A18: =A19+1 -> 50 | B18: 11600
A19: =A20+1 -> 49 | B19: 11600
A20: =A21+1 -> 48 | B20: 11700
A21: =A22+1 -> 47 | B21: 11700
A22: =A23+1 -> 46 | B22: 11700
A23: =A24+1 -> 45 | B23: 11700
A24: =A25+1 -> 44 | B24: 11600
A25: =A26+1 -> 43 | B25: 11200
A26: =A27+1 -> 42 | B26: 10900
A27: =A28+1 -> 41 | B27: 10900
A28: =A29+1 -> 40 | B28: 11200
A29: =A30+1 -> 39 | B29: 11100
... A51: =A52+1 -> 17 | B51: 10619
A52: 16 | B52: 10586

Sheet C I
A3: Wk No | B3: Crude Imports
A7: 8 | B7: 5917
A8: 7 | B8: 7522
A9: 6 | B9: 6210
A10: 5 | B10: 7146
A11: 4 | B11: 7083
A12: 3 | B12: 8191
A13: 2 | B13: 7527
A14: 1 | B14: 7846
A15: 51 | B15: 7392
A16: 50 | B16: 7423
A17: =A18+1 -> 49 | B17: 7393
A18: =A19+1 -> 48 | B18: 7219
A19: =A20+1 -> 47 | B19: 8162
A20: =A21+1 -> 46 | B20: 7554
A21: =A22+1 -> 45 | B21: 7452
A22: =A23+1 -> 44 | B22: 7539
A23: =A24+1 -> 43 | B23: 7344
A24: =A25+1 -> 42 | B24: 7678
A25: =A26+1 -> 41 | B25: 7615
A26: =A27+1 -> 40 | B26: 7397
A27: =A28+1 -> 39 | B27: 7965
A28: =A29+1 -> 38 | B28: 7802
... A49: =A50+1 -> 17 | B49: 8549
A50: 16 | B50: 8469

Sheet C E
A3: Wk No | B3: Crude Exports
A6: 8 | B6: 3359
A7: 7 | B7: 3607
A8: 6 | B8: 2364
A9: 5 | B9: 2870
A10: 4 | B10: 1944
A11: 3 | B11: 2035
A12: 2 | B12: 2966
A13: 1 | B13: 2065
A14: 51 | B14: 2237
A15: 50 | B15: 2325
A16: =A17+1 -> 49 | B16: 2274
A17: =A18+1 -> 48 | B17: 3203
A18: =A19+1 -> 47 | B18: 2442
A19: =A20+1 -> 46 | B19: 1969
A20: =A21+1 -> 45 | B20: 2050
A21: =A22+1 -> 44 | B21: 2405
A22: =A23+1 -> 43 | B22: 2485
A23: =A24+1 -> 42 | B23: 2180
A24: =A25+1 -> 41 | B24: 1782
A25: =A26+1 -> 40 | B25: 2576
A26: =A27+1 -> 39 | B26: 1723
A27: =A28+1 -> 38 | B27: 2640
... A48: =A49+1 -> 17 | B48: 2148
A49: 16 | B49: 2331

Sheet Net Imports
A3: Wk No | B3: Net Imports
A7: 7 | B7: ='C I'!B9-'C E'!B8 -> 3846
A8: 6 | B8: ='C I'!B10-'C E'!B9 -> 4276
A9: 5 | B9: ='C I'!B11-'C E'!B10 -> 5139
A10: 4 | B10: ='C I'!B12-'C E'!B11 -> 6156
A11: 3 | B11: ='C I'!B13-'C E'!B12 -> 4561
A12: 2 | B12: ='C I'!B14-'C E'!B13 -> 5781
A13: 1 | B13: ='C I'!B15-'C E'!B14 -> 5155
A14: 50 | B14: ='C I'!B16-'C E'!B15 -> 5098
A15: =A16+1 -> 49 | B15: ='C I'!B17-'C E'!B16 -> 5119
A16: =A17+1 -> 48 | B16: ='C I'!B18-'C E'!B17 -> 4016
A17: =A18+1 -> 47 | B17: ='C I'!B19-'C E'!B18 -> 5720
A18: =A19+1 -> 46 | B18: ='C I'!B20-'C E'!B19 -> 5585
A19: =A20+1 -> 45 | B19: ='C I'!B21-'C E'!B20 -> 5402
A20: =A21+1 -> 44 | B20: ='C I'!B22-'C E'!B21 -> 5134
A21: =A22+1 -> 43 | B21: ='C I'!B23-'C E'!B22 -> 4859
A22: =A23+1 -> 42 | B22: ='C I'!B24-'C E'!B23 -> 5498
A23: =A24+1 -> 41 | B23: ='C I'!B25-'C E'!B24 -> 5833
A24: =A25+1 -> 40 | B24: ='C I'!B26-'C E'!B25 -> 4821
A25: =A26+1 -> 39 | B25: ='C I'!B27-'C E'!B26 -> 6242
A26: =A27+1 -> 38 | B26: ='C I'!B28-'C E'!B27 -> 5162
... A47: =A48+1 -> 17 | B47: ='C I'!B49-'C E'!B48 -> 6401
A48: 16 | B48: ='C I'!B50-'C E'!B49 -> 6138

Sheet OUT - Ref Input
B3: Ref Input
A8: 8 | B8: 15890
A9: 7 | B9: 15711
A10: 6 | B10: 15768
A11: 5 | B11: 16633
A12: 4 | B12: 16463
A13: 3 | B13: 17049
A14: 2 | B14: 17223
A15: 1 | B15: 17566
A16: 51 | B16: 17760
A17: =A18+1 -> 50 | B17: 17487
A18: =A19+1 -> 49 | B18: 17553
A19: =A20+1 -> 48 | B19: 16855
A20: =A21+1 -> 47 | B20: 16381
A21: =A22+1 -> 46 | B21: 16408
A22: =A23+1 -> 45 | B22: 16417
A23: =A24+1 -> 44 | B23: 16268
A24: =A25+1 -> 43 | B24: 16316
A25: =A26+1 -> 42 | B25: 16239
A26: =A27+1 -> 41 | B26: 16591
A27: =A28+1 -> 40 | B27: 16514
A28: =A29+1 -> 39 | B28: 17415
... A48: =A49+1 -> 19 | B48: 16561
A49: 18 | B49: 16621
