Workbook

Sheet CRe
A1: Data | B1: Depósito | C1: Principal | D1: Balanço | E1: $ Bal | F1: $ Bal Ac | G1: % Bal | H1: % Bal Ac | I1: Pos.Liq. | J1: $ Liq | K1: $ Liq Ac | L1: % Liq | M1: # | N1: % Liq Ac | O1: $ Aberto | P1: Obs.
A2: 43095 | C2: 3260.84 | D2: 3260.84 | I2: =IF(D2="","",D2) -> 3260.84 | M2: 0
A3: 43098 | B3: 0 | C3: =IF(B3="","",C2+B3) -> 3260.84 | D3: 3291.95 | E3: =IF(B3="","",IF(D3="","",D3-D2-B3)) -> 31.11 | F3: =IF(E3="","",F2+E3) -> 31.11 | G3: =IF(E3="","",100*E3/(D2+0.5*B3)) -> 0.95404865 | H3: =IF(F3="","",100*F3/C3) -> 0.95404865 | I3: =IF(D3="","",D3) -> 3291.95 | J3: =IF(B3="","",IF(I3="","",I3-I2-B3)) -> 31.11 | K3: =IF(J3="","",K2+J3) -> 31.11 | L3: =IF(J3="","",100*J3/(I2+0.5*B3)) -> 0.95404865 | M3: =IF(F3="","",M2+1) -> 1 | N3: =IF(K3="","",100*K3/C3) -> 0.95404865 | O3: =IF(D3="","",IF(I3="","",I3-D3)) -> 0
A4: 43125 | B4: 0 | C4: =IF(B4="","",C3+B4) -> 3260.84 | D4: 3518.16 | E4: =IF(B4="","",IF(D4="","",D4-D3-B4)) -> 226.21 | F4: =IF(E4="","",F3+E4) -> 257.32 | G4: =IF(E4="","",100*E4/(D3+0.5*B4)) -> 6.8716111 | H4: =IF(F4="","",100*F4/C4) -> 7.8912182 | I4: =IF(D4="","",D4) -> 3518.16 | J4: =IF(B4="","",IF(I4="","",I4-I3-B4)) -> 226.21 | K4: =IF(J4="","",K3+J4) -> 257.32 | L4: =IF(J4="","",100*J4/(I3+0.5*B4)) -> 6.8716111 | M4: =IF(F4="","",M3+1) -> 2 | N4: =IF(K4="","",100*K4/C4) -> 7.8912182 | O4: =IF(D4="","",IF(I4="","",I4-D4)) -> 0
A5: 43137 | B5: 0 | C5: =IF(B5="","",C4+B5) -> 3260.84 | D5: 3459.96 | E5: =IF(B5="","",IF(D5="","",D5-D4-B5)) -> -58.2 | F5: =IF(E5="","",F4+E5) -> 199.12 | G5: =IF(E5="","",100*E5/(D4+0.5*B5)) -> -1.6542738 | H5: =IF(F5="","",100*F5/C5) -> 6.106402 | I5: =IF(D5="","",D5) -> 3459.96 | J5: =IF(B5="","",IF(I5="","",I5-I4-B5)) -> -58.2 | K5: =IF(J5="","",K4+J5) -> 199.12 | L5: =IF(J5="","",100*J5/(I4+0.5*B5)) -> -1.6542738 | M5: =IF(F5="","",M4+1) -> 3 | N5: =IF(K5="","",100*K5/C5) -> 6.106402 | O5: =IF(D5="","",IF(I5="","",I5-D5)) -> 0
A6: 43138 | B6: 0 | C6: =IF(B6="","",C5+B6) -> 3260.84 | D6: 3426.39 | E6: =IF(B6="","",IF(D6="","",D6-D5-B6)) -> -33.57 | F6: =IF(E6="","",F5+E6) -> 165.55 | G6: =IF(E6="","",100*E6/(D5+0.5*B6)) -> -0.97024243 | H6: =IF(F6="","",100*F6/C6) -> 5.0769127 | I6: =IF(D6="","",D6) -> 3426.39 | J6: =IF(B6="","",IF(I6="","",I6-I5-B6)) -> -33.57 | K6: =IF(J6="","",K5+J6) -> 165.55 | L6: =IF(J6="","",100*J6/(I5+0.5*B6)) -> -0.97024243 | M6: =IF(F6="","",M5+1) -> 4 | N6: =IF(K6="","",100*K6/C6) -> 5.0769127 | O6: =IF(D6="","",IF(I6="","",I6-D6)) -> 0
A7: 43139 | B7: 0 | C7: =IF(B7="","",C6+B7) -> 3260.84 | D7: 3389.99 | E7: =IF(B7="","",IF(D7="","",D7-D6-B7)) -> -36.4 | F7: =IF(E7="","",F6+E7) -> 129.15 | G7: =IF(E7="","",100*E7/(D6+0.5*B7)) -> -1.0623426 | H7: =IF(F7="","",100*F7/C7) -> 3.9606359 | I7: =IF(D7="","",D7) -> 3389.99 | J7: =IF(B7="","",IF(I7="","",I7-I6-B7)) -> -36.4 | K7: =IF(J7="","",K6+J7) -> 129.15 | L7: =IF(J7="","",100*J7/(I6+0.5*B7)) -> -1.0623426 | M7: =IF(F7="","",M6+1) -> 5 | N7: =IF(K7="","",100*K7/C7) -> 3.9606359 | O7: =IF(D7="","",IF(I7="","",I7-D7)) -> 0
B8: 0 | C8: =IF(B8="","",C7+B8) -> 3260.84 | D8: 3431.39 | E8: =IF(B8="","",IF(D8="","",D8-D7-B8)) -> 41.4 | F8: =IF(E8="","",F7+E8) -> 170.55 | G8: =IF(E8="","",100*E8/(D7+0.5*B8)) -> 1.2212425 | H8: =IF(F8="","",100*F8/C8) -> 5.2302474 | I8: =IF(D8="","",D8) -> 3431.39 | J8: =IF(B8="","",IF(I8="","",I8-I7-B8)) -> 41.4 | K8: =IF(J8="","",K7+J8) -> 170.55 | L8: =IF(J8="","",100*J8/(I7+0.5*B8)) -> 1.2212425 | M8: =IF(F8="","",M7+1) -> 6 | N8: =IF(K8="","",100*K8/C8) -> 5.2302474 | O8: =IF(D8="","",IF(I8="","",I8-D8)) -> 0
A9: 43140 | B9: 0 | C9: =IF(B9="","",C8+B9) -> 3260.84 | D9: 3483.94 | E9: =IF(B9="","",IF(D9="","",D9-D8-B9)) -> 52.55 | F9: =IF(E9="","",F8+E9) -> 223.1 | G9: =IF(E9="","",100*E9/(D8+0.5*B9)) -> 1.5314494 | H9: =IF(F9="","",100*F9/C9) -> 6.8417954 | I9: =IF(D9="","",D9) -> 3483.94 | J9: =IF(B9="","",IF(I9="","",I9-I8-B9)) -> 52.55 | K9: =IF(J9="","",K8+J9) -> 223.1 | L9: =IF(J9="","",100*J9/(I8+0.5*B9)) -> 1.5314494 | M9: =IF(F9="","",M8+1) -> 7 | N9: =IF(K9="","",100*K9/C9) -> 6.8417954 | O9: =IF(D9="","",IF(I9="","",I9-D9)) -> 0
A10: 43143 | B10: 0 | C10: =IF(B10="","",C9+B10) -> 3260.84 | D10: 3469.96 | E10: =IF(B10="","",IF(D10="","",D10-D9-B10)) -> -13.98 | F10: =IF(E10="","",F9+E10) -> 209.12 | G10: =IF(E10="","",100*E10/(D9+0.5*B10)) -> -0.40126983 | H10: =IF(F10="","",100*F10/C10) -> 6.4130715 | I10: =IF(D10="","",D10) -> 3469.96 | J10: =IF(B10="","",IF(I10="","",I10-I9-B10)) -> -13.98 | K10: =IF(J10="","",K9+J10) -> 209.12 | L10: =IF(J10="","",100*J10/(I9+0.5*B10)) -> -0.40126983 | M10: =IF(F10="","",M9+1) -> 8 | N10: =IF(K10="","",100*K10/C10) -> 6.4130715 | O10: =IF(D10="","",IF(I10="","",I10-D10)) -> 0
A11: 43145 | B11: 0 | C11: =IF(B11="","",C10+B11) -> 3260.84 | D11: 3459.04 | E11: =IF(B11="","",IF(D11="","",D11-D10-B11)) -> -10.92 | F11: =IF(E11="","",F10+E11) -> 198.2 | G11: =IF(E11="","",100*E11/(D10+0.5*B11)) -> -0.31470103 | H11: =IF(F11="","",100*F11/C11) -> 6.0781884 | I11: =IF(D11="","",D11) -> 3459.04 | J11: =IF(B11="","",IF(I11="","",I11-I10-B11)) -> -10.92 | K11: =IF(J11="","",K10+J11) -> 198.2 | L11: =IF(J11="","",100*J11/(I10+0.5*B11)) -> -0.31470103 | M11: =IF(F11="","",M10+1) -> 9 | N11: =IF(K11="","",100*K11/C11) -> 6.0781884 | O11: =IF(D11="","",IF(I11="","",I11-D11)) -> 0
A12: 43150 | B12: 0 | C12: =IF(B12="","",C11+B12) -> 3260.84 | D12: 3412.69 | E12: =IF(B12="","",IF(D12="","",D12-D11-B12)) -> -46.35 | F12: =IF(E12="","",F11+E12) -> 151.85 | G12: =IF(E12="","",100*E12/(D11+0.5*B12)) -> -1.3399672 | H12: =IF(F12="","",100*F12/C12) -> 4.6567756 | I12: =IF(D12="","",D12) -> 3412.69 | J12: =IF(B12="","",IF(I12="","",I12-I11-B12)) -> -46.35 | K12: =IF(J12="","",K11+J12) -> 151.85 | L12: =IF(J12="","",100*J12/(I11+0.5*B12)) -> -1.3399672 | M12: =IF(F12="","",M11+1) -> 10 | N12: =IF(K12="","",100*K12/C12) -> 4.6567756 | O12: =IF(D12="","",IF(I12="","",I12-D12)) -> 0
A13: 43151 | B13: 0 | C13: =IF(B13="","",C12+B13) -> 3260.84 | D13: 3408.55 | E13: =IF(B13="","",IF(D13="","",D13-D12-B13)) -> -4.14 | F13: =IF(E13="","",F12+E13) -> 147.71 | G13: =IF(E13="","",100*E13/(D12+0.5*B13)) -> -0.12131193 | H13: =IF(F13="","",100*F13/C13) -> 4.5298144 | I13: =IF(D13="","",D13) -> 3408.55 | J13: =IF(B13="","",IF(I13="","",I13-I12-B13)) -> -4.14 | K13: =IF(J13="","",K12+J13) -> 147.71 | L13: =IF(J13="","",100*J13/(I12+0.5*B13)) -> -0.12131193 | M13: =IF(F13="","",M12+1) -> 11 | N13: =IF(K13="","",100*K13/C13) -> 4.5298144 | O13: =IF(D13="","",IF(I13="","",I13-D13)) -> 0
A14: 43152 | B14: 0 | C14: =IF(B14="","",C13+B14) -> 3260.84 | D14: 3381.31 | E14: =IF(B14="","",IF(D14="","",D14-D13-B14)) -> -27.24 | F14: =IF(E14="","",F13+E14) -> 120.47 | G14: =IF(E14="","",100*E14/(D13+0.5*B14)) -> -0.7991668 | H14: =IF(F14="","",100*F14/C14) -> 3.6944468 | I14: =IF(D14="","",D14) -> 3381.31 | J14: =IF(B14="","",IF(I14="","",I14-I13-B14)) -> -27.24 | K14: =IF(J14="","",K13+J14) -> 120.47 | L14: =IF(J14="","",100*J14/(I13+0.5*B14)) -> -0.7991668 | M14: =IF(F14="","",M13+1) -> 12 | N14: =IF(K14="","",100*K14/C14) -> 3.6944468 | O14: =IF(D14="","",IF(I14="","",I14-D14)) -> 0
A15: 43160 | B15: 0 | C15: =IF(B15="","",C14+B15) -> 3260.84 | D15: 3252.95 | E15: =IF(B15="","",IF(D15="","",D15-D14-B15)) -> -128.36 | F15: =IF(E15="","",F14+E15) -> -7.89 | G15: =IF(E15="","",100*E15/(D14+0.5*B15)) -> -3.7961618 | H15: =IF(F15="","",100*F15/C15) -> -0.24196219 | I15: =IF(D15="","",D15) -> 3252.95 | J15: =IF(B15="","",IF(I15="","",I15-I14-B15)) -> -128.36 | K15: =IF(J15="","",K14+J15) -> -7.89 | L15: =IF(J15="","",100*J15/(I14+0.5*B15)) -> -3.7961618 | M15: =IF(F15="","",M14+1) -> 13 | N15: =IF(K15="","",100*K15/C15) -> -0.24196219 | O15: =IF(D15="","",IF(I15="","",I15-D15)) -> 0
A16: 43165 | B16: 0 | C16: =IF(B16="","",C15+B16) -> 3260.84 | D16: 3267.86 | E16: =IF(B16="","",IF(D16="","",D16-D15-B16)) -> 14.91 | F16: =IF(E16="","",F15+E16) -> 7.02 | G16: =IF(E16="","",100*E16/(D15+0.5*B16)) -> 0.45835319 | H16: =IF(F16="","",100*F16/C16) -> 0.21528195 | I16: =IF(D16="","",D16) -> 3267.86 | J16: =IF(B16="","",IF(I16="","",I16-I15-B16)) -> 14.91 | K16: =IF(J16="","",K15+J16) -> 7.02 | L16: =IF(J16="","",100*J16/(I15+0.5*B16)) -> 0.45835319 | M16: =IF(F16="","",M15+1) -> 14 | N16: =IF(K16="","",100*K16/C16) -> 0.21528195 | O16: =IF(D16="","",IF(I16="","",I16-D16)) -> 0
A17: 43166 | B17: 0 | C17: =IF(B17="","",C16+B17) -> 3260.84 | D17: 3265.95 | E17: =IF(B17="","",IF(D17="","",D17-D16-B17)) -> -1.91 | F17: =IF(E17="","",F16+E17) -> 5.11 | G17: =IF(E17="","",100*E17/(D16+0.5*B17)) -> -0.058448036 | H17: =IF(F17="","",100*F17/C17) -> 0.15670809 | I17: =IF(D17="","",D17) -> 3265.95 | J17: =IF(B17="","",IF(I17="","",I17-I16-B17)) -> -1.91 | K17: =IF(J17="","",K16+J17) -> 5.11 | L17: =IF(J17="","",100*J17/(I16+0.5*B17)) -> -0.058448036 | M17: =IF(F17="","",M16+1) -> 15 | N17: =IF(K17="","",100*K17/C17) -> 0.15670809 | O17: =IF(D17="","",IF(I17="","",I17-D17)) -> 0
B18: 0 | C18: =IF(B18="","",C17+B18) -> 3260.84 | D18: 3249.45 | E18: =IF(B18="","",IF(D18="","",D18-D17-B18)) -> -16.5 | F18: =IF(E18="","",F17+E18) -> -11.39 | G18: =IF(E18="","",100*E18/(D17+0.5*B18)) -> -0.50521288 | H18: =IF(F18="","",100*F18/C18) -> -0.3492965 | I18: =IF(D18="","",D18) -> 3249.45 | J18: =IF(B18="","",IF(I18="","",I18-I17-B18)) -> -16.5 | K18: =IF(J18="","",K17+J18) -> -11.39 | L18: =IF(J18="","",100*J18/(I17+0.5*B18)) -> -0.50521288 | M18: =IF(F18="","",M17+1) -> 16 | N18: =IF(K18="","",100*K18/C18) -> -0.3492965 | O18: =IF(D18="","",IF(I18="","",I18-D18)) -> 0
B19: 0 | C19: =IF(B19="","",C18+B19) -> 3260.84 | D19: 3219.7 | E19: =IF(B19="","",IF(D19="","",D19-D18-B19)) -> -29.75 | F19: =IF(E19="","",F18+E19) -> -41.14 | G19: =IF(E19="","",100*E19/(D18+0.5*B19)) -> -0.91553955 | H19: =IF(F19="","",100*F19/C19) -> -1.2616381 | I19: =IF(D19="","",D19) -> 3219.7 | J19: =IF(B19="","",IF(I19="","",I19-I18-B19)) -> -29.75 | K19: =IF(J19="","",K18+J19) -> -41.14 | L19: =IF(J19="","",100*J19/(I18+0.5*B19)) -> -0.91553955 | M19: =IF(F19="","",M18+1) -> 17 | N19: =IF(K19="","",100*K19/C19) -> -1.2616381 | O19: =IF(D19="","",IF(I19="","",I19-D19)) -> 0
A20: 43168 | B20: 0 | C20: =IF(B20="","",C19+B20) -> 3260.84 | D20: 3193 | E20: =IF(B20="","",IF(D20="","",D20-D19-B20)) -> -26.7 | F20: =IF(E20="","",F19+E20) -> -67.84 | G20: =IF(E20="","",100*E20/(D19+0.5*B20)) -> -0.82926981 | H20: =IF(F20="","",100*F20/C20) -> -2.0804455 | I20: =IF(D20="","",D20) -> 3193 | J20: =IF(B20="","",IF(I20="","",I20-I19-B20)) -> -26.7 | K20: =IF(J20="","",K19+J20) -> -67.84 | L20: =IF(J20="","",100*J20/(I19+0.5*B20)) -> -0.82926981 | M20: =IF(F20="","",M19+1) -> 18 | N20: =IF(K20="","",100*K20/C20) -> -2.0804455 | O20: =IF(D20="","",IF(I20="","",I20-D20)) -> 0
A21: 43179 | B21: 0 | C21: =IF(B21="","",C20+B21) -> 3260.84 | D21: 3206.8 | E21: =IF(B21="","",IF(D21="","",D21-D20-B21)) -> 13.8 | F21: =IF(E21="","",F20+E21) -> -54.04 | G21: =IF(E21="","",100*E21/(D20+0.5*B21)) -> 0.43219543 | H21: =IF(F21="","",100*F21/C21) -> -1.6572417 | I21: =IF(D21="","",D21) -> 3206.8 | J21: =IF(B21="","",IF(I21="","",I21-I20-B21)) -> 13.8 | K21: =IF(J21="","",K20+J21) -> -54.04 | L21: =IF(J21="","",100*J21/(I20+0.5*B21)) -> 0.43219543 | M21: =IF(F21="","",M20+1) -> 19 | N21: =IF(K21="","",100*K21/C21) -> -1.6572417 | O21: =IF(D21="","",IF(I21="","",I21-D21)) -> 0
A22: 43180 | B22: 0 | C22: =IF(B22="","",C21+B22) -> 3260.84 | D22: 3226.21 | E22: =IF(B22="","",IF(D22="","",D22-D21-B22)) -> 19.41 | F22: =IF(E22="","",F21+E22) -> -34.63 | G22: =IF(E22="","",100*E22/(D21+0.5*B22)) -> 0.60527629 | H22: =IF(F22="","",100*F22/C22) -> -1.0619963 | I22: =IF(D22="","",D22) -> 3226.21 | J22: =IF(B22="","",IF(I22="","",I22-I21-B22)) -> 19.41 | K22: =IF(J22="","",K21+J22) -> -34.63 | L22: =IF(J22="","",100*J22/(I21+0.5*B22)) -> 0.60527629 | M22: =IF(F22="","",M21+1) -> 20 | N22: =IF(K22="","",100*K22/C22) -> -1.0619963 | O22: =IF(D22="","",IF(I22="","",I22-D22)) -> 0
A23: 43186 | B23: 0 | C23: =IF(B23="","",C22+B23) -> 3260.84 | D23: 3227.61 | E23: =IF(B23="","",IF(D23="","",D23-D22-B23)) -> 1.4 | F23: =IF(E23="","",F22+E23) -> -33.23 | G23: =IF(E23="","",100*E23/(D22+0.5*B23)) -> 0.043394571 | H23: =IF(F23="","",100*F23/C23) -> -1.0190626 | I23: =IF(D23="","",D23) -> 3227.61 | J23: =IF(B23="","",IF(I23="","",I23-I22-B23)) -> 1.4 | K23: =IF(J23="","",K22+J23) -> -33.23 | L23: =IF(J23="","",100*J23/(I22+0.5*B23)) -> 0.043394571 | M23: =IF(F23="","",M22+1) -> 21 | N23: =IF(K23="","",100*K23/C23) -> -1.0190626 | O23: =IF(D23="","",IF(I23="","",I23-D23)) -> 0
A24: 43187 | B24: 0 | C24: =IF(B24="","",C23+B24) -> 3260.84 | D24: 3226.03 | E24: =IF(B24="","",IF(D24="","",D24-D23-B24)) -> -1.58 | F24: =IF(E24="","",F23+E24) -> -34.81 | G24: =IF(E24="","",100*E24/(D23+0.5*B24)) -> -0.048952631 | H24: =IF(F24="","",100*F24/C24) -> -1.0675163 | I24: =IF(D24="","",D24) -> 3226.03 | J24: =IF(B24="","",IF(I24="","",I24-I23-B24)) -> -1.58 | K24: =IF(J24="","",K23+J24) -> -34.81 | L24: =IF(J24="","",100*J24/(I23+0.5*B24)) -> -0.048952631 | M24: =IF(F24="","",M23+1) -> 22 | N24: =IF(K24="","",100*K24/C24) -> -1.0675163 | O24: =IF(D24="","",IF(I24="","",I24-D24)) -> 0
A25: 43202 | B25: 0 | C25: =IF(B25="","",C24+B25) -> 3260.84 | D25: 3259.32 | E25: =IF(B25="","",IF(D25="","",D25-D24-B25)) -> 33.29 | F25: =IF(E25="","",F24+E25) -> -1.52 | G25: =IF(E25="","",100*E25/(D24+0.5*B25)) -> 1.0319185 | H25: =IF(F25="","",100*F25/C25) -> -0.046613756 | I25: =IF(D25="","",D25) -> 3259.32 | J25: =IF(B25="","",IF(I25="","",I25-I24-B25)) -> 33.29 | K25: =IF(J25="","",K24+J25) -> -1.52 | L25: =IF(J25="","",100*J25/(I24+0.5*B25)) -> 1.0319185 | M25: =IF(F25="","",M24+1) -> 23 | N25: =IF(K25="","",100*K25/C25) -> -0.046613756 | O25: =IF(D25="","",IF(I25="","",I25-D25)) -> 0
A26: 43228 | B26: 0 | C26: =IF(B26="","",C25+B26) -> 3260.84 | D26: 3268.6 | E26: =IF(B26="","",IF(D26="","",D26-D25-B26)) -> 9.28 | F26: =IF(E26="","",F25+E26) -> 7.76 | G26: =IF(E26="","",100*E26/(D25+0.5*B26)) -> 0.28472197 | H26: =IF(F26="","",100*F26/C26) -> 0.23797549 | I26: =IF(D26="","",D26) -> 3268.6 | J26: =IF(B26="","",IF(I26="","",I26-I25-B26)) -> 9.28 | K26: =IF(J26="","",K25+J26) -> 7.76 | L26: =IF(J26="","",100*J26/(I25+0.5*B26)) -> 0.28472197 | M26: =IF(F26="","",M25+1) -> 24 | N26: =IF(K26="","",100*K26/C26) -> 0.23797549 | O26: =IF(D26="","",IF(I26="","",I26-D26)) -> 0
A27: 43230 | B27: 0 | C27: =IF(B27="","",C26+B27) -> 3260.84 | D27: 3310.65 | E27: =IF(B27="","",IF(D27="","",D27-D26-B27)) -> 42.05 | F27: =IF(E27="","",F26+E27) -> 49.81 | G27: =IF(E27="","",100*E27/(D26+0.5*B27)) -> 1.2864835 | H27: =IF(F27="","",100*F27/C27) -> 1.5275205 | I27: =IF(D27="","",D27) -> 3310.65 | J27: =IF(B27="","",IF(I27="","",I27-I26-B27)) -> 42.05 | K27: =IF(J27="","",K26+J27) -> 49.81 | L27: =IF(J27="","",100*J27/(I26+0.5*B27)) -> 1.2864835 | M27: =IF(F27="","",M26+1) -> 25 | N27: =IF(K27="","",100*K27/C27) -> 1.5275205 | O27: =IF(D27="","",IF(I27="","",I27-D27)) -> 0
A28: 43235 | B28: 0 | C28: =IF(B28="","",C27+B28) -> 3260.84 | D28: 3335.86 | E28: =IF(B28="","",IF(D28="","",D28-D27-B28)) -> 25.21 | F28: =IF(E28="","",F27+E28) -> 75.02 | G28: =IF(E28="","",100*E28/(D27+0.5*B28)) -> 0.76148188 | H28: =IF(F28="","",100*F28/C28) -> 2.3006342 | I28: =IF(D28="","",D28) -> 3335.86 | J28: =IF(B28="","",IF(I28="","",I28-I27-B28)) -> 25.21 | K28: =IF(J28="","",K27+J28) -> 75.02 | L28: =IF(J28="","",100*J28/(I27+0.5*B28)) -> 0.76148188 | M28: =IF(F28="","",M27+1) -> 26 | N28: =IF(K28="","",100*K28/C28) -> 2.3006342 | O28: =IF(D28="","",IF(I28="","",I28-D28)) -> 0
A29: 43236 | B29: 0 | C29: =IF(B29="","",C28+B29) -> 3260.84 | D29: 3358.67 | E29: =IF(B29="","",IF(D29="","",D29-D28-B29)) -> 22.81 | F29: =IF(E29="","",F28+E29) -> 97.83 | G29: =IF(E29="","",100*E29/(D28+0.5*B29)) -> 0.68378169 | H29: =IF(F29="","",100*F29/C29) -> 3.0001472 | I29: =IF(D29="","",D29) -> 3358.67 | J29: =IF(B29="","",IF(I29="","",I29-I28-B29)) -> 22.81 | K29: =IF(J29="","",K28+J29) -> 97.83 | L29: =IF(J29="","",100*J29/(I28+0.5*B29)) -> 0.68378169 | M29: =IF(F29="","",M28+1) -> 27 | N29: =IF(K29="","",100*K29/C29) -> 3.0001472 | O29: =IF(D29="","",IF(I29="","",I29-D29)) -> 0
A30: 43237 | B30: 0 | C30: =IF(B30="","",C29+B30) -> 3260.84 | D30: 3328.57 | E30: =IF(B30="","",IF(D30="","",D30-D29-B30)) -> -30.1 | F30: =IF(E30="","",F29+E30) -> 67.73 | G30: =IF(E30="","",100*E30/(D29+0.5*B30)) -> -0.89618807 | H30: =IF(F30="","",100*F30/C30) -> 2.0770722 | I30: =IF(D30="","",D30) -> 3328.57 | J30: =IF(B30="","",IF(I30="","",I30-I29-B30)) -> -30.1 | K30: =IF(J30="","",K29+J30) -> 67.73 | L30: =IF(J30="","",100*J30/(I29+0.5*B30)) -> -0.89618807 | M30: =IF(F30="","",M29+1) -> 28 | N30: =IF(K30="","",100*K30/C30) -> 2.0770722 | O30: =IF(D30="","",IF(I30="","",I30-D30)) -> 0
A31: 43241 | B31: 0 | C31: =IF(B31="","",C30+B31) -> 3260.84 | D31: 3348.99 | E31: =IF(B31="","",IF(D31="","",D31-D30-B31)) -> 20.42 | F31: =IF(E31="","",F30+E31) -> 88.15 | G31: =IF(E31="","",100*E31/(D30+0.5*B31)) -> 0.61347666 | H31: =IF(F31="","",100*F31/C31) -> 2.7032912 | I31: =IF(D31="","",D31) -> 3348.99 | J31: =IF(B31="","",IF(I31="","",I31-I30-B31)) -> 20.42 | K31: =IF(J31="","",K30+J31) -> 88.15 | L31: =IF(J31="","",100*J31/(I30+0.5*B31)) -> 0.61347666 | M31: =IF(F31="","",M30+1) -> 29 | N31: =IF(K31="","",100*K31/C31) -> 2.7032912 | O31: =IF(D31="","",IF(I31="","",I31-D31)) -> 0 | P31: % Liq Ac
A32: 43242 | B32: 0 | C32: =IF(B32="","",C31+B32) -> 3260.84 | D32: 3376.54 | E32: =IF(B32="","",IF(D32="","",D32-D31-B32)) -> 27.55 | F32: =IF(E32="","",F31+E32) -> 115.7 | G32: =IF(E32="","",100*E32/(D31+0.5*B32)) -> 0.82263608 | H32: =IF(F32="","",100*F32/C32) -> 3.5481655 | I32: =IF(D32="","",D32) -> 3376.54 | J32: =IF(B32="","",IF(I32="","",I32-I31-B32)) -> 27.55 | K32: =IF(J32="","",K31+J32) -> 115.7 | L32: =IF(J32="","",100*J32/(I31+0.5*B32)) -> 0.82263608 | M32: =IF(F32="","",M31+1) -> 30 | N32: =IF(K32="","",100*K32/C32) -> 3.5481655 | O32: =IF(D32="","",IF(I32="","",I32-D32)) -> 0 | P32: =IF(N25="","",VLOOKUP(MAX(M25:M102),M25:N102,2,FALSE)) -> 0.010120092
A33: 43243 | B33: 0 | C33: =IF(B33="","",C32+B33) -> 3260.84 | D33: 3344.14 | E33: =IF(B33="","",IF(D33="","",D33-D32-B33)) -> -32.4 | F33: =IF(E33="","",F32+E33) -> 83.3 | G33: =IF(E33="","",100*E33/(D32+0.5*B33)) -> -0.95956216 | H33: =IF(F33="","",100*F33/C33) -> 2.5545565 | I33: =IF(D33="","",D33) -> 3344.14 | J33: =IF(B33="","",IF(I33="","",I33-I32-B33)) -> -32.4 | K33: =IF(J33="","",K32+J33) -> 83.3 | L33: =IF(J33="","",100*J33/(I32+0.5*B33)) -> -0.95956216 | M33: =IF(F33="","",M32+1) -> 31 | N33: =IF(K33="","",100*K33/C33) -> 2.5545565 | O33: =IF(D33="","",IF(I33="","",I33-D33)) -> 0
A34: 43250 | B34: 0 | C34: =IF(B34="","",C33+B34) -> 3260.84 | D34: 3308.92 | E34: =IF(B34="","",IF(D34="","",D34-D33-B34)) -> -35.22 | F34: =IF(E34="","",F33+E34) -> 48.08 | G34: =IF(E34="","",100*E34/(D33+0.5*B34)) -> -1.0531856 | H34: =IF(F34="","",100*F34/C34) -> 1.4744667 | I34: =IF(D34="","",D34) -> 3308.92 | J34: =IF(B34="","",IF(I34="","",I34-I33-B34)) -> -35.22 | K34: =IF(J34="","",K33+J34) -> 48.08 | L34: =IF(J34="","",100*J34/(I33+0.5*B34)) -> -1.0531856 | M34: =IF(F34="","",M33+1) -> 32 | N34: =IF(K34="","",100*K34/C34) -> 1.4744667 | O34: =IF(D34="","",IF(I34="","",I34-D34)) -> 0
A35: 43258 | B35: 0 | C35: =IF(B35="","",C34+B35) -> 3260.84 | D35: 3333.76 | E35: =IF(B35="","",IF(D35="","",D35-D34-B35)) -> 24.84 | F35: =IF(E35="","",F34+E35) -> 72.92 | G35: =IF(E35="","",100*E35/(D34+0.5*B35)) -> 0.75069811 | H35: =IF(F35="","",100*F35/C35) -> 2.2362336 | I35: =IF(D35="","",D35) -> 3333.76 | J35: =IF(B35="","",IF(I35="","",I35-I34-B35)) -> 24.84 | K35: =IF(J35="","",K34+J35) -> 72.92 | L35: =IF(J35="","",100*J35/(I34+0.5*B35)) -> 0.75069811 | M35: =IF(F35="","",M34+1) -> 33 | N35: =IF(K35="","",100*K35/C35) -> 2.2362336 | O35: =IF(D35="","",IF(I35="","",I35-D35)) -> 0
A36: 43264 | B36: 0 | C36: =IF(B36="","",C35+B36) -> 3260.84 | D36: 3297.76 | E36: =IF(B36="","",IF(D36="","",D36-D35-B36)) -> -36 | F36: =IF(E36="","",F35+E36) -> 36.92 | G36: =IF(E36="","",100*E36/(D35+0.5*B36)) -> -1.0798618 | H36: =IF(F36="","",100*F36/C36) -> 1.1322236 | I36: =IF(D36="","",D36) -> 3297.76 | J36: =IF(B36="","",IF(I36="","",I36-I35-B36)) -> -36 | K36: =IF(J36="","",K35+J36) -> 36.92 | L36: =IF(J36="","",100*J36/(I35+0.5*B36)) -> -1.0798618 | M36: =IF(F36="","",M35+1) -> 34 | N36: =IF(K36="","",100*K36/C36) -> 1.1322236 | O36: =IF(D36="","",IF(I36="","",I36-D36)) -> 0
A37: 43265 | B37: 0 | C37: =IF(B37="","",C36+B37) -> 3260.84 | D37: 3261.17 | E37: =IF(B37="","",IF(D37="","",D37-D36-B37)) -> -36.59 | F37: =IF(E37="","",F36+E37) -> 0.33 | G37: =IF(E37="","",100*E37/(D36+0.5*B37)) -> -1.109541 | H37: =IF(F37="","",100*F37/C37) -> 0.010120092 | I37: =IF(D37="","",D37) -> 3261.17 | J37: =IF(B37="","",IF(I37="","",I37-I36-B37)) -> -36.59 | K37: =IF(J37="","",K36+J37) -> 0.33 | L37: =IF(J37="","",100*J37/(I36+0.5*B37)) -> -1.109541 | M37: =IF(F37="","",M36+1) -> 35 | N37: =IF(K37="","",100*K37/C37) -> 0.010120092 | O37: =IF(D37="","",IF(I37="","",I37-D37)) -> 0
C38: =IF(B38="","",C37+B38) | E38: =IF(B38="","",IF(D38="","",D38-D37-B38)) | F38: =IF(E38="","",F37+E38) | G38: =IF(E38="","",100*E38/(D37+0.5*B38)) | H38: =IF(F38="","",100*F38/C38) | I38: =IF(D38="","",D38) | J38: =IF(B38="","",IF(I38="","",I38-I37-B38)) | K38: =IF(J38="","",K37+J38) | L38: =IF(J38="","",100*J38/(I37+0.5*B38)) | M38: =IF(F38="","",M37+1) | N38: =IF(K38="","",100*K38/C38) | O38: =IF(D38="","",IF(I38="","",I38-D38))
C39: =IF(B39="","",C38+B39) | E39: =IF(B39="","",IF(D39="","",D39-D38-B39)) | F39: =IF(E39="","",F38+E39) | G39: =IF(E39="","",100*E39/(D38+0.5*B39)) | H39: =IF(F39="","",100*F39/C39) | I39: =IF(D39="","",D39) | J39: =IF(B39="","",IF(I39="","",I39-I38-B39)) | K39: =IF(J39="","",K38+J39) | L39: =IF(J39="","",100*J39/(I38+0.5*B39)) | M39: =IF(F39="","",M38+1) | N39: =IF(K39="","",100*K39/C39) | O39: =IF(D39="","",IF(I39="","",I39-D39))
C40: =IF(B40="","",C39+B40) | E40: =IF(B40="","",IF(D40="","",D40-D39-B40)) | F40: =IF(E40="","",F39+E40) | G40: =IF(E40="","",100*E40/(D39+0.5*B40)) | H40: =IF(F40="","",100*F40/C40) | I40: =IF(D40="","",D40) | J40: =IF(B40="","",IF(I40="","",I40-I39-B40)) | K40: =IF(J40="","",K39+J40) | L40: =IF(J40="","",100*J40/(I39+0.5*B40)) | M40: =IF(F40="","",M39+1) | N40: =IF(K40="","",100*K40/C40) | O40: =IF(D40="","",IF(I40="","",I40-D40))
C41: =IF(B41="","",C40+B41) | E41: =IF(B41="","",IF(D41="","",D41-D40-B41)) | F41: =IF(E41="","",F40+E41) | G41: =IF(E41="","",100*E41/(D40+0.5*B41)) | H41: =IF(F41="","",100*F41/C41) | I41: =IF(D41="","",D41) | J41: =IF(B41="","",IF(I41="","",I41-I40-B41)) | K41: =IF(J41="","",K40+J41) | L41: =IF(J41="","",100*J41/(I40+0.5*B41)) | M41: =IF(F41="","",M40+1) | N41: =IF(K41="","",100*K41/C41) | O41: =IF(D41="","",IF(I41="","",I41-D41))
C42: =IF(B42="","",C41+B42) | E42: =IF(B42="","",IF(D42="","",D42-D41-B42)) | F42: =IF(E42="","",F41+E42) | G42: =IF(E42="","",100*E42/(D41+0.5*B42)) | H42: =IF(F42="","",100*F42/C42) | I42: =IF(D42="","",D42) | J42: =IF(B42="","",IF(I42="","",I42-I41-B42)) | K42: =IF(J42="","",K41+J42) | L42: =IF(J42="","",100*J42/(I41+0.5*B42)) | M42: =IF(F42="","",M41+1) | N42: =IF(K42="","",100*K42/C42) | O42: =IF(D42="","",IF(I42="","",I42-D42))
C43: =IF(B43="","",C42+B43) | E43: =IF(B43="","",IF(D43="","",D43-D42-B43)) | F43: =IF(E43="","",F42+E43) | G43: =IF(E43="","",100*E43/(D42+0.5*B43)) | H43: =IF(F43="","",100*F43/C43) | I43: =IF(D43="","",D43) | J43: =IF(B43="","",IF(I43="","",I43-I42-B43)) | K43: =IF(J43="","",K42+J43) | L43: =IF(J43="","",100*J43/(I42+0.5*B43)) | M43: =IF(F43="","",M42+1) | N43: =IF(K43="","",100*K43/C43) | O43: =IF(D43="","",IF(I43="","",I43-D43))
C44: =IF(B44="","",C43+B44) | E44: =IF(B44="","",IF(D44="","",D44-D43-B44)) | F44: =IF(E44="","",F43+E44) | G44: =IF(E44="","",100*E44/(D43+0.5*B44)) | H44: =IF(F44="","",100*F44/C44) | I44: =IF(D44="","",D44) | J44: =IF(B44="","",IF(I44="","",I44-I43-B44)) | K44: =IF(J44="","",K43+J44) | L44: =IF(J44="","",100*J44/(I43+0.5*B44)) | M44: =IF(F44="","",M43+1) | N44: =IF(K44="","",100*K44/C44) | O44: =IF(D44="","",IF(I44="","",I44-D44))
C45: =IF(B45="","",C44+B45) | E45: =IF(B45="","",IF(D45="","",D45-D44-B45)) | F45: =IF(E45="","",F44+E45) | G45: =IF(E45="","",100*E45/(D44+0.5*B45)) | H45: =IF(F45="","",100*F45/C45) | I45: =IF(D45="","",D45) | J45: =IF(B45="","",IF(I45="","",I45-I44-B45)) | K45: =IF(J45="","",K44+J45) | L45: =IF(J45="","",100*J45/(I44+0.5*B45)) | M45: =IF(F45="","",M44+1) | N45: =IF(K45="","",100*K45/C45) | O45: =IF(D45="","",IF(I45="","",I45-D45))
C46: =IF(B46="","",C45+B46) | E46: =IF(B46="","",IF(D46="","",D46-D45-B46)) | F46: =IF(E46="","",F45+E46) | G46: =IF(E46="","",100*E46/(D45+0.5*B46)) | H46: =IF(F46="","",100*F46/C46) | I46: =IF(D46="","",D46) | J46: =IF(B46="","",IF(I46="","",I46-I45-B46)) | K46: =IF(J46="","",K45+J46) | L46: =IF(J46="","",100*J46/(I45+0.5*B46)) | M46: =IF(F46="","",M45+1) | N46: =IF(K46="","",100*K46/C46) | O46: =IF(D46="","",IF(I46="","",I46-D46))
C47: =IF(B47="","",C46+B47) | E47: =IF(B47="","",IF(D47="","",D47-D46-B47)) | F47: =IF(E47="","",F46+E47) | G47: =IF(E47="","",100*E47/(D46+0.5*B47)) | H47: =IF(F47="","",100*F47/C47) | I47: =IF(D47="","",D47) | J47: =IF(B47="","",IF(I47="","",I47-I46-B47)) | K47: =IF(J47="","",K46+J47) | L47: =IF(J47="","",100*J47/(I46+0.5*B47)) | M47: =IF(F47="","",M46+1) | N47: =IF(K47="","",100*K47/C47) | O47: =IF(D47="","",IF(I47="","",I47-D47))
C48: =IF(B48="","",C47+B48) | E48: =IF(B48="","",IF(D48="","",D48-D47-B48)) | F48: =IF(E48="","",F47+E48) | G48: =IF(E48="","",100*E48/(D47+0.5*B48)) | H48: =IF(F48="","",100*F48/C48) | I48: =IF(D48="","",D48) | J48: =IF(B48="","",IF(I48="","",I48-I47-B48)) | K48: =IF(J48="","",K47+J48) | L48: =IF(J48="","",100*J48/(I47+0.5*B48)) | M48: =IF(F48="","",M47+1) | N48: =IF(K48="","",100*K48/C48) | O48: =IF(D48="","",IF(I48="","",I48-D48))
C49: =IF(B49="","",C48+B49) | E49: =IF(B49="","",IF(D49="","",D49-D48-B49)) | F49: =IF(E49="","",F48+E49) | G49: =IF(E49="","",100*E49/(D48+0.5*B49)) | H49: =IF(F49="","",100*F49/C49) | I49: =IF(D49="","",D49) | J49: =IF(B49="","",IF(I49="","",I49-I48-B49)) | K49: =IF(J49="","",K48+J49) | L49: =IF(J49="","",100*J49/(I48+0.5*B49)) | M49: =IF(F49="","",M48+1) | N49: =IF(K49="","",100*K49/C49) | O49: =IF(D49="","",IF(I49="","",I49-D49))
... C102: =IF(B102="","",C101+B102) | E102: =IF(B102="","",IF(D102="","",D102-D101-B102)) | F102: =IF(E102="","",F101+E102) | G102: =IF(E102="","",100*E102/(D101+0.5*B102)) | H102: =IF(F102="","",100*F102/C102) | I102: =IF(D102="","",D102) | J102: =IF(B102="","",IF(I102="","",I102-I101-B102)) | K102: =IF(J102="","",K101+J102) | L102: =IF(J102="","",100*J102/(I101+0.5*B102)) | M102: =IF(F102="","",M101+1) | N102: =IF(K102="","",100*K102/C102) | O102: =IF(D102="","",IF(I102="","",I102-D102))

Sheet CM
A1: # | B1: Dias | C1: # | D1: Ciclos | E1: Data | F1: Pos.Liq. | G1: % Liq | H1: # | I1: Fator | J1: MHist | K1: # | L1: Fator | M1: MRec1 | N1: # | O1: Fator | P1: # | Q1: MRec2 | R1: Obs.
A2: 0 | B2: 0 | C2: 0 | D2: 0 | E2: =IF(CRe!A2="","",CRe!A2) -> 43095 | F2: =IF(CRe!I2="","",CRe!I2) -> 3260.84 | H2: 0 | I2: 1 | P2: 0
A3: =IF(G3="","",A2+1) -> 1 | B3: =IF(A3="","",IF(E3="",B2,E3-E$2)) -> 3 | C3: =IF(B3="","",C2+1) -> 1 | D3: =IF(C3="","",D2+1) -> 1 | E3: =IF(CRe!A3="","",CRe!A3) -> 43098 | F3: =IF(CRe!I3="","",CRe!I3) -> 3291.95 | G3: =CRe!L3 -> 0.95404865 | H3: =IF(G3="","",H2+1) -> 1 | I3: =IF(G3="","",I2*(1+G3/100)) -> 1.0095405 | J3: =IF(G3="","",100*(I3^(1/H3)-1)) -> 0.95404865 | P3: =IF(I3="","",P2+1) -> 1
A4: =IF(G4="","",A3+1) -> 2 | B4: =IF(A4="","",IF(E4="",B3,E4-E$2)) -> 30 | C4: =IF(B4="","",C3+1) -> 2 | D4: =IF(C4="","",D3+1) -> 2 | E4: =IF(CRe!A4="","",CRe!A4) -> 43125 | F4: =IF(CRe!I4="","",CRe!I4) -> 3518.16 | G4: =CRe!L4 -> 6.8716111 | H4: =IF(G4="","",H3+1) -> 2 | I4: =IF(G4="","",I3*(1+G4/100)) -> 1.0789122 | J4: =IF(G4="","",100*(I4^(1/H4)-1)) -> 3.8706976 | P4: =IF(I4="","",P3+1) -> 2
A5: =IF(G5="","",A4+1) -> 3 | B5: =IF(A5="","",IF(E5="",B4,E5-E$2)) -> 42 | C5: =IF(B5="","",C4+1) -> 3 | D5: =IF(C5="","",D4+1) -> 3 | E5: =IF(CRe!A5="","",CRe!A5) -> 43137 | F5: =IF(CRe!I5="","",CRe!I5) -> 3459.96 | G5: =CRe!L5 -> -1.6542738 | H5: =IF(G5="","",H4+1) -> 3 | I5: =IF(G5="","",I4*(1+G5/100)) -> 1.061064 | J5: =IF(G5="","",100*(I5^(1/H5)-1)) -> 1.9953868 | P5: =IF(I5="","",P4+1) -> 3
A6: =IF(G6="","",A5+1) -> 4 | B6: =IF(A6="","",IF(E6="",B5,E6-E$2)) -> 43 | C6: =IF(B6="","",C5+1) -> 4 | D6: =IF(C6="","",D5+1) -> 4 | E6: =IF(CRe!A6="","",CRe!A6) -> 43138 | F6: =IF(CRe!I6="","",CRe!I6) -> 3426.39 | G6: =CRe!L6 -> -0.97024243 | H6: =IF(G6="","",H5+1) -> 4 | I6: =IF(G6="","",I5*(1+G6/100)) -> 1.0507691 | J6: =IF(G6="","",100*(I6^(1/H6)-1)) -> 1.2457556 | P6: =IF(I6="","",P5+1) -> 4
A7: =IF(G7="","",A6+1) -> 5 | B7: =IF(A7="","",IF(E7="",B6,E7-E$2)) -> 44 | C7: =IF(B7="","",C6+1) -> 5 | D7: =IF(C7="","",D6+1) -> 5 | E7: =IF(CRe!A7="","",CRe!A7) -> 43139 | F7: =IF(CRe!I7="","",CRe!I7) -> 3389.99 | G7: =CRe!L7 -> -1.0623426 | H7: =IF(G7="","",H6+1) -> 5 | I7: =IF(G7="","",I6*(1+G7/100)) -> 1.0396064 | J7: =IF(G7="","",100*(I7^(1/H7)-1)) -> 0.77986807 | P7: =IF(I7="","",P6+1) -> 5
A8: =IF(G8="","",A7+1) -> 6 | B8: =IF(A8="","",IF(E8="",B7,E8-E$2)) -> 44 | C8: =IF(B8="","",C7+1) -> 6 | D8: =IF(C8="","",D7+1) -> 6 | E8: =IF(CRe!A8="","",CRe!A8) | F8: =IF(CRe!I8="","",CRe!I8) -> 3431.39 | G8: =CRe!L8 -> 1.2212425 | H8: =IF(G8="","",H7+1) -> 6 | I8: =IF(G8="","",I7*(1+G8/100)) -> 1.0523025 | J8: =IF(G8="","",100*(I8^(1/H8)-1)) -> 0.8532966 | P8: =IF(I8="","",P7+1) -> 6
A9: =IF(G9="","",A8+1) -> 7 | B9: =IF(A9="","",IF(E9="",B8,E9-E$2)) -> 45 | C9: =IF(B9="","",C8+1) -> 7 | D9: =IF(C9="","",D8+1) -> 7 | E9: =IF(CRe!A9="","",CRe!A9) -> 43140 | F9: =IF(CRe!I9="","",CRe!I9) -> 3483.94 | G9: =CRe!L9 -> 1.5314494 | H9: =IF(G9="","",H8+1) -> 7 | I9: =IF(G9="","",I8*(1+G9/100)) -> 1.068418 | J9: =IF(G9="","",100*(I9^(1/H9)-1)) -> 0.94989754 | P9: =IF(I9="","",P8+1) -> 7
A10: =IF(G10="","",A9+1) -> 8 | B10: =IF(A10="","",IF(E10="",B9,E10-E$2)) -> 48 | C10: =IF(B10="","",C9+1) -> 8 | D10: =IF(C10="","",D9+1) -> 8 | E10: =IF(CRe!A10="","",CRe!A10) -> 43143 | F10: =IF(CRe!I10="","",CRe!I10) -> 3469.96 | G10: =CRe!L10 -> -0.40126983 | H10: =IF(G10="","",H9+1) -> 8 | I10: =IF(G10="","",I9*(1+G10/100)) -> 1.0641307 | J10: =IF(G10="","",100*(I10^(1/H10)-1)) -> 0.78000425 | P10: =IF(I10="","",P9+1) -> 8
A11: =IF(G11="","",A10+1) -> 9 | B11: =IF(A11="","",IF(E11="",B10,E11-E$2)) -> 50 | C11: =IF(B11="","",C10+1) -> 9 | D11: =IF(C11="","",D10+1) -> 9 | E11: =IF(CRe!A11="","",CRe!A11) -> 43145 | F11: =IF(CRe!I11="","",CRe!I11) -> 3459.04 | G11: =CRe!L11 -> -0.31470103 | H11: =IF(G11="","",H10+1) -> 9 | I11: =IF(G11="","",I10*(1+G11/100)) -> 1.0607819 | J11: =IF(G11="","",100*(I11^(1/H11)-1)) -> 0.65777907 | P11: =IF(I11="","",P10+1) -> 9
A12: =IF(G12="","",A11+1) -> 10 | B12: =IF(A12="","",IF(E12="",B11,E12-E$2)) -> 55 | C12: =IF(B12="","",C11+1) -> 10 | D12: =IF(C12="","",D11+1) -> 10 | E12: =IF(CRe!A12="","",CRe!A12) -> 43150 | F12: =IF(CRe!I12="","",CRe!I12) -> 3412.69 | G12: =CRe!L12 -> -1.3399672 | H12: =IF(G12="","",H11+1) -> 10 | I12: =IF(G12="","",I11*(1+G12/100)) -> 1.0465678 | J12: =IF(G12="","",100*(I12^(1/H12)-1)) -> 0.45619748 | P12: =IF(I12="","",P11+1) -> 10
A13: =IF(G13="","",A12+1) -> 11 | B13: =IF(A13="","",IF(E13="",B12,E13-E$2)) -> 56 | C13: =IF(B13="","",C12+1) -> 11 | D13: =IF(C13="","",D12+1) -> 11 | E13: =IF(CRe!A13="","",CRe!A13) -> 43151 | F13: =IF(CRe!I13="","",CRe!I13) -> 3408.55 | G13: =CRe!L13 -> -0.12131193 | H13: =IF(G13="","",H12+1) -> 11 | I13: =IF(G13="","",I12*(1+G13/100)) -> 1.0452981 | J13: =IF(G13="","",100*(I13^(1/H13)-1)) -> 0.40355893 | P13: =IF(I13="","",P12+1) -> 11
A14: =IF(G14="","",A13+1) -> 12 | B14: =IF(A14="","",IF(E14="",B13,E14-E$2)) -> 57 | C14: =IF(B14="","",C13+1) -> 12 | D14: =IF(C14="","",D13+1) -> 12 | E14: =IF(CRe!A14="","",CRe!A14) -> 43152 | F14: =IF(CRe!I14="","",CRe!I14) -> 3381.31 | G14: =CRe!L14 -> -0.7991668 | H14: =IF(G14="","",H13+1) -> 12 | I14: =IF(G14="","",I13*(1+G14/100)) -> 1.0369445 | J14: =IF(G14="","",100*(I14^(1/H14)-1)) -> 0.30277726 | P14: =IF(I14="","",P13+1) -> 12
... A19: =IF(G19="","",A18+1) -> 17 | B19: =IF(A19="","",IF(E19="",B18,E19-E$2)) -> 71 | C19: =IF(B19="","",C18+1) -> 17 | D19: =IF(C19="","",D18+1) -> 17 | E19: =IF(CRe!A19="","",CRe!A19) | F19: =IF(CRe!I19="","",CRe!I19) -> 3219.7 | G19: =CRe!L19 -> -0.91553955 | H19: =IF(G19="","",H18+1) -> 17 | I19: =IF(G19="","",I18*(1+G19/100)) -> 0.98738362 | J19: =IF(G19="","",100*(I19^(1/H19)-1)) -> -0.074658254 | P19: =IF(I19="","",P18+1) -> 17
A20: =IF(G20="","",A19+1) -> 18 | B20: =IF(A20="","",IF(E20="",B19,E20-E$2)) -> 73 | C20: =IF(B20="","",C19+1) -> 18 | D20: =IF(C20="","",D19+1) -> 18 | E20: =IF(CRe!A20="","",CRe!A20) -> 43168 | F20: =IF(CRe!I20="","",CRe!I20) -> 3193 | G20: =CRe!L20 -> -0.82926981 | H20: =IF(G20="","",H19+1) -> 18 | I20: =IF(G20="","",I19*(1+G20/100)) -> 0.97919554 | J20: =IF(G20="","",100*(I20^(1/H20)-1)) -> -0.11673136 | K20: 0 | L20: 1 | P20: =IF(I20="","",P19+1) -> 18
A21: =IF(G21="","",A20+1) -> 19 | B21: =IF(A21="","",IF(E21="",B20,E21-E$2)) -> 84 | C21: =IF(B21="","",C20+1) -> 19 | D21: =IF(C21="","",D20+1) -> 19 | E21: =IF(CRe!A21="","",CRe!A21) -> 43179 | F21: =IF(CRe!I21="","",CRe!I21) -> 3206.8 | G21: =CRe!L21 -> 0.43219543 | H21: =IF(G21="","",H20+1) -> 19 | I21: =IF(G21="","",I20*(1+G21/100)) -> 0.98342758 | J21: =IF(G21="","",100*(I21^(1/H21)-1)) -> -0.087915414 | K21: =IF(I21="","",K20+1) -> 1 | L21: =IF(G21="","",L20*(1+G21/100)) -> 1.004322 | M21: =IF(G21="","",100*(L21^(1/K21)-1)) -> 0.43219543 | P21: =IF(I21="","",P20+1) -> 19
A22: =IF(G22="","",A21+1) -> 20 | B22: =IF(A22="","",IF(E22="",B21,E22-E$2)) -> 85 | C22: =IF(B22="","",C21+1) -> 20 | D22: =IF(C22="","",D21+1) -> 20 | E22: =IF(CRe!A22="","",CRe!A22) -> 43180 | F22: =IF(CRe!I22="","",CRe!I22) -> 3226.21 | G22: =CRe!L22 -> 0.60527629 | H22: =IF(G22="","",H21+1) -> 20 | I22: =IF(G22="","",I21*(1+G22/100)) -> 0.98938004 | J22: =IF(G22="","",100*(I22^(1/H22)-1)) -> -0.053369539 | K22: =IF(I22="","",K21+1) -> 2 | L22: =IF(G22="","",L21*(1+G22/100)) -> 1.0104009 | M22: =IF(G22="","",100*(L22^(1/K22)-1)) -> 0.5186986 | P22: =IF(I22="","",P21+1) -> 20
A23: =IF(G23="","",A22+1) -> 21 | B23: =IF(A23="","",IF(E23="",B22,E23-E$2)) -> 91 | C23: =IF(B23="","",C22+1) -> 21 | D23: =IF(C23="","",D22+1) -> 21 | E23: =IF(CRe!A23="","",CRe!A23) -> 43186 | F23: =IF(CRe!I23="","",CRe!I23) -> 3227.61 | G23: =CRe!L23 -> 0.043394571 | H23: =IF(G23="","",H22+1) -> 21 | I23: =IF(G23="","",I22*(1+G23/100)) -> 0.98980937 | J23: =IF(G23="","",100*(I23^(1/H23)-1)) -> -0.048763848 | K23: =IF(I23="","",K22+1) -> 3 | L23: =IF(G23="","",L22*(1+G23/100)) -> 1.0108393 | M23: =IF(G23="","",100*(L23^(1/K23)-1)) -> 0.36001355 | P23: =IF(I23="","",P22+1) -> 21
A24: =IF(G24="","",A23+1) -> 22 | B24: =IF(A24="","",IF(E24="",B23,E24-E$2)) -> 92 | C24: =IF(B24="","",C23+1) -> 22 | D24: =IF(C24="","",D23+1) -> 22 | E24: =IF(CRe!A24="","",CRe!A24) -> 43187 | F24: =IF(CRe!I24="","",CRe!I24) -> 3226.03 | G24: =CRe!L24 -> -0.048952631 | H24: =IF(G24="","",H23+1) -> 22 | I24: =IF(G24="","",I23*(1+G24/100)) -> 0.98932484 | J24: =IF(G24="","",100*(I24^(1/H24)-1)) -> -0.048772429 | K24: =IF(I24="","",K23+1) -> 4 | L24: =IF(G24="","",L23*(1+G24/100)) -> 1.0103445 | M24: =IF(G24="","",100*(L24^(1/K24)-1)) -> 0.25761539 | N24: 0 | O24: 1 | P24: =IF(I24="","",P23+1) -> 22
A25: =IF(G25="","",A24+1) -> 23 | B25: =IF(A25="","",IF(E25="",B24,E25-E$2)) -> 107 | C25: =IF(B25="","",C24+1) -> 23 | D25: =IF(C25="","",D24+1) -> 23 | E25: =IF(CRe!A25="","",CRe!A25) -> 43202 | F25: =IF(CRe!I25="","",CRe!I25) -> 3259.32 | G25: =CRe!L25 -> 1.0319185 | H25: =IF(G25="","",H24+1) -> 23 | I25: =IF(G25="","",I24*(1+G25/100)) -> 0.99953386 | J25: =IF(G25="","",100*(I25^(1/H25)-1)) -> -0.002027137 | K25: =IF(I25="","",K24+1) -> 5 | L25: =IF(G25="","",L24*(1+G25/100)) -> 1.0207704 | M25: =IF(G25="","",100*(L25^(1/K25)-1)) -> 0.41199981 | N25: =IF(L25="","",N24+1) -> 1 | O25: =IF(G25="","",O24*(1+G25/100)) -> 1.0103192 | P25: =IF(I25="","",P24+1) -> 23 | Q25: =IF(G25="","",100*(O25^(1/N25)-1)) -> 1.0319185
A26: =IF(G26="","",A25+1) -> 24 | B26: =IF(A26="","",IF(E26="",B25,E26-E$2)) -> 133 | C26: =IF(B26="","",C25+1) -> 24 | D26: =IF(C26="","",D25+1) -> 24 | E26: =IF(CRe!A26="","",CRe!A26) -> 43228 | F26: =IF(CRe!I26="","",CRe!I26) -> 3268.6 | G26: =CRe!L26 -> 0.28472197 | H26: =IF(G26="","",H25+1) -> 24 | I26: =IF(G26="","",I25*(1+G26/100)) -> 1.0023798 | J26: =IF(G26="","",100*(I26^(1/H26)-1)) -> 0.0099043562 | K26: =IF(I26="","",K25+1) -> 6 | L26: =IF(G26="","",L25*(1+G26/100)) -> 1.0236768 | M26: =IF(G26="","",100*(L26^(1/K26)-1)) -> 0.39077563 | N26: =IF(L26="","",N25+1) -> 2 | O26: =IF(G26="","",O25*(1+G26/100)) -> 1.0131958 | P26: =IF(I26="","",P25+1) -> 24 | Q26: =IF(G26="","",100*(O26^(1/N26)-1)) -> 0.65762691
A27: =IF(G27="","",A26+1) -> 25 | B27: =IF(A27="","",IF(E27="",B26,E27-E$2)) -> 135 | C27: =IF(B27="","",C26+1) -> 25 | D27: =IF(C27="","",D26+1) -> 25 | E27: =IF(CRe!A27="","",CRe!A27) -> 43230 | F27: =IF(CRe!I27="","",CRe!I27) -> 3310.65 | G27: =CRe!L27 -> 1.2864835 | H27: =IF(G27="","",H26+1) -> 25 | I27: =IF(G27="","",I26*(1+G27/100)) -> 1.0152752 | J27: =IF(G27="","",100*(I27^(1/H27)-1)) -> 0.060657244 | K27: =IF(I27="","",K26+1) -> 7 | L27: =IF(G27="","",L26*(1+G27/100)) -> 1.0368462 | M27: =IF(G27="","",100*(L27^(1/K27)-1)) -> 0.51824729 | N27: =IF(L27="","",N26+1) -> 3 | O27: =IF(G27="","",O26*(1+G27/100)) -> 1.0262304 | P27: =IF(I27="","",P26+1) -> 25 | Q27: =IF(G27="","",100*(O27^(1/N27)-1)) -> 0.86681076
A28: =IF(G28="","",A27+1) -> 26 | B28: =IF(A28="","",IF(E28="",B27,E28-E$2)) -> 140 | C28: =IF(B28="","",C27+1) -> 26 | D28: =IF(C28="","",D27+1) -> 26 | E28: =IF(CRe!A28="","",CRe!A28) -> 43235 | F28: =IF(CRe!I28="","",CRe!I28) -> 3335.86 | G28: =CRe!L28 -> 0.76148188 | H28: =IF(G28="","",H27+1) -> 26 | I28: =IF(G28="","",I27*(1+G28/100)) -> 1.0230063 | J28: =IF(G28="","",100*(I28^(1/H28)-1)) -> 0.087521687 | K28: =IF(I28="","",K27+1) -> 8 | L28: =IF(G28="","",L27*(1+G28/100)) -> 1.0447416 | M28: =IF(G28="","",100*(L28^(1/K28)-1)) -> 0.54861948 | N28: =IF(L28="","",N27+1) -> 4 | O28: =IF(G28="","",O27*(1+G28/100)) -> 1.0340449 | P28: =IF(I28="","",P27+1) -> 26 | Q28: =IF(G28="","",100*(O28^(1/N28)-1)) -> 0.84046822
A29: =IF(G29="","",A28+1) -> 27 | B29: =IF(A29="","",IF(E29="",B28,E29-E$2)) -> 141 | C29: =IF(B29="","",C28+1) -> 27 | D29: =IF(C29="","",D28+1) -> 27 | E29: =IF(CRe!A29="","",CRe!A29) -> 43236 | F29: =IF(CRe!I29="","",CRe!I29) -> 3358.67 | G29: =CRe!L29 -> 0.68378169 | H29: =IF(G29="","",H28+1) -> 27 | I29: =IF(G29="","",I28*(1+G29/100)) -> 1.0300015 | J29: =IF(G29="","",100*(I29^(1/H29)-1)) -> 0.10954229 | K29: =IF(I29="","",K28+1) -> 9 | L29: =IF(G29="","",L28*(1+G29/100)) -> 1.0518854 | M29: =IF(G29="","",100*(L29^(1/K29)-1)) -> 0.56362854 | N29: =IF(L29="","",N28+1) -> 5 | O29: =IF(G29="","",O28*(1+G29/100)) -> 1.0411156 | P29: =IF(I29="","",P28+1) -> 27 | Q29: =IF(G29="","",100*(O29^(1/N29)-1)) -> 0.80911142
A30: =IF(G30="","",A29+1) -> 28 | B30: =IF(A30="","",IF(E30="",B29,E30-E$2)) -> 142 | C30: =IF(B30="","",C29+1) -> 28 | D30: =IF(C30="","",D29+1) -> 28 | E30: =IF(CRe!A30="","",CRe!A30) -> 43237 | F30: =IF(CRe!I30="","",CRe!I30) -> 3328.57 | G30: =CRe!L30 -> -0.89618807 | H30: =IF(G30="","",H29+1) -> 28 | I30: =IF(G30="","",I29*(1+G30/100)) -> 1.0207707 | J30: =IF(G30="","",100*(I30^(1/H30)-1)) -> 0.073448215 | K30: =IF(I30="","",K29+1) -> 10 | L30: =IF(G30="","",L29*(1+G30/100)) -> 1.0424585 | M30: =IF(G30="","",100*(L30^(1/K30)-1)) -> 0.41668441 | N30: =IF(L30="","",N29+1) -> 6 | O30: =IF(G30="","",O29*(1+G30/100)) -> 1.0317852 | P30: =IF(I30="","",P29+1) -> 28 | Q30: =IF(G30="","",100*(O30^(1/N30)-1)) -> 0.52287061 | T30: WEquiv | V30: Há ganho (ou perda) consistente?
A31: =IF(G31="","",A30+1) -> 29 | B31: =IF(A31="","",IF(E31="",B30,E31-E$2)) -> 146 | C31: =IF(B31="","",C30+1) -> 29 | D31: =IF(C31="","",D30+1) -> 29 | E31: =IF(CRe!A31="","",CRe!A31) -> 43241 | F31: =IF(CRe!I31="","",CRe!I31) -> 3348.99 | G31: =CRe!L31 -> 0.61347666 | H31: =IF(G31="","",H30+1) -> 29 | I31: =IF(G31="","",I30*(1+G31/100)) -> 1.0270329 | J31: =IF(G31="","",100*(I31^(1/H31)-1)) -> 0.092021545 | K31: =IF(I31="","",K30+1) -> 11 | L31: =IF(G31="","",L30*(1+G31/100)) -> 1.0488537 | M31: =IF(G31="","",100*(L31^(1/K31)-1)) -> 0.4345587 | N31: =IF(L31="","",N30+1) -> 7 | O31: =IF(G31="","",O30*(1+G31/100)) -> 1.038115 | P31: =IF(I31="","",P30+1) -> 29 | Q31: =IF(G31="","",100*(O31^(1/N31)-1)) -> 0.53580933 | T31: =IF(S33="","",100*((1+S33/100)^(7*S41/S38)-1)) -> 0.12017478
A32: =IF(G32="","",A31+1) -> 30 | B32: =IF(A32="","",IF(E32="",B31,E32-E$2)) -> 147 | C32: =IF(B32="","",C31+1) -> 30 | D32: =IF(C32="","",D31+1) -> 30 | E32: =IF(CRe!A32="","",CRe!A32) -> 43242 | F32: =IF(CRe!I32="","",CRe!I32) -> 3376.54 | G32: =CRe!L32 -> 0.82263608 | H32: =IF(G32="","",H31+1) -> 30 | I32: =IF(G32="","",I31*(1+G32/100)) -> 1.0354817 | J32: =IF(G32="","",100*(I32^(1/H32)-1)) -> 0.11628985 | K32: =IF(I32="","",K31+1) -> 12 | L32: =IF(G32="","",L31*(1+G32/100)) -> 1.057482 | M32: =IF(G32="","",100*(L32^(1/K32)-1)) -> 0.46684135 | N32: =IF(L32="","",N31+1) -> 8 | O32: =IF(G32="","",O31*(1+G32/100)) -> 1.0466549 | P32: =IF(I32="","",P31+1) -> 30 | Q32: =IF(G32="","",100*(O32^(1/N32)-1)) -> 0.571618 | S32: MRec2 | T32: MEquiv | V32: Teste T (F2:F37) | X32: =_xlfn.T.TEST(F2:F19,F20:F37,2,3) -> 0.0057410877 | Y32: =1-X32 -> 0.99425891
A33: =IF(G33="","",A32+1) -> 31 | B33: =IF(A33="","",IF(E33="",B32,E33-E$2)) -> 148 | C33: =IF(B33="","",C32+1) -> 31 | D33: =IF(C33="","",D32+1) -> 31 | E33: =IF(CRe!A33="","",CRe!A33) -> 43243 | F33: =IF(CRe!I33="","",CRe!I33) -> 3344.14 | G33: =CRe!L33 -> -0.95956216 | H33: =IF(G33="","",H32+1) -> 31 | I33: =IF(G33="","",I32*(1+G33/100)) -> 1.0255456 | J33: =IF(G33="","",100*(I33^(1/H33)-1)) -> 0.08140321 | K33: =IF(I33="","",K32+1) -> 13 | L33: =IF(G33="","",L32*(1+G33/100)) -> 1.0473348 | M33: =IF(G33="","",100*(L33^(1/K33)-1)) -> 0.35639239 | N33: =IF(L33="","",N32+1) -> 9 | O33: =IF(G33="","",O32*(1+G33/100)) -> 1.0366116 | P33: =IF(I33="","",P32+1) -> 31 | Q33: =IF(G33="","",100*(O33^(1/N33)-1)) -> 0.40032451 | S33: =IF(Q25="","",VLOOKUP(MAX(P25:P102),P25:Q102,2,FALSE)) -> 0.083371254 | T33: =IF(S33="","",100*((1+S33/100)^(30*S41/S38)-1)) -> 0.51605255
A34: =IF(G34="","",A33+1) -> 32 | B34: =IF(A34="","",IF(E34="",B33,E34-E$2)) -> 155 | C34: =IF(B34="","",C33+1) -> 32 | D34: =IF(C34="","",D33+1) -> 32 | E34: =IF(CRe!A34="","",CRe!A34) -> 43250 | F34: =IF(CRe!I34="","",CRe!I34) -> 3308.92 | G34: =CRe!L34 -> -1.0531856 | H34: =IF(G34="","",H33+1) -> 32 | I34: =IF(G34="","",I33*(1+G34/100)) -> 1.0147447 | J34: =IF(G34="","",100*(I34^(1/H34)-1)) -> 0.045751154 | K34: =IF(I34="","",K33+1) -> 14 | L34: =IF(G34="","",L33*(1+G34/100)) -> 1.0363044 | M34: =IF(G34="","",100*(L34^(1/K34)-1)) -> 0.25504568 | N34: =IF(L34="","",N33+1) -> 10 | O34: =IF(G34="","",O33*(1+G34/100)) -> 1.0256941 | P34: =IF(I34="","",P33+1) -> 32 | Q34: =IF(G34="","",100*(O34^(1/N34)-1)) -> 0.25401781 | T34: YEquiv | V34: A velocidade está mudando?
A35: =IF(G35="","",A34+1) -> 33 | B35: =IF(A35="","",IF(E35="",B34,E35-E$2)) -> 163 | C35: =IF(B35="","",C34+1) -> 33 | D35: =IF(C35="","",D34+1) -> 33 | E35: =IF(CRe!A35="","",CRe!A35) -> 43258 | F35: =IF(CRe!I35="","",CRe!I35) -> 3333.76 | G35: =CRe!L35 -> 0.75069811 | H35: =IF(G35="","",H34+1) -> 33 | I35: =IF(G35="","",I34*(1+G35/100)) -> 1.0223623 | J35: =IF(G35="","",100*(I35^(1/H35)-1)) -> 0.067040539 | K35: =IF(I35="","",K34+1) -> 15 | L35: =IF(G35="","",L34*(1+G35/100)) -> 1.0440839 | M35: =IF(G35="","",100*(L35^(1/K35)-1)) -> 0.28801318 | N35: =IF(L35="","",N34+1) -> 11 | O35: =IF(G35="","",O34*(1+G35/100)) -> 1.033394 | P35: =IF(I35="","",P34+1) -> 33 | Q35: =IF(G35="","",100*(O35^(1/N35)-1)) -> 0.2990692 | T35: =IF(S33="","",100*((1+S33/100)^(365*S41/S38)-1)) -> 6.4627469
A36: =IF(G36="","",A35+1) -> 34 | B36: =IF(A36="","",IF(E36="",B35,E36-E$2)) -> 169 | C36: =IF(B36="","",C35+1) -> 34 | D36: =IF(C36="","",D35+1) -> 34 | E36: =IF(CRe!A36="","",CRe!A36) -> 43264 | F36: =IF(CRe!I36="","",CRe!I36) -> 3297.76 | G36: =CRe!L36 -> -1.0798618 | H36: =IF(G36="","",H35+1) -> 34 | I36: =IF(G36="","",I35*(1+G36/100)) -> 1.0113222 | J36: =IF(G36="","",100*(I36^(1/H36)-1)) -> 0.033119069 | K36: =IF(I36="","",K35+1) -> 16 | L36: =IF(G36="","",L35*(1+G36/100)) -> 1.0328093 | M36: =IF(G36="","",100*(L36^(1/K36)-1)) -> 0.20196954 | N36: =IF(L36="","",N35+1) -> 12 | O36: =IF(G36="","",O35*(1+G36/100)) -> 1.0222348 | P36: =IF(I36="","",P35+1) -> 34 | Q36: =IF(G36="","",100*(O36^(1/N36)-1)) -> 0.18342778 | V36: Teste T (G3:G36) | X36: =_xlfn.T.TEST(G3:G19,G20:G36,2,3) -> 0.72878366 | Y36: =1-X36 -> 0.27121634
A37: =IF(G37="","",A36+1) -> 35 | B37: =IF(A37="","",IF(E37="",B36,E37-E$2)) -> 170 | C37: =IF(B37="","",C36+1) -> 35 | D37: =IF(C37="","",D36+1) -> 35 | E37: =IF(CRe!A37="","",CRe!A37) -> 43265 | F37: =IF(CRe!I37="","",CRe!I37) -> 3261.17 | G37: =CRe!L37 -> -1.109541 | H37: =IF(G37="","",H36+1) -> 35 | I37: =IF(G37="","",I36*(1+G37/100)) -> 1.0001012 | J37: =IF(G37="","",100*(I37^(1/H37)-1)) -> 0.00028913127 | K37: =IF(I37="","",K36+1) -> 17 | L37: =IF(G37="","",L36*(1+G37/100)) -> 1.0213498 | M37: =IF(G37="","",100*(L37^(1/K37)-1)) -> 0.12434261 | N37: =IF(L37="","",N36+1) -> 13 | O37: =IF(G37="","",O36*(1+G37/100)) -> 1.0108926 | P37: =IF(I37="","",P36+1) -> 35 | Q37: =IF(G37="","",100*(O37^(1/N37)-1)) -> 0.083371254 | S37: Dias
A38: =IF(G38="","",A37+1) | B38: =IF(A38="","",IF(E38="",B37,E38-E$2)) | C38: =IF(B38="","",C37+1) | D38: =IF(C38="","",D37+1) | E38: =IF(CRe!A38="","",CRe!A38) | F38: =IF(CRe!I38="","",CRe!I38) | G38: =CRe!L38 | H38: =IF(G38="","",H37+1) | I38: =IF(G38="","",I37*(1+G38/100)) | J38: =IF(G38="","",100*(I38^(1/H38)-1)) | K38: =IF(I38="","",K37+1) | L38: =IF(G38="","",L37*(1+G38/100)) | M38: =IF(G38="","",100*(L38^(1/K38)-1)) | N38: =IF(L38="","",N37+1) | O38: =IF(G38="","",O37*(1+G38/100)) | P38: =IF(I38="","",P37+1) | Q38: =IF(G38="","",100*(O38^(1/N38)-1)) | S38: =IF(A3="","",VLOOKUP(MAX(A3:A102),A3:B102,2,FALSE)) -> 170
A39: =IF(G39="","",A38+1) | B39: =IF(A39="","",IF(E39="",B38,E39-E$2)) | C39: =IF(B39="","",C38+1) | D39: =IF(C39="","",D38+1) | E39: =IF(CRe!A39="","",CRe!A39) | F39: =IF(CRe!I39="","",CRe!I39) | G39: =CRe!L39 | H39: =IF(G39="","",H38+1) | I39: =IF(G39="","",I38*(1+G39/100)) | J39: =IF(G39="","",100*(I39^(1/H39)-1)) | K39: =IF(I39="","",K38+1) | L39: =IF(G39="","",L38*(1+G39/100)) | M39: =IF(G39="","",100*(L39^(1/K39)-1)) | N39: =IF(L39="","",N38+1) | O39: =IF(G39="","",O38*(1+G39/100)) | P39: =IF(I39="","",P38+1) | Q39: =IF(G39="","",100*(O39^(1/N39)-1))
A40: =IF(G40="","",A39+1) | B40: =IF(A40="","",IF(E40="",B39,E40-E$2)) | C40: =IF(B40="","",C39+1) | D40: =IF(C40="","",D39+1) | E40: =IF(CRe!A40="","",CRe!A40) | F40: =IF(CRe!I40="","",CRe!I40) | G40: =CRe!L40 | H40: =IF(G40="","",H39+1) | I40: =IF(G40="","",I39*(1+G40/100)) | J40: =IF(G40="","",100*(I40^(1/H40)-1)) | K40: =IF(I40="","",K39+1) | L40: =IF(G40="","",L39*(1+G40/100)) | M40: =IF(G40="","",100*(L40^(1/K40)-1)) | N40: =IF(L40="","",N39+1) | O40: =IF(G40="","",O39*(1+G40/100)) | P40: =IF(I40="","",P39+1) | Q40: =IF(G40="","",100*(O40^(1/N40)-1)) | S40: Ciclos
A41: =IF(G41="","",A40+1) | B41: =IF(A41="","",IF(E41="",B40,E41-E$2)) | C41: =IF(B41="","",C40+1) | D41: =IF(C41="","",D40+1) | E41: =IF(CRe!A41="","",CRe!A41) | F41: =IF(CRe!I41="","",CRe!I41) | G41: =CRe!L41 | H41: =IF(G41="","",H40+1) | I41: =IF(G41="","",I40*(1+G41/100)) | J41: =IF(G41="","",100*(I41^(1/H41)-1)) | K41: =IF(I41="","",K40+1) | L41: =IF(G41="","",L40*(1+G41/100)) | M41: =IF(G41="","",100*(L41^(1/K41)-1)) | N41: =IF(L41="","",N40+1) | O41: =IF(G41="","",O40*(1+G41/100)) | P41: =IF(I41="","",P40+1) | Q41: =IF(G41="","",100*(O41^(1/N41)-1)) | S41: =IF(C3="","",VLOOKUP(MAX(C3:C102),C3:D102,2,FALSE)) -> 35
A42: =IF(G42="","",A41+1) | B42: =IF(A42="","",IF(E42="",B41,E42-E$2)) | C42: =IF(B42="","",C41+1) | D42: =IF(C42="","",D41+1) | E42: =IF(CRe!A42="","",CRe!A42) | F42: =IF(CRe!I42="","",CRe!I42) | G42: =CRe!L42 | H42: =IF(G42="","",H41+1) | I42: =IF(G42="","",I41*(1+G42/100)) | J42: =IF(G42="","",100*(I42^(1/H42)-1)) | K42: =IF(I42="","",K41+1) | L42: =IF(G42="","",L41*(1+G42/100)) | M42: =IF(G42="","",100*(L42^(1/K42)-1)) | N42: =IF(L42="","",N41+1) | O42: =IF(G42="","",O41*(1+G42/100)) | P42: =IF(I42="","",P41+1) | Q42: =IF(G42="","",100*(O42^(1/N42)-1))
A43: =IF(G43="","",A42+1) | B43: =IF(A43="","",IF(E43="",B42,E43-E$2)) | C43: =IF(B43="","",C42+1) | D43: =IF(C43="","",D42+1) | E43: =IF(CRe!A43="","",CRe!A43) | F43: =IF(CRe!I43="","",CRe!I43) | G43: =CRe!L43 | H43: =IF(G43="","",H42+1) | I43: =IF(G43="","",I42*(1+G43/100)) | J43: =IF(G43="","",100*(I43^(1/H43)-1)) | K43: =IF(I43="","",K42+1) | L43: =IF(G43="","",L42*(1+G43/100)) | M43: =IF(G43="","",100*(L43^(1/K43)-1)) | N43: =IF(L43="","",N42+1) | O43: =IF(G43="","",O42*(1+G43/100)) | P43: =IF(I43="","",P42+1) | Q43: =IF(G43="","",100*(O43^(1/N43)-1))
A44: =IF(G44="","",A43+1) | B44: =IF(A44="","",IF(E44="",B43,E44-E$2)) | C44: =IF(B44="","",C43+1) | D44: =IF(C44="","",D43+1) | E44: =IF(CRe!A44="","",CRe!A44) | F44: =IF(CRe!I44="","",CRe!I44) | G44: =CRe!L44 | H44: =IF(G44="","",H43+1) | I44: =IF(G44="","",I43*(1+G44/100)) | J44: =IF(G44="","",100*(I44^(1/H44)-1)) | K44: =IF(I44="","",K43+1) | L44: =IF(G44="","",L43*(1+G44/100)) | M44: =IF(G44="","",100*(L44^(1/K44)-1)) | N44: =IF(L44="","",N43+1) | O44: =IF(G44="","",O43*(1+G44/100)) | P44: =IF(I44="","",P43+1) | Q44: =IF(G44="","",100*(O44^(1/N44)-1))
A45: =IF(G45="","",A44+1) | B45: =IF(A45="","",IF(E45="",B44,E45-E$2)) | C45: =IF(B45="","",C44+1) | D45: =IF(C45="","",D44+1) | E45: =IF(CRe!A45="","",CRe!A45) | F45: =IF(CRe!I45="","",CRe!I45) | G45: =CRe!L45 | H45: =IF(G45="","",H44+1) | I45: =IF(G45="","",I44*(1+G45/100)) | J45: =IF(G45="","",100*(I45^(1/H45)-1)) | K45: =IF(I45="","",K44+1) | L45: =IF(G45="","",L44*(1+G45/100)) | M45: =IF(G45="","",100*(L45^(1/K45)-1)) | N45: =IF(L45="","",N44+1) | O45: =IF(G45="","",O44*(1+G45/100)) | P45: =IF(I45="","",P44+1) | Q45: =IF(G45="","",100*(O45^(1/N45)-1))
A46: =IF(G46="","",A45+1) | B46: =IF(A46="","",IF(E46="",B45,E46-E$2)) | C46: =IF(B46="","",C45+1) | D46: =IF(C46="","",D45+1) | E46: =IF(CRe!A46="","",CRe!A46) | F46: =IF(CRe!I46="","",CRe!I46) | G46: =CRe!L46 | H46: =IF(G46="","",H45+1) | I46: =IF(G46="","",I45*(1+G46/100)) | J46: =IF(G46="","",100*(I46^(1/H46)-1)) | K46: =IF(I46="","",K45+1) | L46: =IF(G46="","",L45*(1+G46/100)) | M46: =IF(G46="","",100*(L46^(1/K46)-1)) | N46: =IF(L46="","",N45+1) | O46: =IF(G46="","",O45*(1+G46/100)) | P46: =IF(I46="","",P45+1) | Q46: =IF(G46="","",100*(O46^(1/N46)-1))
A47: =IF(G47="","",A46+1) | B47: =IF(A47="","",IF(E47="",B46,E47-E$2)) | C47: =IF(B47="","",C46+1) | D47: =IF(C47="","",D46+1) | E47: =IF(CRe!A47="","",CRe!A47) | F47: =IF(CRe!I47="","",CRe!I47) | G47: =CRe!L47 | H47: =IF(G47="","",H46+1) | I47: =IF(G47="","",I46*(1+G47/100)) | J47: =IF(G47="","",100*(I47^(1/H47)-1)) | K47: =IF(I47="","",K46+1) | L47: =IF(G47="","",L46*(1+G47/100)) | M47: =IF(G47="","",100*(L47^(1/K47)-1)) | N47: =IF(L47="","",N46+1) | O47: =IF(G47="","",O46*(1+G47/100)) | P47: =IF(I47="","",P46+1) | Q47: =IF(G47="","",100*(O47^(1/N47)-1))
A48: =IF(G48="","",A47+1) | B48: =IF(A48="","",IF(E48="",B47,E48-E$2)) | C48: =IF(B48="","",C47+1) | D48: =IF(C48="","",D47+1) | E48: =IF(CRe!A48="","",CRe!A48) | F48: =IF(CRe!I48="","",CRe!I48) | G48: =CRe!L48 | H48: =IF(G48="","",H47+1) | I48: =IF(G48="","",I47*(1+G48/100)) | J48: =IF(G48="","",100*(I48^(1/H48)-1)) | K48: =IF(I48="","",K47+1) | L48: =IF(G48="","",L47*(1+G48/100)) | M48: =IF(G48="","",100*(L48^(1/K48)-1)) | N48: =IF(L48="","",N47+1) | O48: =IF(G48="","",O47*(1+G48/100)) | P48: =IF(I48="","",P47+1) | Q48: =IF(G48="","",100*(O48^(1/N48)-1))
A49: =IF(G49="","",A48+1) | B49: =IF(A49="","",IF(E49="",B48,E49-E$2)) | C49: =IF(B49="","",C48+1) | D49: =IF(C49="","",D48+1) | E49: =IF(CRe!A49="","",CRe!A49) | F49: =IF(CRe!I49="","",CRe!I49) | G49: =CRe!L49 | H49: =IF(G49="","",H48+1) | I49: =IF(G49="","",I48*(1+G49/100)) | J49: =IF(G49="","",100*(I49^(1/H49)-1)) | K49: =IF(I49="","",K48+1) | L49: =IF(G49="","",L48*(1+G49/100)) | M49: =IF(G49="","",100*(L49^(1/K49)-1)) | N49: =IF(L49="","",N48+1) | O49: =IF(G49="","",O48*(1+G49/100)) | P49: =IF(I49="","",P48+1) | Q49: =IF(G49="","",100*(O49^(1/N49)-1))
A50: =IF(G50="","",A49+1) | B50: =IF(A50="","",IF(E50="",B49,E50-E$2)) | C50: =IF(B50="","",C49+1) | D50: =IF(C50="","",D49+1) | E50: =IF(CRe!A50="","",CRe!A50) | F50: =IF(CRe!I50="","",CRe!I50) | G50: =CRe!L50 | H50: =IF(G50="","",H49+1) | I50: =IF(G50="","",I49*(1+G50/100)) | J50: =IF(G50="","",100*(I50^(1/H50)-1)) | K50: =IF(I50="","",K49+1) | L50: =IF(G50="","",L49*(1+G50/100)) | M50: =IF(G50="","",100*(L50^(1/K50)-1)) | N50: =IF(L50="","",N49+1) | O50: =IF(G50="","",O49*(1+G50/100)) | P50: =IF(I50="","",P49+1) | Q50: =IF(G50="","",100*(O50^(1/N50)-1))
A51: =IF(G51="","",A50+1) | B51: =IF(A51="","",IF(E51="",B50,E51-E$2)) | C51: =IF(B51="","",C50+1) | D51: =IF(C51="","",D50+1) | E51: =IF(CRe!A51="","",CRe!A51) | F51: =IF(CRe!I51="","",CRe!I51) | G51: =CRe!L51 | H51: =IF(G51="","",H50+1) | I51: =IF(G51="","",I50*(1+G51/100)) | J51: =IF(G51="","",100*(I51^(1/H51)-1)) | K51: =IF(I51="","",K50+1) | L51: =IF(G51="","",L50*(1+G51/100)) | M51: =IF(G51="","",100*(L51^(1/K51)-1)) | N51: =IF(L51="","",N50+1) | O51: =IF(G51="","",O50*(1+G51/100)) | P51: =IF(I51="","",P50+1) | Q51: =IF(G51="","",100*(O51^(1/N51)-1))
A52: =IF(G52="","",A51+1) | B52: =IF(A52="","",IF(E52="",B51,E52-E$2)) | C52: =IF(B52="","",C51+1) | D52: =IF(C52="","",D51+1) | E52: =IF(CRe!A52="","",CRe!A52) | F52: =IF(CRe!I52="","",CRe!I52) | G52: =CRe!L52 | H52: =IF(G52="","",H51+1) | I52: =IF(G52="","",I51*(1+G52/100)) | J52: =IF(G52="","",100*(I52^(1/H52)-1)) | K52: =IF(I52="","",K51+1) | L52: =IF(G52="","",L51*(1+G52/100)) | M52: =IF(G52="","",100*(L52^(1/K52)-1)) | N52: =IF(L52="","",N51+1) | O52: =IF(G52="","",O51*(1+G52/100)) | P52: =IF(I52="","",P51+1) | Q52: =IF(G52="","",100*(O52^(1/N52)-1))
A53: =IF(G53="","",A52+1) | B53: =IF(A53="","",IF(E53="",B52,E53-E$2)) | C53: =IF(B53="","",C52+1) | D53: =IF(C53="","",D52+1) | E53: =IF(CRe!A53="","",CRe!A53) | F53: =IF(CRe!I53="","",CRe!I53) | G53: =CRe!L53 | H53: =IF(G53="","",H52+1) | I53: =IF(G53="","",I52*(1+G53/100)) | J53: =IF(G53="","",100*(I53^(1/H53)-1)) | K53: =IF(I53="","",K52+1) | L53: =IF(G53="","",L52*(1+G53/100)) | M53: =IF(G53="","",100*(L53^(1/K53)-1)) | N53: =IF(L53="","",N52+1) | O53: =IF(G53="","",O52*(1+G53/100)) | P53: =IF(I53="","",P52+1) | Q53: =IF(G53="","",100*(O53^(1/N53)-1))
... A102: =IF(G102="","",A101+1) | B102: =IF(A102="","",IF(E102="",B101,E102-E$2)) | C102: =IF(B102="","",C101+1) | D102: =IF(C102="","",D101+1) | E102: =IF(CRe!A102="","",CRe!A102) | F102: =IF(CRe!I102="","",CRe!I102) | G102: =CRe!L102 | H102: =IF(G102="","",H101+1) | I102: =IF(G102="","",I101*(1+G102/100)) | J102: =IF(G102="","",100*(I102^(1/H102)-1)) | K102: =IF(I102="","",K101+1) | L102: =IF(G102="","",L101*(1+G102/100)) | M102: =IF(G102="","",100*(L102^(1/K102)-1)) | N102: =IF(L102="","",N101+1) | O102: =IF(G102="","",O101*(1+G102/100)) | P102: =IF(I102="","",P101+1) | Q102: =IF(G102="","",100*(O102^(1/N102)-1))

Sheet WRe
A1: Data | B1: Depósito | C1: Principal | D1: Balanço | E1: $ Bal | F1: $ Bal Ac | G1: % Bal | H1: % Bal Ac | I1: Pos.Liq. | J1: $ Liq | K1: $ Liq Ac | L1: % Liq | M1: % Liq Ac | N1: $ Aberto | O1: Obs.
A2: 43095 | C2: 3260.84 | D2: 3260.84 | I2: 3260.84
A3: 43098 | B3: 0 | C3: =IF(B3="","",C2+B3) -> 3260.84 | D3: 3291.95 | E3: =IF(B3="","",IF(D3="","",D3-D2-B3)) -> 31.11 | F3: =IF(E3="","",F2+E3) -> 31.11 | G3: =IF(E3="","",100*E3/C3) -> 0.95404865 | H3: =IF(F3="","",100*(F3/C3)) -> 0.95404865 | I3: 3291.95 | J3: =IF(B3="","",IF(I3="","",I3-I2-B3)) -> 31.11 | K3: =IF(J3="","",K2+J3) -> 31.11 | L3: =IF(J3="","",100*J3/(I2+0.5*B3)) -> 0.95404865 | M3: =IF(K3="","",100*K3/C3) -> 0.95404865 | N3: =IF(D3="","",IF(I3="","",I3-D3)) -> 0
A4: 43105 | B4: 0 | C4: =IF(B4="","",C3+B4) -> 3260.84 | D4: 3291.95 | E4: =IF(B4="","",IF(D4="","",D4-D3-B4)) -> 0 | F4: =IF(E4="","",F3+E4) -> 31.11 | G4: =IF(E4="","",100*E4/(D3+0.5*B4)) -> 0 | H4: =IF(F4="","",100*(F4/C4)) -> 0.95404865 | I4: 3291.95 | J4: =IF(B4="","",IF(I4="","",I4-I3-B4)) -> 0 | K4: =IF(J4="","",K3+J4) -> 31.11 | L4: =IF(J4="","",100*J4/(I3+0.5*B4)) -> 0 | M4: =IF(K4="","",100*K4/C4) -> 0.95404865 | N4: =IF(D4="","",IF(I4="","",I4-D4)) -> 0
A5: 43112 | B5: 0 | C5: =IF(B5="","",C4+B5) -> 3260.84 | D5: 3390.59 | E5: =IF(B5="","",IF(D5="","",D5-D4-B5)) -> 98.64 | F5: =IF(E5="","",F4+E5) -> 129.75 | G5: =IF(E5="","",100*E5/(D4+0.5*B5)) -> 2.9964003 | H5: =IF(F5="","",100*(F5/C5)) -> 3.9790361 | I5: 3423.27 | J5: =IF(B5="","",IF(I5="","",I5-I4-B5)) -> 131.32 | K5: =IF(J5="","",K4+J5) -> 162.43 | L5: =IF(J5="","",100*J5/(I4+0.5*B5)) -> 3.989125 | M5: =IF(K5="","",100*K5/C5) -> 4.9812318 | N5: =IF(D5="","",IF(I5="","",I5-D5)) -> 32.68
A6: 43119 | B6: 0 | C6: =IF(B6="","",C5+B6) -> 3260.84 | D6: 3394.12 | E6: =IF(B6="","",IF(D6="","",D6-D5-B6)) -> 3.53 | F6: =IF(E6="","",F5+E6) -> 133.28 | G6: =IF(E6="","",100*E6/(D5+0.5*B6)) -> 0.10411167 | H6: =IF(F6="","",100*(F6/C6)) -> 4.0872904 | I6: 3407.22 | J6: =IF(B6="","",IF(I6="","",I6-I5-B6)) -> -16.05 | K6: =IF(J6="","",K5+J6) -> 146.38 | L6: =IF(J6="","",100*J6/(I5+0.5*B6)) -> -0.46884996 | M6: =IF(K6="","",100*K6/C6) -> 4.4890274 | N6: =IF(D6="","",IF(I6="","",I6-D6)) -> 13.1
A7: 43126 | B7: 0 | C7: =IF(B7="","",C6+B7) -> 3260.84 | D7: 3518.16 | E7: =IF(B7="","",IF(D7="","",D7-D6-B7)) -> 124.04 | F7: =IF(E7="","",F6+E7) -> 257.32 | G7: =IF(E7="","",100*E7/(D6+0.5*B7)) -> 3.6545555 | H7: =IF(F7="","",100*(F7/C7)) -> 7.8912182 | I7: 3518.16 | J7: =IF(B7="","",IF(I7="","",I7-I6-B7)) -> 110.94 | K7: =IF(J7="","",K6+J7) -> 257.32 | L7: =IF(J7="","",100*J7/(I6+0.5*B7)) -> 3.2560269 | M7: =IF(K7="","",100*K7/C7) -> 7.8912182 | N7: =IF(D7="","",IF(I7="","",I7-D7)) -> 0
A8: 43133 | B8: 0 | C8: =IF(B8="","",C7+B8) -> 3260.84 | D8: 3518.16 | E8: =IF(B8="","",IF(D8="","",D8-D7-B8)) -> 0 | F8: =IF(E8="","",F7+E8) -> 257.32 | G8: =IF(E8="","",100*E8/(D7+0.5*B8)) -> 0 | H8: =IF(F8="","",100*(F8/C8)) -> 7.8912182 | I8: 3522.58 | J8: =IF(B8="","",IF(I8="","",I8-I7-B8)) -> 4.42 | K8: =IF(J8="","",K7+J8) -> 261.74 | L8: =IF(J8="","",100*J8/(I7+0.5*B8)) -> 0.12563385 | M8: =IF(K8="","",100*K8/C8) -> 8.0267661 | N8: =IF(D8="","",IF(I8="","",I8-D8)) -> 4.42
A9: 43140 | B9: 0 | C9: =IF(B9="","",C8+B9) -> 3260.84 | D9: 3483.94 | E9: =IF(B9="","",IF(D9="","",D9-D8-B9)) -> -34.22 | F9: =IF(E9="","",F8+E9) -> 223.1 | G9: =IF(E9="","",100*E9/(D8+0.5*B9)) -> -0.97266753 | H9: =IF(F9="","",100*(F9/C9)) -> 6.8417954 | I9: 3483.94 | J9: =IF(B9="","",IF(I9="","",I9-I8-B9)) -> -38.64 | K9: =IF(J9="","",K8+J9) -> 223.1 | L9: =IF(J9="","",100*J9/(I8+0.5*B9)) -> -1.0969233 | M9: =IF(K9="","",100*K9/C9) -> 6.8417954 | N9: =IF(D9="","",IF(I9="","",I9-D9)) -> 0
A10: 43147 | B10: 0 | C10: =IF(B10="","",C9+B10) -> 3260.84 | D10: 3418.57 | E10: =IF(B10="","",IF(D10="","",D10-D9-B10)) -> -65.37 | F10: =IF(E10="","",F9+E10) -> 157.73 | G10: =IF(E10="","",100*E10/(D9+0.5*B10)) -> -1.8763239 | H10: =IF(F10="","",100*(F10/C10)) -> 4.8370972 | I10: 3412.46 | J10: =IF(B10="","",IF(I10="","",I10-I9-B10)) -> -71.48 | K10: =IF(J10="","",K9+J10) -> 151.62 | L10: =IF(J10="","",100*J10/(I9+0.5*B10)) -> -2.0517001 | M10: =IF(K10="","",100*K10/C10) -> 4.6497222 | N10: =IF(D10="","",IF(I10="","",I10-D10)) -> -6.11
A11: 43154 | B11: 0 | C11: =IF(B11="","",C10+B11) -> 3260.84 | D11: 3381.31 | E11: =IF(B11="","",IF(D11="","",D11-D10-B11)) -> -37.26 | F11: =IF(E11="","",F10+E11) -> 120.47 | G11: =IF(E11="","",100*E11/(D10+0.5*B11)) -> -1.0899294 | H11: =IF(F11="","",100*(F11/C11)) -> 3.6944468 | I11: 3381.31 | J11: =IF(B11="","",IF(I11="","",I11-I10-B11)) -> -31.15 | K11: =IF(J11="","",K10+J11) -> 120.47 | L11: =IF(J11="","",100*J11/(I10+0.5*B11)) -> -0.91283121 | M11: =IF(K11="","",100*K11/C11) -> 3.6944468 | N11: =IF(D11="","",IF(I11="","",I11-D11)) -> 0
A12: 43161 | B12: 0 | C12: =IF(B12="","",C11+B12) -> 3260.84 | D12: 3252.95 | E12: =IF(B12="","",IF(D12="","",D12-D11-B12)) -> -128.36 | F12: =IF(E12="","",F11+E12) -> -7.89 | G12: =IF(E12="","",100*E12/(D11+0.5*B12)) -> -3.7961618 | H12: =IF(F12="","",100*(F12/C12)) -> -0.24196219 | I12: 3252.95 | J12: =IF(B12="","",IF(I12="","",I12-I11-B12)) -> -128.36 | K12: =IF(J12="","",K11+J12) -> -7.89 | L12: =IF(J12="","",100*J12/(I11+0.5*B12)) -> -3.7961618 | M12: =IF(K12="","",100*K12/C12) -> -0.24196219 | N12: =IF(D12="","",IF(I12="","",I12-D12)) -> 0
A13: 43168 | B13: 0 | C13: =IF(B13="","",C12+B13) -> 3260.84 | D13: 3193 | E13: =IF(B13="","",IF(D13="","",D13-D12-B13)) -> -59.95 | F13: =IF(E13="","",F12+E13) -> -67.84 | G13: =IF(E13="","",100*E13/(D12+0.5*B13)) -> -1.8429426 | H13: =IF(F13="","",100*(F13/C13)) -> -2.0804455 | I13: 3193 | J13: =IF(B13="","",IF(I13="","",I13-I12-B13)) -> -59.95 | K13: =IF(J13="","",K12+J13) -> -67.84 | L13: =IF(J13="","",100*J13/(I12+0.5*B13)) -> -1.8429426 | M13: =IF(K13="","",100*K13/C13) -> -2.0804455 | N13: =IF(D13="","",IF(I13="","",I13-D13)) -> 0
A14: 43175 | B14: 0 | C14: =IF(B14="","",C13+B14) -> 3260.84 | D14: 3193 | E14: =IF(B14="","",IF(D14="","",D14-D13-B14)) -> 0 | F14: =IF(E14="","",F13+E14) -> -67.84 | G14: =IF(E14="","",100*E14/(D13+0.5*B14)) -> 0 | H14: =IF(F14="","",100*(F14/C14)) -> -2.0804455 | I14: 3193 | J14: =IF(B14="","",IF(I14="","",I14-I13-B14)) -> 0 | K14: =IF(J14="","",K13+J14) -> -67.84 | L14: =IF(J14="","",100*J14/(I13+0.5*B14)) -> 0 | M14: =IF(K14="","",100*K14/C14) -> -2.0804455 | N14: =IF(D14="","",IF(I14="","",I14-D14)) -> 0
A15: 43182 | B15: 0 | C15: =IF(B15="","",C14+B15) -> 3260.84 | D15: 3226.21 | E15: =IF(B15="","",IF(D15="","",D15-D14-B15)) -> 33.21 | F15: =IF(E15="","",F14+E15) -> -34.63 | G15: =IF(E15="","",100*E15/(D14+0.5*B15)) -> 1.0400877 | H15: =IF(F15="","",100*(F15/C15)) -> -1.0619963 | I15: 3226.21 | J15: =IF(B15="","",IF(I15="","",I15-I14-B15)) -> 33.21 | K15: =IF(J15="","",K14+J15) -> -34.63 | L15: =IF(J15="","",100*J15/(I14+0.5*B15)) -> 1.0400877 | M15: =IF(K15="","",100*K15/C15) -> -1.0619963 | N15: =IF(D15="","",IF(I15="","",I15-D15)) -> 0
... A28: 43273 | B28: 0 | C28: =IF(B28="","",C27+B28) -> 3260.84 | D28: 3261.17 | E28: =IF(B28="","",IF(D28="","",D28-D27-B28)) -> 0 | F28: =IF(E28="","",F27+E28) -> 0.33 | G28: =IF(E28="","",100*E28/(D27+0.5*B28)) -> 0 | H28: =IF(F28="","",100*(F28/C28)) -> 0.010120092 | I28: 3261.17 | J28: =IF(B28="","",IF(I28="","",I28-I27-B28)) -> 0 | K28: =IF(J28="","",K27+J28) -> 0.33 | L28: =IF(J28="","",100*J28/(I27+0.5*B28)) -> 0 | M28: =IF(K28="","",100*K28/C28) -> 0.010120092 | N28: =IF(D28="","",IF(I28="","",I28-D28)) -> 0
C29: =IF(B29="","",C28+B29) | E29: =IF(B29="","",IF(D29="","",D29-D28-B29)) | F29: =IF(E29="","",F28+E29) | G29: =IF(E29="","",100*E29/(D28+0.5*B29)) | H29: =IF(F29="","",100*(F29/C29)) | J29: =IF(B29="","",IF(I29="","",I29-I28-B29)) | K29: =IF(J29="","",K28+J29) | L29: =IF(J29="","",100*J29/(I28+0.5*B29)) | M29: =IF(K29="","",100*K29/C29) | N29: =IF(D29="","",IF(I29="","",I29-D29))
C30: =IF(B30="","",C29+B30) | E30: =IF(B30="","",IF(D30="","",D30-D29-B30)) | F30: =IF(E30="","",F29+E30) | G30: =IF(E30="","",100*E30/(D29+0.5*B30)) | H30: =IF(F30="","",100*(F30/C30)) | J30: =IF(B30="","",IF(I30="","",I30-I29-B30)) | K30: =IF(J30="","",K29+J30) | L30: =IF(J30="","",100*J30/(I29+0.5*B30)) | M30: =IF(K30="","",100*K30/C30) | N30: =IF(D30="","",IF(I30="","",I30-D30))
C31: =IF(B31="","",C30+B31) | E31: =IF(B31="","",IF(D31="","",D31-D30-B31)) | F31: =IF(E31="","",F30+E31) | G31: =IF(E31="","",100*E31/(D30+0.5*B31)) | H31: =IF(F31="","",100*(F31/C31)) | J31: =IF(B31="","",IF(I31="","",I31-I30-B31)) | K31: =IF(J31="","",K30+J31) | L31: =IF(J31="","",100*J31/(I30+0.5*B31)) | M31: =IF(K31="","",100*K31/C31) | N31: =IF(D31="","",IF(I31="","",I31-D31))
C32: =IF(B32="","",C31+B32) | E32: =IF(B32="","",IF(D32="","",D32-D31-B32)) | F32: =IF(E32="","",F31+E32) | G32: =IF(E32="","",100*E32/(D31+0.5*B32)) | H32: =IF(F32="","",100*(F32/C32)) | J32: =IF(B32="","",IF(I32="","",I32-I31-B32)) | K32: =IF(J32="","",K31+J32) | L32: =IF(J32="","",100*J32/(I31+0.5*B32)) | M32: =IF(K32="","",100*K32/C32) | N32: =IF(D32="","",IF(I32="","",I32-D32))
C33: =IF(B33="","",C32+B33) | E33: =IF(B33="","",IF(D33="","",D33-D32-B33)) | F33: =IF(E33="","",F32+E33) | G33: =IF(E33="","",100*E33/(D32+0.5*B33)) | H33: =IF(F33="","",100*(F33/C33)) | J33: =IF(B33="","",IF(I33="","",I33-I32-B33)) | K33: =IF(J33="","",K32+J33) | L33: =IF(J33="","",100*J33/(I32+0.5*B33)) | M33: =IF(K33="","",100*K33/C33) | N33: =IF(D33="","",IF(I33="","",I33-D33))
C34: =IF(B34="","",C33+B34) | E34: =IF(B34="","",IF(D34="","",D34-D33-B34)) | F34: =IF(E34="","",F33+E34) | G34: =IF(E34="","",100*E34/(D33+0.5*B34)) | H34: =IF(F34="","",100*(F34/C34)) | J34: =IF(B34="","",IF(I34="","",I34-I33-B34)) | K34: =IF(J34="","",K33+J34) | L34: =IF(J34="","",100*J34/(I33+0.5*B34)) | M34: =IF(K34="","",100*K34/C34) | N34: =IF(D34="","",IF(I34="","",I34-D34))
C35: =IF(B35="","",C34+B35) | E35: =IF(B35="","",IF(D35="","",D35-D34-B35)) | F35: =IF(E35="","",F34+E35) | G35: =IF(E35="","",100*E35/(D34+0.5*B35)) | H35: =IF(F35="","",100*(F35/C35)) | J35: =IF(B35="","",IF(I35="","",I35-I34-B35)) | K35: =IF(J35="","",K34+J35) | L35: =IF(J35="","",100*J35/(I34+0.5*B35)) | M35: =IF(K35="","",100*K35/C35) | N35: =IF(D35="","",IF(I35="","",I35-D35))
C36: =IF(B36="","",C35+B36) | E36: =IF(B36="","",IF(D36="","",D36-D35-B36)) | F36: =IF(E36="","",F35+E36) | G36: =IF(E36="","",100*E36/(D35+0.5*B36)) | H36: =IF(F36="","",100*(F36/C36)) | J36: =IF(B36="","",IF(I36="","",I36-I35-B36)) | K36: =IF(J36="","",K35+J36) | L36: =IF(J36="","",100*J36/(I35+0.5*B36)) | M36: =IF(K36="","",100*K36/C36) | N36: =IF(D36="","",IF(I36="","",I36-D36))
C37: =IF(B37="","",C36+B37) | E37: =IF(B37="","",IF(D37="","",D37-D36-B37)) | F37: =IF(E37="","",F36+E37) | G37: =IF(E37="","",100*E37/(D36+0.5*B37)) | H37: =IF(F37="","",100*(F37/C37)) | J37: =IF(B37="","",IF(I37="","",I37-I36-B37)) | K37: =IF(J37="","",K36+J37) | L37: =IF(J37="","",100*J37/(I36+0.5*B37)) | M37: =IF(K37="","",100*K37/C37) | N37: =IF(D37="","",IF(I37="","",I37-D37))
C38: =IF(B38="","",C37+B38) | E38: =IF(B38="","",IF(D38="","",D38-D37-B38)) | F38: =IF(E38="","",F37+E38) | G38: =IF(E38="","",100*E38/(D37+0.5*B38)) | H38: =IF(F38="","",100*(F38/C38)) | J38: =IF(B38="","",IF(I38="","",I38-I37-B38)) | K38: =IF(J38="","",K37+J38) | L38: =IF(J38="","",100*J38/(I37+0.5*B38)) | M38: =IF(K38="","",100*K38/C38) | N38: =IF(D38="","",IF(I38="","",I38-D38))
C39: =IF(B39="","",C38+B39) | E39: =IF(B39="","",IF(D39="","",D39-D38-B39)) | F39: =IF(E39="","",F38+E39) | G39: =IF(E39="","",100*E39/(D38+0.5*B39)) | H39: =IF(F39="","",100*(F39/C39)) | J39: =IF(B39="","",IF(I39="","",I39-I38-B39)) | K39: =IF(J39="","",K38+J39) | L39: =IF(J39="","",100*J39/(I38+0.5*B39)) | M39: =IF(K39="","",100*K39/C39) | N39: =IF(D39="","",IF(I39="","",I39-D39))
C40: =IF(B40="","",C39+B40) | E40: =IF(B40="","",IF(D40="","",D40-D39-B40)) | F40: =IF(E40="","",F39+E40) | G40: =IF(E40="","",100*E40/(D39+0.5*B40)) | H40: =IF(F40="","",100*(F40/C40)) | J40: =IF(B40="","",IF(I40="","",I40-I39-B40)) | K40: =IF(J40="","",K39+J40) | L40: =IF(J40="","",100*J40/(I39+0.5*B40)) | M40: =IF(K40="","",100*K40/C40) | N40: =IF(D40="","",IF(I40="","",I40-D40))
... C102: =IF(B102="","",C101+B102) | E102: =IF(B102="","",IF(D102="","",D102-D101-B102)) | F102: =IF(E102="","",F101+E102) | G102: =IF(E102="","",100*E102/(D101+0.5*B102)) | H102: =IF(F102="","",100*(F102/C102)) | J102: =IF(B102="","",IF(I102="","",I102-I101-B102)) | K102: =IF(J102="","",K101+J102) | L102: =IF(J102="","",100*J102/(I101+0.5*B102)) | M102: =IF(K102="","",100*K102/C102) | N102: =IF(D102="","",IF(I102="","",I102-D102))

Sheet WM
A1: Semanas | B1: Data | C1: Pos.Liq. | D1: % Liq | E1: # | F1: Fator | G1: MHist | H1: # | I1: Fator | J1: MRec1 | K1: # | L1: Fator | M1: # | N1: MRec2 | O1: Obs.
A2: 0 | B2: =IF(WRe!A2="","",WRe!A2) -> 43095 | C2: =IF(WRe!I2="","",WRe!I2) -> 3260.84 | E2: 0 | F2: 1 | M2: 0
A3: =IF(B3="","",A2+1) -> 1 | B3: =IF(WRe!A3="","",WRe!A3) -> 43098 | C3: =IF(WRe!I3="","",WRe!I3) -> 3291.95 | D3: =WRe!L3 -> 0.95404865 | E3: =IF(D3="","",E2+1) -> 1 | F3: =IF(D3="","",F2*(1+D3/100)) -> 1.0095405 | G3: =IF(D3="","",100*(F3^(1/E3)-1)) -> 0.95404865 | M3: =IF(F3="","",M2+1) -> 1 | P3: MRec2
A4: =IF(B4="","",A3+1) -> 2 | B4: =IF(WRe!A4="","",WRe!A4) -> 43105 | C4: =IF(WRe!I4="","",WRe!I4) -> 3291.95 | D4: =WRe!L4 -> 0 | E4: =IF(D4="","",E3+1) -> 2 | F4: =IF(D4="","",F3*(1+D4/100)) -> 1.0095405 | G4: =IF(D4="","",100*(F4^(1/E4)-1)) -> 0.47589196 | M4: =IF(F4="","",M3+1) -> 2 | P4: =IF(N21="","",VLOOKUP(MAX(M21:M102),M21:N102,2,FALSE)) -> 0.021485447 | R4: Há ganho (ou perda) consistente?
A5: =IF(B5="","",A4+1) -> 3 | B5: =IF(WRe!A5="","",WRe!A5) -> 43112 | C5: =IF(WRe!I5="","",WRe!I5) -> 3423.27 | D5: =WRe!L5 -> 3.989125 | E5: =IF(D5="","",E4+1) -> 3 | F5: =IF(D5="","",F4*(1+D5/100)) -> 1.0498123 | G5: =IF(D5="","",100*(F5^(1/E5)-1)) -> 1.6335795 | M5: =IF(F5="","",M4+1) -> 3
A6: =IF(B6="","",A5+1) -> 4 | B6: =IF(WRe!A6="","",WRe!A6) -> 43119 | C6: =IF(WRe!I6="","",WRe!I6) -> 3407.22 | D6: =WRe!L6 -> -0.46884996 | E6: =IF(D6="","",E5+1) -> 4 | F6: =IF(D6="","",F5*(1+D6/100)) -> 1.0448903 | G6: =IF(D6="","",100*(F6^(1/E6)-1)) -> 1.1038449 | M6: =IF(F6="","",M5+1) -> 4 | R6: Teste T (C2:C27) | T6: =_xlfn.T.TEST(C2:C14,C15:C27,2,3) -> 0.03489571 | U6: =1-T6 -> 0.96510429
A7: =IF(B7="","",A6+1) -> 5 | B7: =IF(WRe!A7="","",WRe!A7) -> 43126 | C7: =IF(WRe!I7="","",WRe!I7) -> 3518.16 | D7: =WRe!L7 -> 3.2560269 | E7: =IF(D7="","",E6+1) -> 5 | F7: =IF(D7="","",F6*(1+D7/100)) -> 1.0789122 | G7: =IF(D7="","",100*(F7^(1/E7)-1)) -> 1.5306623 | M7: =IF(F7="","",M6+1) -> 5
A8: =IF(B8="","",A7+1) -> 6 | B8: =IF(WRe!A8="","",WRe!A8) -> 43133 | C8: =IF(WRe!I8="","",WRe!I8) -> 3522.58 | D8: =WRe!L8 -> 0.12563385 | E8: =IF(D8="","",E7+1) -> 6 | F8: =IF(D8="","",F7*(1+D8/100)) -> 1.0802677 | G8: =IF(D8="","",100*(F8^(1/E8)-1)) -> 1.2951292 | M8: =IF(F8="","",M7+1) -> 6 | R8: A velocidade está mudando?
A9: =IF(B9="","",A8+1) -> 7 | B9: =IF(WRe!A9="","",WRe!A9) -> 43140 | C9: =IF(WRe!I9="","",WRe!I9) -> 3483.94 | D9: =WRe!L9 -> -1.0969233 | E9: =IF(D9="","",E8+1) -> 7 | F9: =IF(D9="","",F8*(1+D9/100)) -> 1.068418 | G9: =IF(D9="","",100*(F9^(1/E9)-1)) -> 0.94989754 | M9: =IF(F9="","",M8+1) -> 7
A10: =IF(B10="","",A9+1) -> 8 | B10: =IF(WRe!A10="","",WRe!A10) -> 43147 | C10: =IF(WRe!I10="","",WRe!I10) -> 3412.46 | D10: =WRe!L10 -> -2.0517001 | E10: =IF(D10="","",E9+1) -> 8 | F10: =IF(D10="","",F9*(1+D10/100)) -> 1.0464972 | G10: =IF(D10="","",100*(F10^(1/E10)-1)) -> 0.56972439 | M10: =IF(F10="","",M9+1) -> 8 | R10: Teste T (D3:D28) | T10: =_xlfn.T.TEST(D3:D15,D16:D28,2,3) -> 0.81739301 | U10: =1-T10 -> 0.18260699
A11: =IF(B11="","",A10+1) -> 9 | B11: =IF(WRe!A11="","",WRe!A11) -> 43154 | C11: =IF(WRe!I11="","",WRe!I11) -> 3381.31 | D11: =WRe!L11 -> -0.91283121 | E11: =IF(D11="","",E10+1) -> 9 | F11: =IF(D11="","",F10*(1+D11/100)) -> 1.0369445 | G11: =IF(D11="","",100*(F11^(1/E11)-1)) -> 0.4039066 | M11: =IF(F11="","",M10+1) -> 9
A12: =IF(B12="","",A11+1) -> 10 | B12: =IF(WRe!A12="","",WRe!A12) -> 43161 | C12: =IF(WRe!I12="","",WRe!I12) -> 3252.95 | D12: =WRe!L12 -> -3.7961618 | E12: =IF(D12="","",E11+1) -> 10 | F12: =IF(D12="","",F11*(1+D12/100)) -> 0.99758038 | G12: =IF(D12="","",100*(F12^(1/E12)-1)) -> -0.024222605 | M12: =IF(F12="","",M11+1) -> 10
A13: =IF(B13="","",A12+1) -> 11 | B13: =IF(WRe!A13="","",WRe!A13) -> 43168 | C13: =IF(WRe!I13="","",WRe!I13) -> 3193 | D13: =WRe!L13 -> -1.8429426 | E13: =IF(D13="","",E12+1) -> 11 | F13: =IF(D13="","",F12*(1+D13/100)) -> 0.97919554 | G13: =IF(D13="","",100*(F13^(1/E13)-1)) -> -0.19094399 | M13: =IF(F13="","",M12+1) -> 11
A14: =IF(B14="","",A13+1) -> 12 | B14: =IF(WRe!A14="","",WRe!A14) -> 43175 | C14: =IF(WRe!I14="","",WRe!I14) -> 3193 | D14: =WRe!L14 -> 0 | E14: =IF(D14="","",E13+1) -> 12 | F14: =IF(D14="","",F13*(1+D14/100)) -> 0.97919554 | G14: =IF(D14="","",100*(F14^(1/E14)-1)) -> -0.17504593 | H14: 0 | I14: 1 | M14: =IF(F14="","",M13+1) -> 12
A15: =IF(B15="","",A14+1) -> 13 | B15: =IF(WRe!A15="","",WRe!A15) -> 43182 | C15: =IF(WRe!I15="","",WRe!I15) -> 3226.21 | D15: =WRe!L15 -> 1.0400877 | E15: =IF(D15="","",E14+1) -> 13 | F15: =IF(D15="","",F14*(1+D15/100)) -> 0.98938004 | G15: =IF(D15="","",100*(F15^(1/E15)-1)) -> -0.082095185 | H15: =IF(F15="","",H14+1) -> 1 | I15: =IF(D15="","",I14*(1+D15/100)) -> 1.0104009 | J15: =IF(D15="","",100*(I15^(1/H15)-1)) -> 1.0400877 | M15: =IF(F15="","",M14+1) -> 13
A16: =IF(B16="","",A15+1) -> 14 | B16: =IF(WRe!A16="","",WRe!A16) -> 43189 | C16: =IF(WRe!I16="","",WRe!I16) -> 3226.03 | D16: =WRe!L16 -> -0.005579302 | E16: =IF(D16="","",E15+1) -> 14 | F16: =IF(D16="","",F15*(1+D16/100)) -> 0.98932484 | G16: =IF(D16="","",100*(F16^(1/E16)-1)) -> -0.076631707 | H16: =IF(F16="","",H15+1) -> 2 | I16: =IF(D16="","",I15*(1+D16/100)) -> 1.0103445 | J16: =IF(D16="","",100*(I16^(1/H16)-1)) -> 0.51589444 | M16: =IF(F16="","",M15+1) -> 14
A17: =IF(B17="","",A16+1) -> 15 | B17: =IF(WRe!A17="","",WRe!A17) -> 43196 | C17: =IF(WRe!I17="","",WRe!I17) -> 3223.84 | D17: =WRe!L17 -> -0.067885296 | E17: =IF(D17="","",E16+1) -> 15 | F17: =IF(D17="","",F16*(1+D17/100)) -> 0.98865323 | G17: =IF(D17="","",100*(F17^(1/E17)-1)) -> -0.076048637 | H17: =IF(F17="","",H16+1) -> 3 | I17: =IF(D17="","",I16*(1+D17/100)) -> 1.0096586 | J17: =IF(D17="","",100*(I17^(1/H17)-1)) -> 0.32092326 | M17: =IF(F17="","",M16+1) -> 15
A18: =IF(B18="","",A17+1) -> 16 | B18: =IF(WRe!A18="","",WRe!A18) -> 43203 | C18: =IF(WRe!I18="","",WRe!I18) -> 3259.32 | D18: =WRe!L18 -> 1.1005509 | E18: =IF(D18="","",E17+1) -> 16 | F18: =IF(D18="","",F17*(1+D18/100)) -> 0.99953386 | G18: =IF(D18="","",100*(F18^(1/E18)-1)) -> -0.0029139965 | H18: =IF(F18="","",H17+1) -> 4 | I18: =IF(D18="","",I17*(1+D18/100)) -> 1.0207704 | J18: =IF(D18="","",100*(I18^(1/H18)-1)) -> 0.51526472 | M18: =IF(F18="","",M17+1) -> 16
A19: =IF(B19="","",A18+1) -> 17 | B19: =IF(WRe!A19="","",WRe!A19) -> 43210 | C19: =IF(WRe!I19="","",WRe!I19) -> 3259.32 | D19: =WRe!L19 -> 0 | E19: =IF(D19="","",E18+1) -> 17 | F19: =IF(D19="","",F18*(1+D19/100)) -> 0.99953386 | G19: =IF(D19="","",100*(F19^(1/E19)-1)) -> -0.0027425873 | H19: =IF(F19="","",H18+1) -> 5 | I19: =IF(D19="","",I18*(1+D19/100)) -> 1.0207704 | J19: =IF(D19="","",100*(I19^(1/H19)-1)) -> 0.41199981 | M19: =IF(F19="","",M18+1) -> 17
A20: =IF(B20="","",A19+1) -> 18 | B20: =IF(WRe!A20="","",WRe!A20) -> 43217 | C20: =IF(WRe!I20="","",WRe!I20) -> 3255.57 | D20: =WRe!L20 -> -0.11505467 | E20: =IF(D20="","",E19+1) -> 18 | F20: =IF(D20="","",F19*(1+D20/100)) -> 0.99838385 | G20: =IF(D20="","",100*(F20^(1/E20)-1)) -> -0.0089854594 | H20: =IF(F20="","",H19+1) -> 6 | I20: =IF(D20="","",I19*(1+D20/100)) -> 1.019596 | J20: =IF(D20="","",100*(I20^(1/H20)-1)) -> 0.32396466 | K20: 0 | L20: 1 | M20: =IF(F20="","",M19+1) -> 18
A21: =IF(B21="","",A20+1) -> 19 | B21: =IF(WRe!A21="","",WRe!A21) -> 43224 | C21: =IF(WRe!I21="","",WRe!I21) -> 3273.09 | D21: =WRe!L21 -> 0.53815461 | E21: =IF(D21="","",E20+1) -> 19 | F21: =IF(D21="","",F20*(1+D21/100)) -> 1.0037567 | G21: =IF(D21="","",100*(F21^(1/E21)-1)) -> 0.01973701 | H21: =IF(F21="","",H20+1) -> 7 | I21: =IF(D21="","",I20*(1+D21/100)) -> 1.025083 | J21: =IF(D21="","",100*(I21^(1/H21)-1)) -> 0.35453527 | K21: =IF(I21="","",K20+1) -> 1 | L21: =IF(D21="","",L20*(1+D21/100)) -> 1.0053815 | M21: =IF(F21="","",M20+1) -> 19 | N21: =IF(D21="","",100*(L21^(1/K21)-1)) -> 0.53815461
A22: =IF(B22="","",A21+1) -> 20 | B22: =IF(WRe!A22="","",WRe!A22) -> 43231 | C22: =IF(WRe!I22="","",WRe!I22) -> 3310.65 | D22: =WRe!L22 -> 1.1475395 | E22: =IF(D22="","",E21+1) -> 20 | F22: =IF(D22="","",F21*(1+D22/100)) -> 1.0152752 | G22: =IF(D22="","",100*(F22^(1/E22)-1)) -> 0.075827304 | H22: =IF(F22="","",H21+1) -> 8 | I22: =IF(D22="","",I21*(1+D22/100)) -> 1.0368462 | J22: =IF(D22="","",100*(I22^(1/H22)-1)) -> 0.45331979 | K22: =IF(I22="","",K21+1) -> 2 | L22: =IF(D22="","",L21*(1+D22/100)) -> 1.0169187 | M22: =IF(F22="","",M21+1) -> 20 | N22: =IF(D22="","",100*(L22^(1/K22)-1)) -> 0.84238674
A23: =IF(B23="","",A22+1) -> 21 | B23: =IF(WRe!A23="","",WRe!A23) -> 43238 | C23: =IF(WRe!I23="","",WRe!I23) -> 3317.39 | D23: =WRe!L23 -> 0.2035854 | E23: =IF(D23="","",E22+1) -> 21 | F23: =IF(D23="","",F22*(1+D23/100)) -> 1.0173422 | G23: =IF(D23="","",100*(F23^(1/E23)-1)) -> 0.081907327 | H23: =IF(F23="","",H22+1) -> 9 | I23: =IF(D23="","",I22*(1+D23/100)) -> 1.0389571 | J23: =IF(D23="","",100*(I23^(1/H23)-1)) -> 0.42554081 | K23: =IF(I23="","",K22+1) -> 3 | L23: =IF(D23="","",L22*(1+D23/100)) -> 1.018989 | M23: =IF(F23="","",M22+1) -> 21 | N23: =IF(D23="","",100*(L23^(1/K23)-1)) -> 0.62900175
A24: =IF(B24="","",A23+1) -> 22 | B24: =IF(WRe!A24="","",WRe!A24) -> 43245 | C24: =IF(WRe!I24="","",WRe!I24) -> 3344.14 | D24: =WRe!L24 -> 0.8063568 | E24: =IF(D24="","",E23+1) -> 22 | F24: =IF(D24="","",F23*(1+D24/100)) -> 1.0255456 | G24: =IF(D24="","",100*(F24^(1/E24)-1)) -> 0.11472362 | H24: =IF(F24="","",H23+1) -> 10 | I24: =IF(D24="","",I23*(1+D24/100)) -> 1.0473348 | J24: =IF(D24="","",100*(I24^(1/H24)-1)) -> 0.46355759 | K24: =IF(I24="","",K23+1) -> 4 | L24: =IF(D24="","",L23*(1+D24/100)) -> 1.0272057 | M24: =IF(F24="","",M23+1) -> 22 | N24: =IF(D24="","",100*(L24^(1/K24)-1)) -> 0.67331124
A25: =IF(B25="","",A24+1) -> 23 | B25: =IF(WRe!A25="","",WRe!A25) -> 43252 | C25: =IF(WRe!I25="","",WRe!I25) -> 3308.92 | D25: =WRe!L25 -> -1.0531856 | E25: =IF(D25="","",E24+1) -> 23 | F25: =IF(D25="","",F24*(1+D25/100)) -> 1.0147447 | G25: =IF(D25="","",100*(F25^(1/E25)-1)) -> 0.063659477 | H25: =IF(F25="","",H24+1) -> 11 | I25: =IF(D25="","",I24*(1+D25/100)) -> 1.0363044 | J25: =IF(D25="","",100*(I25^(1/H25)-1)) -> 0.32471641 | K25: =IF(I25="","",K24+1) -> 5 | L25: =IF(D25="","",L24*(1+D25/100)) -> 1.0163873 | M25: =IF(F25="","",M24+1) -> 23 | N25: =IF(D25="","",100*(L25^(1/K25)-1)) -> 0.32561852
A26: =IF(B26="","",A25+1) -> 24 | B26: =IF(WRe!A26="","",WRe!A26) -> 43259 | C26: =IF(WRe!I26="","",WRe!I26) -> 3333.76 | D26: =WRe!L26 -> 0.75069811 | E26: =IF(D26="","",E25+1) -> 24 | F26: =IF(D26="","",F25*(1+D26/100)) -> 1.0223623 | G26: =IF(D26="","",100*(F26^(1/E26)-1)) -> 0.092192326 | H26: =IF(F26="","",H25+1) -> 12 | I26: =IF(D26="","",I25*(1+D26/100)) -> 1.0440839 | J26: =IF(D26="","",100*(I26^(1/H26)-1)) -> 0.36014599 | K26: =IF(I26="","",K25+1) -> 6 | L26: =IF(D26="","",L25*(1+D26/100)) -> 1.0240173 | M26: =IF(F26="","",M25+1) -> 24 | N26: =IF(D26="","",100*(L26^(1/K26)-1)) -> 0.39634037
A27: =IF(B27="","",A26+1) -> 25 | B27: =IF(WRe!A27="","",WRe!A27) -> 43266 | C27: =IF(WRe!I27="","",WRe!I27) -> 3261.17 | D27: =WRe!L27 -> -2.1774213 | E27: =IF(D27="","",E26+1) -> 25 | F27: =IF(D27="","",F26*(1+D27/100)) -> 1.0001012 | G27: =IF(D27="","",100*(F27^(1/E27)-1)) -> 0.00040478401 | H27: =IF(F27="","",H26+1) -> 13 | I27: =IF(D27="","",I26*(1+D27/100)) -> 1.0213498 | J27: =IF(D27="","",100*(I27^(1/H27)-1)) -> 0.16263297 | K27: =IF(I27="","",K26+1) -> 7 | L27: =IF(D27="","",L26*(1+D27/100)) -> 1.0017201 | M27: =IF(F27="","",M26+1) -> 25 | N27: =IF(D27="","",100*(L27^(1/K27)-1)) -> 0.024555174
A28: =IF(B28="","",A27+1) -> 26 | B28: =IF(WRe!A28="","",WRe!A28) -> 43273 | C28: =IF(WRe!I28="","",WRe!I28) -> 3261.17 | D28: =WRe!L28 -> 0 | E28: =IF(D28="","",E27+1) -> 26 | F28: =IF(D28="","",F27*(1+D28/100)) -> 1.0001012 | G28: =IF(D28="","",100*(F28^(1/E28)-1)) -> 0.00038921536 | H28: =IF(F28="","",H27+1) -> 14 | I28: =IF(D28="","",I27*(1+D28/100)) -> 1.0213498 | J28: =IF(D28="","",100*(I28^(1/H28)-1)) -> 0.15100757 | K28: =IF(I28="","",K27+1) -> 8 | L28: =IF(D28="","",L27*(1+D28/100)) -> 1.0017201 | M28: =IF(F28="","",M27+1) -> 26 | N28: =IF(D28="","",100*(L28^(1/K28)-1)) -> 0.021485447
A29: =IF(B29="","",A28+1) | B29: =IF(WRe!A29="","",WRe!A29) | C29: =IF(WRe!I29="","",WRe!I29) | D29: =WRe!L29 | E29: =IF(D29="","",E28+1) | F29: =IF(D29="","",F28*(1+D29/100)) | G29: =IF(D29="","",100*(F29^(1/E29)-1)) | H29: =IF(F29="","",H28+1) | I29: =IF(D29="","",I28*(1+D29/100)) | J29: =IF(D29="","",100*(I29^(1/H29)-1)) | K29: =IF(I29="","",K28+1) | L29: =IF(D29="","",L28*(1+D29/100)) | M29: =IF(F29="","",M28+1) | N29: =IF(D29="","",100*(L29^(1/K29)-1))
A30: =IF(B30="","",A29+1) | B30: =IF(WRe!A30="","",WRe!A30) | C30: =IF(WRe!I30="","",WRe!I30) | D30: =WRe!L30 | E30: =IF(D30="","",E29+1) | F30: =IF(D30="","",F29*(1+D30/100)) | G30: =IF(D30="","",100*(F30^(1/E30)-1)) | H30: =IF(F30="","",H29+1) | I30: =IF(D30="","",I29*(1+D30/100)) | J30: =IF(D30="","",100*(I30^(1/H30)-1)) | K30: =IF(I30="","",K29+1) | L30: =IF(D30="","",L29*(1+D30/100)) | M30: =IF(F30="","",M29+1) | N30: =IF(D30="","",100*(L30^(1/K30)-1))
A31: =IF(B31="","",A30+1) | B31: =IF(WRe!A31="","",WRe!A31) | C31: =IF(WRe!I31="","",WRe!I31) | D31: =WRe!L31 | E31: =IF(D31="","",E30+1) | F31: =IF(D31="","",F30*(1+D31/100)) | G31: =IF(D31="","",100*(F31^(1/E31)-1)) | H31: =IF(F31="","",H30+1) | I31: =IF(D31="","",I30*(1+D31/100)) | J31: =IF(D31="","",100*(I31^(1/H31)-1)) | K31: =IF(I31="","",K30+1) | L31: =IF(D31="","",L30*(1+D31/100)) | M31: =IF(F31="","",M30+1) | N31: =IF(D31="","",100*(L31^(1/K31)-1))
A32: =IF(B32="","",A31+1) | B32: =IF(WRe!A32="","",WRe!A32) | C32: =IF(WRe!I32="","",WRe!I32) | D32: =WRe!L32 | E32: =IF(D32="","",E31+1) | F32: =IF(D32="","",F31*(1+D32/100)) | G32: =IF(D32="","",100*(F32^(1/E32)-1)) | H32: =IF(F32="","",H31+1) | I32: =IF(D32="","",I31*(1+D32/100)) | J32: =IF(D32="","",100*(I32^(1/H32)-1)) | K32: =IF(I32="","",K31+1) | L32: =IF(D32="","",L31*(1+D32/100)) | M32: =IF(F32="","",M31+1) | N32: =IF(D32="","",100*(L32^(1/K32)-1))
... A102: =IF(B102="","",A101+1) | B102: =IF(WRe!A102="","",WRe!A102) | C102: =IF(WRe!I102="","",WRe!I102) | D102: =WRe!L102 | E102: =IF(D102="","",E101+1) | F102: =IF(D102="","",F101*(1+D102/100)) | G102: =IF(D102="","",100*(F102^(1/E102)-1)) | H102: =IF(F102="","",H101+1) | I102: =IF(D102="","",I101*(1+D102/100)) | J102: =IF(D102="","",100*(I102^(1/H102)-1)) | K102: =IF(I102="","",K101+1) | L102: =IF(D102="","",L101*(1+D102/100)) | M102: =IF(F102="","",M101+1) | N102: =IF(D102="","",100*(L102^(1/K102)-1))

Sheet MRe
A1: Data | B1: Depósito | C1: Principal | D1: Balanço | E1: $ Bal | F1: $ Bal Ac | G1: % Bal | H1: % Bal Ac | I1: Pos.Liq. | J1: $ Liq | K1: $ Liq Ac | L1: % Liq | M1: % Liq Ac | N1: $ Aberto | O1: Obs.
A2: 43095 | C2: 3260.84 | D2: 3260.84 | I2: 3260.84
A3: 43098 | B3: 0 | C3: =IF(B3="","",C2+B3) -> 3260.84 | D3: 3291.95 | E3: =IF(B3="","",IF(D3="","",D3-D2-B3)) -> 31.11 | F3: =IF(E3="","",F2+E3) -> 31.11 | G3: =IF(E3="","",100*E3/(D2+0.5*B3)) -> 0.95404865 | H3: =IF(F3="","",100*(F3/C3)) -> 0.95404865 | I3: 3291.95 | J3: =IF(B3="","",IF(I3="","",I3-I2-B3)) -> 31.11 | K3: =IF(J3="","",K2+J3) -> 31.11 | L3: =IF(J3="","",100*J3/(I2+0.5*B3)) -> 0.95404865 | M3: =IF(K3="","",100*K3/C3) -> 0.95404865 | N3: =IF(D3="","",IF(I3="","",I3-D3)) -> 0
A4: 43131 | B4: 0 | C4: =IF(B4="","",C3+B4) -> 3260.84 | D4: 3518.16 | E4: =IF(B4="","",IF(D4="","",D4-D3-B4)) -> 226.21 | F4: =IF(E4="","",F3+E4) -> 257.32 | G4: =IF(E4="","",100*E4/(D3+0.5*B4)) -> 6.8716111 | H4: =IF(F4="","",100*(F4/C4)) -> 7.8912182 | I4: 3503.79 | J4: =IF(B4="","",IF(I4="","",I4-I3-B4)) -> 211.84 | K4: =IF(J4="","",K3+J4) -> 242.95 | L4: =IF(J4="","",100*J4/(I3+0.5*B4)) -> 6.4350917 | M4: =IF(K4="","",100*K4/C4) -> 7.4505342 | N4: =IF(D4="","",IF(I4="","",I4-D4)) -> -14.37
A5: 43159 | B5: 0 | C5: =IF(B5="","",C4+B5) -> 3260.84 | D5: 3381.31 | E5: =IF(B5="","",IF(D5="","",D5-D4-B5)) -> -136.85 | F5: =IF(E5="","",F4+E5) -> 120.47 | G5: =IF(E5="","",100*E5/(D4+0.5*B5)) -> -3.8898174 | H5: =IF(F5="","",100*(F5/C5)) -> 3.6944468 | I5: 3381.31 | J5: =IF(B5="","",IF(I5="","",I5-I4-B5)) -> -122.48 | K5: =IF(J5="","",K4+J5) -> 120.47 | L5: =IF(J5="","",100*J5/(I4+0.5*B5)) -> -3.4956433 | M5: =IF(K5="","",100*K5/C5) -> 3.6944468 | N5: =IF(D5="","",IF(I5="","",I5-D5)) -> 0
A6: 43189 | B6: 0 | C6: =IF(B6="","",C5+B6) -> 3260.84 | D6: 3226.03 | E6: =IF(B6="","",IF(D6="","",D6-D5-B6)) -> -155.28 | F6: =IF(E6="","",F5+E6) -> -34.81 | G6: =IF(E6="","",100*E6/(D5+0.5*B6)) -> -4.592303 | H6: =IF(F6="","",100*(F6/C6)) -> -1.0675163 | I6: 3226.03 | J6: =IF(B6="","",IF(I6="","",I6-I5-B6)) -> -155.28 | K6: =IF(J6="","",K5+J6) -> -34.81 | L6: =IF(J6="","",100*J6/(I5+0.5*B6)) -> -4.592303 | M6: =IF(K6="","",100*K6/C6) -> -1.0675163 | N6: =IF(D6="","",IF(I6="","",I6-D6)) -> 0
A7: 43220 | B7: 0 | C7: =IF(B7="","",C6+B7) -> 3260.84 | D7: 3259.32 | E7: =IF(B7="","",IF(D7="","",D7-D6-B7)) -> 33.29 | F7: =IF(E7="","",F6+E7) -> -1.52 | G7: =IF(E7="","",100*E7/(D6+0.5*B7)) -> 1.0319185 | H7: =IF(F7="","",100*(F7/C7)) -> -0.046613756 | I7: 3261.07 | J7: =IF(B7="","",IF(I7="","",I7-I6-B7)) -> 35.04 | K7: =IF(J7="","",K6+J7) -> 0.23 | L7: =IF(J7="","",100*J7/(I6+0.5*B7)) -> 1.0861647 | M7: =IF(K7="","",100*K7/C7) -> 0.0070533973 | N7: =IF(D7="","",IF(I7="","",I7-D7)) -> 1.75
A8: 43251 | B8: 0 | C8: =IF(B8="","",C7+B8) -> 3260.84 | D8: 3308.92 | E8: =IF(B8="","",IF(D8="","",D8-D7-B8)) -> 49.6 | F8: =IF(E8="","",F7+E8) -> 48.08 | G8: =IF(E8="","",100*E8/(D7+0.5*B8)) -> 1.5217898 | H8: =IF(F8="","",100*(F8/C8)) -> 1.4744667 | I8: 3308.92 | J8: =IF(B8="","",IF(I8="","",I8-I7-B8)) -> 47.85 | K8: =IF(J8="","",K7+J8) -> 48.08 | L8: =IF(J8="","",100*J8/(I7+0.5*B8)) -> 1.4673098 | M8: =IF(K8="","",100*K8/C8) -> 1.4744667 | N8: =IF(D8="","",IF(I8="","",I8-D8)) -> 0
C9: =IF(B9="","",C8+B9) | E9: =IF(B9="","",IF(D9="","",D9-D8-B9)) | F9: =IF(E9="","",F8+E9) | G9: =IF(E9="","",100*E9/(D8+0.5*B9)) | H9: =IF(F9="","",100*(F9/C9)) | J9: =IF(B9="","",IF(I9="","",I9-I8-B9)) | K9: =IF(J9="","",K8+J9) | L9: =IF(J9="","",100*J9/(I8+0.5*B9)) | M9: =IF(K9="","",100*K9/C9) | N9: =IF(D9="","",IF(I9="","",I9-D9))
C10: =IF(B10="","",C9+B10) | E10: =IF(B10="","",IF(D10="","",D10-D9-B10)) | F10: =IF(E10="","",F9+E10) | G10: =IF(E10="","",100*E10/(D9+0.5*B10)) | H10: =IF(F10="","",100*(F10/C10)) | J10: =IF(B10="","",IF(I10="","",I10-I9-B10)) | K10: =IF(J10="","",K9+J10) | L10: =IF(J10="","",100*J10/(I9+0.5*B10)) | M10: =IF(K10="","",100*K10/C10) | N10: =IF(D10="","",IF(I10="","",I10-D10))
C11: =IF(B11="","",C10+B11) | E11: =IF(B11="","",IF(D11="","",D11-D10-B11)) | F11: =IF(E11="","",F10+E11) | G11: =IF(E11="","",100*E11/(D10+0.5*B11)) | H11: =IF(F11="","",100*(F11/C11)) | J11: =IF(B11="","",IF(I11="","",I11-I10-B11)) | K11: =IF(J11="","",K10+J11) | L11: =IF(J11="","",100*J11/(I10+0.5*B11)) | M11: =IF(K11="","",100*K11/C11) | N11: =IF(D11="","",IF(I11="","",I11-D11))
C12: =IF(B12="","",C11+B12) | E12: =IF(B12="","",IF(D12="","",D12-D11-B12)) | F12: =IF(E12="","",F11+E12) | G12: =IF(E12="","",100*E12/(D11+0.5*B12)) | H12: =IF(F12="","",100*(F12/C12)) | J12: =IF(B12="","",IF(I12="","",I12-I11-B12)) | K12: =IF(J12="","",K11+J12) | L12: =IF(J12="","",100*J12/(I11+0.5*B12)) | M12: =IF(K12="","",100*K12/C12) | N12: =IF(D12="","",IF(I12="","",I12-D12))
C13: =IF(B13="","",C12+B13) | E13: =IF(B13="","",IF(D13="","",D13-D12-B13)) | F13: =IF(E13="","",F12+E13) | G13: =IF(E13="","",100*E13/(D12+0.5*B13)) | H13: =IF(F13="","",100*(F13/C13)) | J13: =IF(B13="","",IF(I13="","",I13-I12-B13)) | K13: =IF(J13="","",K12+J13) | L13: =IF(J13="","",100*J13/(I12+0.5*B13)) | M13: =IF(K13="","",100*K13/C13) | N13: =IF(D13="","",IF(I13="","",I13-D13))
C14: =IF(B14="","",C13+B14) | E14: =IF(B14="","",IF(D14="","",D14-D13-B14)) | F14: =IF(E14="","",F13+E14) | G14: =IF(E14="","",100*E14/(D13+0.5*B14)) | H14: =IF(F14="","",100*(F14/C14)) | J14: =IF(B14="","",IF(I14="","",I14-I13-B14)) | K14: =IF(J14="","",K13+J14) | L14: =IF(J14="","",100*J14/(I13+0.5*B14)) | M14: =IF(K14="","",100*K14/C14) | N14: =IF(D14="","",IF(I14="","",I14-D14))
C15: =IF(B15="","",C14+B15) | E15: =IF(B15="","",IF(D15="","",D15-D14-B15)) | F15: =IF(E15="","",F14+E15) | G15: =IF(E15="","",100*E15/(D14+0.5*B15)) | H15: =IF(F15="","",100*(F15/C15)) | J15: =IF(B15="","",IF(I15="","",I15-I14-B15)) | K15: =IF(J15="","",K14+J15) | L15: =IF(J15="","",100*J15/(I14+0.5*B15)) | M15: =IF(K15="","",100*K15/C15) | N15: =IF(D15="","",IF(I15="","",I15-D15))
C16: =IF(B16="","",C15+B16) | E16: =IF(B16="","",IF(D16="","",D16-D15-B16)) | F16: =IF(E16="","",F15+E16) | G16: =IF(E16="","",100*E16/(D15+0.5*B16)) | H16: =IF(F16="","",100*(F16/C16)) | J16: =IF(B16="","",IF(I16="","",I16-I15-B16)) | K16: =IF(J16="","",K15+J16) | L16: =IF(J16="","",100*J16/(I15+0.5*B16)) | M16: =IF(K16="","",100*K16/C16) | N16: =IF(D16="","",IF(I16="","",I16-D16))
C17: =IF(B17="","",C16+B17) | E17: =IF(B17="","",IF(D17="","",D17-D16-B17)) | F17: =IF(E17="","",F16+E17) | G17: =IF(E17="","",100*E17/(D16+0.5*B17)) | H17: =IF(F17="","",100*(F17/C17)) | J17: =IF(B17="","",IF(I17="","",I17-I16-B17)) | K17: =IF(J17="","",K16+J17) | L17: =IF(J17="","",100*J17/(I16+0.5*B17)) | M17: =IF(K17="","",100*K17/C17) | N17: =IF(D17="","",IF(I17="","",I17-D17))
C18: =IF(B18="","",C17+B18) | E18: =IF(B18="","",IF(D18="","",D18-D17-B18)) | F18: =IF(E18="","",F17+E18) | G18: =IF(E18="","",100*E18/(D17+0.5*B18)) | H18: =IF(F18="","",100*(F18/C18)) | J18: =IF(B18="","",IF(I18="","",I18-I17-B18)) | K18: =IF(J18="","",K17+J18) | L18: =IF(J18="","",100*J18/(I17+0.5*B18)) | M18: =IF(K18="","",100*K18/C18) | N18: =IF(D18="","",IF(I18="","",I18-D18))
C19: =IF(B19="","",C18+B19) | E19: =IF(B19="","",IF(D19="","",D19-D18-B19)) | F19: =IF(E19="","",F18+E19) | G19: =IF(E19="","",100*E19/(D18+0.5*B19)) | H19: =IF(F19="","",100*(F19/C19)) | J19: =IF(B19="","",IF(I19="","",I19-I18-B19)) | K19: =IF(J19="","",K18+J19) | L19: =IF(J19="","",100*J19/(I18+0.5*B19)) | M19: =IF(K19="","",100*K19/C19) | N19: =IF(D19="","",IF(I19="","",I19-D19))
C20: =IF(B20="","",C19+B20) | E20: =IF(B20="","",IF(D20="","",D20-D19-B20)) | F20: =IF(E20="","",F19+E20) | G20: =IF(E20="","",100*E20/(D19+0.5*B20)) | H20: =IF(F20="","",100*(F20/C20)) | J20: =IF(B20="","",IF(I20="","",I20-I19-B20)) | K20: =IF(J20="","",K19+J20) | L20: =IF(J20="","",100*J20/(I19+0.5*B20)) | M20: =IF(K20="","",100*K20/C20) | N20: =IF(D20="","",IF(I20="","",I20-D20))
... C102: =IF(B102="","",C101+B102) | E102: =IF(B102="","",IF(D102="","",D102-D101-B102)) | F102: =IF(E102="","",F101+E102) | G102: =IF(E102="","",100*E102/(D101+0.5*B102)) | H102: =IF(F102="","",100*(F102/C102)) | J102: =IF(B102="","",IF(I102="","",I102-I101-B102)) | K102: =IF(J102="","",K101+J102) | L102: =IF(J102="","",100*J102/(I101+0.5*B102)) | M102: =IF(K102="","",100*K102/C102) | N102: =IF(D102="","",IF(I102="","",I102-D102))

Sheet MM
A1: Meses | B1: Data | C1: Pos.Liq. | D1: % Liq | E1: # | F1: Fator | G1: # | H1: MHist | I1: # | J1: Fator | K1: MRec1 | L1: # | M1: Fator | N1: MRec2 | O1: Obs.
A2: 0 | B2: =IF(MRe!A2="","",MRe!A2) -> 43095 | C2: =IF(MRe!I2="","",MRe!I2) -> 3260.84 | E2: 0 | F2: 1 | G2: 0
A3: =IF(B3="","",A2+1) -> 1 | B3: =IF(MRe!A3="","",MRe!A3) -> 43098 | C3: =IF(MRe!I3="","",MRe!I3) -> 3291.95 | D3: =MRe!L3 -> 0.95404865 | E3: =IF(D3="","",E2+1) -> 1 | F3: =IF(D3="","",F2*(1+D3/100)) -> 1.0095405 | G3: =IF(F3="","",G2+1) -> 1 | H3: =IF(D3="","",100*(F3^(1/E3)-1)) -> 0.95404865 | I3: 0 | J3: 1 | P3: MHist
A4: =IF(B4="","",A3+1) -> 2 | B4: =IF(MRe!A4="","",MRe!A4) -> 43131 | C4: =IF(MRe!I4="","",MRe!I4) -> 3503.79 | D4: =MRe!L4 -> 6.4350917 | E4: =IF(D4="","",E3+1) -> 2 | F4: =IF(D4="","",F3*(1+D4/100)) -> 1.0745053 | G4: =IF(F4="","",G3+1) -> 2 | H4: =IF(D4="","",100*(F4^(1/E4)-1)) -> 3.6583495 | I4: =IF(F4="","",I3+1) -> 1 | J4: =IF(D4="","",J3*(1+D4/100)) -> 1.0643509 | K4: =IF(D4="","",100*(J4^(1/I4)-1)) -> 6.4350917 | P4: =IF(H3="","",VLOOKUP(MAX(G3:G102),G3:H102,2,FALSE)) -> 0.24424816 | R4: Há ganho (ou perda) consistente?
A5: =IF(B5="","",A4+1) -> 3 | B5: =IF(MRe!A5="","",MRe!A5) -> 43159 | C5: =IF(MRe!I5="","",MRe!I5) -> 3381.31 | D5: =MRe!L5 -> -3.4956433 | E5: =IF(D5="","",E4+1) -> 3 | F5: =IF(D5="","",F4*(1+D5/100)) -> 1.0369445 | G5: =IF(F5="","",G4+1) -> 3 | H5: =IF(D5="","",100*(F5^(1/E5)-1)) -> 1.2166206 | I5: =IF(F5="","",I4+1) -> 2 | J5: =IF(D5="","",J4*(1+D5/100)) -> 1.027145 | K5: =IF(D5="","",100*(J5^(1/I5)-1)) -> 1.3481626
A6: =IF(B6="","",A5+1) -> 4 | B6: =IF(MRe!A6="","",MRe!A6) -> 43189 | C6: =IF(MRe!I6="","",MRe!I6) -> 3226.03 | D6: =MRe!L6 -> -4.592303 | E6: =IF(D6="","",E5+1) -> 4 | F6: =IF(D6="","",F5*(1+D6/100)) -> 0.98932484 | G6: =IF(F6="","",G5+1) -> 4 | H6: =IF(D6="","",100*(F6^(1/E6)-1)) -> -0.26795416 | I6: =IF(F6="","",I5+1) -> 3 | J6: =IF(D6="","",J5*(1+D6/100)) -> 0.97997539 | K6: =IF(D6="","",100*(J6^(1/I6)-1)) -> -0.67199247 | L6: 0 | M6: 1 | R6: Teste T (C2:C7) | T6: =_xlfn.T.TEST(C2:C4,C5:C7,2,3) -> 0.52993394 | U6: =1-T6 -> 0.47006606
A7: =IF(B7="","",A6+1) -> 5 | B7: =IF(MRe!A7="","",MRe!A7) -> 43220 | C7: =IF(MRe!I7="","",MRe!I7) -> 3261.07 | D7: =MRe!L7 -> 1.0861647 | E7: =IF(D7="","",E6+1) -> 5 | F7: =IF(D7="","",F6*(1+D7/100)) -> 1.0000705 | G7: =IF(F7="","",G6+1) -> 5 | H7: =IF(D7="","",100*(F7^(1/E7)-1)) -> 0.0014106397 | I7: =IF(F7="","",I6+1) -> 4 | J7: =IF(D7="","",J6*(1+D7/100)) -> 0.99061954 | K7: =IF(D7="","",100*(J7^(1/I7)-1)) -> -0.23534094 | L7: =IF(J7="","",L6+1) -> 1 | M7: =IF(D7="","",M6*(1+D7/100)) -> 1.0108616 | N7: =IF(D7="","",100*(M7^(1/L7)-1)) -> 1.0861647
A8: =IF(B8="","",A7+1) -> 6 | B8: =IF(MRe!A8="","",MRe!A8) -> 43251 | C8: =IF(MRe!I8="","",MRe!I8) -> 3308.92 | D8: =MRe!L8 -> 1.4673098 | E8: =IF(D8="","",E7+1) -> 6 | F8: =IF(D8="","",F7*(1+D8/100)) -> 1.0147447 | G8: =IF(F8="","",G7+1) -> 6 | H8: =IF(D8="","",100*(F8^(1/E8)-1)) -> 0.24424816 | I8: =IF(F8="","",I7+1) -> 5 | J8: =IF(D8="","",J7*(1+D8/100)) -> 1.005155 | K8: =IF(D8="","",100*(J8^(1/I8)-1)) -> 0.10288805 | L8: =IF(J8="","",L7+1) -> 2 | M8: =IF(D8="","",M7*(1+D8/100)) -> 1.0256941 | N8: =IF(D8="","",100*(M8^(1/L8)-1)) -> 1.276558 | R8: A velocidade está mudando?
A9: =IF(B9="","",A8+1) | B9: =IF(MRe!A9="","",MRe!A9) | C9: =IF(MRe!I9="","",MRe!I9) | D9: =MRe!L9 | E9: =IF(D9="","",E8+1) | F9: =IF(D9="","",F8*(1+D9/100)) | G9: =IF(F9="","",G8+1) | H9: =IF(D9="","",100*(F9^(1/E9)-1)) | I9: =IF(F9="","",I8+1) | J9: =IF(D9="","",J8*(1+D9/100)) | K9: =IF(D9="","",100*(J9^(1/I9)-1)) | L9: =IF(J9="","",L8+1) | M9: =IF(D9="","",M8*(1+D9/100)) | N9: =IF(D9="","",100*(M9^(1/L9)-1))
A10: =IF(B10="","",A9+1) | B10: =IF(MRe!A10="","",MRe!A10) | C10: =IF(MRe!I10="","",MRe!I10) | D10: =MRe!L10 | E10: =IF(D10="","",E9+1) | F10: =IF(D10="","",F9*(1+D10/100)) | G10: =IF(F10="","",G9+1) | H10: =IF(D10="","",100*(F10^(1/E10)-1)) | I10: =IF(F10="","",I9+1) | J10: =IF(D10="","",J9*(1+D10/100)) | K10: =IF(D10="","",100*(J10^(1/I10)-1)) | L10: =IF(J10="","",L9+1) | M10: =IF(D10="","",M9*(1+D10/100)) | N10: =IF(D10="","",100*(M10^(1/L10)-1)) | R10: Teste T (D3:D8) | T10: =_xlfn.T.TEST(D3:D5,D6:D8,2,3) -> 0.60371367 | U10: =1-T10 -> 0.39628633
A11: =IF(B11="","",A10+1) | B11: =IF(MRe!A11="","",MRe!A11) | C11: =IF(MRe!I11="","",MRe!I11) | D11: =MRe!L11 | E11: =IF(D11="","",E10+1) | F11: =IF(D11="","",F10*(1+D11/100)) | G11: =IF(F11="","",G10+1) | H11: =IF(D11="","",100*(F11^(1/E11)-1)) | I11: =IF(F11="","",I10+1) | J11: =IF(D11="","",J10*(1+D11/100)) | K11: =IF(D11="","",100*(J11^(1/I11)-1)) | L11: =IF(J11="","",L10+1) | M11: =IF(D11="","",M10*(1+D11/100)) | N11: =IF(D11="","",100*(M11^(1/L11)-1))
A12: =IF(B12="","",A11+1) | B12: =IF(MRe!A12="","",MRe!A12) | C12: =IF(MRe!I12="","",MRe!I12) | D12: =MRe!L12 | E12: =IF(D12="","",E11+1) | F12: =IF(D12="","",F11*(1+D12/100)) | G12: =IF(F12="","",G11+1) | H12: =IF(D12="","",100*(F12^(1/E12)-1)) | I12: =IF(F12="","",I11+1) | J12: =IF(D12="","",J11*(1+D12/100)) | K12: =IF(D12="","",100*(J12^(1/I12)-1)) | L12: =IF(J12="","",L11+1) | M12: =IF(D12="","",M11*(1+D12/100)) | N12: =IF(D12="","",100*(M12^(1/L12)-1))
A13: =IF(B13="","",A12+1) | B13: =IF(MRe!A13="","",MRe!A13) | C13: =IF(MRe!I13="","",MRe!I13) | D13: =MRe!L13 | E13: =IF(D13="","",E12+1) | F13: =IF(D13="","",F12*(1+D13/100)) | G13: =IF(F13="","",G12+1) | H13: =IF(D13="","",100*(F13^(1/E13)-1)) | I13: =IF(F13="","",I12+1) | J13: =IF(D13="","",J12*(1+D13/100)) | K13: =IF(D13="","",100*(J13^(1/I13)-1)) | L13: =IF(J13="","",L12+1) | M13: =IF(D13="","",M12*(1+D13/100)) | N13: =IF(D13="","",100*(M13^(1/L13)-1))
A14: =IF(B14="","",A13+1) | B14: =IF(MRe!A14="","",MRe!A14) | C14: =IF(MRe!I14="","",MRe!I14) | D14: =MRe!L14 | E14: =IF(D14="","",E13+1) | F14: =IF(D14="","",F13*(1+D14/100)) | G14: =IF(F14="","",G13+1) | H14: =IF(D14="","",100*(F14^(1/E14)-1)) | I14: =IF(F14="","",I13+1) | J14: =IF(D14="","",J13*(1+D14/100)) | K14: =IF(D14="","",100*(J14^(1/I14)-1)) | L14: =IF(J14="","",L13+1) | M14: =IF(D14="","",M13*(1+D14/100)) | N14: =IF(D14="","",100*(M14^(1/L14)-1))
A15: =IF(B15="","",A14+1) | B15: =IF(MRe!A15="","",MRe!A15) | C15: =IF(MRe!I15="","",MRe!I15) | D15: =MRe!L15 | E15: =IF(D15="","",E14+1) | F15: =IF(D15="","",F14*(1+D15/100)) | G15: =IF(F15="","",G14+1) | H15: =IF(D15="","",100*(F15^(1/E15)-1)) | I15: =IF(F15="","",I14+1) | J15: =IF(D15="","",J14*(1+D15/100)) | K15: =IF(D15="","",100*(J15^(1/I15)-1)) | L15: =IF(J15="","",L14+1) | M15: =IF(D15="","",M14*(1+D15/100)) | N15: =IF(D15="","",100*(M15^(1/L15)-1))
A16: =IF(B16="","",A15+1) | B16: =IF(MRe!A16="","",MRe!A16) | C16: =IF(MRe!I16="","",MRe!I16) | D16: =MRe!L16 | E16: =IF(D16="","",E15+1) | F16: =IF(D16="","",F15*(1+D16/100)) | G16: =IF(F16="","",G15+1) | H16: =IF(D16="","",100*(F16^(1/E16)-1)) | I16: =IF(F16="","",I15+1) | J16: =IF(D16="","",J15*(1+D16/100)) | K16: =IF(D16="","",100*(J16^(1/I16)-1)) | L16: =IF(J16="","",L15+1) | M16: =IF(D16="","",M15*(1+D16/100)) | N16: =IF(D16="","",100*(M16^(1/L16)-1))
A17: =IF(B17="","",A16+1) | B17: =IF(MRe!A17="","",MRe!A17) | C17: =IF(MRe!I17="","",MRe!I17) | D17: =MRe!L17 | E17: =IF(D17="","",E16+1) | F17: =IF(D17="","",F16*(1+D17/100)) | G17: =IF(F17="","",G16+1) | H17: =IF(D17="","",100*(F17^(1/E17)-1)) | I17: =IF(F17="","",I16+1) | J17: =IF(D17="","",J16*(1+D17/100)) | K17: =IF(D17="","",100*(J17^(1/I17)-1)) | L17: =IF(J17="","",L16+1) | M17: =IF(D17="","",M16*(1+D17/100)) | N17: =IF(D17="","",100*(M17^(1/L17)-1))
A18: =IF(B18="","",A17+1) | B18: =IF(MRe!A18="","",MRe!A18) | C18: =IF(MRe!I18="","",MRe!I18) | D18: =MRe!L18 | E18: =IF(D18="","",E17+1) | F18: =IF(D18="","",F17*(1+D18/100)) | G18: =IF(F18="","",G17+1) | H18: =IF(D18="","",100*(F18^(1/E18)-1)) | I18: =IF(F18="","",I17+1) | J18: =IF(D18="","",J17*(1+D18/100)) | K18: =IF(D18="","",100*(J18^(1/I18)-1)) | L18: =IF(J18="","",L17+1) | M18: =IF(D18="","",M17*(1+D18/100)) | N18: =IF(D18="","",100*(M18^(1/L18)-1))
A19: =IF(B19="","",A18+1) | B19: =IF(MRe!A19="","",MRe!A19) | C19: =IF(MRe!I19="","",MRe!I19) | D19: =MRe!L19 | E19: =IF(D19="","",E18+1) | F19: =IF(D19="","",F18*(1+D19/100)) | G19: =IF(F19="","",G18+1) | H19: =IF(D19="","",100*(F19^(1/E19)-1)) | I19: =IF(F19="","",I18+1) | J19: =IF(D19="","",J18*(1+D19/100)) | K19: =IF(D19="","",100*(J19^(1/I19)-1)) | L19: =IF(J19="","",L18+1) | M19: =IF(D19="","",M18*(1+D19/100)) | N19: =IF(D19="","",100*(M19^(1/L19)-1))
A20: =IF(B20="","",A19+1) | B20: =IF(MRe!A20="","",MRe!A20) | C20: =IF(MRe!I20="","",MRe!I20) | D20: =MRe!L20 | E20: =IF(D20="","",E19+1) | F20: =IF(D20="","",F19*(1+D20/100)) | G20: =IF(F20="","",G19+1) | H20: =IF(D20="","",100*(F20^(1/E20)-1)) | I20: =IF(F20="","",I19+1) | J20: =IF(D20="","",J19*(1+D20/100)) | K20: =IF(D20="","",100*(J20^(1/I20)-1)) | L20: =IF(J20="","",L19+1) | M20: =IF(D20="","",M19*(1+D20/100)) | N20: =IF(D20="","",100*(M20^(1/L20)-1))
A21: =IF(B21="","",A20+1) | B21: =IF(MRe!A21="","",MRe!A21) | C21: =IF(MRe!I21="","",MRe!I21) | D21: =MRe!L21 | E21: =IF(D21="","",E20+1) | F21: =IF(D21="","",F20*(1+D21/100)) | G21: =IF(F21="","",G20+1) | H21: =IF(D21="","",100*(F21^(1/E21)-1)) | I21: =IF(F21="","",I20+1) | J21: =IF(D21="","",J20*(1+D21/100)) | K21: =IF(D21="","",100*(J21^(1/I21)-1)) | L21: =IF(J21="","",L20+1) | M21: =IF(D21="","",M20*(1+D21/100)) | N21: =IF(D21="","",100*(M21^(1/L21)-1))
A22: =IF(B22="","",A21+1) | B22: =IF(MRe!A22="","",MRe!A22) | C22: =IF(MRe!I22="","",MRe!I22) | D22: =MRe!L22 | E22: =IF(D22="","",E21+1) | F22: =IF(D22="","",F21*(1+D22/100)) | G22: =IF(F22="","",G21+1) | H22: =IF(D22="","",100*(F22^(1/E22)-1)) | I22: =IF(F22="","",I21+1) | J22: =IF(D22="","",J21*(1+D22/100)) | K22: =IF(D22="","",100*(J22^(1/I22)-1)) | L22: =IF(J22="","",L21+1) | M22: =IF(D22="","",M21*(1+D22/100)) | N22: =IF(D22="","",100*(M22^(1/L22)-1))
... A102: =IF(B102="","",A101+1) | B102: =IF(MRe!A102="","",MRe!A102) | C102: =IF(MRe!I102="","",MRe!I102) | D102: =MRe!L102 | E102: =IF(D102="","",E101+1) | F102: =IF(D102="","",F101*(1+D102/100)) | G102: =IF(F102="","",G101+1) | H102: =IF(D102="","",100*(F102^(1/E102)-1)) | I102: =IF(F102="","",I101+1) | J102: =IF(D102="","",J101*(1+D102/100)) | K102: =IF(D102="","",100*(J102^(1/I102)-1)) | L102: =IF(J102="","",L101+1) | M102: =IF(D102="","",M101*(1+D102/100)) | N102: =IF(D102="","",100*(M102^(1/L102)-1))

Sheet PsyQuation - Star Trek
B1: # | C1: Date | D1: Days | E1: PsyScore | F1: Position | G1: Participants | H1: MyScore (%) | I1: Observers
B2: 1 | C2: 43143 | D2: 0 | E2: 53 | F2: 84 | G2: 122 | H2: =IF(F2="","",IF(G2="","",100*(G2-F2)/(G2-1))) -> 31.404959 | I2: 0
B3: =IF(C3="","",B2+1) -> 2 | C3: 43144 | D3: =IF(C3="","",C3-C$2) -> 1 | E3: 54 | F3: 78 | G3: 122 | H3: =IF(F3="","",IF(G3="","",100*(G3-F3)/(G3-1))) -> 36.363636 | I3: 0
B4: =IF(C4="","",B3+1) -> 3 | C4: 43145 | D4: =IF(C4="","",C4-C$2) -> 2 | E4: 54 | F4: 82 | G4: 125 | H4: =IF(F4="","",IF(G4="","",100*(G4-F4)/(G4-1))) -> 34.677419 | I4: 0
B5: =IF(C5="","",B4+1) -> 4 | C5: 43146 | D5: =IF(C5="","",C5-C$2) -> 3 | E5: 51 | F5: 92 | G5: 129 | H5: =IF(F5="","",IF(G5="","",100*(G5-F5)/(G5-1))) -> 28.90625 | I5: 0
B6: =IF(C6="","",B5+1) -> 5 | C6: 43147 | D6: =IF(C6="","",C6-C$2) -> 4 | E6: 52 | F6: 95 | G6: 136 | H6: =IF(F6="","",IF(G6="","",100*(G6-F6)/(G6-1))) -> 30.37037 | I6: 1
B7: =IF(C7="","",B6+1) -> 6 | C7: 43150 | D7: =IF(C7="","",C7-C$2) -> 7 | E7: 61 | F7: 64 | G7: 134 | H7: =IF(F7="","",IF(G7="","",100*(G7-F7)/(G7-1))) -> 52.631579 | I7: 1
B8: =IF(C8="","",B7+1) -> 7 | C8: 43151 | D8: =IF(C8="","",C8-C$2) -> 8 | E8: 61 | F8: 64 | G8: 135 | H8: =IF(F8="","",IF(G8="","",100*(G8-F8)/(G8-1))) -> 52.985075 | I8: 1
B9: =IF(C9="","",B8+1) -> 8 | C9: 43152 | D9: =IF(C9="","",C9-C$2) -> 9 | E9: 59 | F9: 71 | G9: 136 | H9: =IF(F9="","",IF(G9="","",100*(G9-F9)/(G9-1))) -> 48.148148 | I9: 1
B10: =IF(C10="","",B9+1) -> 9 | C10: 43153 | D10: =IF(C10="","",C10-C$2) -> 10 | E10: 58 | F10: 73 | G10: 135 | H10: =IF(F10="","",IF(G10="","",100*(G10-F10)/(G10-1))) -> 46.268657 | I10: 1
B11: =IF(C11="","",B10+1) -> 10 | C11: 43154 | D11: =IF(C11="","",C11-C$2) -> 11 | E11: 58 | F11: 75 | G11: 138 | H11: =IF(F11="","",IF(G11="","",100*(G11-F11)/(G11-1))) -> 45.985401 | I11: 1
B12: =IF(C12="","",B11+1) -> 11 | C12: 43157 | D12: =IF(C12="","",C12-C$2) -> 14 | E12: 58 | F12: 77 | G12: 142 | H12: =IF(F12="","",IF(G12="","",100*(G12-F12)/(G12-1))) -> 46.099291 | I12: 1
B13: =IF(C13="","",B12+1) -> 12 | C13: 43158 | D13: =IF(C13="","",C13-C$2) -> 15 | E13: 58 | F13: 78 | G13: 141 | H13: =IF(F13="","",IF(G13="","",100*(G13-F13)/(G13-1))) -> 45 | I13: 1
B14: =IF(C14="","",B13+1) -> 13 | C14: 43159 | D14: =IF(C14="","",C14-C$2) -> 16 | E14: 58 | F14: 74 | G14: 138 | H14: =IF(F14="","",IF(G14="","",100*(G14-F14)/(G14-1))) -> 46.715328 | I14: 1
... B44: =IF(C44="","",B43+1) -> 43 | C44: 43266 | D44: =IF(C44="","",C44-C$2) -> 123 | E44: 54 | F44: 195 | G44: 253 | H44: =IF(F44="","",IF(G44="","",100*(G44-F44)/(G44-1))) -> 23.015873 | I44: 1
B45: =IF(C45="","",B44+1) | D45: =IF(C45="","",C45-C$2) | H45: =IF(F45="","",IF(G45="","",100*(G45-F45)/(G45-1)))
B46: =IF(C46="","",B45+1) | D46: =IF(C46="","",C46-C$2) | H46: =IF(F46="","",IF(G46="","",100*(G46-F46)/(G46-1)))
B47: =IF(C47="","",B46+1) | D47: =IF(C47="","",C47-C$2) | H47: =IF(F47="","",IF(G47="","",100*(G47-F47)/(G47-1)))
B48: =IF(C48="","",B47+1) | D48: =IF(C48="","",C48-C$2) | H48: =IF(F48="","",IF(G48="","",100*(G48-F48)/(G48-1)))
B49: =IF(C49="","",B48+1) | D49: =IF(C49="","",C49-C$2) | H49: =IF(F49="","",IF(G49="","",100*(G49-F49)/(G49-1)))
B50: =IF(C50="","",B49+1) | D50: =IF(C50="","",C50-C$2) | H50: =IF(F50="","",IF(G50="","",100*(G50-F50)/(G50-1)))
B51: =IF(C51="","",B50+1) | D51: =IF(C51="","",C51-C$2) | H51: =IF(F51="","",IF(G51="","",100*(G51-F51)/(G51-1)))
B52: =IF(C52="","",B51+1) | D52: =IF(C52="","",C52-C$2) | H52: =IF(F52="","",IF(G52="","",100*(G52-F52)/(G52-1)))
B53: =IF(C53="","",B52+1) | D53: =IF(C53="","",C53-C$2) | H53: =IF(F53="","",IF(G53="","",100*(G53-F53)/(G53-1)))
B54: =IF(C54="","",B53+1) | D54: =IF(C54="","",C54-C$2) | H54: =IF(F54="","",IF(G54="","",100*(G54-F54)/(G54-1)))
B55: =IF(C55="","",B54+1) | D55: =IF(C55="","",C55-C$2) | H55: =IF(F55="","",IF(G55="","",100*(G55-F55)/(G55-1)))
B56: =IF(C56="","",B55+1) | D56: =IF(C56="","",C56-C$2) | H56: =IF(F56="","",IF(G56="","",100*(G56-F56)/(G56-1)))
... B99: =IF(C99="","",B98+1) | D99: =IF(C99="","",C99-C$2) | H99: =IF(F99="","",IF(G99="","",100*(G99-F99)/(G99-1)))

Sheet PsyQuation - UFX
B1: # | C1: Date | D1: Days | E1: PsyScore | F1: Position | G1: Participants | H1: MyScore (%) | I1: Observers
B2: 1 | C2: 43238 | D2: 0 | E2: 63 | F2: 83 | G2: 184 | H2: =IF(F2="","",IF(G2="","",100*(G2-F2)/(G2-1))) -> 55.191257 | I2: 0
B3: =IF(C3="","",B2+1) -> 2 | C3: 43242 | D3: =IF(C3="","",C3-C$2) -> 4 | E3: 65 | F3: 70 | G3: 183 | H3: =IF(F3="","",IF(G3="","",100*(G3-F3)/(G3-1))) -> 62.087912 | I3: 0
B4: =IF(C4="","",B3+1) -> 3 | C4: 43243 | D4: =IF(C4="","",C4-C$2) -> 5 | E4: 65 | F4: 64 | G4: 185 | H4: =IF(F4="","",IF(G4="","",100*(G4-F4)/(G4-1))) -> 65.76087 | I4: 0
B5: =IF(C5="","",B4+1) | D5: =IF(C5="","",C5-C$2) | H5: =IF(F5="","",IF(G5="","",100*(G5-F5)/(G5-1)))
B6: =IF(C6="","",B5+1) | D6: =IF(C6="","",C6-C$2) | H6: =IF(F6="","",IF(G6="","",100*(G6-F6)/(G6-1)))
B7: =IF(C7="","",B6+1) | D7: =IF(C7="","",C7-C$2) | H7: =IF(F7="","",IF(G7="","",100*(G7-F7)/(G7-1)))
B8: =IF(C8="","",B7+1) | D8: =IF(C8="","",C8-C$2) | H8: =IF(F8="","",IF(G8="","",100*(G8-F8)/(G8-1)))
B9: =IF(C9="","",B8+1) | D9: =IF(C9="","",C9-C$2) | H9: =IF(F9="","",IF(G9="","",100*(G9-F9)/(G9-1)))
B10: =IF(C10="","",B9+1) | D10: =IF(C10="","",C10-C$2) | H10: =IF(F10="","",IF(G10="","",100*(G10-F10)/(G10-1)))
B11: =IF(C11="","",B10+1) | D11: =IF(C11="","",C11-C$2) | H11: =IF(F11="","",IF(G11="","",100*(G11-F11)/(G11-1)))
B12: =IF(C12="","",B11+1) | D12: =IF(C12="","",C12-C$2) | H12: =IF(F12="","",IF(G12="","",100*(G12-F12)/(G12-1)))
B13: =IF(C13="","",B12+1) | D13: =IF(C13="","",C13-C$2) | H13: =IF(F13="","",IF(G13="","",100*(G13-F13)/(G13-1)))
B14: =IF(C14="","",B13+1) | D14: =IF(C14="","",C14-C$2) | H14: =IF(F14="","",IF(G14="","",100*(G14-F14)/(G14-1)))
B15: =IF(C15="","",B14+1) | D15: =IF(C15="","",C15-C$2) | H15: =IF(F15="","",IF(G15="","",100*(G15-F15)/(G15-1)))
B16: =IF(C16="","",B15+1) | D16: =IF(C16="","",C16-C$2) | H16: =IF(F16="","",IF(G16="","",100*(G16-F16)/(G16-1)))
... B99: =IF(C99="","",B98+1) | D99: =IF(C99="","",C99-C$2) | H99: =IF(F99="","",IF(G99="","",100*(G99-F99)/(G99-1)))
