Workbook

Sheet Ativos
B2: Operações (x) | N2: Ativo | O2: DDE | Q2: Correção | S2: Cotação | U2: Spread | V2: Lot Size | W2: Pip Div | X2: Pip Value
B3: 1 | C3: 2 | D3: 3 | E3: 4 | F3: 5 | G3: 6 | H3: 7 | I3: 8 | J3: 9 | K3: 10 | L3: 11 | M3: 12 | O3: Bid | P3: Ask | S3: Bid | T3: Ask
B4: x | N4: AUDCAD | O4: =[1]!AUDCAD -> 0.98725 | P4: =[2]!audcad -> 0.98752 | Q4: =VALUE(REPLACE(O4,SEARCH(".",O4),1,",")) -> 0.98725 | R4: =VALUE(REPLACE(P4,SEARCH(".",P4),1,",")) -> 0.98752 | S4: =IF(Q4="",O4,Q4) -> 0.98725 | T4: =IF(R4="",P4,R4) -> 0.98752 | U4: =10000*(T4-S4) -> 2.7 | V4: 100000 | W4: 10000 | X4: =T5/T4 -> 0.75232907
C5: x | N5: AUDUSD | O5: =[1]!AUDUSD -> 0.74276 | P5: =[2]!AUDUSD -> 0.74294 | Q5: =VALUE(REPLACE(O5,SEARCH(".",O5),1,",")) -> 0.74276 | R5: =VALUE(REPLACE(P5,SEARCH(".",P5),1,",")) -> 0.74294 | S5: =IF(Q5="",O5,Q5) -> 0.74276 | T5: =IF(R5="",P5,R5) -> 0.74294 | U5: =10000*(T5-S5) -> 1.8 | V5: 100000 | W5: 10000 | X5: 1
D6: x | N6: CHFJPY | O6: =[1]!CHFJPY/1000 -> 111.006 | P6: =[2]!CHFJPY/1000 -> 111.032 | S6: =IF(Q6="",O6,Q6) -> 111.006 | T6: =IF(R6="",P6,R6) -> 111.032 | U6: =100*(T6-S6) -> 2.6 | V6: 1000 | W6: 100 | X6: =10*V6/W6/T14 -> 0.91232552
E7: x | N7: EURGBP | O7: =[1]!EURGBP -> 0.87995 | P7: =[2]!EURGBP -> 0.88012 | Q7: =VALUE(REPLACE(O7,SEARCH(".",O7),1,",")) -> 0.87995 | R7: =VALUE(REPLACE(P7,SEARCH(".",P7),1,",")) -> 0.88012 | S7: =IF(Q7="",O7,Q7) -> 0.87995 | T7: =IF(R7="",P7,R7) -> 0.88012 | U7: =10000*(T7-S7) -> 1.7 | V7: 100000 | W7: 10000 | X7: =T10/T7 -> 1.5091806
F8: x | N8: EURJPY | O8: =[1]!EURJPY/1000 -> 128.095 | P8: =[2]!EURJPY/1000 -> 128.117 | S8: =IF(Q8="",O8,Q8) -> 128.095 | T8: =IF(R8="",P8,R8) -> 128.117 | U8: =100*(T8-S8) -> 2.2 | V8: 1000 | W8: 100 | X8: =100*T9/T8 -> 0.91235355
G9: x | N9: EURUSD | O9: =[1]!EURUSD/100000 -> 1.16873 | P9: =[2]!EURUSD/100000 -> 1.16888 | S9: =IF(Q9="",O9,Q9) -> 1.16873 | T9: =IF(R9="",P9,R9) -> 1.16888 | U9: =10000*(T9-S9) -> 1.5 | V9: 100000 | W9: 10000 | X9: 1 | Y9: ok
H10: x | N10: GBPUSD | O10: =[1]!GBPUSD/100000 -> 1.32807 | P10: =[2]!GBPUSD/100000 -> 1.32826 | S10: =IF(Q10="",O10,Q10) -> 1.32807 | T10: =IF(R10="",P10,R10) -> 1.32826 | U10: =10000*(T10-S10) -> 1.9 | V10: 100000 | W10: 10000 | X10: 1
I11: x | N11: GOLD | O11: =[1]!GOLD -> 1269.24 | P11: =[2]!GOLD -> 1269.55 | Q11: =VALUE(REPLACE(O11,SEARCH(".",O11),1,",")) -> 1269.24 | R11: =VALUE(REPLACE(P11,SEARCH(".",P11),1,",")) -> 1269.55 | S11: =IF(Q11="",O11,Q11) -> 1269.24 | T11: =IF(R11="",P11,R11) -> 1269.55 | U11: =T11-S11 -> 0.31 | V11: 100 | W11: 10 | X11: 1 | Y11: ok
J12: x | N12: SILVER | O12: =[1]!SILVER/1000 -> 16.407 | P12: =[2]!SILVER/1000 -> 16.441 | S12: =IF(Q12="",O12,Q12) -> 16.407 | T12: =IF(R12="",P12,R12) -> 16.441 | U12: =T12-S12 -> 0.034 | V12: 5000 | W12: 100 | X12: 1
K13: x | N13: USDCAD | O13: =[1]!USDCAD/100000 -> 1.32913 | P13: =[2]!USDCAD/100000 -> 1.32933 | S13: =IF(Q13="",O13,Q13) -> 1.32913 | T13: =IF(R13="",P13,R13) -> 1.32933 | U13: =10000*(T13-S13) -> 2 | V13: 100000 | W13: 10000 | X13: =1/S13 -> 0.75237185 | Y13: ok
L14: x | N14: USDJPY | O14: =[1]!USDJPY/1000 -> 109.596 | P14: =[2]!USDJPY/1000 -> 109.61 | S14: =IF(Q14="",O14,Q14) -> 109.596 | T14: =IF(R14="",P14,R14) -> 109.61 | U14: =100*(T14-S14) -> 1.4 | V14: 1000 | W14: 100 | X14: =1/S14 -> 0.0091244206
M15: x | N15: WTI | O15: =[1]!WTI -> 68.48 | P15: =[2]!WTI -> 68.52 | Q15: =VALUE(REPLACE(O15,SEARCH(".",O15),1,",")) -> 68.48 | R15: =VALUE(REPLACE(P15,SEARCH(".",P15),1,",")) -> 68.52 | S15: =IF(Q15="",O15,Q15) -> 68.48 | T15: =IF(R15="",P15,R15) -> 68.52 | U15: =T15-S15 -> 0.04 | V15: 1000 | W15: 100 | X15: 1 | Y15: ok
X16: pip v. ok?
K17: 1 | M17: 2 | O17: 3 | Q17: 4 | S17: 5 | U17: 6
K18: Ativo | L18: =INDEX(N4:N15,MATCH("x",B4:B15,0),1) -> AUDCAD | M18: Ativo | N18: =INDEX(N4:N15,MATCH("x",C4:C15,0),1) -> AUDUSD | O18: Ativo | P18: =INDEX(N4:N15,MATCH("x",D4:D15,0),1) -> CHFJPY | Q18: Ativo | R18: =INDEX(N4:N15,MATCH("x",E4:E15,0),1) -> EURGBP | S18: Ativo | T18: =INDEX(N4:N15,MATCH("x",F4:F15,0),1) -> EURJPY | U18: Ativo | V18: =INDEX(N4:N15,MATCH("x",G4:G15,0),1) -> EURUSD
K19: Ask | L19: =INDEX(T4:T15,MATCH("x",B4:B15,0),1) -> 0.98752 | M19: Ask | N19: =INDEX(T4:T15,MATCH("x",C4:C15,0),1) -> 0.74294 | O19: Ask | P19: =INDEX(T4:T15,MATCH("x",D4:D15,0),1) -> 111.032 | Q19: Ask | R19: =INDEX(T4:T15,MATCH("x",E4:E15,0),1) -> 0.88012 | S19: Ask | T19: =INDEX(T4:T15,MATCH("x",F4:F15,0),1) -> 128.117 | U19: Ask | V19: =INDEX(T4:T15,MATCH("x",G4:G15,0),1) -> 1.16888
K20: Bid | L20: =INDEX(S4:S15,MATCH("x",B4:B15,0),1) -> 0.98725 | M20: Bid | N20: =INDEX(S4:S15,MATCH("x",C4:C15,0),1) -> 0.74276 | O20: Bid | P20: =INDEX(S4:S15,MATCH("x",D4:D15,0),1) -> 111.006 | Q20: Bid | R20: =INDEX(S4:S15,MATCH("x",E4:E15,0),1) -> 0.87995 | S20: Bid | T20: =INDEX(S4:S15,MATCH("x",F4:F15,0),1) -> 128.095 | U20: Bid | V20: =INDEX(S4:S15,MATCH("x",G4:G15,0),1) -> 1.16873
K21: Spread | L21: =INDEX(U4:U15,MATCH("x",B4:B15,0),1) -> 2.7 | M21: Spread | N21: =INDEX(U4:U15,MATCH("x",C4:C15,0),1) -> 1.8 | O21: Spread | P21: =INDEX(U4:U15,MATCH("x",D4:D15,0),1) -> 2.6 | Q21: Spread | R21: =INDEX(U4:U15,MATCH("x",E4:E15,0),1) -> 1.7 | S21: Spread | T21: =INDEX(U4:U15,MATCH("x",F4:F15,0),1) -> 2.2 | U21: Spread | V21: =INDEX(U4:U15,MATCH("x",G4:G15,0),1) -> 1.5
K22: Lot Size | L22: =INDEX(V4:V15,MATCH("x",B4:B15,0),1) -> 100000 | M22: Lot Size | N22: =INDEX(V4:V15,MATCH("x",C4:C15,0),1) -> 100000 | O22: Lot Size | P22: =INDEX(V4:V15,MATCH("x",D4:D15,0),1) -> 1000 | Q22: Lot Size | R22: =INDEX(V4:V15,MATCH("x",E4:E15,0),1) -> 100000 | S22: Lot Size | T22: =INDEX(V4:V15,MATCH("x",F4:F15,0),1) -> 1000 | U22: Lot Size | V22: =INDEX(V4:V15,MATCH("x",G4:G15,0),1) -> 100000
K23: Pip Div | L23: =INDEX(W4:W15,MATCH("x",B4:B15,0),1) -> 10000 | M23: Pip Div | N23: =INDEX(W4:W15,MATCH("x",C4:C15,0),1) -> 10000 | O23: Pip Div | P23: =INDEX(W4:W15,MATCH("x",D4:D15,0),1) -> 100 | Q23: Pip Div | R23: =INDEX(W4:W15,MATCH("x",E4:E15,0),1) -> 10000 | S23: Pip Div | T23: =INDEX(W4:W15,MATCH("x",F4:F15,0),1) -> 100 | U23: Pip Div | V23: =INDEX(W4:W15,MATCH("x",G4:G15,0),1) -> 10000
K24: Pip Val | L24: =INDEX(X4:X15,MATCH("x",B4:B15,0),1) -> 0.75232907 | M24: Pip Val | N24: =INDEX(X4:X15,MATCH("x",C4:C15,0),1) -> 1 | O24: Pip Val | P24: =INDEX(X4:X15,MATCH("x",D4:D15,0),1) -> 0.91232552 | Q24: Pip Val | R24: =INDEX(X4:X15,MATCH("x",E4:E15,0),1) -> 1.5091806 | S24: Pip Val | T24: =INDEX(X4:X15,MATCH("x",F4:F15,0),1) -> 0.91235355 | U24: Pip Val | V24: =INDEX(X4:X15,MATCH("x",G4:G15,0),1) -> 1
K25: 7 | M25: 8 | O25: 9 | Q25: 10 | S25: 11 | U25: 12
K26: Ativo | L26: =INDEX(N4:N15,MATCH("x",H4:H15,0),1) -> GBPUSD | M26: Ativo | N26: =INDEX(N4:N15,MATCH("x",I4:I15,0),1) -> GOLD | O26: Ativo | P26: =INDEX(N4:N15,MATCH("x",J4:J15,0),1) -> SILVER | Q26: Ativo | R26: =INDEX(N4:N15,MATCH("x",K4:K15,0),1) -> USDCAD | S26: Ativo | T26: =INDEX(N4:N15,MATCH("x",L4:L15,0),1) -> USDJPY | U26: Ativo | V26: =INDEX(N4:N15,MATCH("x",M4:M15,0),1) -> WTI
K27: Ask | L27: =INDEX(T4:T15,MATCH("x",H4:H15,0),1) -> 1.32826 | M27: Ask | N27: =INDEX(T4:T15,MATCH("x",I4:I15,0),1) -> 1269.55 | O27: Ask | P27: =INDEX(T4:T15,MATCH("x",J4:J15,0),1) -> 16.441 | Q27: Ask | R27: =INDEX(T4:T15,MATCH("x",K4:K15,0),1) -> 1.32933 | S27: Ask | T27: =INDEX(T4:T15,MATCH("x",L4:L15,0),1) -> 109.61 | U27: Ask | V27: =INDEX(T4:T15,MATCH("x",M4:M15,0),1) -> 68.52
K28: Bid | L28: =INDEX(S4:S15,MATCH("x",H4:H15,0),1) -> 1.32807 | M28: Bid | N28: =INDEX(S4:S15,MATCH("x",I4:I15,0),1) -> 1269.24 | O28: Bid | P28: =INDEX(S4:S15,MATCH("x",J4:J15,0),1) -> 16.407 | Q28: Bid | R28: =INDEX(S4:S15,MATCH("x",K4:K15,0),1) -> 1.32913 | S28: Bid | T28: =INDEX(S4:S15,MATCH("x",L4:L15,0),1) -> 109.596 | U28: Bid | V28: =INDEX(S4:S15,MATCH("x",M4:M15,0),1) -> 68.48
K29: Spread | L29: =INDEX(U4:U15,MATCH("x",H4:H15,0),1) -> 1.9 | M29: Spread | N29: =INDEX(U4:U15,MATCH("x",I4:I15,0),1) -> 0.31 | O29: Spread | P29: =INDEX(U4:U15,MATCH("x",J4:J15,0),1) -> 0.034 | Q29: Spread | R29: =INDEX(U4:U15,MATCH("x",K4:K15,0),1) -> 2 | S29: Spread | T29: =INDEX(U4:U15,MATCH("x",L4:L15,0),1) -> 1.4 | U29: Spread | V29: =INDEX(U4:U15,MATCH("x",M4:M15,0),1) -> 0.04
K30: Lot Size | L30: =INDEX(V4:V15,MATCH("x",H4:H15,0),1) -> 100000 | M30: Lot Size | N30: =INDEX(V4:V15,MATCH("x",I4:I15,0),1) -> 100 | O30: Lot Size | P30: =INDEX(V4:V15,MATCH("x",J4:J15,0),1) -> 5000 | Q30: Lot Size | R30: =INDEX(V4:V15,MATCH("x",K4:K15,0),1) -> 100000 | S30: Lot Size | T30: =INDEX(V4:V15,MATCH("x",L4:L15,0),1) -> 1000 | U30: Lot Size | V30: =INDEX(V4:V15,MATCH("x",M4:M15,0),1) -> 1000
K31: Pip Div | L31: =INDEX(W4:W15,MATCH("x",H4:H15,0),1) -> 10000 | M31: Pip Div | N31: =INDEX(W4:W15,MATCH("x",I4:I15,0),1) -> 10 | O31: Pip Div | P31: =INDEX(W4:W15,MATCH("x",J4:J15,0),1) -> 100 | Q31: Pip Div | R31: =INDEX(W4:W15,MATCH("x",K4:K15,0),1) -> 10000 | S31: Pip Div | T31: =INDEX(W4:W15,MATCH("x",L4:L15,0),1) -> 100 | U31: Pip Div | V31: =INDEX(W4:W15,MATCH("x",M4:M15,0),1) -> 100
K32: Pip Val | L32: =INDEX(X4:X15,MATCH("x",H4:H15,0),1) -> 1 | M32: Pip Val | N32: =INDEX(X4:X15,MATCH("x",I4:I15,0),1) -> 1 | O32: Pip Val | P32: =INDEX(X4:X15,MATCH("x",J4:J15,0),1) -> 1 | Q32: Pip Val | R32: =INDEX(X4:X15,MATCH("x",K4:K15,0),1) -> 0.75237185 | S32: Pip Val | T32: =INDEX(X4:X15,MATCH("x",L4:L15,0),1) -> 0.0091244206 | U32: Pip Val | V32: =INDEX(X4:X15,MATCH("x",M4:M15,0),1) -> 1

Sheet 1
B2: Ativo | C2: =Ativos!$L$18 -> AUDCAD | D2: Spread | E2: =Ativos!$L$21 -> 2.7 | G2: Equity | H2: =SUM(D5:G5) -> 3261.17 | I2: Exit calculator
B3: Balance | D3: Starting balance | F3: $ Profit | I3: TP factor | J3: $ Profit | K3: % | L3: Price
F4: Closed | G4: Floating | H4: Total | J4: =IF(I4="","",IF(N10="","",IF(B10=0,"",I4*N10))) | K4: =IF(J4="","",IF(D5="","",100*J4/D5)) | L4: =IF(I4="","",IF(I10="","",IF(B10="","",IF(B10=0,"",IF(J4="","",I10+(J4-F5-G5)/N19/B10/J11)))))
B5: =D5+F5 -> 3261.17 | D5: =CLog!$Z$42 -> 3261.17 | F5: =IF(J10="",0,J10) -> 0 | G5: =K10 | H5: =IF(F5="",IF(G5="","",G5),IF(G5="",F5,F5+G5)) -> 0 | I5: =IF(J5="","",IF(N10="","",J5/N10)) | J5: =IF(K5="","",K5*D5/100) | K5: =IF(L5="","",100*B10*N19*J11*(L5-D10)/D5) | M5: % Liq Ac | N5: =[3]CRe!$P$32 -> 0.010120092
B6: Ask | D6: =Ativos!$L$19 -> 0.98752 | F6: =IF(F5="","",100*F5/D5) -> 0 | G6: =IF(G5="","",100*G5/D5) | H6: =IF(H5="","",100*(H2/D5-1)) -> 0 | I6: Stop | J6: =IF(K6="","",K6*D5/100) | K6: =IF(L6="","",100*B10*N19*J11*(L6-D10)/D5) | L6: =IF(J15<>"",J15,IF(H16="","",H16)) | M6: House Factor | N6: =IF(N17="","",IF(N5="","",N17/N5)) -> 49.406667
B7: Bid | D7: =Ativos!$L$20 -> 0.98725 | F7: % Profit | I7: Kelly | J7: =IF(K7="","",-K7*D5/100) -> -16.253937 | K7: =Risk!$C$13 -> 0.49840816 | L7: =IF(K7="","",IF(I10="","",IF(K7=0,"",IF(B10=0,"",I10-(H2-D5-J7)/N19/B10)))) | M7: Kelly Factor | N7: =IF(N17="","",IF(K7="","",IF(K7=0,"",N17/K7))) -> 1.0031938
B8: Lots (+-) | C8: Leverage | D8: Entry Price | E8: Take Profit | F8: $ Target | G8: Swap / Perm | I8: Price | J8: Closed $ | K8: $ Profit | L8: % Profit | M8: Target Default
M9: Take profit | N9: $ Target
B10: =IF(B11<>"",B11,IF(H18="","",H18)) | C10: =IF(B10="","",IF(B10>0,N19*B10*D6/D5,-N19*B10*D7/D5)) | D10: =IF(D11<>"",D11,IF(H17="","",H17)) | E10: =IF(E11<>"",E11,IF(J19="","",J19)) | F10: =IF(B10="","",IF(D10="","",IF(E10="","",B10*N$19*J11*(E10-D10)))) | G10: 0 | I10: =IF(B10="","",IF(B10>0,D$7,D$6)) | J10: =IF(B10="","",IF(H10="t",B10*N$19*(E10-D10)+G10,IF(H10="s",B10*N$19*(L6-D10)+G10,""))) | K10: =IF(B10="","",IF(H10="",B10*N19*J11*(I10-D10)+G10,"")) | L10: =IF(B10="","",IF(H10<>"",100*J10/D$5,100*K10/D$5)) | M10: =IF(E10="","",E10) | N10: =IF(B10="","",IF(D10="","",IF(M10="","",B10*N$19*J11*(M10-D10))))
C11: Broker | G11: Pip Div | H11: =Ativos!$L$23 -> 10000 | I11: Pip Value | J11: =Ativos!$L$24 -> 0.75232907 | M11: Current $ | N11: =IF(F10="","",F10+G10)
B12: =D5/N19/3 -> 0.010870567 | C12: No Stop | M12: % | N12: =IF(N11="","",100*N11/D5)
D13: Buy | F13: Sell | H13: Choice | I13: Trailing Stop | M13: PF | N13: =IF(N11="","",IF(J6="","",IF(J6=0,9999.9999,IF(J6>0,"No Loss",-N11/J6))))
C14: Stop Pivot | E14: =IF(D14="","",D14) | G14: =IF(F14="","",F14) | I14: Pivot | M14: Risk
C15: Stop Pips off | D15: 20 | E15: 3 | F15: 15 | G15: 1 | H15: =IF(D$24="x",IF(E$24="",IF(F$24="",IF(G$24="",D15,""),""),""),IF(E$24="x",IF(F$24="",IF(G$24="",E15,""),""),IF(F$24="x",IF(G$24="",F15,""),IF(G$24="x",G15,"")))) | I15: Stop | J15: =IF(J14="","",IF(H15="","",IF(B10="","",IF(B10>0,J14-H15/$H$11,IF(B10<0,J14+H15/$H$11,""))))) | K15: Simulation | M15: Base Risk (%) | N15: 0.5
C16: Stop | D16: =IF(D14="","",IF(D15="","",D14-D15/$H$11)) | E16: =IF(E14="","",IF(E15="","",E14-E15/$H$11)) | F16: =IF(F14="","",IF(F15="","",F14+F15/$H$11)) | G16: =IF(G14="","",IF(G15="","",G14+G15/$H$11)) | H16: =IF(D$24="x",IF(E$24="",IF(F$24="",IF(G$24="",D16,""),""),""),IF(E$24="x",IF(F$24="",IF(G$24="",E16,""),""),IF(F$24="x",IF(G$24="",F16,""),IF(G$24="x",G16,"")))) | K16: Balance | L16: Lots | M16: Agres (0-100) | N16: 20
C17: Entry | D17: =IF(D16="","",D6) | E17: =IF(E16="","",D6) | F17: =IF(F16="","",D7) | G17: =IF(G16="","",D7) | H17: =IF(D11<>"",D11,IF(D$24="x",IF(E$24="",IF(F$24="",IF(G$24="",D17,""),""),""),IF(E$24="x",IF(F$24="",IF(G$24="",E17,""),""),IF(F$24="x",IF(G$24="",F17,""),IF(G$24="x",G17,""))))) | I17: Target choice | K17: 10000 | L17: =IF(H18="","",IF(K17="","",IF(D5="","",H18*K17/D5))) | M17: Risk (%) | N17: =IF(N15="","",IF(N16="","",IF(K7="","",IF(K7<N15,N15,N15+N16*(K7-N15)/100)))) -> 0.5
C18: Lots | D18: =IF(D17="","",IF(N17="","",N17*D5/100/(D17-D16)/N19/J11)) | E18: =IF(E17="","",IF(N17="","",N17*D5/100/(E17-E16)/N19/J11)) | F18: =IF(F17="","",IF(N17="","",N17*D5/100/(F17-F16)/N19/J11)) | G18: =IF(G17="","",IF(N17="","",N17*D5/100/(G17-G16)/N19/J11)) | H18: =IF(B11<>"",B11,IF(D$24="x",IF(E$24="",IF(F$24="",IF(G$24="",D18,""),""),""),IF(E$24="x",IF(F$24="",IF(G$24="",E18,""),""),IF(F$24="x",IF(G$24="",F18,""),IF(G$24="x",G18,""))))) | I18: (x) | J18: Price | K18: No Stop | L18: =IF(K17="","",K17/N19/J11/3) -> 0.044306853 | M18: Risk ($) | N18: =IF(N17="","",N17*D5/100) -> 16.30585
C19: R1 | D19: =IF(D18="","",D$17+(D$17-D$16)) | E19: =IF(E18="","",E$17+(E$17-E$16)) | F19: =IF(F18="","",F$17-(F$16-F$17)) | G19: =IF(G18="","",G$17-(G$16-G$17)) | H19: =IF(H18="","",H$17+(H$17-H$16)) | I19: x | J19: =IF(I19="x",H19,IF(I20="x",H20,IF(I21="x",H21,IF(I22="x",H22,IF(I23="x",H23,""))))) | M19: Lot size | N19: =Ativos!$L$22 -> 100000
C20: R2 | D20: =IF(D19="","",D$17+2*(D$17-D$16)) | E20: =IF(E19="","",E$17+2*(E$17-E$16)) | F20: =IF(F19="","",F$17-2*(F$16-F$17)) | G20: =IF(G19="","",G$17-2*(G$16-G$17)) | H20: =IF(H19="","",H$17+2*(H$17-H$16)) | M20: Max leverage | N20: 500
C21: R3 | D21: =IF(D20="","",D$17+3*(D$17-D$16)) | E21: =IF(E20="","",E$17+3*(E$17-E$16)) | F21: =IF(F20="","",F$17-3*(F$16-F$17)) | G21: =IF(G20="","",G$17-3*(G$16-G$17)) | H21: =IF(H20="","",H$17+3*(H$17-H$16)) | J21: RFrac | M21: Max lots | N21: =IF(D5="","",IF(N19="","",IF(N20="","",D5*N20/N19/D6))) -> 16.511919
C22: R4 | D22: =IF(D21="","",D$17+4*(D$17-D$16)) | E22: =IF(E21="","",E$17+4*(E$17-E$16)) | F22: =IF(F21="","",F$17-4*(F$16-F$17)) | G22: =IF(G21="","",G$17-4*(G$16-G$17)) | H22: =IF(H21="","",H$17+4*(H$17-H$16)) | K22: =IF(K23="","",IF(H17="","",(K23-H17)/(H17-H16))) | L22: PF
C23: R5 | D23: =IF(D22="","",D$17+5*(D$17-D$16)) | E23: =IF(E22="","",E$17+5*(E$17-E$16)) | F23: =IF(F22="","",F$17-5*(F$16-F$17)) | G23: =IF(G22="","",G$17-5*(G$16-G$17)) | H23: =IF(H22="","",H$17+5*(H$17-H$16)) | J23: =IF(J22="","",IF(H17="","",H17+J22*(H17-H16))) | L23: Target
C24: Choice (x) | H24: =IF(D$24="x",IF(E$24="",IF(F$24="",IF(G$24="",D13,""),""),""),IF(E$24="x",IF(F$24="",IF(G$24="",D13,""),""),IF(F$24="x",IF(G$24="",F13,""),IF(G$24="x",F13,""))))

Sheet 2
B2: Ativo | C2: =Ativos!$N$18 -> AUDUSD | D2: Spread | E2: =Ativos!$N$21 -> 1.8 | G2: Equity | H2: =SUM(D5:G5) -> 3261.17 | I2: Exit calculator
B3: Balance | D3: Starting balance | F3: $ Profit | I3: TP factor | J3: $ Profit | K3: % | L3: Price
F4: Closed | G4: Floating | H4: Total | J4: =IF(I4="","",IF(N10="","",IF(B10=0,"",I4*N10))) | K4: =IF(J4="","",IF(D5="","",100*J4/D5)) | L4: =IF(I4="","",IF(I10="","",IF(B10="","",IF(B10=0,"",IF(J4="","",I10+(J4-F5-G5)/N19/B10/J11)))))
B5: =D5+F5 -> 3261.17 | D5: =CLog!$Z$42 -> 3261.17 | F5: =IF(J10="",0,J10) -> 0 | G5: =K10 | H5: =IF(F5="",IF(G5="","",G5),IF(G5="",F5,F5+G5)) -> 0 | I5: =IF(J5="","",IF(N10="","",J5/N10)) | J5: =IF(K5="","",K5*D5/100) | K5: =IF(L5="","",100*B10*N19*J11*(L5-D10)/D5) | M5: % Liq Ac | N5: =[3]CRe!$P$32 -> 0.010120092
B6: Ask | D6: =Ativos!$N$19 -> 0.74294 | F6: =IF(F5="","",100*F5/D5) -> 0 | G6: =IF(G5="","",100*G5/D5) | H6: =IF(H5="","",100*(H2/D5-1)) -> 0 | I6: Stop | J6: =IF(K6="","",K6*D5/100) | K6: =IF(L6="","",100*B10*N19*J11*(L6-D10)/D5) | L6: =IF(J15<>"",J15,IF(H16="","",H16)) | M6: House Factor | N6: =IF(N17="","",IF(N5="","",N17/N5)) -> 49.406667
B7: Bid | D7: =Ativos!$N$20 -> 0.74276 | F7: % Profit | I7: Kelly | J7: =IF(K7="","",-K7*D5/100) -> -16.253937 | K7: =Risk!$C$13 -> 0.49840816 | L7: =IF(K7="","",IF(I10="","",IF(K7=0,"",IF(B10=0,"",I10-(H2-D5-J7)/N19/B10)))) | M7: Kelly Factor | N7: =IF(N17="","",IF(K7="","",IF(K7=0,"",N17/K7))) -> 1.0031938
B8: Lots (+-) | C8: Leverage | D8: Entry Price | E8: Take Profit | F8: $ Target | G8: Swap / Perm | I8: Price | J8: Closed $ | K8: $ Profit | L8: % Profit | M8: Target Default
M9: Take profit | N9: $ Target
B10: =IF(B11<>"",B11,IF(H18="","",H18)) | C10: =IF(B10="","",IF(B10>0,N19*B10*D6/D5,-N19*B10*D7/D5)) | D10: =IF(D11<>"",D11,IF(H17="","",H17)) | E10: =IF(E11<>"",E11,IF(J19="","",J19)) | F10: =IF(B10="","",IF(D10="","",IF(E10="","",B10*N$19*J11*(E10-D10)))) | G10: 0 | I10: =IF(B10="","",IF(B10>0,D$7,D$6)) | J10: =IF(B10="","",IF(H10="t",B10*N$19*(E10-D10)+G10,IF(H10="s",B10*N$19*(L6-D10)+G10,""))) | K10: =IF(B10="","",IF(H10="",B10*N19*J11*(I10-D10)+G10,"")) | L10: =IF(B10="","",IF(H10<>"",100*J10/D$5,100*K10/D$5)) | M10: =IF(E10="","",E10) | N10: =IF(B10="","",IF(D10="","",IF(M10="","",B10*N$19*J11*(M10-D10))))
C11: Broker | G11: Pip Div | H11: =Ativos!$N$23 -> 10000 | I11: Pip Value | J11: =Ativos!$N$24 -> 1 | M11: Current $ | N11: =IF(F10="","",F10+G10)
B12: =D5/N19/3 -> 0.010870567 | C12: No Stop | M12: % | N12: =IF(N11="","",100*N11/D5)
D13: Buy | F13: Sell | H13: Choice | I13: Trailing Stop | M13: PF | N13: =IF(N11="","",IF(J6="","",IF(J6=0,9999.9999,IF(J6>0,"No Loss",-N11/J6))))
C14: Stop Pivot | E14: =IF(D14="","",D14) | G14: =IF(F14="","",F14) | I14: Pivot | M14: Risk
C15: Stop Pips off | D15: ='1'!D15 -> 20 | E15: ='1'!E15 -> 3 | F15: ='1'!F15 -> 15 | G15: ='1'!G15 -> 1 | H15: =IF(D$24="x",IF(E$24="",IF(F$24="",IF(G$24="",D15,""),""),""),IF(E$24="x",IF(F$24="",IF(G$24="",E15,""),""),IF(F$24="x",IF(G$24="",F15,""),IF(G$24="x",G15,"")))) | I15: Stop | J15: =IF(J14="","",IF(H15="","",IF(B10="","",IF(B10>0,J14-H15/$H$11,IF(B10<0,J14+H15/$H$11,""))))) | K15: Simulation | M15: Base Risk (%) | N15: ='1'!$N$15 -> 0.5
C16: Stop | D16: =IF(D14="","",IF(D15="","",D14-D15/$H$11)) | E16: =IF(E14="","",IF(E15="","",E14-E15/$H$11)) | F16: =IF(F14="","",IF(F15="","",F14+F15/$H$11)) | G16: =IF(G14="","",IF(G15="","",G14+G15/$H$11)) | H16: =IF(D$24="x",IF(E$24="",IF(F$24="",IF(G$24="",D16,""),""),""),IF(E$24="x",IF(F$24="",IF(G$24="",E16,""),""),IF(F$24="x",IF(G$24="",F16,""),IF(G$24="x",G16,"")))) | K16: Balance | L16: Lots | M16: Agres (0-100) | N16: ='1'!$N$16 -> 20
C17: Entry | D17: =IF(D16="","",D6) | E17: =IF(E16="","",D6) | F17: =IF(F16="","",D7) | G17: =IF(G16="","",D7) | H17: =IF(D11<>"",D11,IF(D$24="x",IF(E$24="",IF(F$24="",IF(G$24="",D17,""),""),""),IF(E$24="x",IF(F$24="",IF(G$24="",E17,""),""),IF(F$24="x",IF(G$24="",F17,""),IF(G$24="x",G17,""))))) | I17: Target choice | K17: ='1'!$K$17 -> 10000 | L17: =IF(H18="","",IF(K17="","",IF(D5="","",H18*K17/D5))) | M17: Risk (%) | N17: ='1'!N17 -> 0.5
C18: Lots | D18: =IF(D17="","",IF(N17="","",N17*D5/100/(D17-D16)/N19/J11)) | E18: =IF(E17="","",IF(N17="","",N17*D5/100/(E17-E16)/N19/J11)) | F18: =IF(F17="","",IF(N17="","",N17*D5/100/(F17-F16)/N19/J11)) | G18: =IF(G17="","",IF(N17="","",N17*D5/100/(G17-G16)/N19/J11)) | H18: =IF(B11<>"",B11,IF(D$24="x",IF(E$24="",IF(F$24="",IF(G$24="",D18,""),""),""),IF(E$24="x",IF(F$24="",IF(G$24="",E18,""),""),IF(F$24="x",IF(G$24="",F18,""),IF(G$24="x",G18,""))))) | I18: (x) | J18: Price | K18: No Stop | L18: =IF(K17="","",K17/N19/J11/3) -> 0.033333333 | M18: Risk ($) | N18: ='1'!N18 -> 16.30585
C19: R1 | D19: =IF(D18="","",D$17+(D$17-D$16)) | E19: =IF(E18="","",E$17+(E$17-E$16)) | F19: =IF(F18="","",F$17-(F$16-F$17)) | G19: =IF(G18="","",G$17-(G$16-G$17)) | H19: =IF(H18="","",H$17+(H$17-H$16)) | I19: x | J19: =IF(I19="x",H19,IF(I20="x",H20,IF(I21="x",H21,IF(I22="x",H22,IF(I23="x",H23,""))))) | M19: Lot size | N19: =Ativos!$N$22 -> 100000
C20: R2 | D20: =IF(D19="","",D$17+2*(D$17-D$16)) | E20: =IF(E19="","",E$17+2*(E$17-E$16)) | F20: =IF(F19="","",F$17-2*(F$16-F$17)) | G20: =IF(G19="","",G$17-2*(G$16-G$17)) | H20: =IF(H19="","",H$17+2*(H$17-H$16)) | M20: Max leverage | N20: ='1'!$N$20 -> 500
C21: R3 | D21: =IF(D20="","",D$17+3*(D$17-D$16)) | E21: =IF(E20="","",E$17+3*(E$17-E$16)) | F21: =IF(F20="","",F$17-3*(F$16-F$17)) | G21: =IF(G20="","",G$17-3*(G$16-G$17)) | H21: =IF(H20="","",H$17+3*(H$17-H$16)) | J21: RFrac | M21: Max lots | N21: =IF(D5="","",IF(N19="","",IF(N20="","",D5*N20/N19/D6))) -> 21.947735
C22: R4 | D22: =IF(D21="","",D$17+4*(D$17-D$16)) | E22: =IF(E21="","",E$17+4*(E$17-E$16)) | F22: =IF(F21="","",F$17-4*(F$16-F$17)) | G22: =IF(G21="","",G$17-4*(G$16-G$17)) | H22: =IF(H21="","",H$17+4*(H$17-H$16)) | K22: =IF(K23="","",IF(H17="","",(K23-H17)/(H17-H16))) | L22: PF
C23: R5 | D23: =IF(D22="","",D$17+5*(D$17-D$16)) | E23: =IF(E22="","",E$17+5*(E$17-E$16)) | F23: =IF(F22="","",F$17-5*(F$16-F$17)) | G23: =IF(G22="","",G$17-5*(G$16-G$17)) | H23: =IF(H22="","",H$17+5*(H$17-H$16)) | J23: =IF(J22="","",IF(H17="","",H17+J22*(H17-H16))) | L23: Target
C24: Choice (x) | H24: =IF(D$24="x",IF(E$24="",IF(F$24="",IF(G$24="",D13,""),""),""),IF(E$24="x",IF(F$24="",IF(G$24="",D13,""),""),IF(F$24="x",IF(G$24="",F13,""),IF(G$24="x",F13,""))))

Sheet 3
B2: Ativo | C2: =Ativos!$P$18 -> CHFJPY | D2: Spread | E2: =Ativos!$P$21 -> 2.6 | G2: Equity | H2: =SUM(D5:G5) -> 3261.17 | I2: Exit calculator
B3: Balance | D3: Starting balance | F3: $ Profit | I3: TP factor | J3: $ Profit | K3: % | L3: Price
F4: Closed | G4: Floating | H4: Total | J4: =IF(I4="","",IF(N10="","",IF(B10=0,"",I4*N10))) | K4: =IF(J4="","",IF(D5="","",100*J4/D5)) | L4: =IF(I4="","",IF(I10="","",IF(B10="","",IF(B10=0,"",IF(J4="","",I10+(J4-F5-G5)/N19/B10/J11)))))
B5: =D5+F5 -> 3261.17 | D5: =CLog!$Z$42 -> 3261.17 | F5: =IF(J10="",0,J10) -> 0 | G5: =K10 | H5: =IF(F5="",IF(G5="","",G5),IF(G5="",F5,F5+G5)) -> 0 | I5: =IF(J5="","",IF(N10="","",J5/N10)) | J5: =IF(K5="","",K5*D5/100) | K5: =IF(L5="","",100*B10*N19*J11*(L5-D10)/D5) | M5: % Liq Ac | N5: =[3]CRe!$P$32 -> 0.010120092
B6: Ask | D6: =Ativos!$P$19 -> 111.032 | F6: =IF(F5="","",100*F5/D5) -> 0 | G6: =IF(G5="","",100*G5/D5) | H6: =IF(H5="","",100*(H2/D5-1)) -> 0 | I6: Stop | J6: =IF(K6="","",K6*D5/100) | K6: =IF(L6="","",100*B10*N19*J11*(L6-D10)/D5) | L6: =IF(J15<>"",J15,IF(H16="","",H16)) | M6: House Factor | N6: =IF(N17="","",IF(N5="","",N17/N5)) -> 49.406667
B7: Bid | D7: =Ativos!$P$20 -> 111.006 | F7: % Profit | I7: Kelly | J7: =IF(K7="","",-K7*D5/100) -> -16.253937 | K7: =Risk!$C$13 -> 0.49840816 | L7: =IF(K7="","",IF(I10="","",IF(K7=0,"",IF(B10=0,"",I10-(H2-D5-J7)/N19/B10)))) | M7: Kelly Factor | N7: =IF(N17="","",IF(K7="","",IF(K7=0,"",N17/K7))) -> 1.0031938
B8: Lots (+-) | C8: Leverage | D8: Entry Price | E8: Take Profit | F8: $ Target | G8: Swap / Perm | I8: Price | J8: Closed $ | K8: $ Profit | L8: % Profit | M8: Target Default
M9: Take profit | N9: $ Target
B10: =IF(B11<>"",B11,IF(H18="","",H18)) | C10: =IF(B10="","",IF(B10>0,N19*B10*D6/D5,-N19*B10*D7/D5)) | D10: =IF(D11<>"",D11,IF(H17="","",H17)) | E10: =IF(E11<>"",E11,IF(J19="","",J19)) | F10: =IF(B10="","",IF(D10="","",IF(E10="","",B10*N$19*J11*(E10-D10)))) | G10: 0 | I10: =IF(B10="","",IF(B10>0,D$7,D$6)) | J10: =IF(B10="","",IF(H10="t",B10*N$19*(E10-D10)+G10,IF(H10="s",B10*N$19*(L6-D10)+G10,""))) | K10: =IF(B10="","",IF(H10="",B10*N19*J11*(I10-D10)+G10,"")) | L10: =IF(B10="","",IF(H10<>"",100*J10/D$5,100*K10/D$5)) | M10: =IF(E10="","",E10) | N10: =IF(B10="","",IF(D10="","",IF(M10="","",B10*N$19*J11*(M10-D10))))
C11: Broker | G11: Pip Div | H11: =Ativos!$P$23 -> 100 | I11: Pip Value | J11: =Ativos!$P$24 -> 0.91232552 | M11: Current $ | N11: =IF(F10="","",F10+G10)
B12: =D5/N19/3 -> 1.0870567 | C12: No Stop | M12: % | N12: =IF(N11="","",100*N11/D5)
D13: Buy | F13: Sell | H13: Choice | I13: Trailing Stop | M13: PF | N13: =IF(N11="","",IF(J6="","",IF(J6=0,9999.9999,IF(J6>0,"No Loss",-N11/J6))))
C14: Stop Pivot | E14: =IF(D14="","",D14) | G14: =IF(F14="","",F14) | I14: Pivot | M14: Risk
C15: Stop Pips off | D15: ='1'!D15 -> 20 | E15: ='1'!E15 -> 3 | F15: ='1'!F15 -> 15 | G15: ='1'!G15 -> 1 | H15: =IF(D$24="x",IF(E$24="",IF(F$24="",IF(G$24="",D15,""),""),""),IF(E$24="x",IF(F$24="",IF(G$24="",E15,""),""),IF(F$24="x",IF(G$24="",F15,""),IF(G$24="x",G15,"")))) | I15: Stop | J15: =IF(J14="","",IF(H15="","",IF(B10="","",IF(B10>0,J14-H15/$H$11,IF(B10<0,J14+H15/$H$11,""))))) | K15: Simulation | M15: Base Risk (%) | N15: ='1'!$N$15 -> 0.5
C16: Stop | D16: =IF(D14="","",IF(D15="","",D14-D15/$H$11)) | E16: =IF(E14="","",IF(E15="","",E14-E15/$H$11)) | F16: =IF(F14="","",IF(F15="","",F14+F15/$H$11)) | G16: =IF(G14="","",IF(G15="","",G14+G15/$H$11)) | H16: =IF(D$24="x",IF(E$24="",IF(F$24="",IF(G$24="",D16,""),""),""),IF(E$24="x",IF(F$24="",IF(G$24="",E16,""),""),IF(F$24="x",IF(G$24="",F16,""),IF(G$24="x",G16,"")))) | K16: Balance | L16: Lots | M16: Agres (0-100) | N16: ='1'!$N$16 -> 20
C17: Entry | D17: =IF(D16="","",D6) | E17: =IF(E16="","",D6) | F17: =IF(F16="","",D7) | G17: =IF(G16="","",D7) | H17: =IF(D11<>"",D11,IF(D$24="x",IF(E$24="",IF(F$24="",IF(G$24="",D17,""),""),""),IF(E$24="x",IF(F$24="",IF(G$24="",E17,""),""),IF(F$24="x",IF(G$24="",F17,""),IF(G$24="x",G17,""))))) | I17: Target choice | K17: ='1'!$K$17 -> 10000 | L17: =IF(H18="","",IF(K17="","",IF(D5="","",H18*K17/D5))) | M17: Risk (%) | N17: ='1'!N17 -> 0.5
C18: Lots | D18: =IF(D17="","",IF(N17="","",N17*D5/100/(D17-D16)/N19/J11)) | E18: =IF(E17="","",IF(N17="","",N17*D5/100/(E17-E16)/N19/J11)) | F18: =IF(F17="","",IF(N17="","",N17*D5/100/(F17-F16)/N19/J11)) | G18: =IF(G17="","",IF(N17="","",N17*D5/100/(G17-G16)/N19/J11)) | H18: =IF(B11<>"",B11,IF(D$24="x",IF(E$24="",IF(F$24="",IF(G$24="",D18,""),""),""),IF(E$24="x",IF(F$24="",IF(G$24="",E18,""),""),IF(F$24="x",IF(G$24="",F18,""),IF(G$24="x",G18,""))))) | I18: (x) | J18: Price | K18: No Stop | L18: =IF(K17="","",K17/N19/J11/3) -> 3.6536667 | M18: Risk ($) | N18: ='1'!N18 -> 16.30585
C19: R1 | D19: =IF(D18="","",D$17+(D$17-D$16)) | E19: =IF(E18="","",E$17+(E$17-E$16)) | F19: =IF(F18="","",F$17-(F$16-F$17)) | G19: =IF(G18="","",G$17-(G$16-G$17)) | H19: =IF(H18="","",H$17+(H$17-H$16)) | I19: x | J19: =IF(I19="x",H19,IF(I20="x",H20,IF(I21="x",H21,IF(I22="x",H22,IF(I23="x",H23,""))))) | M19: Lot size | N19: =Ativos!$P$22 -> 1000
C20: R2 | D20: =IF(D19="","",D$17+2*(D$17-D$16)) | E20: =IF(E19="","",E$17+2*(E$17-E$16)) | F20: =IF(F19="","",F$17-2*(F$16-F$17)) | G20: =IF(G19="","",G$17-2*(G$16-G$17)) | H20: =IF(H19="","",H$17+2*(H$17-H$16)) | M20: Max leverage | N20: ='1'!$N$20 -> 500
C21: R3 | D21: =IF(D20="","",D$17+3*(D$17-D$16)) | E21: =IF(E20="","",E$17+3*(E$17-E$16)) | F21: =IF(F20="","",F$17-3*(F$16-F$17)) | G21: =IF(G20="","",G$17-3*(G$16-G$17)) | H21: =IF(H20="","",H$17+3*(H$17-H$16)) | J21: RFrac | M21: Max lots | N21: =IF(D5="","",IF(N19="","",IF(N20="","",D5*N20/N19/D6))) -> 14.685721
C22: R4 | D22: =IF(D21="","",D$17+4*(D$17-D$16)) | E22: =IF(E21="","",E$17+4*(E$17-E$16)) | F22: =IF(F21="","",F$17-4*(F$16-F$17)) | G22: =IF(G21="","",G$17-4*(G$16-G$17)) | H22: =IF(H21="","",H$17+4*(H$17-H$16)) | K22: =IF(K23="","",IF(H17="","",(K23-H17)/(H17-H16))) | L22: PF
C23: R5 | D23: =IF(D22="","",D$17+5*(D$17-D$16)) | E23: =IF(E22="","",E$17+5*(E$17-E$16)) | F23: =IF(F22="","",F$17-5*(F$16-F$17)) | G23: =IF(G22="","",G$17-5*(G$16-G$17)) | H23: =IF(H22="","",H$17+5*(H$17-H$16)) | J23: =IF(J22="","",IF(H17="","",H17+J22*(H17-H16))) | L23: Target
C24: Choice (x) | H24: =IF(D$24="x",IF(E$24="",IF(F$24="",IF(G$24="",D13,""),""),""),IF(E$24="x",IF(F$24="",IF(G$24="",D13,""),""),IF(F$24="x",IF(G$24="",F13,""),IF(G$24="x",F13,""))))

Sheet 4
B2: Ativo | C2: =Ativos!$R$18 -> EURGBP | D2: Spread | E2: =Ativos!$R$21 -> 1.7 | G2: Equity | H2: =SUM(D5:G5) -> 3261.17 | I2: Exit calculator
B3: Balance | D3: Starting balance | F3: $ Profit | I3: TP factor | J3: $ Profit | K3: % | L3: Price
F4: Closed | G4: Floating | H4: Total | J4: =IF(I4="","",IF(N10="","",IF(B10=0,"",I4*N10))) | K4: =IF(J4="","",IF(D5="","",100*J4/D5)) | L4: =IF(I4="","",IF(I10="","",IF(B10="","",IF(B10=0,"",IF(J4="","",I10+(J4-F5-G5)/N19/B10/J11)))))
B5: =D5+F5 -> 3261.17 | D5: =CLog!$Z$42 -> 3261.17 | F5: =IF(J10="",0,J10) -> 0 | G5: =K10 | H5: =IF(F5="",IF(G5="","",G5),IF(G5="",F5,F5+G5)) -> 0 | I5: =IF(J5="","",IF(N10="","",J5/N10)) | J5: =IF(K5="","",K5*D5/100) | K5: =IF(L5="","",100*B10*N19*J11*(L5-D10)/D5) | M5: % Liq Ac | N5: =[3]CRe!$P$32 -> 0.010120092
B6: Ask | D6: =Ativos!$R$19 -> 0.88012 | F6: =IF(F5="","",100*F5/D5) -> 0 | G6: =IF(G5="","",100*G5/D5) | H6: =IF(H5="","",100*(H2/D5-1)) -> 0 | I6: Stop | J6: =IF(K6="","",K6*D5/100) | K6: =IF(L6="","",100*B10*N19*J11*(L6-D10)/D5) | L6: =IF(J15<>"",J15,IF(H16="","",H16)) | M6: House Factor | N6: =IF(N17="","",IF(N5="","",N17/N5)) -> 49.406667
B7: Bid | D7: =Ativos!$R$20 -> 0.87995 | F7: % Profit | I7: Kelly | J7: =IF(K7="","",-K7*D5/100) -> -16.253937 | K7: =Risk!$C$13 -> 0.49840816 | L7: =IF(K7="","",IF(I10="","",IF(K7=0,"",IF(B10=0,"",I10-(H2-D5-J7)/N19/B10)))) | M7: Kelly Factor | N7: =IF(N17="","",IF(K7="","",IF(K7=0,"",N17/K7))) -> 1.0031938
B8: Lots (+-) | C8: Leverage | D8: Entry Price | E8: Take Profit | F8: $ Target | G8: Swap / Perm | I8: Price | J8: Closed $ | K8: $ Profit | L8: % Profit | M8: Target Default
M9: Take profit | N9: $ Target
B10: =IF(B11<>"",B11,IF(H18="","",H18)) | C10: =IF(B10="","",IF(B10>0,N19*B10*D6/D5,-N19*B10*D7/D5)) | D10: =IF(D11<>"",D11,IF(H17="","",H17)) | E10: =IF(E11<>"",E11,IF(J19="","",J19)) | F10: =IF(B10="","",IF(D10="","",IF(E10="","",B10*N$19*J11*(E10-D10)))) | G10: 0 | I10: =IF(B10="","",IF(B10>0,D$7,D$6)) | J10: =IF(B10="","",IF(H10="t",B10*N$19*(E10-D10)+G10,IF(H10="s",B10*N$19*(L6-D10)+G10,""))) | K10: =IF(B10="","",IF(H10="",B10*N19*J11*(I10-D10)+G10,"")) | L10: =IF(B10="","",IF(H10<>"",100*J10/D$5,100*K10/D$5)) | M10: =IF(E10="","",E10) | N10: =IF(B10="","",IF(D10="","",IF(M10="","",B10*N$19*J11*(M10-D10))))
C11: Broker | G11: Pip Div | H11: =Ativos!$R$23 -> 10000 | I11: Pip Value | J11: =Ativos!$R$24 -> 1.5091806 | M11: Current $ | N11: =IF(F10="","",F10+G10)
B12: =D5/N19/3 -> 0.010870567 | C12: No Stop | M12: % | N12: =IF(N11="","",100*N11/D5)
D13: Buy | F13: Sell | H13: Choice | I13: Trailing Stop | M13: PF | N13: =IF(N11="","",IF(J6="","",IF(J6=0,9999.9999,IF(J6>0,"No Loss",-N11/J6))))
C14: Stop Pivot | E14: =IF(D14="","",D14) | G14: =IF(F14="","",F14) | I14: Pivot | M14: Risk
C15: Stop Pips off | D15: ='1'!D15 -> 20 | E15: ='1'!E15 -> 3 | F15: ='1'!F15 -> 15 | G15: ='1'!G15 -> 1 | H15: =IF(D$24="x",IF(E$24="",IF(F$24="",IF(G$24="",D15,""),""),""),IF(E$24="x",IF(F$24="",IF(G$24="",E15,""),""),IF(F$24="x",IF(G$24="",F15,""),IF(G$24="x",G15,"")))) | I15: Stop | J15: =IF(J14="","",IF(H15="","",IF(B10="","",IF(B10>0,J14-H15/$H$11,IF(B10<0,J14+H15/$H$11,""))))) | K15: Simulation | M15: Base Risk (%) | N15: ='1'!$N$15 -> 0.5
C16: Stop | D16: =IF(D14="","",IF(D15="","",D14-D15/$H$11)) | E16: =IF(E14="","",IF(E15="","",E14-E15/$H$11)) | F16: =IF(F14="","",IF(F15="","",F14+F15/$H$11)) | G16: =IF(G14="","",IF(G15="","",G14+G15/$H$11)) | H16: =IF(D$24="x",IF(E$24="",IF(F$24="",IF(G$24="",D16,""),""),""),IF(E$24="x",IF(F$24="",IF(G$24="",E16,""),""),IF(F$24="x",IF(G$24="",F16,""),IF(G$24="x",G16,"")))) | K16: Balance | L16: Lots | M16: Agres (0-100) | N16: ='1'!$N$16 -> 20
C17: Entry | D17: =IF(D16="","",D6) | E17: =IF(E16="","",D6) | F17: =IF(F16="","",D7) | G17: =IF(G16="","",D7) | H17: =IF(D11<>"",D11,IF(D$24="x",IF(E$24="",IF(F$24="",IF(G$24="",D17,""),""),""),IF(E$24="x",IF(F$24="",IF(G$24="",E17,""),""),IF(F$24="x",IF(G$24="",F17,""),IF(G$24="x",G17,""))))) | I17: Target choice | K17: ='1'!$K$17 -> 10000 | L17: =IF(H18="","",IF(K17="","",IF(D5="","",H18*K17/D5))) | M17: Risk (%) | N17: ='1'!N17 -> 0.5
C18: Lots | D18: =IF(D17="","",IF(N17="","",N17*D5/100/(D17-D16)/N19/J11)) | E18: =IF(E17="","",IF(N17="","",N17*D5/100/(E17-E16)/N19/J11)) | F18: =IF(F17="","",IF(N17="","",N17*D5/100/(F17-F16)/N19/J11)) | G18: =IF(G17="","",IF(N17="","",N17*D5/100/(G17-G16)/N19/J11)) | H18: =IF(B11<>"",B11,IF(D$24="x",IF(E$24="",IF(F$24="",IF(G$24="",D18,""),""),""),IF(E$24="x",IF(F$24="",IF(G$24="",E18,""),""),IF(F$24="x",IF(G$24="",F18,""),IF(G$24="x",G18,""))))) | I18: (x) | J18: Price | K18: No Stop | L18: =IF(K17="","",K17/N19/J11/3) -> 0.022087041 | M18: Risk ($) | N18: ='1'!N18 -> 16.30585
C19: R1 | D19: =IF(D18="","",D$17+(D$17-D$16)) | E19: =IF(E18="","",E$17+(E$17-E$16)) | F19: =IF(F18="","",F$17-(F$16-F$17)) | G19: =IF(G18="","",G$17-(G$16-G$17)) | H19: =IF(H18="","",H$17+(H$17-H$16)) | I19: x | J19: =IF(I19="x",H19,IF(I20="x",H20,IF(I21="x",H21,IF(I22="x",H22,IF(I23="x",H23,""))))) | M19: Lot size | N19: =Ativos!$R$22 -> 100000
C20: R2 | D20: =IF(D19="","",D$17+2*(D$17-D$16)) | E20: =IF(E19="","",E$17+2*(E$17-E$16)) | F20: =IF(F19="","",F$17-2*(F$16-F$17)) | G20: =IF(G19="","",G$17-2*(G$16-G$17)) | H20: =IF(H19="","",H$17+2*(H$17-H$16)) | M20: Max leverage | N20: ='1'!$N$20 -> 500
C21: R3 | D21: =IF(D20="","",D$17+3*(D$17-D$16)) | E21: =IF(E20="","",E$17+3*(E$17-E$16)) | F21: =IF(F20="","",F$17-3*(F$16-F$17)) | G21: =IF(G20="","",G$17-3*(G$16-G$17)) | H21: =IF(H20="","",H$17+3*(H$17-H$16)) | J21: RFrac | M21: Max lots | N21: =IF(D5="","",IF(N19="","",IF(N20="","",D5*N20/N19/D6))) -> 18.526849
C22: R4 | D22: =IF(D21="","",D$17+4*(D$17-D$16)) | E22: =IF(E21="","",E$17+4*(E$17-E$16)) | F22: =IF(F21="","",F$17-4*(F$16-F$17)) | G22: =IF(G21="","",G$17-4*(G$16-G$17)) | H22: =IF(H21="","",H$17+4*(H$17-H$16)) | K22: =IF(K23="","",IF(H17="","",(K23-H17)/(H17-H16))) | L22: PF
C23: R5 | D23: =IF(D22="","",D$17+5*(D$17-D$16)) | E23: =IF(E22="","",E$17+5*(E$17-E$16)) | F23: =IF(F22="","",F$17-5*(F$16-F$17)) | G23: =IF(G22="","",G$17-5*(G$16-G$17)) | H23: =IF(H22="","",H$17+5*(H$17-H$16)) | J23: =IF(J22="","",IF(H17="","",H17+J22*(H17-H16))) | L23: Target
C24: Choice (x) | H24: =IF(D$24="x",IF(E$24="",IF(F$24="",IF(G$24="",D13,""),""),""),IF(E$24="x",IF(F$24="",IF(G$24="",D13,""),""),IF(F$24="x",IF(G$24="",F13,""),IF(G$24="x",F13,""))))

Sheet 5
B2: Ativo | C2: =Ativos!$T$18 -> EURJPY | D2: Spread | E2: =Ativos!$T$21 -> 2.2 | G2: Equity | H2: =SUM(D5:G5) -> 3261.17 | I2: Exit calculator
B3: Balance | D3: Starting balance | F3: $ Profit | I3: TP factor | J3: $ Profit | K3: % | L3: Price
F4: Closed | G4: Floating | H4: Total | J4: =IF(I4="","",IF(N10="","",IF(B10=0,"",I4*N10))) | K4: =IF(J4="","",IF(D5="","",100*J4/D5)) | L4: =IF(I4="","",IF(I10="","",IF(B10="","",IF(B10=0,"",IF(J4="","",I10+(J4-F5-G5)/N19/B10/J11)))))
B5: =D5+F5 -> 3261.17 | D5: =CLog!$Z$42 -> 3261.17 | F5: =IF(J10="",0,J10) -> 0 | G5: =K10 | H5: =IF(F5="",IF(G5="","",G5),IF(G5="",F5,F5+G5)) -> 0 | I5: =IF(J5="","",IF(N10="","",J5/N10)) | J5: =IF(K5="","",K5*D5/100) | K5: =IF(L5="","",100*B10*N19*J11*(L5-D10)/D5) | M5: % Liq Ac | N5: =[3]CRe!$P$32 -> 0.010120092
B6: Ask | D6: =Ativos!$T$19 -> 128.117 | F6: =IF(F5="","",100*F5/D5) -> 0 | G6: =IF(G5="","",100*G5/D5) | H6: =IF(H5="","",100*(H2/D5-1)) -> 0 | I6: Stop | J6: =IF(K6="","",K6*D5/100) | K6: =IF(L6="","",100*B10*N19*J11*(L6-D10)/D5) | L6: =IF(J15<>"",J15,IF(H16="","",H16)) | M6: House Factor | N6: =IF(N17="","",IF(N5="","",N17/N5)) -> 49.406667
B7: Bid | D7: =Ativos!$T$20 -> 128.095 | F7: % Profit | I7: Kelly | J7: =IF(K7="","",-K7*D5/100) -> -16.253937 | K7: =Risk!$C$13 -> 0.49840816 | L7: =IF(K7="","",IF(I10="","",IF(K7=0,"",IF(B10=0,"",I10-(H2-D5-J7)/N19/B10)))) | M7: Kelly Factor | N7: =IF(N17="","",IF(K7="","",IF(K7=0,"",N17/K7))) -> 1.0031938
B8: Lots (+-) | C8: Leverage | D8: Entry Price | E8: Take Profit | F8: $ Target | G8: Swap / Perm | I8: Price | J8: Closed $ | K8: $ Profit | L8: % Profit | M8: Target Default
M9: Take profit | N9: $ Target
B10: =IF(B11<>"",B11,IF(H18="","",H18)) | C10: =IF(B10="","",IF(B10>0,N19*B10*D6/D5,-N19*B10*D7/D5)) | D10: =IF(D11<>"",D11,IF(H17="","",H17)) | E10: =IF(E11<>"",E11,IF(J19="","",J19)) | F10: =IF(B10="","",IF(D10="","",IF(E10="","",B10*N$19*J11*(E10-D10)))) | G10: 0 | I10: =IF(B10="","",IF(B10>0,D$7,D$6)) | J10: =IF(B10="","",IF(H10="t",B10*N$19*(E10-D10)+G10,IF(H10="s",B10*N$19*(L6-D10)+G10,""))) | K10: =IF(B10="","",IF(H10="",B10*N19*J11*(I10-D10)+G10,"")) | L10: =IF(B10="","",IF(H10<>"",100*J10/D$5,100*K10/D$5)) | M10: =IF(E10="","",E10) | N10: =IF(B10="","",IF(D10="","",IF(M10="","",B10*N$19*J11*(M10-D10))))
C11: Broker | G11: Pip Div | H11: =Ativos!$T$23 -> 100 | I11: Pip Value | J11: =Ativos!$T$24 -> 0.91235355 | M11: Current $ | N11: =IF(F10="","",F10+G10)
B12: =D5/N19/3 -> 1.0870567 | C12: No Stop | M12: % | N12: =IF(N11="","",100*N11/D5)
D13: Buy | F13: Sell | H13: Choice | I13: Trailing Stop | M13: PF | N13: =IF(N11="","",IF(J6="","",IF(J6=0,9999.9999,IF(J6>0,"No Loss",-N11/J6))))
C14: Stop Pivot | E14: =IF(D14="","",D14) | G14: =IF(F14="","",F14) | I14: Pivot | M14: Risk
C15: Stop Pips off | D15: ='1'!D15 -> 20 | E15: ='1'!E15 -> 3 | F15: ='1'!F15 -> 15 | G15: ='1'!G15 -> 1 | H15: =IF(D$24="x",IF(E$24="",IF(F$24="",IF(G$24="",D15,""),""),""),IF(E$24="x",IF(F$24="",IF(G$24="",E15,""),""),IF(F$24="x",IF(G$24="",F15,""),IF(G$24="x",G15,"")))) | I15: Stop | J15: =IF(J14="","",IF(H15="","",IF(B10="","",IF(B10>0,J14-H15/$H$11,IF(B10<0,J14+H15/$H$11,""))))) | K15: Simulation | M15: Base Risk (%) | N15: ='1'!$N$15 -> 0.5
C16: Stop | D16: =IF(D14="","",IF(D15="","",D14-D15/$H$11)) | E16: =IF(E14="","",IF(E15="","",E14-E15/$H$11)) | F16: =IF(F14="","",IF(F15="","",F14+F15/$H$11)) | G16: =IF(G14="","",IF(G15="","",G14+G15/$H$11)) | H16: =IF(D$24="x",IF(E$24="",IF(F$24="",IF(G$24="",D16,""),""),""),IF(E$24="x",IF(F$24="",IF(G$24="",E16,""),""),IF(F$24="x",IF(G$24="",F16,""),IF(G$24="x",G16,"")))) | K16: Balance | L16: Lots | M16: Agres (0-100) | N16: ='1'!$N$16 -> 20
C17: Entry | D17: =IF(D16="","",D6) | E17: =IF(E16="","",D6) | F17: =IF(F16="","",D7) | G17: =IF(G16="","",D7) | H17: =IF(D11<>"",D11,IF(D$24="x",IF(E$24="",IF(F$24="",IF(G$24="",D17,""),""),""),IF(E$24="x",IF(F$24="",IF(G$24="",E17,""),""),IF(F$24="x",IF(G$24="",F17,""),IF(G$24="x",G17,""))))) | I17: Target choice | K17: ='1'!$K$17 -> 10000 | L17: =IF(H18="","",IF(K17="","",IF(D5="","",H18*K17/D5))) | M17: Risk (%) | N17: ='1'!N17 -> 0.5
C18: Lots | D18: =IF(D17="","",IF(N17="","",N17*D5/100/(D17-D16)/N19/J11)) | E18: =IF(E17="","",IF(N17="","",N17*D5/100/(E17-E16)/N19/J11)) | F18: =IF(F17="","",IF(N17="","",N17*D5/100/(F17-F16)/N19/J11)) | G18: =IF(G17="","",IF(N17="","",N17*D5/100/(G17-G16)/N19/J11)) | H18: =IF(B11<>"",B11,IF(D$24="x",IF(E$24="",IF(F$24="",IF(G$24="",D18,""),""),""),IF(E$24="x",IF(F$24="",IF(G$24="",E18,""),""),IF(F$24="x",IF(G$24="",F18,""),IF(G$24="x",G18,""))))) | I18: (x) | J18: Price | K18: No Stop | L18: =IF(K17="","",K17/N19/J11/3) -> 3.6535544 | M18: Risk ($) | N18: ='1'!N18 -> 16.30585
C19: R1 | D19: =IF(D18="","",D$17+(D$17-D$16)) | E19: =IF(E18="","",E$17+(E$17-E$16)) | F19: =IF(F18="","",F$17-(F$16-F$17)) | G19: =IF(G18="","",G$17-(G$16-G$17)) | H19: =IF(H18="","",H$17+(H$17-H$16)) | I19: x | J19: =IF(I19="x",H19,IF(I20="x",H20,IF(I21="x",H21,IF(I22="x",H22,IF(I23="x",H23,""))))) | M19: Lot size | N19: =Ativos!$T$22 -> 1000
C20: R2 | D20: =IF(D19="","",D$17+2*(D$17-D$16)) | E20: =IF(E19="","",E$17+2*(E$17-E$16)) | F20: =IF(F19="","",F$17-2*(F$16-F$17)) | G20: =IF(G19="","",G$17-2*(G$16-G$17)) | H20: =IF(H19="","",H$17+2*(H$17-H$16)) | M20: Max leverage | N20: ='1'!$N$20 -> 500
C21: R3 | D21: =IF(D20="","",D$17+3*(D$17-D$16)) | E21: =IF(E20="","",E$17+3*(E$17-E$16)) | F21: =IF(F20="","",F$17-3*(F$16-F$17)) | G21: =IF(G20="","",G$17-3*(G$16-G$17)) | H21: =IF(H20="","",H$17+3*(H$17-H$16)) | J21: RFrac | M21: Max lots | N21: =IF(D5="","",IF(N19="","",IF(N20="","",D5*N20/N19/D6))) -> 12.727312
C22: R4 | D22: =IF(D21="","",D$17+4*(D$17-D$16)) | E22: =IF(E21="","",E$17+4*(E$17-E$16)) | F22: =IF(F21="","",F$17-4*(F$16-F$17)) | G22: =IF(G21="","",G$17-4*(G$16-G$17)) | H22: =IF(H21="","",H$17+4*(H$17-H$16)) | K22: =IF(K23="","",IF(H17="","",(K23-H17)/(H17-H16))) | L22: PF
C23: R5 | D23: =IF(D22="","",D$17+5*(D$17-D$16)) | E23: =IF(E22="","",E$17+5*(E$17-E$16)) | F23: =IF(F22="","",F$17-5*(F$16-F$17)) | G23: =IF(G22="","",G$17-5*(G$16-G$17)) | H23: =IF(H22="","",H$17+5*(H$17-H$16)) | J23: =IF(J22="","",IF(H17="","",H17+J22*(H17-H16))) | L23: Target
C24: Choice (x) | H24: =IF(D$24="x",IF(E$24="",IF(F$24="",IF(G$24="",D13,""),""),""),IF(E$24="x",IF(F$24="",IF(G$24="",D13,""),""),IF(F$24="x",IF(G$24="",F13,""),IF(G$24="x",F13,""))))

Sheet 6
B2: Ativo | C2: =Ativos!$V$18 -> EURUSD | D2: Spread | E2: =Ativos!$V$21 -> 1.5 | G2: Equity | H2: =SUM(D5:G5) -> 3263.64 | I2: Exit calculator
B3: Balance | D3: Starting balance | F3: $ Profit | I3: TP factor | J3: $ Profit | K3: % | L3: Price
F4: Closed | G4: Floating | H4: Total | J4: =IF(I4="","",IF(N10="","",IF(B10=0,"",I4*N10))) | K4: =IF(J4="","",IF(D5="","",100*J4/D5)) | L4: =IF(I4="","",IF(I10="","",IF(B10="","",IF(B10=0,"",IF(J4="","",I10+(J4-F5-G5)/N19/B10/J11)))))
B5: =D5+F5 -> 3261.17 | D5: =CLog!$Z$42 -> 3261.17 | F5: =IF(J10="",0,J10) -> 0 | G5: =K10 -> 2.47 | H5: =IF(F5="",IF(G5="","",G5),IF(G5="",F5,F5+G5)) -> 2.47 | I5: =IF(J5="","",IF(N10="","",J5/N10)) | J5: =IF(K5="","",K5*D5/100) | K5: =IF(L5="","",100*B10*N19*J11*(L5-D10)/D5) | M5: % Liq Ac | N5: =[3]CRe!$P$32 -> 0.010120092
B6: Ask | D6: =Ativos!$V$19 -> 1.16888 | F6: =IF(F5="","",100*F5/D5) -> 0 | G6: =IF(G5="","",100*G5/D5) -> 0.075739689 | H6: =IF(H5="","",100*(H2/D5-1)) -> 0.075739689 | I6: Stop | J6: =IF(K6="","",K6*D5/100) -> -17.54 | K6: =IF(L6="","",100*B10*N19*J11*(L6-D10)/D5) -> -0.53784378 | L6: =IF(J15<>"",J15,IF(H16="","",H16)) -> 1.14872 | M6: House Factor | N6: =IF(N17="","",IF(N5="","",N17/N5)) -> 49.406667
B7: Bid | D7: =Ativos!$V$20 -> 1.16873 | F7: % Profit | I7: Kelly | J7: =IF(K7="","",-K7*D5/100) -> -16.253937 | K7: =Risk!$C$13 -> 0.49840816 | L7: =IF(K7="","",IF(I10="","",IF(K7=0,"",IF(B10=0,"",I10-(H2-D5-J7)/N19/B10)))) -> 1.1500061 | M7: Kelly Factor | N7: =IF(N17="","",IF(K7="","",IF(K7=0,"",N17/K7))) -> 1.0031938
B8: Lots (+-) | C8: Leverage | D8: Entry Price | E8: Take Profit | F8: $ Target | G8: Swap / Perm | I8: Price | J8: Closed $ | K8: $ Profit | L8: % Profit | M8: Target Default
M9: Take profit | N9: $ Target
B10: =IF(B11<>"",B11,IF(H18="","",H18)) -> 0.01 | C10: =IF(B10="","",IF(B10>0,N19*B10*D6/D5,-N19*B10*D7/D5)) -> 0.35842351 | D10: =IF(D11<>"",D11,IF(H17="","",H17)) -> 1.16626 | E10: =IF(E11<>"",E11,IF(J19="","",J19)) -> 1.1838 | F10: =IF(B10="","",IF(D10="","",IF(E10="","",B10*N$19*J11*(E10-D10)))) -> 17.54 | G10: 0 | I10: =IF(B10="","",IF(B10>0,D$7,D$6)) -> 1.16873 | J10: =IF(B10="","",IF(H10="t",B10*N$19*(E10-D10)+G10,IF(H10="s",B10*N$19*(L6-D10)+G10,""))) | K10: =IF(B10="","",IF(H10="",B10*N19*J11*(I10-D10)+G10,"")) -> 2.47 | L10: =IF(B10="","",IF(H10<>"",100*J10/D$5,100*K10/D$5)) -> 0.075739689 | M10: =IF(E10="","",E10) -> 1.1838 | N10: =IF(B10="","",IF(D10="","",IF(M10="","",B10*N$19*J11*(M10-D10)))) -> 17.54
B11: 0.01 | C11: Broker | D11: 1.16626 | G11: Pip Div | H11: =Ativos!$V$23 -> 10000 | I11: Pip Value | J11: =Ativos!$V$24 -> 1 | M11: Current $ | N11: =IF(F10="","",F10+G10) -> 17.54
B12: =D5/N19/3 -> 0.010870567 | C12: No Stop | M12: % | N12: =IF(N11="","",100*N11/D5) -> 0.53784378
D13: Buy | F13: Sell | H13: Choice | I13: Trailing Stop | M13: PF | N13: =IF(N11="","",IF(J6="","",IF(J6=0,9999.9999,IF(J6>0,"No Loss",-N11/J6)))) -> 1
C14: Stop Pivot | D14: 1.15072 | E14: =IF(D14="","",D14) -> 1.15072 | G14: =IF(F14="","",F14) | I14: Pivot | M14: Risk
C15: Stop Pips off | D15: ='1'!D15 -> 20 | E15: ='1'!E15 -> 3 | F15: ='1'!F15 -> 15 | G15: ='1'!G15 -> 1 | H15: =IF(D$24="x",IF(E$24="",IF(F$24="",IF(G$24="",D15,""),""),""),IF(E$24="x",IF(F$24="",IF(G$24="",E15,""),""),IF(F$24="x",IF(G$24="",F15,""),IF(G$24="x",G15,"")))) -> 20 | I15: Stop | J15: =IF(J14="","",IF(H15="","",IF(B10="","",IF(B10>0,J14-H15/$H$11,IF(B10<0,J14+H15/$H$11,""))))) | K15: Simulation | M15: Base Risk (%) | N15: ='1'!$N$15 -> 0.5
C16: Stop | D16: =IF(D14="","",IF(D15="","",D14-D15/$H$11)) -> 1.14872 | E16: =IF(E14="","",IF(E15="","",E14-E15/$H$11)) -> 1.15042 | F16: =IF(F14="","",IF(F15="","",F14+F15/$H$11)) | G16: =IF(G14="","",IF(G15="","",G14+G15/$H$11)) | H16: =IF(D$24="x",IF(E$24="",IF(F$24="",IF(G$24="",D16,""),""),""),IF(E$24="x",IF(F$24="",IF(G$24="",E16,""),""),IF(F$24="x",IF(G$24="",F16,""),IF(G$24="x",G16,"")))) -> 1.14872 | K16: Balance | L16: Lots | M16: Agres (0-100) | N16: ='1'!$N$16 -> 20
C17: Entry | D17: =IF(D16="","",D6) -> 1.16888 | E17: =IF(E16="","",D6) -> 1.16888 | F17: =IF(F16="","",D7) | G17: =IF(G16="","",D7) | H17: =IF(D11<>"",D11,IF(D$24="x",IF(E$24="",IF(F$24="",IF(G$24="",D17,""),""),""),IF(E$24="x",IF(F$24="",IF(G$24="",E17,""),""),IF(F$24="x",IF(G$24="",F17,""),IF(G$24="x",G17,""))))) -> 1.16626 | I17: Target choice | K17: ='1'!$K$17 -> 10000 | L17: =IF(H18="","",IF(K17="","",IF(D5="","",H18*K17/D5))) -> 0.030663842 | M17: Risk (%) | N17: ='1'!N17 -> 0.5
C18: Lots | D18: =IF(D17="","",IF(N17="","",N17*D5/100/(D17-D16)/N19/J11)) -> 0.0080882192 | E18: =IF(E17="","",IF(N17="","",N17*D5/100/(E17-E16)/N19/J11)) -> 0.0088330715 | F18: =IF(F17="","",IF(N17="","",N17*D5/100/(F17-F16)/N19/J11)) | G18: =IF(G17="","",IF(N17="","",N17*D5/100/(G17-G16)/N19/J11)) | H18: =IF(B11<>"",B11,IF(D$24="x",IF(E$24="",IF(F$24="",IF(G$24="",D18,""),""),""),IF(E$24="x",IF(F$24="",IF(G$24="",E18,""),""),IF(F$24="x",IF(G$24="",F18,""),IF(G$24="x",G18,""))))) -> 0.01 | I18: (x) | J18: Price | K18: No Stop | L18: =IF(K17="","",K17/N19/J11/3) -> 0.033333333 | M18: Risk ($) | N18: ='1'!N18 -> 16.30585
C19: R1 | D19: =IF(D18="","",D$17+(D$17-D$16)) -> 1.18904 | E19: =IF(E18="","",E$17+(E$17-E$16)) -> 1.18734 | F19: =IF(F18="","",F$17-(F$16-F$17)) | G19: =IF(G18="","",G$17-(G$16-G$17)) | H19: =IF(H18="","",H$17+(H$17-H$16)) -> 1.1838 | I19: x | J19: =IF(I19="x",H19,IF(I20="x",H20,IF(I21="x",H21,IF(I22="x",H22,IF(I23="x",H23,""))))) -> 1.1838 | M19: Lot size | N19: =Ativos!$V$22 -> 100000
C20: R2 | D20: =IF(D19="","",D$17+2*(D$17-D$16)) -> 1.2092 | E20: =IF(E19="","",E$17+2*(E$17-E$16)) -> 1.2058 | F20: =IF(F19="","",F$17-2*(F$16-F$17)) | G20: =IF(G19="","",G$17-2*(G$16-G$17)) | H20: =IF(H19="","",H$17+2*(H$17-H$16)) -> 1.20134 | M20: Max leverage | N20: ='1'!$N$20 -> 500
C21: R3 | D21: =IF(D20="","",D$17+3*(D$17-D$16)) -> 1.22936 | E21: =IF(E20="","",E$17+3*(E$17-E$16)) -> 1.22426 | F21: =IF(F20="","",F$17-3*(F$16-F$17)) | G21: =IF(G20="","",G$17-3*(G$16-G$17)) | H21: =IF(H20="","",H$17+3*(H$17-H$16)) -> 1.21888 | J21: RFrac | M21: Max lots | N21: =IF(D5="","",IF(N19="","",IF(N20="","",D5*N20/N19/D6))) -> 13.949978
C22: R4 | D22: =IF(D21="","",D$17+4*(D$17-D$16)) -> 1.24952 | E22: =IF(E21="","",E$17+4*(E$17-E$16)) -> 1.24272 | F22: =IF(F21="","",F$17-4*(F$16-F$17)) | G22: =IF(G21="","",G$17-4*(G$16-G$17)) | H22: =IF(H21="","",H$17+4*(H$17-H$16)) -> 1.23642 | K22: =IF(K23="","",IF(H17="","",(K23-H17)/(H17-H16))) | L22: PF
C23: R5 | D23: =IF(D22="","",D$17+5*(D$17-D$16)) -> 1.26968 | E23: =IF(E22="","",E$17+5*(E$17-E$16)) -> 1.26118 | F23: =IF(F22="","",F$17-5*(F$16-F$17)) | G23: =IF(G22="","",G$17-5*(G$16-G$17)) | H23: =IF(H22="","",H$17+5*(H$17-H$16)) -> 1.25396 | J23: =IF(J22="","",IF(H17="","",H17+J22*(H17-H16))) | L23: Target
C24: Choice (x) | D24: x | H24: =IF(D$24="x",IF(E$24="",IF(F$24="",IF(G$24="",D13,""),""),""),IF(E$24="x",IF(F$24="",IF(G$24="",D13,""),""),IF(F$24="x",IF(G$24="",F13,""),IF(G$24="x",F13,"")))) -> Buy

Sheet 7
B2: Ativo | C2: =Ativos!$L$26 -> GBPUSD | D2: Spread | E2: =Ativos!$L$29 -> 1.9 | G2: Equity | H2: =SUM(D5:G5) -> 3261.17 | I2: Exit calculator
B3: Balance | D3: Starting balance | F3: $ Profit | I3: TP factor | J3: $ Profit | K3: % | L3: Price
F4: Closed | G4: Floating | H4: Total | J4: =IF(I4="","",IF(N10="","",IF(B10=0,"",I4*N10))) | K4: =IF(J4="","",IF(D5="","",100*J4/D5)) | L4: =IF(I4="","",IF(I10="","",IF(B10="","",IF(B10=0,"",IF(J4="","",I10+(J4-F5-G5)/N19/B10/J11)))))
B5: =D5+F5 -> 3261.17 | D5: =CLog!$Z$42 -> 3261.17 | F5: =IF(J10="",0,J10) -> 0 | G5: =K10 | H5: =IF(F5="",IF(G5="","",G5),IF(G5="",F5,F5+G5)) -> 0 | I5: =IF(J5="","",IF(N10="","",J5/N10)) | J5: =IF(K5="","",K5*D5/100) | K5: =IF(L5="","",100*B10*N19*J11*(L5-D10)/D5) | M5: % Liq Ac | N5: =[3]CRe!$P$32 -> 0.010120092
B6: Ask | D6: =Ativos!$L$27 -> 1.32826 | F6: =IF(F5="","",100*F5/D5) -> 0 | G6: =IF(G5="","",100*G5/D5) | H6: =IF(H5="","",100*(H2/D5-1)) -> 0 | I6: Stop | J6: =IF(K6="","",K6*D5/100) | K6: =IF(L6="","",100*B10*N19*J11*(L6-D10)/D5) | L6: =IF(J15<>"",J15,IF(H16="","",H16)) | M6: House Factor | N6: =IF(N17="","",IF(N5="","",N17/N5)) -> 49.406667
B7: Bid | D7: =Ativos!$L$28 -> 1.32807 | F7: % Profit | I7: Kelly | J7: =IF(K7="","",-K7*D5/100) -> -16.253937 | K7: =Risk!$C$13 -> 0.49840816 | L7: =IF(K7="","",IF(I10="","",IF(K7=0,"",IF(B10=0,"",I10-(H2-D5-J7)/N19/B10)))) | M7: Kelly Factor | N7: =IF(N17="","",IF(K7="","",IF(K7=0,"",N17/K7))) -> 1.0031938
B8: Lots (+-) | C8: Leverage | D8: Entry Price | E8: Take Profit | F8: $ Target | G8: Swap / Perm | I8: Price | J8: Closed $ | K8: $ Profit | L8: % Profit | M8: Target Default
M9: Take profit | N9: $ Target
B10: =IF(B11<>"",B11,IF(H18="","",H18)) | C10: =IF(B10="","",IF(B10>0,N19*B10*D6/D5,-N19*B10*D7/D5)) | D10: =IF(D11<>"",D11,IF(H17="","",H17)) | E10: =IF(E11<>"",E11,IF(J19="","",J19)) | F10: =IF(B10="","",IF(D10="","",IF(E10="","",B10*N$19*J11*(E10-D10)))) | G10: 0 | I10: =IF(B10="","",IF(B10>0,D$7,D$6)) | J10: =IF(B10="","",IF(H10="t",B10*N$19*(E10-D10)+G10,IF(H10="s",B10*N$19*(L6-D10)+G10,""))) | K10: =IF(B10="","",IF(H10="",B10*N19*J11*(I10-D10)+G10,"")) | L10: =IF(B10="","",IF(H10<>"",100*J10/D$5,100*K10/D$5)) | M10: =IF(E10="","",E10) | N10: =IF(B10="","",IF(D10="","",IF(M10="","",B10*N$19*J11*(M10-D10))))
C11: Broker | G11: Pip Div | H11: =Ativos!$L$31 -> 10000 | I11: Pip Value | J11: =Ativos!$L$32 -> 1 | M11: Current $ | N11: =IF(F10="","",F10+G10)
B12: =D5/N19/3 -> 0.010870567 | C12: No Stop | M12: % | N12: =IF(N11="","",100*N11/D5)
D13: Buy | F13: Sell | H13: Choice | I13: Trailing Stop | M13: PF | N13: =IF(N11="","",IF(J6="","",IF(J6=0,9999.9999,IF(J6>0,"No Loss",-N11/J6))))
C14: Stop Pivot | E14: =IF(D14="","",D14) | G14: =IF(F14="","",F14) | I14: Pivot | M14: Risk
C15: Stop Pips off | D15: ='1'!D15 -> 20 | E15: ='1'!E15 -> 3 | F15: ='1'!F15 -> 15 | G15: ='1'!G15 -> 1 | H15: =IF(D$24="x",IF(E$24="",IF(F$24="",IF(G$24="",D15,""),""),""),IF(E$24="x",IF(F$24="",IF(G$24="",E15,""),""),IF(F$24="x",IF(G$24="",F15,""),IF(G$24="x",G15,"")))) | I15: Stop | J15: =IF(J14="","",IF(H15="","",IF(B10="","",IF(B10>0,J14-H15/$H$11,IF(B10<0,J14+H15/$H$11,""))))) | K15: Simulation | M15: Base Risk (%) | N15: ='1'!$N$15 -> 0.5
C16: Stop | D16: =IF(D14="","",IF(D15="","",D14-D15/$H$11)) | E16: =IF(E14="","",IF(E15="","",E14-E15/$H$11)) | F16: =IF(F14="","",IF(F15="","",F14+F15/$H$11)) | G16: =IF(G14="","",IF(G15="","",G14+G15/$H$11)) | H16: =IF(D$24="x",IF(E$24="",IF(F$24="",IF(G$24="",D16,""),""),""),IF(E$24="x",IF(F$24="",IF(G$24="",E16,""),""),IF(F$24="x",IF(G$24="",F16,""),IF(G$24="x",G16,"")))) | K16: Balance | L16: Lots | M16: Agres (0-100) | N16: ='1'!$N$16 -> 20
C17: Entry | D17: =IF(D16="","",D6) | E17: =IF(E16="","",D6) | F17: =IF(F16="","",D7) | G17: =IF(G16="","",D7) | H17: =IF(D11<>"",D11,IF(D$24="x",IF(E$24="",IF(F$24="",IF(G$24="",D17,""),""),""),IF(E$24="x",IF(F$24="",IF(G$24="",E17,""),""),IF(F$24="x",IF(G$24="",F17,""),IF(G$24="x",G17,""))))) | I17: Target choice | K17: ='1'!$K$17 -> 10000 | L17: =IF(H18="","",IF(K17="","",IF(D5="","",H18*K17/D5))) | M17: Risk (%) | N17: ='1'!N17 -> 0.5
C18: Lots | D18: =IF(D17="","",IF(N17="","",N17*D5/100/(D17-D16)/N19/J11)) | E18: =IF(E17="","",IF(N17="","",N17*D5/100/(E17-E16)/N19/J11)) | F18: =IF(F17="","",IF(N17="","",N17*D5/100/(F17-F16)/N19/J11)) | G18: =IF(G17="","",IF(N17="","",N17*D5/100/(G17-G16)/N19/J11)) | H18: =IF(B11<>"",B11,IF(D$24="x",IF(E$24="",IF(F$24="",IF(G$24="",D18,""),""),""),IF(E$24="x",IF(F$24="",IF(G$24="",E18,""),""),IF(F$24="x",IF(G$24="",F18,""),IF(G$24="x",G18,""))))) | I18: (x) | J18: Price | K18: No Stop | L18: =IF(K17="","",K17/N19/J11/3) -> 0.033333333 | M18: Risk ($) | N18: ='1'!N18 -> 16.30585
C19: R1 | D19: =IF(D18="","",D$17+(D$17-D$16)) | E19: =IF(E18="","",E$17+(E$17-E$16)) | F19: =IF(F18="","",F$17-(F$16-F$17)) | G19: =IF(G18="","",G$17-(G$16-G$17)) | H19: =IF(H18="","",H$17+(H$17-H$16)) | I19: x | J19: =IF(I19="x",H19,IF(I20="x",H20,IF(I21="x",H21,IF(I22="x",H22,IF(I23="x",H23,""))))) | M19: Lot size | N19: =Ativos!$L$30 -> 100000
C20: R2 | D20: =IF(D19="","",D$17+2*(D$17-D$16)) | E20: =IF(E19="","",E$17+2*(E$17-E$16)) | F20: =IF(F19="","",F$17-2*(F$16-F$17)) | G20: =IF(G19="","",G$17-2*(G$16-G$17)) | H20: =IF(H19="","",H$17+2*(H$17-H$16)) | M20: Max leverage | N20: ='1'!$N$20 -> 500
C21: R3 | D21: =IF(D20="","",D$17+3*(D$17-D$16)) | E21: =IF(E20="","",E$17+3*(E$17-E$16)) | F21: =IF(F20="","",F$17-3*(F$16-F$17)) | G21: =IF(G20="","",G$17-3*(G$16-G$17)) | H21: =IF(H20="","",H$17+3*(H$17-H$16)) | J21: RFrac | M21: Max lots | N21: =IF(D5="","",IF(N19="","",IF(N20="","",D5*N20/N19/D6))) -> 12.276098
C22: R4 | D22: =IF(D21="","",D$17+4*(D$17-D$16)) | E22: =IF(E21="","",E$17+4*(E$17-E$16)) | F22: =IF(F21="","",F$17-4*(F$16-F$17)) | G22: =IF(G21="","",G$17-4*(G$16-G$17)) | H22: =IF(H21="","",H$17+4*(H$17-H$16)) | K22: =IF(K23="","",IF(H17="","",(K23-H17)/(H17-H16))) | L22: PF
C23: R5 | D23: =IF(D22="","",D$17+5*(D$17-D$16)) | E23: =IF(E22="","",E$17+5*(E$17-E$16)) | F23: =IF(F22="","",F$17-5*(F$16-F$17)) | G23: =IF(G22="","",G$17-5*(G$16-G$17)) | H23: =IF(H22="","",H$17+5*(H$17-H$16)) | J23: =IF(J22="","",IF(H17="","",H17+J22*(H17-H16))) | L23: Target
C24: Choice (x) | H24: =IF(D$24="x",IF(E$24="",IF(F$24="",IF(G$24="",D13,""),""),""),IF(E$24="x",IF(F$24="",IF(G$24="",D13,""),""),IF(F$24="x",IF(G$24="",F13,""),IF(G$24="x",F13,""))))

Sheet 8
B2: Ativo | C2: =Ativos!$N$26 -> GOLD | D2: Spread | E2: =Ativos!$N$29 -> 0.31 | G2: Equity | H2: =SUM(D5:G5) -> 3261.17 | I2: Exit calculator
B3: Balance | D3: Starting balance | F3: $ Profit | I3: TP factor | J3: $ Profit | K3: % | L3: Price
F4: Closed | G4: Floating | H4: Total | J4: =IF(I4="","",IF(N10="","",IF(B10=0,"",I4*N10))) | K4: =IF(J4="","",IF(D5="","",100*J4/D5)) | L4: =IF(I4="","",IF(I10="","",IF(B10="","",IF(B10=0,"",IF(J4="","",I10+(J4-F5-G5)/N19/B10/J11)))))
B5: =D5+F5 -> 3261.17 | D5: =CLog!$Z$42 -> 3261.17 | F5: =IF(J10="",0,J10) -> 0 | G5: =K10 | H5: =IF(F5="",IF(G5="","",G5),IF(G5="",F5,F5+G5)) -> 0 | I5: =IF(J5="","",IF(N10="","",J5/N10)) | J5: =IF(K5="","",K5*D5/100) | K5: =IF(L5="","",100*B10*N19*J11*(L5-D10)/D5) | M5: % Liq Ac | N5: =[3]CRe!$P$32 -> 0.010120092
B6: Ask | D6: =Ativos!$N$27 -> 1269.55 | F6: =IF(F5="","",100*F5/D5) -> 0 | G6: =IF(G5="","",100*G5/D5) | H6: =IF(H5="","",100*(H2/D5-1)) -> 0 | I6: Stop | J6: =IF(K6="","",K6*D5/100) | K6: =IF(L6="","",100*B10*N19*J11*(L6-D10)/D5) | L6: =IF(J15<>"",J15,IF(H16="","",H16)) | M6: House Factor | N6: =IF(N17="","",IF(N5="","",N17/N5)) -> 49.406667
B7: Bid | D7: =Ativos!$N$28 -> 1269.24 | F7: % Profit | I7: Kelly | J7: =IF(K7="","",-K7*D5/100) -> -16.253937 | K7: =Risk!$C$13 -> 0.49840816 | L7: =IF(K7="","",IF(I10="","",IF(K7=0,"",IF(B10=0,"",I10-(H2-D5-J7)/N19/B10)))) | M7: Kelly Factor | N7: =IF(N17="","",IF(K7="","",IF(K7=0,"",N17/K7))) -> 1.0031938
B8: Lots (+-) | C8: Leverage | D8: Entry Price | E8: Take Profit | F8: $ Target | G8: Swap / Perm | I8: Price | J8: Closed $ | K8: $ Profit | L8: % Profit | M8: Target Default
M9: Take profit | N9: $ Target
B10: =IF(B11<>"",B11,IF(H18="","",H18)) | C10: =IF(B10="","",IF(B10>0,N19*B10*D6/D5,-N19*B10*D7/D5)) | D10: =IF(D11<>"",D11,IF(H17="","",H17)) | E10: =IF(E11<>"",E11,IF(J19="","",J19)) | F10: =IF(B10="","",IF(D10="","",IF(E10="","",B10*N$19*J11*(E10-D10)))) | G10: 0 | I10: =IF(B10="","",IF(B10>0,D$7,D$6)) | J10: =IF(B10="","",IF(H10="t",B10*N$19*(E10-D10)+G10,IF(H10="s",B10*N$19*(L6-D10)+G10,""))) | K10: =IF(B10="","",IF(H10="",B10*N19*J11*(I10-D10)+G10,"")) | L10: =IF(B10="","",IF(H10<>"",100*J10/D$5,100*K10/D$5)) | M10: =IF(E10="","",E10) | N10: =IF(B10="","",IF(D10="","",IF(M10="","",B10*N$19*J11*(M10-D10))))
C11: Broker | G11: Pip Div | H11: =Ativos!$N$31 -> 10 | I11: Pip Value | J11: =Ativos!$N$32 -> 1 | M11: Current $ | N11: =IF(F10="","",F10+G10)
B12: =D5/N19/3 -> 10.870567 | C12: No Stop | M12: % | N12: =IF(N11="","",100*N11/D5)
D13: Buy | F13: Sell | H13: Choice | I13: Trailing Stop | M13: PF | N13: =IF(N11="","",IF(J6="","",IF(J6=0,9999.9999,IF(J6>0,"No Loss",-N11/J6))))
C14: Stop Pivot | E14: =IF(D14="","",D14) | G14: =IF(F14="","",F14) | I14: Pivot | M14: Risk
C15: Stop Pips off | D15: ='1'!D15 -> 20 | E15: ='1'!E15 -> 3 | F15: ='1'!F15 -> 15 | G15: ='1'!G15 -> 1 | H15: =IF(D$24="x",IF(E$24="",IF(F$24="",IF(G$24="",D15,""),""),""),IF(E$24="x",IF(F$24="",IF(G$24="",E15,""),""),IF(F$24="x",IF(G$24="",F15,""),IF(G$24="x",G15,"")))) | I15: Stop | J15: =IF(J14="","",IF(H15="","",IF(B10="","",IF(B10>0,J14-H15/$H$11,IF(B10<0,J14+H15/$H$11,""))))) | K15: Simulation | M15: Base Risk (%) | N15: ='1'!$N$15 -> 0.5
C16: Stop | D16: =IF(D14="","",IF(D15="","",D14-D15/$H$11)) | E16: =IF(E14="","",IF(E15="","",E14-E15/$H$11)) | F16: =IF(F14="","",IF(F15="","",F14+F15/$H$11)) | G16: =IF(G14="","",IF(G15="","",G14+G15/$H$11)) | H16: =IF(D$24="x",IF(E$24="",IF(F$24="",IF(G$24="",D16,""),""),""),IF(E$24="x",IF(F$24="",IF(G$24="",E16,""),""),IF(F$24="x",IF(G$24="",F16,""),IF(G$24="x",G16,"")))) | K16: Balance | L16: Lots | M16: Agres (0-100) | N16: ='1'!$N$16 -> 20
C17: Entry | D17: =IF(D16="","",D6) | E17: =IF(E16="","",D6) | F17: =IF(F16="","",D7) | G17: =IF(G16="","",D7) | H17: =IF(D11<>"",D11,IF(D$24="x",IF(E$24="",IF(F$24="",IF(G$24="",D17,""),""),""),IF(E$24="x",IF(F$24="",IF(G$24="",E17,""),""),IF(F$24="x",IF(G$24="",F17,""),IF(G$24="x",G17,""))))) | I17: Target choice | K17: ='1'!$K$17 -> 10000 | L17: =IF(H18="","",IF(K17="","",IF(D5="","",H18*K17/D5))) | M17: Risk (%) | N17: ='1'!N17 -> 0.5
C18: Lots | D18: =IF(D17="","",IF(N17="","",N17*D5/100/(D17-D16)/N19/J11)) | E18: =IF(E17="","",IF(N17="","",N17*D5/100/(E17-E16)/N19/J11)) | F18: =IF(F17="","",IF(N17="","",N17*D5/100/(F17-F16)/N19/J11)) | G18: =IF(G17="","",IF(N17="","",N17*D5/100/(G17-G16)/N19/J11)) | H18: =IF(B11<>"",B11,IF(D$24="x",IF(E$24="",IF(F$24="",IF(G$24="",D18,""),""),""),IF(E$24="x",IF(F$24="",IF(G$24="",E18,""),""),IF(F$24="x",IF(G$24="",F18,""),IF(G$24="x",G18,""))))) | I18: (x) | J18: Price | K18: No Stop | L18: =IF(K17="","",K17/N19/J11/3) -> 33.333333 | M18: Risk ($) | N18: ='1'!N18 -> 16.30585
C19: R1 | D19: =IF(D18="","",D$17+(D$17-D$16)) | E19: =IF(E18="","",E$17+(E$17-E$16)) | F19: =IF(F18="","",F$17-(F$16-F$17)) | G19: =IF(G18="","",G$17-(G$16-G$17)) | H19: =IF(H18="","",H$17+(H$17-H$16)) | I19: x | J19: =IF(I19="x",H19,IF(I20="x",H20,IF(I21="x",H21,IF(I22="x",H22,IF(I23="x",H23,""))))) | M19: Lot size | N19: =Ativos!$N$30 -> 100
C20: R2 | D20: =IF(D19="","",D$17+2*(D$17-D$16)) | E20: =IF(E19="","",E$17+2*(E$17-E$16)) | F20: =IF(F19="","",F$17-2*(F$16-F$17)) | G20: =IF(G19="","",G$17-2*(G$16-G$17)) | H20: =IF(H19="","",H$17+2*(H$17-H$16)) | M20: Max leverage | N20: ='1'!$N$20 -> 500
