Workbook

Sheet Read Me
A2: Forex Trade Progress Tracking - Special Notes
E4: The Forex Trade Progress Tracking system is intended to be used a a tracking tool to measure your progress as you travel the road to success. This tool is not a trading plan in itself. You MUST develop a trading plan to help guide you on your entries, exits and proper money management techniques.
B9: • | C9: This system consists of a starting, ending destination, milestones, timeframes and a means to measure your progress. It works off the basic premise
C10: that in order to achieve your goal you need to take small easily attainable steps along the way. As long as you are meeting the short term objectives
C11: you can rest assured knowing you will meet the longer term objective.
B13: • | C13: The objective of this system is to make a minimum of a certain number of pips per week. This does not mean that if you traded 2 minis/lots you would
C14: only have to make half of those pips. You still need to make a certain number of pips per week regardless of the number of minis/lots you are trading.
B16: • | C16: This system contains a built in money management rule of NEVER put more than a certain percentage (that you are comfortable with) of your
C17: total trade balance at risk in any one trade.
B19: • | C19: As your trading account grows you will encounter significant milestones. When each milestone is reached you will increase your minimum
C20: trade size per trade yet still never overleverage your account (i.e. placing more than your risk tollerance) on any one trade.
B22: • | C22: Your risk tollerance will always be a constant percentage throughout this "journey". Therefore as your trading account grows
C23: you will be putting more DOLLAR risk into a trade however don't think in terms of DOLLARS. Think in terms of percentages.
C25: "Risking $150.00 when your trading acct size is $3000 is NO DIFFERENT than Risking $2500 when your trading acct size is $50000"
B27: • | C27: On the parameters worksheet plug in the various paramets and then switch to the Raw Data worksheet to view the roadmap that is
C28: constructed based on your parameters.
B30: • | C30: On a weekly basis record the number of pips you made in the actuals column for the appropriate week in the 'Pips Per Week Progress' table.
C31: Also record your current trading account balance for the appropriate week in the 'Account Balance Per Week Progress table'.. These values
C32: will show up in the graphical charts for the appropriate part (color coded) and will be indicated as blue bars. Use these charts to measure your planned
C33: versus actual progress to see if you are on track. .

Sheet Parameters
A1: Starting Acct Balance | B1: =10000 -> 10000 | D1: -enter your starting acct Balance
A2: Risk Tollerance Percentage | B2: 0.005 | D2: -what percentage of your trading account are you willing to lose on any given trade
A3: Max Stop Loss in Pips | B3: 20 | D3: -what is the maximum number of pips away from current price you will set your stop loss
A4: Pips per Week Goal | B4: 50 | D4: -what is your goal in terms of the number of pips you want to make each week
A5: Starting Wk Ending Date | B5: 43227 | D5: -when are you starting this journey. Typically the wkending date should be a Saturday
A6: Cutover Amt for Std Acct | B6: 50000 | D6: -at some point your acct will become very large. At what point do you want to convert to std acct
A7: Max Std Lots per Trade | B7: 100 | D7: -your acct will grow exponentially ! Your broker may have a maximum trade size limitation

Sheet Raw Data
B2: Pips Per Week Progress Data | F2: Account Balance Per Week Progress Data
B3: Week Ending | C3: Planned | D3: Actual | F3: Week Ending | G3: Planned Balance | H3: Actual Balance | I3: Minis Per Trade | J3: Lots Per Trade | K3: $ Risk Per Trade | L3: % Risk Per Trade
B4: =F4 -> 43227 | C4: =Parameters!$B$4 -> 50 | F4: =Parameters!B5 -> 43227 | G4: =IF(Parameters!B1<Parameters!B6,(Parameters!B1+(Parameters!B4*I4)),(Parameters!B1+(Parameters!B4*J4*10))) -> 10100 | I4: =IF(Parameters!B1<Parameters!B6,(TRUNC((Parameters!B1*Parameters!B2)/Parameters!B3)),"") -> 2 | J4: =MIN(IF(Parameters!B1>=Parameters!B6,(TRUNC((Parameters!B1*Parameters!B2)/(Parameters!B3*10))),0),Parameters!$B$7) -> 0 | K4: =IF(Parameters!B1<Parameters!B6,I4*Parameters!B3,J4*Parameters!B3*10) -> 40 | L4: =K4/Parameters!B1 -> 0.004
B5: =B4+7 -> 43234 | C5: =Parameters!$B$4 -> 50 | F5: =F4+7 -> 43234 | G5: =IF(G4<Parameters!$B$6,(G4+(Parameters!$B$4*I5)),(G4+(Parameters!$B$4*J5*10))) -> 10200 | I5: =IF(G4<Parameters!$B$6,(TRUNC((G4*Parameters!$B$2)/Parameters!$B$3)),"") -> 2 | J5: =MIN(IF(G4>=Parameters!$B$6,(TRUNC((G4*Parameters!$B$2)/(Parameters!$B$3*10))),0),Parameters!$B$7) -> 0 | K5: =IF(G4<Parameters!$B$6,I5*Parameters!$B$3,J5*Parameters!$B$3*10) -> 40 | L5: =K5/G4 -> 0.003960396
B6: =B5+7 -> 43241 | C6: =Parameters!$B$4 -> 50 | F6: =F5+7 -> 43241 | G6: =IF(G5<Parameters!$B$6,(G5+(Parameters!$B$4*I6)),(G5+(Parameters!$B$4*J6*10))) -> 10300 | I6: =IF(G5<Parameters!$B$6,(TRUNC((G5*Parameters!$B$2)/Parameters!$B$3)),"") -> 2 | J6: =MIN(IF(G5>=Parameters!$B$6,(TRUNC((G5*Parameters!$B$2)/(Parameters!$B$3*10))),0),Parameters!$B$7) -> 0 | K6: =IF(G5<Parameters!$B$6,I6*Parameters!$B$3,J6*Parameters!$B$3*10) -> 40 | L6: =K6/G5 -> 0.0039215686
B7: =B6+7 -> 43248 | C7: =Parameters!$B$4 -> 50 | F7: =F6+7 -> 43248 | G7: =IF(G6<Parameters!$B$6,(G6+(Parameters!$B$4*I7)),(G6+(Parameters!$B$4*J7*10))) -> 10400 | I7: =IF(G6<Parameters!$B$6,(TRUNC((G6*Parameters!$B$2)/Parameters!$B$3)),"") -> 2 | J7: =MIN(IF(G6>=Parameters!$B$6,(TRUNC((G6*Parameters!$B$2)/(Parameters!$B$3*10))),0),Parameters!$B$7) -> 0 | K7: =IF(G6<Parameters!$B$6,I7*Parameters!$B$3,J7*Parameters!$B$3*10) -> 40 | L7: =K7/G6 -> 0.0038834951
B8: =B7+7 -> 43255 | C8: =Parameters!$B$4 -> 50 | F8: =F7+7 -> 43255 | G8: =IF(G7<Parameters!$B$6,(G7+(Parameters!$B$4*I8)),(G7+(Parameters!$B$4*J8*10))) -> 10500 | I8: =IF(G7<Parameters!$B$6,(TRUNC((G7*Parameters!$B$2)/Parameters!$B$3)),"") -> 2 | J8: =MIN(IF(G7>=Parameters!$B$6,(TRUNC((G7*Parameters!$B$2)/(Parameters!$B$3*10))),0),Parameters!$B$7) -> 0 | K8: =IF(G7<Parameters!$B$6,I8*Parameters!$B$3,J8*Parameters!$B$3*10) -> 40 | L8: =K8/G7 -> 0.0038461538
B9: =B8+7 -> 43262 | C9: =Parameters!$B$4 -> 50 | F9: =F8+7 -> 43262 | G9: =IF(G8<Parameters!$B$6,(G8+(Parameters!$B$4*I9)),(G8+(Parameters!$B$4*J9*10))) -> 10600 | I9: =IF(G8<Parameters!$B$6,(TRUNC((G8*Parameters!$B$2)/Parameters!$B$3)),"") -> 2 | J9: =MIN(IF(G8>=Parameters!$B$6,(TRUNC((G8*Parameters!$B$2)/(Parameters!$B$3*10))),0),Parameters!$B$7) -> 0 | K9: =IF(G8<Parameters!$B$6,I9*Parameters!$B$3,J9*Parameters!$B$3*10) -> 40 | L9: =K9/G8 -> 0.0038095238
B10: =B9+7 -> 43269 | C10: =Parameters!$B$4 -> 50 | F10: =F9+7 -> 43269 | G10: =IF(G9<Parameters!$B$6,(G9+(Parameters!$B$4*I10)),(G9+(Parameters!$B$4*J10*10))) -> 10700 | I10: =IF(G9<Parameters!$B$6,(TRUNC((G9*Parameters!$B$2)/Parameters!$B$3)),"") -> 2 | J10: =MIN(IF(G9>=Parameters!$B$6,(TRUNC((G9*Parameters!$B$2)/(Parameters!$B$3*10))),0),Parameters!$B$7) -> 0 | K10: =IF(G9<Parameters!$B$6,I10*Parameters!$B$3,J10*Parameters!$B$3*10) -> 40 | L10: =K10/G9 -> 0.0037735849
B11: =B10+7 -> 43276 | C11: =Parameters!$B$4 -> 50 | F11: =F10+7 -> 43276 | G11: =IF(G10<Parameters!$B$6,(G10+(Parameters!$B$4*I11)),(G10+(Parameters!$B$4*J11*10))) -> 10800 | I11: =IF(G10<Parameters!$B$6,(TRUNC((G10*Parameters!$B$2)/Parameters!$B$3)),"") -> 2 | J11: =MIN(IF(G10>=Parameters!$B$6,(TRUNC((G10*Parameters!$B$2)/(Parameters!$B$3*10))),0),Parameters!$B$7) -> 0 | K11: =IF(G10<Parameters!$B$6,I11*Parameters!$B$3,J11*Parameters!$B$3*10) -> 40 | L11: =K11/G10 -> 0.0037383178
B12: =B11+7 -> 43283 | C12: =Parameters!$B$4 -> 50 | F12: =F11+7 -> 43283 | G12: =IF(G11<Parameters!$B$6,(G11+(Parameters!$B$4*I12)),(G11+(Parameters!$B$4*J12*10))) -> 10900 | I12: =IF(G11<Parameters!$B$6,(TRUNC((G11*Parameters!$B$2)/Parameters!$B$3)),"") -> 2 | J12: =MIN(IF(G11>=Parameters!$B$6,(TRUNC((G11*Parameters!$B$2)/(Parameters!$B$3*10))),0),Parameters!$B$7) -> 0 | K12: =IF(G11<Parameters!$B$6,I12*Parameters!$B$3,J12*Parameters!$B$3*10) -> 40 | L12: =K12/G11 -> 0.0037037037
B13: =B12+7 -> 43290 | C13: =Parameters!$B$4 -> 50 | F13: =F12+7 -> 43290 | G13: =IF(G12<Parameters!$B$6,(G12+(Parameters!$B$4*I13)),(G12+(Parameters!$B$4*J13*10))) -> 11000 | I13: =IF(G12<Parameters!$B$6,(TRUNC((G12*Parameters!$B$2)/Parameters!$B$3)),"") -> 2 | J13: =MIN(IF(G12>=Parameters!$B$6,(TRUNC((G12*Parameters!$B$2)/(Parameters!$B$3*10))),0),Parameters!$B$7) -> 0 | K13: =IF(G12<Parameters!$B$6,I13*Parameters!$B$3,J13*Parameters!$B$3*10) -> 40 | L13: =K13/G12 -> 0.0036697248
B14: =B13+7 -> 43297 | C14: =Parameters!$B$4 -> 50 | F14: =F13+7 -> 43297 | G14: =IF(G13<Parameters!$B$6,(G13+(Parameters!$B$4*I14)),(G13+(Parameters!$B$4*J14*10))) -> 11100 | I14: =IF(G13<Parameters!$B$6,(TRUNC((G13*Parameters!$B$2)/Parameters!$B$3)),"") -> 2 | J14: =MIN(IF(G13>=Parameters!$B$6,(TRUNC((G13*Parameters!$B$2)/(Parameters!$B$3*10))),0),Parameters!$B$7) -> 0 | K14: =IF(G13<Parameters!$B$6,I14*Parameters!$B$3,J14*Parameters!$B$3*10) -> 40 | L14: =K14/G13 -> 0.0036363636
B15: =B14+7 -> 43304 | C15: =Parameters!$B$4 -> 50 | F15: =F14+7 -> 43304 | G15: =IF(G14<Parameters!$B$6,(G14+(Parameters!$B$4*I15)),(G14+(Parameters!$B$4*J15*10))) -> 11200 | I15: =IF(G14<Parameters!$B$6,(TRUNC((G14*Parameters!$B$2)/Parameters!$B$3)),"") -> 2 | J15: =MIN(IF(G14>=Parameters!$B$6,(TRUNC((G14*Parameters!$B$2)/(Parameters!$B$3*10))),0),Parameters!$B$7) -> 0 | K15: =IF(G14<Parameters!$B$6,I15*Parameters!$B$3,J15*Parameters!$B$3*10) -> 40 | L15: =K15/G14 -> 0.0036036036
B16: =B15+7 -> 43311 | C16: =Parameters!$B$4 -> 50 | F16: =F15+7 -> 43311 | G16: =IF(G15<Parameters!$B$6,(G15+(Parameters!$B$4*I16)),(G15+(Parameters!$B$4*J16*10))) -> 11300 | I16: =IF(G15<Parameters!$B$6,(TRUNC((G15*Parameters!$B$2)/Parameters!$B$3)),"") -> 2 | J16: =MIN(IF(G15>=Parameters!$B$6,(TRUNC((G15*Parameters!$B$2)/(Parameters!$B$3*10))),0),Parameters!$B$7) -> 0 | K16: =IF(G15<Parameters!$B$6,I16*Parameters!$B$3,J16*Parameters!$B$3*10) -> 40 | L16: =K16/G15 -> 0.0035714286
... B211: =B210+7 -> 44676 | C211: =Parameters!$B$4 -> 50 | F211: =F210+7 -> 44676 | G211: =IF(G210<Parameters!$B$6,(G210+(Parameters!$B$4*I211)),(G210+(Parameters!$B$4*J211*10))) -> 82400 | I211: =IF(G210<Parameters!$B$6,(TRUNC((G210*Parameters!$B$2)/Parameters!$B$3)),"") | J211: =MIN(IF(G210>=Parameters!$B$6,(TRUNC((G210*Parameters!$B$2)/(Parameters!$B$3*10))),0),Parameters!$B$7) -> 2 | K211: =IF(G210<Parameters!$B$6,I211*Parameters!$B$3,J211*Parameters!$B$3*10) -> 400 | L211: =K211/G210 -> 0.0049140049

Sheet Part 1 Progress

Sheet Part 2 Progress

Sheet Part 3 Progress

Sheet Part 4 Progress
