Workbook

Sheet DLog
G2: Saldo | H2: =IF(E12="","",IF(G8="",E8,G8)) -> 34386.12 | M2: Ciclos | N2: Saldo | O2: % Lucro acumulado | Q2: Capitalização
G3: Objetivo % | H3: 0.5 | M3: 0 | N3: =IF(R3="","",R3) -> 1000 | O3: =100*(N3-R$3)/R$3 -> 0 | Q3: $ Inicial | R3: 1000
G4: Stop % | H4: 30 | M4: =M3+1 -> 1 | N4: =N3*(1+R$5/100) -> 1432.4 | O4: =100*(N4-R$3)/R$3 -> 43.24 | Q4: % Atual | R4: 0
M5: =M4+1 -> 2 | N5: =N4*(1+R$5/100) -> 2051.7698 | O5: =100*(N5-R$3)/R$3 -> 105.17698 | Q5: % por ciclo | R5: 43.24
C6: Resumo do dia | M6: =M5+1 -> 3 | N6: =N5*(1+R$5/100) -> 2938.955 | O6: =100*(N6-R$3)/R$3 -> 193.8955
C7: Data | E7: $ Inicial | G7: $ Atual | H7: Objetivo $ | I7: Lucro $ | J7: Lucro % | K7: Alerta | M7: =M6+1 -> 4 | N7: =N6*(1+R$5/100) -> 4209.7591 | O7: =100*(N7-R$3)/R$3 -> 320.97591
C8: =IF(C12="","",VLOOKUP(MAX(B12:B33),B12:C33,2,FALSE)) -> 42769 | E8: =IF(E12="","",VLOOKUP(MAX(D12:D33),D12:E33,2,FALSE)) -> 34161.13 | G8: =IF(G12="","",IF(VLOOKUP(MAX(F12:F33),F12:G33,2,FALSE)="","",VLOOKUP(MAX(F12:F33),F12:G33,2,FALSE))) -> 34386.12 | H8: =IF(E8="","",IF(H$3="","",E8*(1+H$3/100))) -> 34331.936 | I8: =IF(E8="","",IF(G8="","",G8-E8)) -> 224.99 | J8: =IF(I8="","",100*I8/E8) -> 0.65861404 | K8: =IF(J8="","",IF(J8<=-H$4,"Stop",IF(J8>=H$3,"Alvo",IF(G8="","Continue","")))) -> Alvo | M8: =M7+1 -> 5 | N8: =N7*(1+R$5/100) -> 6030.059 | O8: =100*(N8-R$3)/R$3 -> 503.0059 | Q8: Conversões
M9: =M8+1 -> 6 | N9: =N8*(1+R$5/100) -> 8637.4565 | O9: =100*(N9-R$3)/R$3 -> 763.74565
C10: Ciclos operacionais na semana | M10: =M9+1 -> 7 | N10: =N9*(1+R$5/100) -> 12372.293 | O10: =100*(N10-R$3)/R$3 -> 1137.2293 | Q10: % Dia útil | R10: 0.5
B11: # | C11: Data | D11: # | E11: $ Inicial | F11: # | G11: $ Final | H11: Objetivo $ | I11: Lucro $ | J11: Lucro % | K11: Alerta | M11: =M10+1 -> 8 | N11: =N10*(1+R$5/100) -> 17722.072 | O11: =100*(N11-R$3)/R$3 -> 1672.2072 | Q11: % Semana | R11: =100*((1+R10/100)^5-1) -> 2.5251253
B12: 0 | C12: 42767 | D12: 0 | E12: 34042.55 | F12: 0 | G12: 34161.13 | H12: =IF(E12="","",IF(H$3="","",E12*(1+H$3/100))) -> 34212.763 | I12: =IF(E12="","",IF(G12="","",G12-E12)) -> 118.58 | J12: =IF(I12="","",100*I12/E12) -> 0.34832878 | K12: =IF(J12="","",IF(J12<=-H$4,"Stop",IF(J12>=H$3,"Alvo",IF(G12="","Continue","")))) | M12: =M11+1 -> 9 | N12: =N11*(1+R$5/100) -> 25385.096 | O12: =100*(N12-R$3)/R$3 -> 2438.5096 | Q12: % Mês | R12: =100*((1+R10/100)^(30*5/7)-1) -> 11.279614
B13: =IF(C13="",B12,B12+1) -> 1 | C13: 42769 | D13: =IF(E13="","",IF(C13="",D12,D12+1)) -> 1 | E13: =IF(G12="","",G12) -> 34161.13 | F13: =IF(G13="",IF(C13="","",F12+1),F12+1) -> 1 | G13: 34386.12 | H13: =IF(E13="","",IF(H$3="","",E13*(1+H$3/100))) -> 34331.936 | I13: =IF(E13="","",IF(G13="","",G13-E13)) -> 224.99 | J13: =IF(I13="","",100*I13/E13) -> 0.65861404 | K13: =IF(J13="","",IF(J13<=-H$4,"Stop",IF(J13>=H$3,"Alvo",IF(G13="","Continue","")))) -> Alvo | M13: =M12+1 -> 10 | N13: =N12*(1+R$5/100) -> 36361.612 | O13: =100*(N13-R$3)/R$3 -> 3536.1612 | Q13: % Ano | R13: =100*((1+R10/100)^(360*5/7)-1) -> 260.56811
B14: =IF(C14="",B13,B13+1) -> 1 | D14: =IF(E14="","",IF(C14="",D13,D13+1)) -> 1 | E14: =IF(G13="","",G13) -> 34386.12 | F14: =IF(G14="",IF(C14="","",F13+1),F13+1) | H14: =IF(E14="","",IF(H$3="","",E14*(1+H$3/100))) -> 34558.051 | I14: =IF(E14="","",IF(G14="","",G14-E14)) | J14: =IF(I14="","",100*I14/E14) | K14: =IF(J14="","",IF(J14<=-H$4,"Stop",IF(J14>=H$3,"Alvo",IF(G14="","Continue","")))) | M14: =M13+1 -> 11 | N14: =N13*(1+R$5/100) -> 52084.372 | O14: =100*(N14-R$3)/R$3 -> 5108.4372
B15: =IF(C15="",B14,B14+1) -> 1 | D15: =IF(E15="","",IF(C15="",D14,D14+1)) | E15: =IF(G14="","",G14) | F15: =IF(G15="",IF(C15="","",F14+1),F14+1) | H15: =IF(E15="","",IF(H$3="","",E15*(1+H$3/100))) | I15: =IF(E15="","",IF(G15="","",G15-E15)) | J15: =IF(I15="","",100*I15/E15) | K15: =IF(J15="","",IF(J15<=-H$4,"Stop",IF(J15>=H$3,"Alvo",IF(G15="","Continue","")))) | M15: =M14+1 -> 12 | N15: =N14*(1+R$5/100) -> 74605.655 | O15: =100*(N15-R$3)/R$3 -> 7360.5655 | Q15: % Semana | R15: 1
B16: =IF(C16="",B15,B15+1) -> 1 | D16: =IF(E16="","",IF(C16="",D15,D15+1)) | E16: =IF(G15="","",G15) | F16: =IF(G16="",IF(C16="","",F15+1),F15+1) | H16: =IF(E16="","",IF(H$3="","",E16*(1+H$3/100))) | I16: =IF(E16="","",IF(G16="","",G16-E16)) | J16: =IF(I16="","",100*I16/E16) | K16: =IF(J16="","",IF(J16<=-H$4,"Stop",IF(J16>=H$3,"Alvo",IF(G16="","Continue","")))) | M16: =M15+1 -> 13 | N16: =N15*(1+R$5/100) -> 106865.14 | O16: =100*(N16-R$3)/R$3 -> 10586.514 | Q16: % Mês | R16: =100*((1+R15/100)^(30/7)-1) -> 4.3566606
B17: =IF(C17="",B16,B16+1) -> 1 | D17: =IF(E17="","",IF(C17="",D16,D16+1)) | E17: =IF(G16="","",G16) | F17: =IF(G17="",IF(C17="","",F16+1),F16+1) | H17: =IF(E17="","",IF(H$3="","",E17*(1+H$3/100))) | I17: =IF(E17="","",IF(G17="","",G17-E17)) | J17: =IF(I17="","",100*I17/E17) | K17: =IF(J17="","",IF(J17<=-H$4,"Stop",IF(J17>=H$3,"Alvo",IF(G17="","Continue","")))) | M17: =M16+1 -> 14 | N17: =N16*(1+R$5/100) -> 153073.63 | O17: =100*(N17-R$3)/R$3 -> 15207.363 | Q17: % Ano | R17: =100*((1+R15/100)^(360/7)-1) -> 66.817681
B18: =IF(C18="",B17,B17+1) -> 1 | D18: =IF(E18="","",IF(C18="",D17,D17+1)) | E18: =IF(G17="","",G17) | F18: =IF(G18="",IF(C18="","",F17+1),F17+1) | H18: =IF(E18="","",IF(H$3="","",E18*(1+H$3/100))) | I18: =IF(E18="","",IF(G18="","",G18-E18)) | J18: =IF(I18="","",100*I18/E18) | K18: =IF(J18="","",IF(J18<=-H$4,"Stop",IF(J18>=H$3,"Alvo",IF(G18="","Continue","")))) | M18: =M17+1 -> 15 | N18: =N17*(1+R$5/100) -> 219262.66 | O18: =100*(N18-R$3)/R$3 -> 21826.266
B19: =IF(C19="",B18,B18+1) -> 1 | D19: =IF(E19="","",IF(C19="",D18,D18+1)) | E19: =IF(G18="","",G18) | F19: =IF(G19="",IF(C19="","",F18+1),F18+1) | H19: =IF(E19="","",IF(H$3="","",E19*(1+H$3/100))) | I19: =IF(E19="","",IF(G19="","",G19-E19)) | J19: =IF(I19="","",100*I19/E19) | K19: =IF(J19="","",IF(J19<=-H$4,"Stop",IF(J19>=H$3,"Alvo",IF(G19="","Continue","")))) | M19: =M18+1 -> 16 | N19: =N18*(1+R$5/100) -> 314071.84 | O19: =100*(N19-R$3)/R$3 -> 31307.184 | Q19: % Mês | R19: 20
B20: =IF(C20="",B19,B19+1) -> 1 | D20: =IF(E20="","",IF(C20="",D19,D19+1)) | E20: =IF(G19="","",G19) | F20: =IF(G20="",IF(C20="","",F19+1),F19+1) | H20: =IF(E20="","",IF(H$3="","",E20*(1+H$3/100))) | I20: =IF(E20="","",IF(G20="","",G20-E20)) | J20: =IF(I20="","",100*I20/E20) | K20: =IF(J20="","",IF(J20<=-H$4,"Stop",IF(J20>=H$3,"Alvo",IF(G20="","Continue","")))) | M20: =M19+1 -> 17 | N20: =N19*(1+R$5/100) -> 449876.5 | O20: =100*(N20-R$3)/R$3 -> 44887.65 | Q20: % Ano | R20: =100*((1+R19/100)^12-1) -> 791.61004
B21: =IF(C21="",B20,B20+1) -> 1 | D21: =IF(E21="","",IF(C21="",D20,D20+1)) | E21: =IF(G20="","",G20) | F21: =IF(G21="",IF(C21="","",F20+1),F20+1) | H21: =IF(E21="","",IF(H$3="","",E21*(1+H$3/100))) | I21: =IF(E21="","",IF(G21="","",G21-E21)) | J21: =IF(I21="","",100*I21/E21) | K21: =IF(J21="","",IF(J21<=-H$4,"Stop",IF(J21>=H$3,"Alvo",IF(G21="","Continue","")))) | M21: =M20+1 -> 18 | N21: =N20*(1+R$5/100) -> 644403.1 | O21: =100*(N21-R$3)/R$3 -> 64340.31
B22: =IF(C22="",B21,B21+1) -> 1 | D22: =IF(E22="","",IF(C22="",D21,D21+1)) | E22: =IF(G21="","",G21) | F22: =IF(G22="",IF(C22="","",F21+1),F21+1) | H22: =IF(E22="","",IF(H$3="","",E22*(1+H$3/100))) | I22: =IF(E22="","",IF(G22="","",G22-E22)) | J22: =IF(I22="","",100*I22/E22) | K22: =IF(J22="","",IF(J22<=-H$4,"Stop",IF(J22>=H$3,"Alvo",IF(G22="","Continue","")))) | M22: =M21+1 -> 19 | N22: =N21*(1+R$5/100) -> 923043 | O22: =100*(N22-R$3)/R$3 -> 92204.3
B23: =IF(C23="",B22,B22+1) -> 1 | D23: =IF(E23="","",IF(C23="",D22,D22+1)) | E23: =IF(G22="","",G22) | F23: =IF(G23="",IF(C23="","",F22+1),F22+1) | H23: =IF(E23="","",IF(H$3="","",E23*(1+H$3/100))) | I23: =IF(E23="","",IF(G23="","",G23-E23)) | J23: =IF(I23="","",100*I23/E23) | K23: =IF(J23="","",IF(J23<=-H$4,"Stop",IF(J23>=H$3,"Alvo",IF(G23="","Continue","")))) | M23: =M22+1 -> 20 | N23: =N22*(1+R$5/100) -> 1322166.8 | O23: =100*(N23-R$3)/R$3 -> 132116.68 | Q23: % Ano | R23: 100
B24: =IF(C24="",B23,B23+1) -> 1 | D24: =IF(E24="","",IF(C24="",D23,D23+1)) | E24: =IF(G23="","",G23) | F24: =IF(G24="",IF(C24="","",F23+1),F23+1) | H24: =IF(E24="","",IF(H$3="","",E24*(1+H$3/100))) | I24: =IF(E24="","",IF(G24="","",G24-E24)) | J24: =IF(I24="","",100*I24/E24) | K24: =IF(J24="","",IF(J24<=-H$4,"Stop",IF(J24>=H$3,"Alvo",IF(G24="","Continue","")))) | M24: =M23+1 -> 21 | N24: =N23*(1+R$5/100) -> 1893871.7 | O24: =100*(N24-R$3)/R$3 -> 189287.17 | Q24: % Mês | R24: =100*((1+R23/100)^(1/12)-1) -> 5.9463094
B25: =IF(C25="",B24,B24+1) -> 1 | D25: =IF(E25="","",IF(C25="",D24,D24+1)) | E25: =IF(G24="","",G24) | F25: =IF(G25="",IF(C25="","",F24+1),F24+1) | H25: =IF(E25="","",IF(H$3="","",E25*(1+H$3/100))) | I25: =IF(E25="","",IF(G25="","",G25-E25)) | J25: =IF(I25="","",100*I25/E25) | K25: =IF(J25="","",IF(J25<=-H$4,"Stop",IF(J25>=H$3,"Alvo",IF(G25="","Continue","")))) | M25: =M24+1 -> 22 | N25: =N24*(1+R$5/100) -> 2712781.9 | O25: =100*(N25-R$3)/R$3 -> 271178.19 | Q25: % Semana | R25: =100*((1+R23/100)^(7/360)-1) -> 1.3569098
B26: =IF(C26="",B25,B25+1) -> 1 | D26: =IF(E26="","",IF(C26="",D25,D25+1)) | E26: =IF(G25="","",G25) | F26: =IF(G26="",IF(C26="","",F25+1),F25+1) | H26: =IF(E26="","",IF(H$3="","",E26*(1+H$3/100))) | I26: =IF(E26="","",IF(G26="","",G26-E26)) | J26: =IF(I26="","",100*I26/E26) | K26: =IF(J26="","",IF(J26<=-H$4,"Stop",IF(J26>=H$3,"Alvo",IF(G26="","Continue","")))) | M26: =M25+1 -> 23 | N26: =N25*(1+R$5/100) -> 3885788.7 | O26: =100*(N26-R$3)/R$3 -> 388478.87 | Q26: % Dia útil | R26: =100*((1+R23/100)^(7/360/5)-1) -> 0.26992087
B27: =IF(C27="",B26,B26+1) -> 1 | D27: =IF(E27="","",IF(C27="",D26,D26+1)) | E27: =IF(G26="","",G26) | F27: =IF(G27="",IF(C27="","",F26+1),F26+1) | H27: =IF(E27="","",IF(H$3="","",E27*(1+H$3/100))) | I27: =IF(E27="","",IF(G27="","",G27-E27)) | J27: =IF(I27="","",100*I27/E27) | K27: =IF(J27="","",IF(J27<=-H$4,"Stop",IF(J27>=H$3,"Alvo",IF(G27="","Continue","")))) | M27: =M26+1 -> 24 | N27: =N26*(1+R$5/100) -> 5566003.8 | O27: =100*(N27-R$3)/R$3 -> 556500.38
B28: =IF(C28="",B27,B27+1) -> 1 | D28: =IF(E28="","",IF(C28="",D27,D27+1)) | E28: =IF(G27="","",G27) | F28: =IF(G28="",IF(C28="","",F27+1),F27+1) | H28: =IF(E28="","",IF(H$3="","",E28*(1+H$3/100))) | I28: =IF(E28="","",IF(G28="","",G28-E28)) | J28: =IF(I28="","",100*I28/E28) | K28: =IF(J28="","",IF(J28<=-H$4,"Stop",IF(J28>=H$3,"Alvo",IF(G28="","Continue","")))) | M28: =M27+1 -> 25 | N28: =N27*(1+R$5/100) -> 7972743.8 | O28: =100*(N28-R$3)/R$3 -> 797174.38 | Q28: % Mês | R28: 20
B29: =IF(C29="",B28,B28+1) -> 1 | D29: =IF(E29="","",IF(C29="",D28,D28+1)) | E29: =IF(G28="","",G28) | F29: =IF(G29="",IF(C29="","",F28+1),F28+1) | H29: =IF(E29="","",IF(H$3="","",E29*(1+H$3/100))) | I29: =IF(E29="","",IF(G29="","",G29-E29)) | J29: =IF(I29="","",100*I29/E29) | K29: =IF(J29="","",IF(J29<=-H$4,"Stop",IF(J29>=H$3,"Alvo",IF(G29="","Continue","")))) | M29: =M28+1 -> 26 | N29: =N28*(1+R$5/100) -> 11420158 | O29: =100*(N29-R$3)/R$3 -> 1141915.8 | Q29: % Semana | R29: =100*((1+R28/100)^(7/30)-1) -> 4.3459564
B30: =IF(C30="",B29,B29+1) -> 1 | D30: =IF(E30="","",IF(C30="",D29,D29+1)) | E30: =IF(G29="","",G29) | F30: =IF(G30="",IF(C30="","",F29+1),F29+1) | H30: =IF(E30="","",IF(H$3="","",E30*(1+H$3/100))) | I30: =IF(E30="","",IF(G30="","",G30-E30)) | J30: =IF(I30="","",100*I30/E30) | K30: =IF(J30="","",IF(J30<=-H$4,"Stop",IF(J30>=H$3,"Alvo",IF(G30="","Continue","")))) | M30: =M29+1 -> 27 | N30: =N29*(1+R$5/100) -> 16358235 | O30: =100*(N30-R$3)/R$3 -> 1635723.5 | Q30: % Dia útil | R30: =100*((1+R28/100)^(7/150)-1) -> 0.85446381
B31: =IF(C31="",B30,B30+1) -> 1 | D31: =IF(E31="","",IF(C31="",D30,D30+1)) | E31: =IF(G30="","",G30) | F31: =IF(G31="",IF(C31="","",F30+1),F30+1) | H31: =IF(E31="","",IF(H$3="","",E31*(1+H$3/100))) | I31: =IF(E31="","",IF(G31="","",G31-E31)) | J31: =IF(I31="","",100*I31/E31) | K31: =IF(J31="","",IF(J31<=-H$4,"Stop",IF(J31>=H$3,"Alvo",IF(G31="","Continue","")))) | M31: =M30+1 -> 28 | N31: =N30*(1+R$5/100) -> 23431535 | O31: =100*(N31-R$3)/R$3 -> 2343053.5
B32: =IF(C32="",B31,B31+1) -> 1 | D32: =IF(E32="","",IF(C32="",D31,D31+1)) | E32: =IF(G31="","",G31) | F32: =IF(G32="",IF(C32="","",F31+1),F31+1) | H32: =IF(E32="","",IF(H$3="","",E32*(1+H$3/100))) | I32: =IF(E32="","",IF(G32="","",G32-E32)) | J32: =IF(I32="","",100*I32/E32) | K32: =IF(J32="","",IF(J32<=-H$4,"Stop",IF(J32>=H$3,"Alvo",IF(G32="","Continue","")))) | M32: =M31+1 -> 29 | N32: =N31*(1+R$5/100) -> 33563331 | O32: =100*(N32-R$3)/R$3 -> 3356233.1 | Q32: % Semana | R32: 5
B33: =IF(C33="",B32,B32+1) -> 1 | D33: =IF(E33="","",IF(C33="",D32,D32+1)) | E33: =IF(G32="","",G32) | F33: =IF(G33="",IF(C33="","",F32+1),F32+1) | M33: =M32+1 -> 30 | N33: =N32*(1+R$5/100) -> 48076116 | O33: =100*(N33-R$3)/R$3 -> 4807511.6 | Q33: % Dia útil | R33: =100*((1+R32/100)^(1/5)-1) -> 0.98057977

Sheet Open
F2: Spread | G2: =10000*(E6-E7) -> 0.9 | H2: Equity | I2: =SUM(E5:H5) -> 34386.12 | K2: Position | L2: Rescue calculator | Q2: Max % DD
B3: Balance | E3: Starting balance | G3: $ Profit | K3: =IF(I10="","",MATCH(VLOOKUP(MAX(J10:J27),J10:K27,2,FALSE),K10:K27,0)) | L3: TP factor | M3: $ Profit | N3: % | O3: Exit 1 | P3: Exit 2 | Q3: =IF(Q6<>"",Q6,IF(Q4<>"",Q4,IF(I6<-Q3,-I6,Q3))) -> 0
G4: Closed | H4: Floating | I4: Total | K4: Last Open | L4: 1 | M4: =IF(L4="","",IF(Q10="","",IF(D28=0,"",L4*Q10))) | N4: =IF(M4="","",IF(E5="","",100*M4/E5)) | O4: =IF(L4="","",IF(L10="","",IF(D28="","",IF(D28=0,"",IF(M4="","",L10+(M4-G5-H5)/Q18/D28))))) | P4: =IF(D28="","",IF(D10=D28,"",(M4-G5-H5-D28*Q18*(K7-L10))/(D28-K5)/Q18+K7))
B5: =E5+G5 -> 34386.12 | E5: =DLog!$H$2 -> 34386.12 | G5: =SUM(M10:M27) -> 0 | H5: =SUM(N10:N27) -> 0 | I5: =G5+H5 -> 0 | K5: =IF(I10="","",INDEX(B10:B27,K3)) | L5: =IF(M5="","",IF(Q10="","",M5/Q10)) | M5: =IF(O5="","",IF(L10="","",IF(D28="","",G5+H5+(O5-L10)*Q18*D28))) | N5: =IF(M5="","",100*M5/E5) | P5: Extreme | Q5: Reset DD
B6: Ask | E6: =[1]!EURUSD/100000 -> 1.0742 | G6: =100*G5/E5 -> 0 | H6: =100*H5/E5 -> 0 | I6: =100*(I2/E5-1) -> 0 | K6: TP Last | L6: Stop out | M6: =IF(N6="","",-N6*E5/100) -> -10315.836 | N6: 30 | O6: =IF(N6="","",IF(L10="","",IF(D28=0,"",L10-(I2-E5-M6)/Q18/D28))) | Q6: =IF(P6="","",IF(D28="","",IF(D28>0,ABS(100*(D28*Q18*(P6-L10)+I5)/E5),ABS(100*(D28*Q18*(P6-L10+0.00015)+I5)/E5))))
B7: Bid | E7: =[2]!EURUSD/100000 -> 1.07411 | G7: % Profit | K7: =IF(I10="","",INDEX(F10:F27,K3)) | L7: Kelly | M7: =IF(N7="","",-N7*E5/100) -> -13214.207 | N7: =Risk!$C$28 -> 38.428897 | O7: =IF(N7="","",IF(L10="","",IF(N7=0,"",IF(D28=0,"",L10-(I2-E5-M7)/Q18/D28)))) | P7: Kelly Factor | Q7: =IF(N7="","",IF(O28="","",N7/O28)) -> 24.939521
B8: Lots (+-) | C8: # | D8: Open Lots | E8: Entry Price | F8: Take Profit | G8: $ Profit Target | H8: Swap | I8: Status (p/o/c) | J8: # | K8: # | L8: Price | M8: Closed Profit $ | N8: Floating Profit $ | O8: % Profit | P8: Scout Default
P9: Take profit | Q9: $ Target
C10: =IF(D10="","",1) | D10: =IF(B10="","",IF(I10="p",D9,IF(I10="o",D9+B10,IF(I10="c",D9,IF(I10="","","Status?"))))) | G10: =IF(B10="","",IF(E10="","",IF(F10="","",B10*Q$18*(F10-E10)))) | J10: =IF(I10="o",1,"") | K10: =IF(I10="o",1,"") | L10: =IF(B10="","",IF(I10<>"o","",IF(B10>0,E$7,IF(B10<0,E$6,"Posição?")))) | M10: =IF(B10="","",IF(E10="","",IF(F10="","",IF(H10="","",IF(I10="c",B10*Q$18*(F10-E10)+H10,""))))) | N10: =IF(B10="","",IF(E10="","",IF(H10="","",IF(I10="o",B10*Q$18*(L10-E10)+H10,"")))) | O10: =IF(B10="","",IF(E10="","",IF(H10="","",IF(I10="p",100*G10/E$5,IF(I10="o",100*N10/E$5,IF(I10="c",100*M10/E$5,"")))))) | Q10: =IF(B10="","",IF(E10="","",IF(P10="","",B10*Q$18*(P10-E10))))
C11: =IF(D11="","",C10+1) | D11: =IF(B11="","",IF(I11="p",D10,IF(I11="o",D10+B11,IF(I11="c",D10,IF(I11="","","Status?"))))) | G11: =IF(B11="","",IF(E11="","",IF(F11="","",B11*Q$18*(F11-E11)))) | J11: =IF(J10="","",IF(I11="","",J10+1)) | K11: =IF(K10="","",IF(I11="","",IF(I11="o",K10+1,K10))) | L11: =IF(B11="","",IF(I11<>"o","",IF(B11>0,E$7,IF(B11<0,E$6,"Posição?")))) | M11: =IF(B11="","",IF(E11="","",IF(F11="","",IF(H11="","",IF(I11="c",B11*Q$18*(F11-E11)+H11,""))))) | N11: =IF(B11="","",IF(E11="","",IF(H11="","",IF(I11="o",B11*Q$18*(L11-E11)+H11,"")))) | O11: =IF(B11="","",IF(E11="","",IF(H11="","",IF(I11="p",100*G11/E$5,IF(I11="o",100*N11/E$5,IF(I11="c",100*M11/E$5,"")))))) | P11: Current $ | Q11: =IF(G10="","",SUM(G10:H27))
C12: =IF(D12="","",C11+1) | D12: =IF(B12="","",IF(I12="p",D11,IF(I12="o",D11+B12,IF(I12="c",D11,IF(I12="","","Status?"))))) | G12: =IF(B12="","",IF(E12="","",IF(F12="","",B12*Q$18*(F12-E12)))) | J12: =IF(J11="","",IF(I12="","",J11+1)) | K12: =IF(K11="","",IF(I12="","",IF(I12="o",K11+1,K11))) | L12: =IF(B12="","",IF(I12<>"o","",IF(B12>0,E$7,IF(B12<0,E$6,"Posição?")))) | M12: =IF(B12="","",IF(E12="","",IF(F12="","",IF(H12="","",IF(I12="c",B12*Q$18*(F12-E12)+H12,""))))) | N12: =IF(B12="","",IF(E12="","",IF(H12="","",IF(I12="o",B12*Q$18*(L12-E12)+H12,"")))) | O12: =IF(B12="","",IF(E12="","",IF(H12="","",IF(I12="p",100*G12/E$5,IF(I12="o",100*N12/E$5,IF(I12="c",100*M12/E$5,"")))))) | P12: % | Q12: =IF(Q11="","",100*Q11/E5)
C13: =IF(D13="","",C12+1) | D13: =IF(B13="","",IF(I13="p",D12,IF(I13="o",D12+B13,IF(I13="c",D12,IF(I13="","","Status?"))))) | G13: =IF(B13="","",IF(E13="","",IF(F13="","",B13*Q$18*(F13-E13)))) | J13: =IF(J12="","",IF(I13="","",J12+1)) | K13: =IF(K12="","",IF(I13="","",IF(I13="o",K12+1,K12))) | L13: =IF(B13="","",IF(I13<>"o","",IF(B13>0,E$7,IF(B13<0,E$6,"Posição?")))) | M13: =IF(B13="","",IF(E13="","",IF(F13="","",IF(H13="","",IF(I13="c",B13*Q$18*(F13-E13)+H13,""))))) | N13: =IF(B13="","",IF(E13="","",IF(H13="","",IF(I13="o",B13*Q$18*(L13-E13)+H13,"")))) | O13: =IF(B13="","",IF(E13="","",IF(H13="","",IF(I13="p",100*G13/E$5,IF(I13="o",100*N13/E$5,IF(I13="c",100*M13/E$5,"")))))) | P13: Factor | Q13: =IF(Q11=0,"",IF(Q10="","",Q11/Q10))
C14: =IF(D14="","",C13+1) | D14: =IF(B14="","",IF(I14="p",D13,IF(I14="o",D13+B14,IF(I14="c",D13,IF(I14="","","Status?"))))) | G14: =IF(B14="","",IF(E14="","",IF(F14="","",B14*Q$18*(F14-E14)))) | J14: =IF(J13="","",IF(I14="","",J13+1)) | K14: =IF(K13="","",IF(I14="","",IF(I14="o",K13+1,K13))) | L14: =IF(B14="","",IF(I14<>"o","",IF(B14>0,E$7,IF(B14<0,E$6,"Posição?")))) | M14: =IF(B14="","",IF(E14="","",IF(F14="","",IF(H14="","",IF(I14="c",B14*Q$18*(F14-E14)+H14,""))))) | N14: =IF(B14="","",IF(E14="","",IF(H14="","",IF(I14="o",B14*Q$18*(L14-E14)+H14,"")))) | O14: =IF(B14="","",IF(E14="","",IF(H14="","",IF(I14="p",100*G14/E$5,IF(I14="o",100*N14/E$5,IF(I14="c",100*M14/E$5,"")))))) | P14: Lots
C15: =IF(D15="","",C14+1) | D15: =IF(B15="","",IF(I15="p",D14,IF(I15="o",D14+B15,IF(I15="c",D14,IF(I15="","","Status?"))))) | G15: =IF(B15="","",IF(E15="","",IF(F15="","",B15*Q$18*(F15-E15)))) | J15: =IF(J14="","",IF(I15="","",J14+1)) | K15: =IF(K14="","",IF(I15="","",IF(I15="o",K14+1,K14))) | L15: =IF(B15="","",IF(I15<>"o","",IF(B15>0,E$7,IF(B15<0,E$6,"Posição?")))) | M15: =IF(B15="","",IF(E15="","",IF(F15="","",IF(H15="","",IF(I15="c",B15*Q$18*(F15-E15)+H15,""))))) | N15: =IF(B15="","",IF(E15="","",IF(H15="","",IF(I15="o",B15*Q$18*(L15-E15)+H15,"")))) | O15: =IF(B15="","",IF(E15="","",IF(H15="","",IF(I15="p",100*G15/E$5,IF(I15="o",100*N15/E$5,IF(I15="c",100*M15/E$5,"")))))) | P15: Base leverage | Q15: 1
C16: =IF(D16="","",C15+1) | D16: =IF(B16="","",IF(I16="p",D15,IF(I16="o",D15+B16,IF(I16="c",D15,IF(I16="","","Status?"))))) | G16: =IF(B16="","",IF(E16="","",IF(F16="","",B16*Q$18*(F16-E16)))) | J16: =IF(J15="","",IF(I16="","",J15+1)) | K16: =IF(K15="","",IF(I16="","",IF(I16="o",K15+1,K15))) | L16: =IF(B16="","",IF(I16<>"o","",IF(B16>0,E$7,IF(B16<0,E$6,"Posição?")))) | M16: =IF(B16="","",IF(E16="","",IF(F16="","",IF(H16="","",IF(I16="c",B16*Q$18*(F16-E16)+H16,""))))) | N16: =IF(B16="","",IF(E16="","",IF(H16="","",IF(I16="o",B16*Q$18*(L16-E16)+H16,"")))) | O16: =IF(B16="","",IF(E16="","",IF(H16="","",IF(I16="p",100*G16/E$5,IF(I16="o",100*N16/E$5,IF(I16="c",100*M16/E$5,"")))))) | P16: Agress (0:100+) | Q16: 12
C17: =IF(D17="","",C16+1) | D17: =IF(B17="","",IF(I17="p",D16,IF(I17="o",D16+B17,IF(I17="c",D16,IF(I17="","","Status?"))))) | G17: =IF(B17="","",IF(E17="","",IF(F17="","",B17*Q$18*(F17-E17)))) | J17: =IF(J16="","",IF(I17="","",J16+1)) | K17: =IF(K16="","",IF(I17="","",IF(I17="o",K16+1,K16))) | L17: =IF(B17="","",IF(I17<>"o","",IF(B17>0,E$7,IF(B17<0,E$6,"Posição?")))) | M17: =IF(B17="","",IF(E17="","",IF(F17="","",IF(H17="","",IF(I17="c",B17*Q$18*(F17-E17)+H17,""))))) | N17: =IF(B17="","",IF(E17="","",IF(H17="","",IF(I17="o",B17*Q$18*(L17-E17)+H17,"")))) | O17: =IF(B17="","",IF(E17="","",IF(H17="","",IF(I17="p",100*G17/E$5,IF(I17="o",100*N17/E$5,IF(I17="c",100*M17/E$5,"")))))) | P17: Start leverage | Q17: =IF(Q15="","",IF(Q16="","",IF(Q7="","",Q15*(1+Q16*(Q7-1)/100)))) -> 3.8727425
C18: =IF(D18="","",C17+1) | D18: =IF(B18="","",IF(I18="p",D17,IF(I18="o",D17+B18,IF(I18="c",D17,IF(I18="","","Status?"))))) | G18: =IF(B18="","",IF(E18="","",IF(F18="","",B18*Q$18*(F18-E18)))) | J18: =IF(J17="","",IF(I18="","",J17+1)) | K18: =IF(K17="","",IF(I18="","",IF(I18="o",K17+1,K17))) | L18: =IF(B18="","",IF(I18<>"o","",IF(B18>0,E$7,IF(B18<0,E$6,"Posição?")))) | M18: =IF(B18="","",IF(E18="","",IF(F18="","",IF(H18="","",IF(I18="c",B18*Q$18*(F18-E18)+H18,""))))) | N18: =IF(B18="","",IF(E18="","",IF(H18="","",IF(I18="o",B18*Q$18*(L18-E18)+H18,"")))) | O18: =IF(B18="","",IF(E18="","",IF(H18="","",IF(I18="p",100*G18/E$5,IF(I18="o",100*N18/E$5,IF(I18="c",100*M18/E$5,"")))))) | P18: Lot size | Q18: 100000
C19: =IF(D19="","",C18+1) | D19: =IF(B19="","",IF(I19="p",D18,IF(I19="o",D18+B19,IF(I19="c",D18,IF(I19="","","Status?"))))) | G19: =IF(B19="","",IF(E19="","",IF(F19="","",B19*Q$18*(F19-E19)))) | J19: =IF(J18="","",IF(I19="","",J18+1)) | K19: =IF(K18="","",IF(I19="","",IF(I19="o",K18+1,K18))) | L19: =IF(B19="","",IF(I19<>"o","",IF(B19>0,E$7,IF(B19<0,E$6,"Posição?")))) | M19: =IF(B19="","",IF(E19="","",IF(F19="","",IF(H19="","",IF(I19="c",B19*Q$18*(F19-E19)+H19,""))))) | N19: =IF(B19="","",IF(E19="","",IF(H19="","",IF(I19="o",B19*Q$18*(L19-E19)+H19,"")))) | O19: =IF(B19="","",IF(E19="","",IF(H19="","",IF(I19="p",100*G19/E$5,IF(I19="o",100*N19/E$5,IF(I19="c",100*M19/E$5,"")))))) | P19: Max leverage | Q19: 500
C20: =IF(D20="","",C19+1) | D20: =IF(B20="","",IF(I20="p",D19,IF(I20="o",D19+B20,IF(I20="c",D19,IF(I20="","","Status?"))))) | G20: =IF(B20="","",IF(E20="","",IF(F20="","",B20*Q$18*(F20-E20)))) | J20: =IF(J19="","",IF(I20="","",J19+1)) | K20: =IF(K19="","",IF(I20="","",IF(I20="o",K19+1,K19))) | L20: =IF(B20="","",IF(I20<>"o","",IF(B20>0,E$7,IF(B20<0,E$6,"Posição?")))) | M20: =IF(B20="","",IF(E20="","",IF(F20="","",IF(H20="","",IF(I20="c",B20*Q$18*(F20-E20)+H20,""))))) | N20: =IF(B20="","",IF(E20="","",IF(H20="","",IF(I20="o",B20*Q$18*(L20-E20)+H20,"")))) | O20: =IF(B20="","",IF(E20="","",IF(H20="","",IF(I20="p",100*G20/E$5,IF(I20="o",100*N20/E$5,IF(I20="c",100*M20/E$5,"")))))) | P20: Max lots | Q20: =IF(E5="","",IF(Q18="","",IF(Q19="","",E5*Q19/Q18))) -> 171.9306
C21: =IF(D21="","",C20+1) | D21: =IF(B21="","",IF(I21="p",D20,IF(I21="o",D20+B21,IF(I21="c",D20,IF(I21="","","Status?"))))) | G21: =IF(B21="","",IF(E21="","",IF(F21="","",B21*Q$18*(F21-E21)))) | J21: =IF(J20="","",IF(I21="","",J20+1)) | K21: =IF(K20="","",IF(I21="","",IF(I21="o",K20+1,K20))) | L21: =IF(B21="","",IF(I21<>"o","",IF(B21>0,E$7,IF(B21<0,E$6,"Posição?")))) | M21: =IF(B21="","",IF(E21="","",IF(F21="","",IF(H21="","",IF(I21="c",B21*Q$18*(F21-E21)+H21,""))))) | N21: =IF(B21="","",IF(E21="","",IF(H21="","",IF(I21="o",B21*Q$18*(L21-E21)+H21,"")))) | O21: =IF(B21="","",IF(E21="","",IF(H21="","",IF(I21="p",100*G21/E$5,IF(I21="o",100*N21/E$5,IF(I21="c",100*M21/E$5,"")))))) | P21: Lots 1 | Q21: =IF(E5="","",IF(Q17="","",IF(Q18="","",IF(E5*Q17/Q18>Q20,"",E5*Q17/Q18)))) -> 1.3316859
C22: =IF(D22="","",C21+1) | D22: =IF(B22="","",IF(I22="p",D21,IF(I22="o",D21+B22,IF(I22="c",D21,IF(I22="","","Status?"))))) | G22: =IF(B22="","",IF(E22="","",IF(F22="","",B22*Q$18*(F22-E22)))) | J22: =IF(J21="","",IF(I22="","",J21+1)) | K22: =IF(K21="","",IF(I22="","",IF(I22="o",K21+1,K21))) | L22: =IF(B22="","",IF(I22<>"o","",IF(B22>0,E$7,IF(B22<0,E$6,"Posição?")))) | M22: =IF(B22="","",IF(E22="","",IF(F22="","",IF(H22="","",IF(I22="c",B22*Q$18*(F22-E22)+H22,""))))) | N22: =IF(B22="","",IF(E22="","",IF(H22="","",IF(I22="o",B22*Q$18*(L22-E22)+H22,"")))) | O22: =IF(B22="","",IF(E22="","",IF(H22="","",IF(I22="p",100*G22/E$5,IF(I22="o",100*N22/E$5,IF(I22="c",100*M22/E$5,"")))))) | P22: Lots 2 | Q22: =IF(Q21="","",IF(SUM(Q$21:Q21)=Q$20,"",IF(2*Q21+SUM(Q$21:Q21)>Q$20,Q$20-SUM(Q$21:Q21),2*Q21))) -> 2.6633718
C23: =IF(D23="","",C22+1) | D23: =IF(B23="","",IF(I23="p",D22,IF(I23="o",D22+B23,IF(I23="c",D22,IF(I23="","","Status?"))))) | G23: =IF(B23="","",IF(E23="","",IF(F23="","",B23*Q$18*(F23-E23)))) | J23: =IF(J22="","",IF(I23="","",J22+1)) | K23: =IF(K22="","",IF(I23="","",IF(I23="o",K22+1,K22))) | L23: =IF(B23="","",IF(I23<>"o","",IF(B23>0,E$7,IF(B23<0,E$6,"Posição?")))) | M23: =IF(B23="","",IF(E23="","",IF(F23="","",IF(H23="","",IF(I23="c",B23*Q$18*(F23-E23)+H23,""))))) | N23: =IF(B23="","",IF(E23="","",IF(H23="","",IF(I23="o",B23*Q$18*(L23-E23)+H23,"")))) | O23: =IF(B23="","",IF(E23="","",IF(H23="","",IF(I23="p",100*G23/E$5,IF(I23="o",100*N23/E$5,IF(I23="c",100*M23/E$5,"")))))) | P23: Lots 3 | Q23: =IF(Q22="","",IF(SUM(Q$21:Q22)=Q$20,"",IF(2*Q22+SUM(Q$21:Q22)>Q$20,Q$20-SUM(Q$21:Q22),2*Q22))) -> 5.3267436
C24: =IF(D24="","",C23+1) | D24: =IF(B24="","",IF(I24="p",D23,IF(I24="o",D23+B24,IF(I24="c",D23,IF(I24="","","Status?"))))) | G24: =IF(B24="","",IF(E24="","",IF(F24="","",B24*Q$18*(F24-E24)))) | J24: =IF(J23="","",IF(I24="","",J23+1)) | K24: =IF(K23="","",IF(I24="","",IF(I24="o",K23+1,K23))) | L24: =IF(B24="","",IF(I24<>"o","",IF(B24>0,E$7,IF(B24<0,E$6,"Posição?")))) | M24: =IF(B24="","",IF(E24="","",IF(F24="","",IF(H24="","",IF(I24="c",B24*Q$18*(F24-E24)+H24,""))))) | N24: =IF(B24="","",IF(E24="","",IF(H24="","",IF(I24="o",B24*Q$18*(L24-E24)+H24,"")))) | O24: =IF(B24="","",IF(E24="","",IF(H24="","",IF(I24="p",100*G24/E$5,IF(I24="o",100*N24/E$5,IF(I24="c",100*M24/E$5,"")))))) | P24: Lots 4 | Q24: =IF(Q23="","",IF(SUM(Q$21:Q23)=Q$20,"",IF(2*Q23+SUM(Q$21:Q23)>Q$20,Q$20-SUM(Q$21:Q23),2*Q23))) -> 10.653487
C25: =IF(D25="","",C24+1) | D25: =IF(B25="","",IF(I25="p",D24,IF(I25="o",D24+B25,IF(I25="c",D24,IF(I25="","","Status?"))))) | G25: =IF(B25="","",IF(E25="","",IF(F25="","",B25*Q$18*(F25-E25)))) | J25: =IF(J24="","",IF(I25="","",J24+1)) | K25: =IF(K24="","",IF(I25="","",IF(I25="o",K24+1,K24))) | L25: =IF(B25="","",IF(I25<>"o","",IF(B25>0,E$7,IF(B25<0,E$6,"Posição?")))) | M25: =IF(B25="","",IF(E25="","",IF(F25="","",IF(H25="","",IF(I25="c",B25*Q$18*(F25-E25)+H25,""))))) | N25: =IF(B25="","",IF(E25="","",IF(H25="","",IF(I25="o",B25*Q$18*(L25-E25)+H25,"")))) | O25: =IF(B25="","",IF(E25="","",IF(H25="","",IF(I25="p",100*G25/E$5,IF(I25="o",100*N25/E$5,IF(I25="c",100*M25/E$5,"")))))) | P25: Lots 5 | Q25: =IF(Q24="","",IF(SUM(Q$21:Q24)=Q$20,"",IF(2*Q24+SUM(Q$21:Q24)>Q$20,Q$20-SUM(Q$21:Q24),2*Q24))) -> 21.306974
C26: =IF(D26="","",C25+1) | D26: =IF(B26="","",IF(I26="p",D25,IF(I26="o",D25+B26,IF(I26="c",D25,IF(I26="","","Status?"))))) | G26: =IF(B26="","",IF(E26="","",IF(F26="","",B26*Q$18*(F26-E26)))) | J26: =IF(J25="","",IF(I26="","",J25+1)) | K26: =IF(K25="","",IF(I26="","",IF(I26="o",K25+1,K25))) | L26: =IF(B26="","",IF(I26<>"o","",IF(B26>0,E$7,IF(B26<0,E$6,"Posição?")))) | M26: =IF(B26="","",IF(E26="","",IF(F26="","",IF(H26="","",IF(I26="c",B26*Q$18*(F26-E26)+H26,""))))) | N26: =IF(B26="","",IF(E26="","",IF(H26="","",IF(I26="o",B26*Q$18*(L26-E26)+H26,"")))) | O26: =IF(B26="","",IF(E26="","",IF(H26="","",IF(I26="p",100*G26/E$5,IF(I26="o",100*N26/E$5,IF(I26="c",100*M26/E$5,"")))))) | P26: Lots 6 | Q26: =IF(Q25="","",IF(SUM(Q$21:Q25)=Q$20,"",IF(2*Q25+SUM(Q$21:Q25)>Q$20,Q$20-SUM(Q$21:Q25),2*Q25))) -> 42.613949
C27: =IF(D27="","",C26+1) | D27: =IF(B27="","",IF(I27="p",D26,IF(I27="o",D26+B27,IF(I27="c",D26,IF(I27="","","Status?"))))) | G27: =IF(B27="","",IF(E27="","",IF(F27="","",B27*Q$18*(F27-E27)))) | J27: =IF(J26="","",IF(I27="","",J26+1)) | K27: =IF(K26="","",IF(I27="","",IF(I27="o",K26+1,K26))) | L27: =IF(B27="","",IF(I27<>"o","",IF(B27>0,E$7,IF(B27<0,E$6,"Posição?")))) | M27: =IF(B27="","",IF(E27="","",IF(F27="","",IF(H27="","",IF(I27="c",B27*Q$18*(F27-E27)+H27,""))))) | N27: =IF(B27="","",IF(E27="","",IF(H27="","",IF(I27="o",B27*Q$18*(L27-E27)+H27,"")))) | O27: =IF(B27="","",IF(E27="","",IF(H27="","",IF(I27="p",100*G27/E$5,IF(I27="o",100*N27/E$5,IF(I27="c",100*M27/E$5,"")))))) | P27: Lots 7 | Q27: =IF(Q26="","",IF(SUM(Q$21:Q26)=Q$20,"",IF(2*Q26+SUM(Q$21:Q26)>Q$20,Q$20-SUM(Q$21:Q26),2*Q26))) -> 85.227897
B28: Total | D28: =IF(D10="","",VLOOKUP(MAX(C10:C27),C10:D27,2,FALSE)) | E28: Used Leverage | G28: =IF(Q18="","",IF(D28="","",IF(E5="","",ABS(Q18*D28/E5)))) | N28: %DDMEq | O28: =Cy!$AF$3 -> 1.5408835 | P28: Lots 8 | Q28: =IF(Q27="","",IF(SUM(Q$21:Q27)=Q$20,"",IF(2*Q27+SUM(Q$21:Q27)>Q$20,Q$20-SUM(Q$21:Q27),2*Q27))) -> 2.8064915

Sheet Cy
B2: # | C2: Data | D2: # | E2: FatAlav | F2: FatAlavCor | G2: Balanço | H2: # | I2: %Bal | J2: %BalEq | K2: FatAcBalEq | L2: # | M2: %BalMEq | N2: %DD | O2: %DDEq | P2: FatAcDDEq | Q2: # | R2: %DDMEq | S2: # | T2: Dias | U2: # | V2: Ciclos | W2: %Ano | Y2: %BalMEq | Z2: =IF(M4="","",VLOOKUP(MAX(L4:L103),L4:M103,2,FALSE)) -> 0.26306311 | AA2: Últ %Bal | AB2: =IF(I4="","",VLOOKUP(MAX(H4:H103),H4:I103,2,FALSE)) -> 0.65861404 | AE2: Últ FatAlav | AF2: %DDMEq
B3: 0 | C3: 42737 | D3: 0 | G3: 33112.58 | H3: 0 | L3: 0 | Q3: 0 | S3: 0 | T3: 0 | U3: 0 | V3: 0 | Y3: Dias | Z3: =IF(C3="","",VLOOKUP(MAX(S4:S103),S4:T103,2,FALSE)) -> 32 | AA3: Ciclos | AB3: =IF(U4="","",VLOOKUP(MAX(U4:U103),U4:V103,2,FALSE)) -> 23 | AE3: =IF(E4="","",VLOOKUP(MAX(D4:D103),D4:E103,2,FALSE)) -> 3.78 | AF3: =IF(R4="","",VLOOKUP(MAX(Q4:Q103),Q4:R103,2,FALSE)) -> 1.5408835
B4: =B3+1 -> 1 | C4: 42737 | D4: =IF(E4="","",D3+1) -> 1 | E4: 1 | F4: =IF(E4="","",AE$3/E4) -> 3.78 | G4: 33089.15 | H4: =IF(G4="","",H3+1) -> 1 | I4: =IF(G4="","",100*(G4-G3)/G3) -> -0.070758606 | J4: =IF(I4="","",I4*F4) -> -0.26746753 | K4: =IF(J4="","",J4/100+1) -> 0.99732532 | L4: =IF(I4="","",L3+1) -> 1 | M4: =IF(K4="","",100*(K4^(1/L4)-1)) -> -0.26746753 | N4: 0.07 | O4: =IF(N4="","",N4*F4) -> 0.2646 | P4: =IF(O4="","",O4/100+1) -> 1.002646 | Q4: =IF(N4="","",Q3+1) -> 1 | R4: =IF(P4="","",100*(P4^(1/Q4)-1)) -> 0.2646 | S4: =IF(M4="","",S3+1) -> 1 | T4: =IF(G4="","",IF(C4="",T3,C4-C$3)) -> 0 | U4: =IF(S4="","",U3+1) -> 1 | V4: =IF(T4="","",V3+1) -> 1
B5: =B4+1 -> 2 | C5: 42738 | D5: =IF(E5="","",D4+1) -> 2 | E5: 1 | F5: =IF(E5="","",AE$3/E5) -> 3.78 | G5: 33103.34 | H5: =IF(G5="","",H4+1) -> 2 | I5: =IF(G5="","",100*(G5-G4)/G4) -> 0.042884148 | J5: =IF(I5="","",I5*F5) -> 0.16210208 | K5: =IF(J5="","",K4*(J5/100+1)) -> 0.99894201 | L5: =IF(I5="","",L4+1) -> 2 | M5: =IF(K5="","",100*(K5^(1/L5)-1)) -> -0.05291351 | N5: 0.05 | O5: =IF(N5="","",N5*F5) -> 0.189 | P5: =IF(O5="","",P4*(O5/100+1)) -> 1.004541 | Q5: =IF(N5="","",Q4+1) -> 2 | R5: =IF(P5="","",100*(P5^(1/Q5)-1)) -> 0.22679287 | S5: =IF(M5="","",S4+1) -> 2 | T5: =IF(G5="","",IF(C5="",T4,C5-C$3)) -> 1 | U5: =IF(S5="","",U4+1) -> 2 | V5: =IF(T5="","",V4+1) -> 2 | Y5: Payoff (% por) | AD5: Há ganho consistente?
B6: =B5+1 -> 3 | D6: =IF(E6="","",D5+1) -> 3 | E6: 1 | F6: =IF(E6="","",AE$3/E6) -> 3.78 | G6: 33130.73 | H6: =IF(G6="","",H5+1) -> 3 | I6: =IF(G6="","",100*(G6-G5)/G5) -> 0.082740896 | J6: =IF(I6="","",I6*F6) -> 0.31276059 | K6: =IF(J6="","",K5*(J6/100+1)) -> 1.0020663 | L6: =IF(I6="","",L5+1) -> 3 | M6: =IF(K6="","",100*(K6^(1/L6)-1)) -> 0.068829503 | N6: 0.14 | O6: =IF(N6="","",N6*F6) -> 0.5292 | P6: =IF(O6="","",P5*(O6/100+1)) -> 1.009857 | Q6: =IF(N6="","",Q5+1) -> 3 | R6: =IF(P6="","",100*(P6^(1/Q6)-1)) -> 0.32749404 | S6: =IF(M6="","",S5+1) -> 3 | T6: =IF(G6="","",IF(C6="",T5,C6-C$3)) -> 1 | U6: =IF(S6="","",U5+1) -> 3 | V6: =IF(T6="","",V5+1) -> 3 | Y6: Usando Méd Eq | AA6: Usando último
B7: =B6+1 -> 4 | C7: 42740 | D7: =IF(E7="","",D6+1) -> 4 | E7: 1 | F7: =IF(E7="","",AE$3/E7) -> 3.78 | G7: 33084.86 | H7: =IF(G7="","",H6+1) -> 4 | I7: =IF(G7="","",100*(G7-G6)/G6) -> -0.13845152 | J7: =IF(I7="","",I7*F7) -> -0.52334675 | K7: =IF(J7="","",K6*(J7/100+1)) -> 0.99682203 | L7: =IF(I7="","",L6+1) -> 4 | M7: =IF(K7="","",100*(K7^(1/L7)-1)) -> -0.07954423 | N7: 0.15 | O7: =IF(N7="","",N7*F7) -> 0.567 | P7: =IF(O7="","",P6*(O7/100+1)) -> 1.0155829 | Q7: =IF(N7="","",Q6+1) -> 4 | R7: =IF(P7="","",100*(P7^(1/Q7)-1)) -> 0.387317 | S7: =IF(M7="","",S6+1) -> 4 | T7: =IF(G7="","",IF(C7="",T6,C7-C$3)) -> 3 | U7: =IF(S7="","",U6+1) -> 4 | V7: =IF(T7="","",V6+1) -> 4 | Y7: Ciclo | Z7: =Risk!$C$18 -> 0.070440511 | AA7: Ciclo | AB7: =IF(AB2="","",100*((1+AB2/100)^(Risk!C26/100)*(1-Risk!C24/100)^((100-Risk!C26)/100)-1)) -> 0.46311442 | AD7: Teste T (D3:D26) | AF7: =_xlfn.T.TEST(G3:G14,G15:G26,2,3) -> 0.0012343949 | AG7: =1-AF7 -> 0.99876561
B8: =B7+1 -> 5 | C8: 42741 | D8: =IF(E8="","",D7+1) -> 5 | E8: 1 | F8: =IF(E8="","",AE$3/E8) -> 3.78 | G8: 33149.65 | H8: =IF(G8="","",H7+1) -> 5 | I8: =IF(G8="","",100*(G8-G7)/G7) -> 0.19582975 | J8: =IF(I8="","",I8*F8) -> 0.74023647 | K8: =IF(J8="","",K7*(J8/100+1)) -> 1.0042009 | L8: =IF(I8="","",L7+1) -> 5 | M8: =IF(K8="","",100*(K8^(1/L8)-1)) -> 0.083876484 | N8: 2.09 | O8: =IF(N8="","",N8*F8) -> 7.9002 | P8: =IF(O8="","",P7*(O8/100+1)) -> 1.095816 | Q8: =IF(N8="","",Q7+1) -> 5 | R8: =IF(P8="","",100*(P8^(1/Q8)-1)) -> 1.8468327 | S8: =IF(M8="","",S7+1) -> 5 | T8: =IF(G8="","",IF(C8="",T7,C8-C$3)) -> 4 | U8: =IF(S8="","",U7+1) -> 5 | V8: =IF(T8="","",V7+1) -> 5 | Y8: Dia corrido | Z8: =IF(Z7="","",100*((1+Z7/100)^(AB3/Z3)-1)) -> 0.050624104 | AA8: Dia corrido | AB8: =IF(AB7="","",100*((1+AB7/100)^(AB3/Z3)-1)) -> 0.33264714
B9: =B8+1 -> 6 | C9: 42744 | D9: =IF(E9="","",D8+1) -> 6 | E9: 1 | F9: =IF(E9="","",AE$3/E9) -> 3.78 | G9: 33204.63 | H9: =IF(G9="","",H8+1) -> 6 | I9: =IF(G9="","",100*(G9-G8)/G8) -> 0.16585394 | J9: =IF(I9="","",I9*F9) -> 0.62692789 | K9: =IF(J9="","",K8*(J9/100+1)) -> 1.0104965 | L9: =IF(I9="","",L8+1) -> 6 | M9: =IF(K9="","",100*(K9^(1/L9)-1)) -> 0.1741811 | N9: 2.25 | O9: =IF(N9="","",N9*F9) -> 8.505 | P9: =IF(O9="","",P8*(O9/100+1)) -> 1.1890152 | Q9: =IF(N9="","",Q8+1) -> 6 | R9: =IF(P9="","",100*(P9^(1/Q9)-1)) -> 2.9274543 | S9: =IF(M9="","",S8+1) -> 6 | T9: =IF(G9="","",IF(C9="",T8,C9-C$3)) -> 7 | U9: =IF(S9="","",U8+1) -> 6 | V9: =IF(T9="","",V8+1) -> 6 | Y9: Semana | Z9: =IF(Z8="","",100*((1+Z8/100)^7-1)) -> 0.35490737 | AA9: Semana | AB9: =IF(AB8="","",100*((1+AB8/100)^7-1)) -> 2.3518966 | AD9: O desempenho está melhorando?
B10: =B9+1 -> 7 | C10: 42745 | D10: =IF(E10="","",D9+1) -> 7 | E10: 1 | F10: =IF(E10="","",AE$3/E10) -> 3.78 | G10: 33237.3 | H10: =IF(G10="","",H9+1) -> 7 | I10: =IF(G10="","",100*(G10-G9)/G9) -> 0.098389893 | J10: =IF(I10="","",I10*F10) -> 0.3719138 | K10: =IF(J10="","",K9*(J10/100+1)) -> 1.0142547 | L10: =IF(I10="","",L9+1) -> 7 | M10: =IF(K10="","",100*(K10^(1/L10)-1)) -> 0.20240476 | N10: 0.08 | O10: =IF(N10="","",N10*F10) -> 0.3024 | P10: =IF(O10="","",P9*(O10/100+1)) -> 1.1926107 | Q10: =IF(N10="","",Q9+1) -> 7 | R10: =IF(P10="","",100*(P10^(1/Q10)-1)) -> 2.5482817 | S10: =IF(M10="","",S9+1) -> 7 | T10: =IF(G10="","",IF(C10="",T9,C10-C$3)) -> 8 | U10: =IF(S10="","",U9+1) -> 7 | V10: =IF(T10="","",V9+1) -> 7 | Y10: Mês | Z10: =IF(Z8="","",100*((1+Z8/100)^30-1)) -> 1.5299241 | AA10: Mês | AB10: =IF(AB8="","",100*((1+AB8/100)^30-1)) -> 10.476045
B11: =B10+1 -> 8 | C11: 42746 | D11: =IF(E11="","",D10+1) -> 8 | E11: 1.23 | F11: =IF(E11="","",AE$3/E11) -> 3.0731707 | G11: 33246.66 | H11: =IF(G11="","",H10+1) -> 8 | I11: =IF(G11="","",100*(G11-G10)/G10) -> 0.028161132 | J11: =IF(I11="","",I11*F11) -> 0.086543967 | K11: =IF(J11="","",K10*(J11/100+1)) -> 1.0151324 | L11: =IF(I11="","",L10+1) -> 8 | M11: =IF(K11="","",100*(K11^(1/L11)-1)) -> 0.18791483 | N11: 0.05 | O11: =IF(N11="","",N11*F11) -> 0.15365854 | P11: =IF(O11="","",P10*(O11/100+1)) -> 1.1944433 | Q11: =IF(N11="","",Q10+1) -> 8 | R11: =IF(P11="","",100*(P11^(1/Q11)-1)) -> 2.2458505 | S11: =IF(M11="","",S10+1) -> 8 | T11: =IF(G11="","",IF(C11="",T10,C11-C$3)) -> 9 | U11: =IF(S11="","",U10+1) -> 8 | V11: =IF(T11="","",V10+1) -> 8 | Y11: Ano | Z11: =IF(Z8="","",100*((1+Z8/100)^365-1)) -> 20.289509 | AA11: Ano | AB11: =IF(AB8="","",100*((1+AB8/100)^365-1)) -> 236.06926 | AD11: Teste T (K4:K25) | AF11: =_xlfn.T.TEST(J4:J14,J15:J25,2,3) -> 0.21449165 | AG11: =1-AF11 -> 0.78550835
B12: =B11+1 -> 9 | C12: 42747 | D12: =IF(E12="","",D11+1) -> 9 | E12: 1.23 | F12: =IF(E12="","",AE$3/E12) -> 3.0731707 | G12: 33272.88 | H12: =IF(G12="","",H11+1) -> 9 | I12: =IF(G12="","",100*(G12-G11)/G11) -> 0.078865065 | J12: =IF(I12="","",I12*F12) -> 0.24236581 | K12: =IF(J12="","",K11*(J12/100+1)) -> 1.0175928 | L12: =IF(I12="","",L11+1) -> 9 | M12: =IF(K12="","",100*(K12^(1/L12)-1)) -> 0.19396348 | N12: 0.12 | O12: =IF(N12="","",N12*F12) -> 0.36878049 | P12: =IF(O12="","",P11*(O12/100+1)) -> 1.1988482 | Q12: =IF(N12="","",Q11+1) -> 9 | R12: =IF(P12="","",100*(P12^(1/Q12)-1)) -> 2.0355655 | S12: =IF(M12="","",S11+1) -> 9 | T12: =IF(G12="","",IF(C12="",T11,C12-C$3)) -> 10 | U12: =IF(S12="","",U11+1) -> 9 | V12: =IF(T12="","",V11+1) -> 9
B13: =B12+1 -> 10 | C13: 42748 | D13: =IF(E13="","",D12+1) -> 10 | E13: 1.23 | F13: =IF(E13="","",AE$3/E13) -> 3.0731707 | G13: 33293.94 | H13: =IF(G13="","",H12+1) -> 10 | I13: =IF(G13="","",100*(G13-G12)/G12) -> 0.063294791 | J13: =IF(I13="","",I13*F13) -> 0.1945157 | K13: =IF(J13="","",K12*(J13/100+1)) -> 1.0195721 | L13: =IF(I13="","",L12+1) -> 10 | M13: =IF(K13="","",100*(K13^(1/L13)-1)) -> 0.1940187 | N13: 0.06 | O13: =IF(N13="","",N13*F13) -> 0.18439024 | P13: =IF(O13="","",P12*(O13/100+1)) -> 1.2010587 | Q13: =IF(N13="","",Q12+1) -> 10 | R13: =IF(P13="","",100*(P13^(1/Q13)-1)) -> 1.848919 | S13: =IF(M13="","",S12+1) -> 10 | T13: =IF(G13="","",IF(C13="",T12,C13-C$3)) -> 11 | U13: =IF(S13="","",U12+1) -> 10 | V13: =IF(T13="","",V12+1) -> 10
B14: =B13+1 -> 11 | D14: =IF(E14="","",D13+1) -> 11 | E14: 1.23 | F14: =IF(E14="","",AE$3/E14) -> 3.0731707 | G14: 33273.66 | H14: =IF(G14="","",H13+1) -> 11 | I14: =IF(G14="","",100*(G14-G13)/G13) -> -0.060911986 | J14: =IF(I14="","",I14*F14) -> -0.18719293 | K14: =IF(J14="","",K13*(J14/100+1)) -> 1.0176636 | L14: =IF(I14="","",L13+1) -> 11 | M14: =IF(K14="","",100*(K14^(1/L14)-1)) -> 0.15930302 | N14: 0.15 | O14: =IF(N14="","",N14*F14) -> 0.46097561 | P14: =IF(O14="","",P13*(O14/100+1)) -> 1.2065953 | Q14: =IF(N14="","",Q13+1) -> 11 | R14: =IF(P14="","",100*(P14^(1/Q14)-1)) -> 1.7219539 | S14: =IF(M14="","",S13+1) -> 11 | T14: =IF(G14="","",IF(C14="",T13,C14-C$3)) -> 11 | U14: =IF(S14="","",U13+1) -> 11 | V14: =IF(T14="","",V13+1) -> 11
B15: =B14+1 -> 12 | C15: 42751 | D15: =IF(E15="","",D14+1) -> 12 | E15: 1.23 | F15: =IF(E15="","",AE$3/E15) -> 3.0731707 | G15: 33285.26 | H15: =IF(G15="","",H14+1) -> 12 | I15: =IF(G15="","",100*(G15-G14)/G14) -> 0.034862411 | J15: =IF(I15="","",I15*F15) -> 0.10713814 | K15: =IF(J15="","",K14*(J15/100+1)) -> 1.0187539 | L15: =IF(I15="","",L14+1) -> 12 | M15: =IF(K15="","",100*(K15^(1/L15)-1)) -> 0.15495491 | N15: 0.05 | O15: =IF(N15="","",N15*F15) -> 0.15365854 | P15: =IF(O15="","",P14*(O15/100+1)) -> 1.2084493 | Q15: =IF(N15="","",Q14+1) -> 12 | R15: =IF(P15="","",100*(P15^(1/Q15)-1)) -> 1.5903299 | S15: =IF(M15="","",S14+1) -> 12 | T15: =IF(G15="","",IF(C15="",T14,C15-C$3)) -> 14 | U15: =IF(S15="","",U14+1) -> 12 | V15: =IF(T15="","",V14+1) -> 12
B16: =B15+1 -> 13 | C16: 42752 | D16: =IF(E16="","",D15+1) -> 13 | E16: 1.46 | F16: =IF(E16="","",AE$3/E16) -> 2.5890411 | G16: 33315.38 | H16: =IF(G16="","",H15+1) -> 13 | I16: =IF(G16="","",100*(G16-G15)/G15) -> 0.090490505 | J16: =IF(I16="","",I16*F16) -> 0.23428364 | K16: =IF(J16="","",K15*(J16/100+1)) -> 1.0211407 | L16: =IF(I16="","",L15+1) -> 13 | M16: =IF(K16="","",100*(K16^(1/L16)-1)) -> 0.16105489 | N16: 0.53 | O16: =IF(N16="","",N16*F16) -> 1.3721918 | P16: =IF(O16="","",P15*(O16/100+1)) -> 1.2250316 | Q16: =IF(N16="","",Q15+1) -> 13 | R16: =IF(P16="","",100*(P16^(1/Q16)-1)) -> 1.5735334 | S16: =IF(M16="","",S15+1) -> 13 | T16: =IF(G16="","",IF(C16="",T15,C16-C$3)) -> 15 | U16: =IF(S16="","",U15+1) -> 13 | V16: =IF(T16="","",V15+1) -> 13
B17: =B16+1 -> 14 | C17: 42753 | D17: =IF(E17="","",D16+1) -> 14 | E17: 1.69 | F17: =IF(E17="","",AE$3/E17) -> 2.2366864 | G17: 33298.88 | H17: =IF(G17="","",H16+1) -> 14 | I17: =IF(G17="","",100*(G17-G16)/G16) -> -0.049526675 | J17: =IF(I17="","",I17*F17) -> -0.11077564 | K17: =IF(J17="","",K16*(J17/100+1)) -> 1.0200095 | L17: =IF(I17="","",L16+1) -> 14 | M17: =IF(K17="","",100*(K17^(1/L17)-1)) -> 0.14161391 | N17: 0.19 | O17: =IF(N17="","",N17*F17) -> 0.42497041 | P17: =IF(O17="","",P16*(O17/100+1)) -> 1.2302376 | Q17: =IF(N17="","",Q16+1) -> 14 | R17: =IF(P17="","",100*(P17^(1/Q17)-1)) -> 1.4910593 | S17: =IF(M17="","",S16+1) -> 14 | T17: =IF(G17="","",IF(C17="",T16,C17-C$3)) -> 16 | U17: =IF(S17="","",U16+1) -> 14 | V17: =IF(T17="","",V16+1) -> 14
B18: =B17+1 -> 15 | C18: 42754 | D18: =IF(E18="","",D17+1) -> 15 | E18: 1.93 | F18: =IF(E18="","",AE$3/E18) -> 1.9585492 | G18: 33348.02 | H18: =IF(G18="","",H17+1) -> 15 | I18: =IF(G18="","",100*(G18-G17)/G17) -> 0.14757253 | J18: =IF(I18="","",I18*F18) -> 0.28902807 | K18: =IF(J18="","",K17*(J18/100+1)) -> 1.0229576 | L18: =IF(I18="","",L17+1) -> 15 | M18: =IF(K18="","",100*(K18^(1/L18)-1)) -> 0.15143478 | N18: 0.42 | O18: =IF(N18="","",N18*F18) -> 0.82259067 | P18: =IF(O18="","",P17*(O18/100+1)) -> 1.2403574 | Q18: =IF(N18="","",Q17+1) -> 15 | R18: =IF(P18="","",100*(P18^(1/Q18)-1)) -> 1.4463572 | S18: =IF(M18="","",S17+1) -> 15 | T18: =IF(G18="","",IF(C18="",T17,C18-C$3)) -> 17 | U18: =IF(S18="","",U17+1) -> 15 | V18: =IF(T18="","",V17+1) -> 15
B19: =B18+1 -> 16 | C19: 42758 | D19: =IF(E19="","",D18+1) -> 16 | E19: 2.16 | F19: =IF(E19="","",AE$3/E19) -> 1.75 | G19: 33375.71 | H19: =IF(G19="","",H18+1) -> 16 | I19: =IF(G19="","",100*(G19-G18)/G18) -> 0.083033415 | J19: =IF(I19="","",I19*F19) -> 0.14530848 | K19: =IF(J19="","",K18*(J19/100+1)) -> 1.024444 | L19: =IF(I19="","",L18+1) -> 16 | M19: =IF(K19="","",100*(K19^(1/L19)-1)) -> 0.15105187 | N19: 0.04 | O19: =IF(N19="","",N19*F19) -> 0.07 | P19: =IF(O19="","",P18*(O19/100+1)) -> 1.2412257 | Q19: =IF(N19="","",Q18+1) -> 16 | R19: =IF(P19="","",100*(P19^(1/Q19)-1)) -> 1.359783 | S19: =IF(M19="","",S18+1) -> 16 | T19: =IF(G19="","",IF(C19="",T18,C19-C$3)) -> 21 | U19: =IF(S19="","",U18+1) -> 16 | V19: =IF(T19="","",V18+1) -> 16
B20: =B19+1 -> 17 | C20: 42759 | D20: =IF(E20="","",D19+1) -> 17 | E20: 2.39 | F20: =IF(E20="","",AE$3/E20) -> 1.58159 | G20: 33465.77 | H20: =IF(G20="","",H19+1) -> 17 | I20: =IF(G20="","",100*(G20-G19)/G19) -> 0.26983696 | J20: =IF(I20="","",I20*F20) -> 0.42677142 | K20: =IF(J20="","",K19*(J20/100+1)) -> 1.0288161 | L20: =IF(I20="","",L19+1) -> 17 | M20: =IF(K20="","",100*(K20^(1/L20)-1)) -> 0.1672497 | N20: 0.78 | O20: =IF(N20="","",N20*F20) -> 1.2336402 | P20: =IF(O20="","",P19*(O20/100+1)) -> 1.2565379 | Q20: =IF(N20="","",Q19+1) -> 17 | R20: =IF(P20="","",100*(P20^(1/Q20)-1)) -> 1.3523584 | S20: =IF(M20="","",S19+1) -> 17 | T20: =IF(G20="","",IF(C20="",T19,C20-C$3)) -> 22 | U20: =IF(S20="","",U19+1) -> 17 | V20: =IF(T20="","",V19+1) -> 17
B21: =B20+1 -> 18 | C21: 42760 | D21: =IF(E21="","",D20+1) -> 18 | E21: 2.62 | F21: =IF(E21="","",AE$3/E21) -> 1.4427481 | G21: 33573.65 | H21: =IF(G21="","",H20+1) -> 18 | I21: =IF(G21="","",100*(G21-G20)/G20) -> 0.32235923 | J21: =IF(I21="","",I21*F21) -> 0.46508317 | K21: =IF(J21="","",K20*(J21/100+1)) -> 1.0336009 | L21: =IF(I21="","",L20+1) -> 18 | M21: =IF(K21="","",100*(K21^(1/L21)-1)) -> 0.18377281 | N21: 0.18 | O21: =IF(N21="","",N21*F21) -> 0.25969466 | P21: =IF(O21="","",P20*(O21/100+1)) -> 1.2598011 | Q21: =IF(N21="","",Q20+1) -> 18 | R21: =IF(P21="","",100*(P21^(1/Q21)-1)) -> 1.2913437 | S21: =IF(M21="","",S20+1) -> 18 | T21: =IF(G21="","",IF(C21="",T20,C21-C$3)) -> 23 | U21: =IF(S21="","",U20+1) -> 18 | V21: =IF(T21="","",V20+1) -> 18
B22: =B21+1 -> 19 | C22: 42761 | D22: =IF(E22="","",D21+1) -> 19 | E22: 2.85 | F22: =IF(E22="","",AE$3/E22) -> 1.3263158 | G22: 33714.95 | H22: =IF(G22="","",H21+1) -> 19 | I22: =IF(G22="","",100*(G22-G21)/G21) -> 0.42086577 | J22: =IF(I22="","",I22*F22) -> 0.55820091 | K22: =IF(J22="","",K21*(J22/100+1)) -> 1.0393705 | L22: =IF(I22="","",L21+1) -> 19 | M22: =IF(K22="","",100*(K22^(1/L22)-1)) -> 0.20344475 | N22: 2.42 | O22: =IF(N22="","",N22*F22) -> 3.2096842 | P22: =IF(O22="","",P21*(O22/100+1)) -> 1.3002367 | Q22: =IF(N22="","",Q21+1) -> 19 | R22: =IF(P22="","",100*(P22^(1/Q22)-1)) -> 1.3914142 | S22: =IF(M22="","",S21+1) -> 19 | T22: =IF(G22="","",IF(C22="",T21,C22-C$3)) -> 24 | U22: =IF(S22="","",U21+1) -> 19 | V22: =IF(T22="","",V21+1) -> 19
B23: =B22+1 -> 20 | C23: 42762 | D23: =IF(E23="","",D22+1) -> 20 | E23: 3.08 | F23: =IF(E23="","",AE$3/E23) -> 1.2272727 | G23: 33911.51 | H23: =IF(G23="","",H22+1) -> 20 | I23: =IF(G23="","",100*(G23-G22)/G22) -> 0.58300546 | J23: =IF(I23="","",I23*F23) -> 0.7155067 | K23: =IF(J23="","",K22*(J23/100+1)) -> 1.0468073 | L23: =IF(I23="","",L22+1) -> 20 | M23: =IF(K23="","",100*(K23^(1/L23)-1)) -> 0.22898591 | N23: 2.51 | O23: =IF(N23="","",N23*F23) -> 3.0804545 | P23: =IF(O23="","",P22*(O23/100+1)) -> 1.3402899 | Q23: =IF(N23="","",Q22+1) -> 20 | R23: =IF(P23="","",100*(P23^(1/Q23)-1)) -> 1.4752051 | S23: =IF(M23="","",S22+1) -> 20 | T23: =IF(G23="","",IF(C23="",T22,C23-C$3)) -> 25 | U23: =IF(S23="","",U22+1) -> 20 | V23: =IF(T23="","",V22+1) -> 20
B24: =B23+1 -> 21 | C24: 42765 | D24: =IF(E24="","",D23+1) -> 21 | E24: 3.31 | F24: =IF(E24="","",AE$3/E24) -> 1.141994 | G24: 34042.55 | H24: =IF(G24="","",H23+1) -> 21 | I24: =IF(G24="","",100*(G24-G23)/G23) -> 0.38641747 | J24: =IF(I24="","",I24*F24) -> 0.44128642 | K24: =IF(J24="","",K23*(J24/100+1)) -> 1.0514267 | L24: =IF(I24="","",L23+1) -> 21 | M24: =IF(K24="","",100*(K24^(1/L24)-1)) -> 0.23908527 | N24: 0.34 | O24: =IF(N24="","",N24*F24) -> 0.38827795 | P24: =IF(O24="","",P23*(O24/100+1)) -> 1.345494 | Q24: =IF(N24="","",Q23+1) -> 21 | R24: =IF(P24="","",100*(P24^(1/Q24)-1)) -> 1.4231808 | S24: =IF(M24="","",S23+1) -> 21 | T24: =IF(G24="","",IF(C24="",T23,C24-C$3)) -> 28 | U24: =IF(S24="","",U23+1) -> 21 | V24: =IF(T24="","",V23+1) -> 21
B25: =B24+1 -> 22 | C25: 42767 | D25: =IF(E25="","",D24+1) -> 22 | E25: 3.54 | F25: =IF(E25="","",AE$3/E25) -> 1.0677966 | G25: 34161.13 | H25: =IF(G25="","",H24+1) -> 22 | I25: =IF(G25="","",100*(G25-G24)/G24) -> 0.34832878 | J25: =IF(I25="","",I25*F25) -> 0.37194429 | K25: =IF(J25="","",K24*(J25/100+1)) -> 1.0553374 | L25: =IF(I25="","",L24+1) -> 22 | M25: =IF(K25="","",100*(K25^(1/L25)-1)) -> 0.2451205 | N25: 0.06 | O25: =IF(N25="","",N25*F25) -> 0.064067797 | P25: =IF(O25="","",P24*(O25/100+1)) -> 1.346356 | Q25: =IF(N25="","",Q24+1) -> 22 | R25: =IF(P25="","",100*(P25^(1/Q25)-1)) -> 1.3610044 | S25: =IF(M25="","",S24+1) -> 22 | T25: =IF(G25="","",IF(C25="",T24,C25-C$3)) -> 30 | U25: =IF(S25="","",U24+1) -> 22 | V25: =IF(T25="","",V24+1) -> 22
B26: =B25+1 -> 23 | C26: 42769 | D26: =IF(E26="","",D25+1) -> 23 | E26: 3.78 | F26: =IF(E26="","",AE$3/E26) -> 1 | G26: 34386.12 | H26: =IF(G26="","",H25+1) -> 23 | I26: =IF(G26="","",100*(G26-G25)/G25) -> 0.65861404 | J26: =IF(I26="","",I26*F26) -> 0.65861404 | K26: =IF(J26="","",K25*(J26/100+1)) -> 1.062288 | L26: =IF(I26="","",L25+1) -> 23 | M26: =IF(K26="","",100*(K26^(1/L26)-1)) -> 0.26306311 | N26: 5.58 | O26: =IF(N26="","",N26*F26) -> 5.58 | P26: =IF(O26="","",P25*(O26/100+1)) -> 1.4214827 | Q26: =IF(N26="","",Q25+1) -> 23 | R26: =IF(P26="","",100*(P26^(1/Q26)-1)) -> 1.5408835 | S26: =IF(M26="","",S25+1) -> 23 | T26: =IF(G26="","",IF(C26="",T25,C26-C$3)) -> 32 | U26: =IF(S26="","",U25+1) -> 23 | V26: =IF(T26="","",V25+1) -> 23 | W26: 20.29
B27: =B26+1 -> 24 | D27: =IF(E27="","",D26+1) | F27: =IF(E27="","",AE$3/E27) | H27: =IF(G27="","",H26+1) | I27: =IF(G27="","",100*(G27-G26)/G26) | J27: =IF(I27="","",I27*F27) | K27: =IF(J27="","",K26*(J27/100+1)) | L27: =IF(I27="","",L26+1) | M27: =IF(J27="","",100*(((G27-G$3)/G$3+1)^(1/L27)-1)) | O27: =IF(N27="","",N27*F27) | P27: =IF(O27="","",P26*(O27/100+1)) | Q27: =IF(N27="","",Q26+1) | R27: =IF(O27="","",100*(((L27-L$3)/L$3+1)^(1/Q27)-1)) | S27: =IF(M27="","",S26+1) | T27: =IF(G27="","",IF(C27="",T26,C27-C$3)) | U27: =IF(S27="","",U26+1) | V27: =IF(T27="","",V26+1)
B28: =B27+1 -> 25 | D28: =IF(E28="","",D27+1) | F28: =IF(E28="","",AE$3/E28) | H28: =IF(G28="","",H27+1) | I28: =IF(G28="","",100*(G28-G27)/G27) | J28: =IF(I28="","",I28*F28) | K28: =IF(J28="","",K27*(J28/100+1)) | L28: =IF(I28="","",L27+1) | M28: =IF(J28="","",100*(((G28-G$3)/G$3+1)^(1/L28)-1)) | O28: =IF(N28="","",N28*F28) | P28: =IF(O28="","",P27*(O28/100+1)) | Q28: =IF(N28="","",Q27+1) | R28: =IF(O28="","",100*(((L28-L$3)/L$3+1)^(1/Q28)-1)) | S28: =IF(M28="","",S27+1) | T28: =IF(G28="","",IF(C28="",T27,C28-C$3)) | U28: =IF(S28="","",U27+1) | V28: =IF(T28="","",V27+1)
B29: =B28+1 -> 26 | D29: =IF(E29="","",D28+1) | F29: =IF(E29="","",AE$3/E29) | H29: =IF(G29="","",H28+1) | I29: =IF(G29="","",100*(G29-G28)/G28) | J29: =IF(I29="","",I29*F29) | K29: =IF(J29="","",K28*(J29/100+1)) | L29: =IF(I29="","",L28+1) | M29: =IF(J29="","",100*(((G29-G$3)/G$3+1)^(1/L29)-1)) | O29: =IF(N29="","",N29*F29) | P29: =IF(O29="","",P28*(O29/100+1)) | Q29: =IF(N29="","",Q28+1) | R29: =IF(O29="","",100*(((L29-L$3)/L$3+1)^(1/Q29)-1)) | S29: =IF(M29="","",S28+1) | T29: =IF(G29="","",IF(C29="",T28,C29-C$3)) | U29: =IF(S29="","",U28+1) | V29: =IF(T29="","",V28+1)
B30: =B29+1 -> 27 | D30: =IF(E30="","",D29+1) | F30: =IF(E30="","",AE$3/E30) | H30: =IF(G30="","",H29+1) | I30: =IF(G30="","",100*(G30-G29)/G29) | J30: =IF(I30="","",I30*F30) | K30: =IF(J30="","",K29*(J30/100+1)) | L30: =IF(I30="","",L29+1) | M30: =IF(J30="","",100*(((G30-G$3)/G$3+1)^(1/L30)-1)) | O30: =IF(N30="","",N30*F30) | P30: =IF(O30="","",P29*(O30/100+1)) | Q30: =IF(N30="","",Q29+1) | R30: =IF(O30="","",100*(((L30-L$3)/L$3+1)^(1/Q30)-1)) | S30: =IF(M30="","",S29+1) | T30: =IF(G30="","",IF(C30="",T29,C30-C$3)) | U30: =IF(S30="","",U29+1) | V30: =IF(T30="","",V29+1)
B31: =B30+1 -> 28 | D31: =IF(E31="","",D30+1) | F31: =IF(E31="","",AE$3/E31) | H31: =IF(G31="","",H30+1) | I31: =IF(G31="","",100*(G31-G30)/G30) | J31: =IF(I31="","",I31*F31) | K31: =IF(J31="","",K30*(J31/100+1)) | L31: =IF(I31="","",L30+1) | M31: =IF(J31="","",100*(((G31-G$3)/G$3+1)^(1/L31)-1)) | O31: =IF(N31="","",N31*F31) | P31: =IF(O31="","",P30*(O31/100+1)) | Q31: =IF(N31="","",Q30+1) | R31: =IF(O31="","",100*(((L31-L$3)/L$3+1)^(1/Q31)-1)) | S31: =IF(M31="","",S30+1) | T31: =IF(G31="","",IF(C31="",T30,C31-C$3)) | U31: =IF(S31="","",U30+1) | V31: =IF(T31="","",V30+1)
B32: =B31+1 -> 29 | D32: =IF(E32="","",D31+1) | F32: =IF(E32="","",AE$3/E32) | H32: =IF(G32="","",H31+1) | I32: =IF(G32="","",100*(G32-G31)/G31) | J32: =IF(I32="","",I32*F32) | K32: =IF(J32="","",K31*(J32/100+1)) | L32: =IF(I32="","",L31+1) | M32: =IF(J32="","",100*(((G32-G$3)/G$3+1)^(1/L32)-1)) | O32: =IF(N32="","",N32*F32) | P32: =IF(O32="","",P31*(O32/100+1)) | Q32: =IF(N32="","",Q31+1) | R32: =IF(O32="","",100*(((L32-L$3)/L$3+1)^(1/Q32)-1)) | S32: =IF(M32="","",S31+1) | T32: =IF(G32="","",IF(C32="",T31,C32-C$3)) | U32: =IF(S32="","",U31+1) | V32: =IF(T32="","",V31+1)
B33: =B32+1 -> 30 | D33: =IF(E33="","",D32+1) | F33: =IF(E33="","",AE$3/E33) | H33: =IF(G33="","",H32+1) | I33: =IF(G33="","",100*(G33-G32)/G32) | J33: =IF(I33="","",I33*F33) | K33: =IF(J33="","",K32*(J33/100+1)) | L33: =IF(I33="","",L32+1) | M33: =IF(J33="","",100*(((G33-G$3)/G$3+1)^(1/L33)-1)) | O33: =IF(N33="","",N33*F33) | P33: =IF(O33="","",P32*(O33/100+1)) | Q33: =IF(N33="","",Q32+1) | R33: =IF(O33="","",100*(((L33-L$3)/L$3+1)^(1/Q33)-1)) | S33: =IF(M33="","",S32+1) | T33: =IF(G33="","",IF(C33="",T32,C33-C$3)) | U33: =IF(S33="","",U32+1) | V33: =IF(T33="","",V32+1)
B34: =B33+1 -> 31 | D34: =IF(E34="","",D33+1) | F34: =IF(E34="","",AE$3/E34) | H34: =IF(G34="","",H33+1) | I34: =IF(G34="","",100*(G34-G33)/G33) | J34: =IF(I34="","",I34*F34) | K34: =IF(J34="","",K33*(J34/100+1)) | L34: =IF(I34="","",L33+1) | M34: =IF(J34="","",100*(((G34-G$3)/G$3+1)^(1/L34)-1)) | O34: =IF(N34="","",N34*F34) | P34: =IF(O34="","",P33*(O34/100+1)) | Q34: =IF(N34="","",Q33+1) | R34: =IF(O34="","",100*(((L34-L$3)/L$3+1)^(1/Q34)-1)) | S34: =IF(M34="","",S33+1) | T34: =IF(G34="","",IF(C34="",T33,C34-C$3)) | U34: =IF(S34="","",U33+1) | V34: =IF(T34="","",V33+1)
B35: =B34+1 -> 32 | D35: =IF(E35="","",D34+1) | F35: =IF(E35="","",AE$3/E35) | H35: =IF(G35="","",H34+1) | I35: =IF(G35="","",100*(G35-G34)/G34) | J35: =IF(I35="","",I35*F35) | K35: =IF(J35="","",K34*(J35/100+1)) | L35: =IF(I35="","",L34+1) | M35: =IF(J35="","",100*(((G35-G$3)/G$3+1)^(1/L35)-1)) | O35: =IF(N35="","",N35*F35) | P35: =IF(O35="","",P34*(O35/100+1)) | Q35: =IF(N35="","",Q34+1) | R35: =IF(O35="","",100*(((L35-L$3)/L$3+1)^(1/Q35)-1)) | S35: =IF(M35="","",S34+1) | T35: =IF(G35="","",IF(C35="",T34,C35-C$3)) | U35: =IF(S35="","",U34+1) | V35: =IF(T35="","",V34+1)
B36: =B35+1 -> 33 | D36: =IF(E36="","",D35+1) | F36: =IF(E36="","",AE$3/E36) | H36: =IF(G36="","",H35+1) | I36: =IF(G36="","",100*(G36-G35)/G35) | J36: =IF(I36="","",I36*F36) | K36: =IF(J36="","",K35*(J36/100+1)) | L36: =IF(I36="","",L35+1) | M36: =IF(J36="","",100*(((G36-G$3)/G$3+1)^(1/L36)-1)) | O36: =IF(N36="","",N36*F36) | P36: =IF(O36="","",P35*(O36/100+1)) | Q36: =IF(N36="","",Q35+1) | R36: =IF(O36="","",100*(((L36-L$3)/L$3+1)^(1/Q36)-1)) | S36: =IF(M36="","",S35+1) | T36: =IF(G36="","",IF(C36="",T35,C36-C$3)) | U36: =IF(S36="","",U35+1) | V36: =IF(T36="","",V35+1)
B37: =B36+1 -> 34 | D37: =IF(E37="","",D36+1) | F37: =IF(E37="","",AE$3/E37) | H37: =IF(G37="","",H36+1) | I37: =IF(G37="","",100*(G37-G36)/G36) | J37: =IF(I37="","",I37*F37) | K37: =IF(J37="","",K36*(J37/100+1)) | L37: =IF(I37="","",L36+1) | M37: =IF(J37="","",100*(((G37-G$3)/G$3+1)^(1/L37)-1)) | O37: =IF(N37="","",N37*F37) | P37: =IF(O37="","",P36*(O37/100+1)) | Q37: =IF(N37="","",Q36+1) | R37: =IF(O37="","",100*(((L37-L$3)/L$3+1)^(1/Q37)-1)) | S37: =IF(M37="","",S36+1) | T37: =IF(G37="","",IF(C37="",T36,C37-C$3)) | U37: =IF(S37="","",U36+1) | V37: =IF(T37="","",V36+1)
B38: =B37+1 -> 35 | D38: =IF(E38="","",D37+1) | F38: =IF(E38="","",AE$3/E38) | H38: =IF(G38="","",H37+1) | I38: =IF(G38="","",100*(G38-G37)/G37) | J38: =IF(I38="","",I38*F38) | K38: =IF(J38="","",K37*(J38/100+1)) | L38: =IF(I38="","",L37+1) | M38: =IF(J38="","",100*(((G38-G$3)/G$3+1)^(1/L38)-1)) | O38: =IF(N38="","",N38*F38) | P38: =IF(O38="","",P37*(O38/100+1)) | Q38: =IF(N38="","",Q37+1) | R38: =IF(O38="","",100*(((L38-L$3)/L$3+1)^(1/Q38)-1)) | S38: =IF(M38="","",S37+1) | T38: =IF(G38="","",IF(C38="",T37,C38-C$3)) | U38: =IF(S38="","",U37+1) | V38: =IF(T38="","",V37+1)
... B103: =B102+1 -> 100 | D103: =IF(E103="","",D102+1) | F103: =IF(E103="","",AE$3/E103) | H103: =IF(G103="","",H102+1) | I103: =IF(G103="","",100*(G103-G102)/G102) | J103: =IF(I103="","",I103*F103) | K103: =IF(J103="","",K102*(J103/100+1)) | L103: =IF(I103="","",L102+1) | M103: =IF(J103="","",100*(((G103-G$3)/G$3+1)^(1/L103)-1)) | O103: =IF(N103="","",N103*F103) | P103: =IF(O103="","",P102*(O103/100+1)) | Q103: =IF(N103="","",Q102+1) | R103: =IF(O103="","",100*(((L103-L$3)/L$3+1)^(1/Q103)-1)) | S103: =IF(M103="","",S102+1) | T103: =IF(G103="","",IF(C103="",T102,C103-C$3)) | U103: =IF(S103="","",U102+1) | V103: =IF(T103="","",V102+1)

Sheet DDCy
B2: # | C2: %DDEq | D2: %Bal+ | E2: %BalEq | F2: K % | G2: P(K) | H2: # | I2: HS % | J2: P(HS) | L2: Faixa até % | M2: Freq | N2: Ant | O2: Tot | P2: Prob1 | Q2: Prob2
B3: 1 | C3: =IF(Cy!O4="","",Cy!O4) -> 0.2646 | D3: =E3+0.53 -> 0.26253247 | E3: =IF(Cy!J4="","",Cy!J4) -> -0.26746753 | H3: 1 | I3: 30 | L3: 3 | M3: =IF(L3="","",FREQUENCY(C$3:C$102,L3)) -> 18 | N3: 0 | O3: =IF(M3="",N3,M3+N3) -> 18 | P3: =O3/O$13 -> 0.7826087 | Q3: =IF(L3="","",IF(O3>0,O3/O$13,M$17*L3^N$17)) -> 0.7826087
B4: =B3+1 -> 2 | C4: =IF(Cy!O5="","",Cy!O5) -> 0.189 | D4: =IF(E4="","",E4+D$3-E$3) -> 0.69210208 | E4: =IF(Cy!J5="","",Cy!J5) -> 0.16210208 | H4: =IF(I4="","",H3+1) -> 2 | I4: 30 | L4: =IF(L3="","",IF(L3+L$3<L$12,L3+L$3,"")) -> 6 | M4: =IF(L4="","",FREQUENCY(C$3:C$102,L4)-FREQUENCY(C$3:C$102,L3)) -> 3 | N4: 0 | O4: =IF(M4="",N4,M4+N4) -> 3 | P4: =O4/O$13 -> 0.13043478 | Q4: =IF(L4="","",IF(O4>0,O4/O$13,M$17*L4^N$17)) -> 0.13043478
B5: =B4+1 -> 3 | C5: =IF(Cy!O6="","",Cy!O6) -> 0.5292 | D5: =IF(E5="","",E5+D$3-E$3) -> 0.84276059 | E5: =IF(Cy!J6="","",Cy!J6) -> 0.31276059 | H5: =IF(I5="","",H4+1) -> 3 | I5: 30 | L5: =IF(L4="","",IF(L4+L$3<L$12,L4+L$3,"")) -> 9 | M5: =IF(L5="","",FREQUENCY(C$3:C$102,L5)-FREQUENCY(C$3:C$102,L4)) -> 2 | N5: 0 | O5: =IF(M5="",N5,M5+N5) -> 2 | P5: =O5/O$13 -> 0.086956522 | Q5: =IF(L5="","",IF(O5>0,O5/O$13,M$17*((L5+L4)/2)^N$17)) -> 0.086956522
B6: =B5+1 -> 4 | C6: =IF(Cy!O7="","",Cy!O7) -> 0.567 | D6: =IF(E6="","",E6+D$3-E$3) -> 0.0066532461 | E6: =IF(Cy!J7="","",Cy!J7) -> -0.52334675 | H6: =IF(I6="","",H5+1) -> 4 | I6: 30 | L6: =IF(L5="","",IF(L5+L$3<L$12,L5+L$3,"")) -> 12 | M6: =IF(L6="","",FREQUENCY(C$3:C$102,L6)-FREQUENCY(C$3:C$102,L5)) -> 0 | N6: 0 | O6: =IF(M6="",N6,M6+N6) -> 0 | Q6: =IF(L6="","",IF(O6>0,O6/O$13,M$17*((L6+L5)/2)^N$17)) -> 0.05355337
B7: =B6+1 -> 5 | C7: =IF(Cy!O8="","",Cy!O8) -> 7.9002 | D7: =IF(E7="","",E7+D$3-E$3) -> 1.2702365 | E7: =IF(Cy!J8="","",Cy!J8) -> 0.74023647 | H7: =IF(I7="","",H6+1) -> 5 | I7: 30 | L7: =IF(L6="","",IF(L6+L$3<L$12,L6+L$3,"")) -> 15 | M7: =IF(L7="","",FREQUENCY(C$3:C$102,L7)-FREQUENCY(C$3:C$102,L6)) -> 0 | N7: 0 | O7: =IF(M7="",N7,M7+N7) -> 0 | Q7: =IF(L7="","",IF(O7>0,O7/O$13,M$17*((L7+L6)/2)^N$17)) -> 0.031887595
B8: =B7+1 -> 6 | C8: =IF(Cy!O9="","",Cy!O9) -> 8.505 | D8: =IF(E8="","",E8+D$3-E$3) -> 1.1569279 | E8: =IF(Cy!J9="","",Cy!J9) -> 0.62692789 | H8: =IF(I8="","",H7+1) -> 6 | I8: 30 | L8: =IF(L7="","",IF(L7+L$3<L$12,L7+L$3,"")) -> 18 | M8: =IF(L8="","",FREQUENCY(C$3:C$102,L8)-FREQUENCY(C$3:C$102,L7)) -> 0 | N8: 0 | O8: =IF(M8="",N8,M8+N8) -> 0 | Q8: =IF(L8="","",IF(O8>0,O8/O$13,M$17*((L8+L7)/2)^N$17)) -> 0.021078075
B9: =B8+1 -> 7 | C9: =IF(Cy!O10="","",Cy!O10) -> 0.3024 | D9: =IF(E9="","",E9+D$3-E$3) -> 0.9019138 | E9: =IF(Cy!J10="","",Cy!J10) -> 0.3719138 | H9: =IF(I9="","",H8+1) -> 7 | I9: 30 | L9: =IF(L8="","",IF(L8+L$3<L$12,L8+L$3,"")) -> 21 | M9: =IF(L9="","",FREQUENCY(C$3:C$102,L9)-FREQUENCY(C$3:C$102,L8)) -> 0 | N9: 0 | O9: =IF(M9="",N9,M9+N9) -> 0 | Q9: =IF(L9="","",IF(O9>0,O9/O$13,M$17*((L9+L8)/2)^N$17)) -> 0.014933408
B10: =B9+1 -> 8 | C10: =IF(Cy!O11="","",Cy!O11) -> 0.15365854 | D10: =IF(E10="","",E10+D$3-E$3) -> 0.61654397 | E10: =IF(Cy!J11="","",Cy!J11) -> 0.086543967 | H10: =IF(I10="","",H9+1) -> 8 | I10: 30 | L10: =IF(L9="","",IF(L9+L$3<L$12,L9+L$3,"")) -> 24 | M10: =IF(L10="","",FREQUENCY(C$3:C$102,L10)-FREQUENCY(C$3:C$102,L9)) -> 0 | N10: 0 | O10: =IF(M10="",N10,M10+N10) -> 0 | Q10: =IF(L10="","",IF(O10>0,O10/O$13,M$17*((L10+L9)/2)^N$17)) -> 0.011115981
B11: =B10+1 -> 9 | C11: =IF(Cy!O12="","",Cy!O12) -> 0.36878049 | D11: =IF(E11="","",E11+D$3-E$3) -> 0.77236581 | E11: =IF(Cy!J12="","",Cy!J12) -> 0.24236581 | H11: =IF(I11="","",H10+1) -> 9 | I11: 30 | L11: =IF(L10="","",IF(L10+L$3<L$12,L10+L$3,"")) -> 27 | M11: =IF(L11="","",FREQUENCY(C$3:C$102,L11)-FREQUENCY(C$3:C$102,L10)) -> 0 | N11: 0 | O11: =IF(M11="",N11,M11+N11) -> 0 | Q11: =IF(L11="","",IF(O11>0,O11/O$13,M$17*((L11+L10)/2)^N$17)) -> 0.0085863371
B12: =B11+1 -> 10 | C12: =IF(Cy!O13="","",Cy!O13) -> 0.18439024 | D12: =IF(E12="","",E12+D$3-E$3) -> 0.7245157 | E12: =IF(Cy!J13="","",Cy!J13) -> 0.1945157 | H12: =IF(I12="","",H11+1) -> 10 | I12: 30 | L12: =$M$19 -> 30 | M12: =IF(L12="","",IF(L11="",FREQUENCY(C$3:C$102,L12)-FREQUENCY(C$3:C$102,L12-0.01),FREQUENCY(C$3:C$102,L12)-FREQUENCY(C$3:C$102,L11))) -> 0 | N12: 0 | O12: =IF(M12="",N12,M12+N12) -> 0 | Q12: =IF(L12="","",IF(O12>0,O12/O$13,M$17*L12^N$17)) -> 0.0061404356
