Workbook

Sheet DLog
G2: Saldo | H2: =IF(E12="","",IF(G8="",E8,G8)) -> 34042.55 | M2: Ciclos | N2: Saldo | O2: % Lucro acumulado | Q2: Capitalização
G3: Objetivo % | H3: 0.5 | M3: 0 | N3: =IF(R3="","",R3) -> 1000 | O3: =100*(N3-R$3)/R$3 -> 0 | Q3: $ Inicial | R3: 1000
G4: Stop % | H4: 30 | M4: =M3+1 -> 1 | N4: =N3*(1+R$5/100) -> 1432.4 | O4: =100*(N4-R$3)/R$3 -> 43.24 | Q4: % Atual | R4: 0
M5: =M4+1 -> 2 | N5: =N4*(1+R$5/100) -> 2051.7698 | O5: =100*(N5-R$3)/R$3 -> 105.17698 | Q5: % por ciclo | R5: 43.24
C6: Resumo do dia | M6: =M5+1 -> 3 | N6: =N5*(1+R$5/100) -> 2938.955 | O6: =100*(N6-R$3)/R$3 -> 193.8955
C7: Data | E7: $ Inicial | G7: $ Atual | H7: Objetivo $ | I7: Lucro $ | J7: Lucro % | K7: Alerta | M7: =M6+1 -> 4 | N7: =N6*(1+R$5/100) -> 4209.7591 | O7: =100*(N7-R$3)/R$3 -> 320.97591
C8: =IF(C12="","",VLOOKUP(MAX(B12:B33),B12:C33,2,FALSE)) -> 42766 | E8: =IF(E12="","",VLOOKUP(MAX(D12:D33),D12:E33,2,FALSE)) -> 34042.55 | G8: =IF(G12="","",IF(VLOOKUP(MAX(F12:F33),F12:G33,2,FALSE)="","",VLOOKUP(MAX(F12:F33),F12:G33,2,FALSE))) | H8: =IF(E8="","",IF(H$3="","",E8*(1+H$3/100))) -> 34212.763 | I8: =IF(E8="","",IF(G8="","",G8-E8)) | J8: =IF(I8="","",100*I8/E8) | K8: =IF(J8="","",IF(J8<=-H$4,"Stop",IF(J8>=H$3,"Alvo",IF(G8="","Continue","")))) | M8: =M7+1 -> 5 | N8: =N7*(1+R$5/100) -> 6030.059 | O8: =100*(N8-R$3)/R$3 -> 503.0059 | Q8: Conversões
M9: =M8+1 -> 6 | N9: =N8*(1+R$5/100) -> 8637.4565 | O9: =100*(N9-R$3)/R$3 -> 763.74565
C10: Ciclos operacionais na semana | M10: =M9+1 -> 7 | N10: =N9*(1+R$5/100) -> 12372.293 | O10: =100*(N10-R$3)/R$3 -> 1137.2293 | Q10: % Dia útil | R10: 0.5
B11: # | C11: Data | D11: # | E11: $ Inicial | F11: # | G11: $ Final | H11: Objetivo $ | I11: Lucro $ | J11: Lucro % | K11: Alerta | M11: =M10+1 -> 8 | N11: =N10*(1+R$5/100) -> 17722.072 | O11: =100*(N11-R$3)/R$3 -> 1672.2072 | Q11: % Semana | R11: =100*((1+R10/100)^5-1) -> 2.5251253
B12: 0 | C12: 42766 | D12: 0 | E12: 34042.55 | F12: 0 | H12: =IF(E12="","",IF(H$3="","",E12*(1+H$3/100))) -> 34212.763 | I12: =IF(E12="","",IF(G12="","",G12-E12)) | J12: =IF(I12="","",100*I12/E12) | K12: =IF(J12="","",IF(J12<=-H$4,"Stop",IF(J12>=H$3,"Alvo",IF(G12="","Continue","")))) | M12: =M11+1 -> 9 | N12: =N11*(1+R$5/100) -> 25385.096 | O12: =100*(N12-R$3)/R$3 -> 2438.5096 | Q12: % Mês | R12: =100*((1+R10/100)^(30*5/7)-1) -> 11.279614
B13: =IF(C13="",B12,B12+1) -> 0 | D13: =IF(E13="","",IF(C13="",D12,D12+1)) | E13: =IF(G12="","",G12) | F13: =IF(G13="",IF(C13="","",F12+1),F12+1) | H13: =IF(E13="","",IF(H$3="","",E13*(1+H$3/100))) | I13: =IF(E13="","",IF(G13="","",G13-E13)) | J13: =IF(I13="","",100*I13/E13) | K13: =IF(J13="","",IF(J13<=-H$4,"Stop",IF(J13>=H$3,"Alvo",IF(G13="","Continue","")))) | M13: =M12+1 -> 10 | N13: =N12*(1+R$5/100) -> 36361.612 | O13: =100*(N13-R$3)/R$3 -> 3536.1612 | Q13: % Ano | R13: =100*((1+R10/100)^(360*5/7)-1) -> 260.56811
B14: =IF(C14="",B13,B13+1) -> 0 | D14: =IF(E14="","",IF(C14="",D13,D13+1)) | E14: =IF(G13="","",G13) | F14: =IF(G14="",IF(C14="","",F13+1),F13+1) | H14: =IF(E14="","",IF(H$3="","",E14*(1+H$3/100))) | I14: =IF(E14="","",IF(G14="","",G14-E14)) | J14: =IF(I14="","",100*I14/E14) | K14: =IF(J14="","",IF(J14<=-H$4,"Stop",IF(J14>=H$3,"Alvo",IF(G14="","Continue","")))) | M14: =M13+1 -> 11 | N14: =N13*(1+R$5/100) -> 52084.372 | O14: =100*(N14-R$3)/R$3 -> 5108.4372
B15: =IF(C15="",B14,B14+1) -> 0 | D15: =IF(E15="","",IF(C15="",D14,D14+1)) | E15: =IF(G14="","",G14) | F15: =IF(G15="",IF(C15="","",F14+1),F14+1) | H15: =IF(E15="","",IF(H$3="","",E15*(1+H$3/100))) | I15: =IF(E15="","",IF(G15="","",G15-E15)) | J15: =IF(I15="","",100*I15/E15) | K15: =IF(J15="","",IF(J15<=-H$4,"Stop",IF(J15>=H$3,"Alvo",IF(G15="","Continue","")))) | M15: =M14+1 -> 12 | N15: =N14*(1+R$5/100) -> 74605.655 | O15: =100*(N15-R$3)/R$3 -> 7360.5655 | Q15: % Semana | R15: 1
B16: =IF(C16="",B15,B15+1) -> 0 | D16: =IF(E16="","",IF(C16="",D15,D15+1)) | E16: =IF(G15="","",G15) | F16: =IF(G16="",IF(C16="","",F15+1),F15+1) | H16: =IF(E16="","",IF(H$3="","",E16*(1+H$3/100))) | I16: =IF(E16="","",IF(G16="","",G16-E16)) | J16: =IF(I16="","",100*I16/E16) | K16: =IF(J16="","",IF(J16<=-H$4,"Stop",IF(J16>=H$3,"Alvo",IF(G16="","Continue","")))) | M16: =M15+1 -> 13 | N16: =N15*(1+R$5/100) -> 106865.14 | O16: =100*(N16-R$3)/R$3 -> 10586.514 | Q16: % Mês | R16: =100*((1+R15/100)^(30/7)-1) -> 4.3566606
B17: =IF(C17="",B16,B16+1) -> 0 | D17: =IF(E17="","",IF(C17="",D16,D16+1)) | E17: =IF(G16="","",G16) | F17: =IF(G17="",IF(C17="","",F16+1),F16+1) | H17: =IF(E17="","",IF(H$3="","",E17*(1+H$3/100))) | I17: =IF(E17="","",IF(G17="","",G17-E17)) | J17: =IF(I17="","",100*I17/E17) | K17: =IF(J17="","",IF(J17<=-H$4,"Stop",IF(J17>=H$3,"Alvo",IF(G17="","Continue","")))) | M17: =M16+1 -> 14 | N17: =N16*(1+R$5/100) -> 153073.63 | O17: =100*(N17-R$3)/R$3 -> 15207.363 | Q17: % Ano | R17: =100*((1+R15/100)^(360/7)-1) -> 66.817681
B18: =IF(C18="",B17,B17+1) -> 0 | D18: =IF(E18="","",IF(C18="",D17,D17+1)) | E18: =IF(G17="","",G17) | F18: =IF(G18="",IF(C18="","",F17+1),F17+1) | H18: =IF(E18="","",IF(H$3="","",E18*(1+H$3/100))) | I18: =IF(E18="","",IF(G18="","",G18-E18)) | J18: =IF(I18="","",100*I18/E18) | K18: =IF(J18="","",IF(J18<=-H$4,"Stop",IF(J18>=H$3,"Alvo",IF(G18="","Continue","")))) | M18: =M17+1 -> 15 | N18: =N17*(1+R$5/100) -> 219262.66 | O18: =100*(N18-R$3)/R$3 -> 21826.266
B19: =IF(C19="",B18,B18+1) -> 0 | D19: =IF(E19="","",IF(C19="",D18,D18+1)) | E19: =IF(G18="","",G18) | F19: =IF(G19="",IF(C19="","",F18+1),F18+1) | H19: =IF(E19="","",IF(H$3="","",E19*(1+H$3/100))) | I19: =IF(E19="","",IF(G19="","",G19-E19)) | J19: =IF(I19="","",100*I19/E19) | K19: =IF(J19="","",IF(J19<=-H$4,"Stop",IF(J19>=H$3,"Alvo",IF(G19="","Continue","")))) | M19: =M18+1 -> 16 | N19: =N18*(1+R$5/100) -> 314071.84 | O19: =100*(N19-R$3)/R$3 -> 31307.184 | Q19: % Mês | R19: 20
B20: =IF(C20="",B19,B19+1) -> 0 | D20: =IF(E20="","",IF(C20="",D19,D19+1)) | E20: =IF(G19="","",G19) | F20: =IF(G20="",IF(C20="","",F19+1),F19+1) | H20: =IF(E20="","",IF(H$3="","",E20*(1+H$3/100))) | I20: =IF(E20="","",IF(G20="","",G20-E20)) | J20: =IF(I20="","",100*I20/E20) | K20: =IF(J20="","",IF(J20<=-H$4,"Stop",IF(J20>=H$3,"Alvo",IF(G20="","Continue","")))) | M20: =M19+1 -> 17 | N20: =N19*(1+R$5/100) -> 449876.5 | O20: =100*(N20-R$3)/R$3 -> 44887.65 | Q20: % Ano | R20: =100*((1+R19/100)^12-1) -> 791.61004
B21: =IF(C21="",B20,B20+1) -> 0 | D21: =IF(E21="","",IF(C21="",D20,D20+1)) | E21: =IF(G20="","",G20) | F21: =IF(G21="",IF(C21="","",F20+1),F20+1) | H21: =IF(E21="","",IF(H$3="","",E21*(1+H$3/100))) | I21: =IF(E21="","",IF(G21="","",G21-E21)) | J21: =IF(I21="","",100*I21/E21) | K21: =IF(J21="","",IF(J21<=-H$4,"Stop",IF(J21>=H$3,"Alvo",IF(G21="","Continue","")))) | M21: =M20+1 -> 18 | N21: =N20*(1+R$5/100) -> 644403.1 | O21: =100*(N21-R$3)/R$3 -> 64340.31
B22: =IF(C22="",B21,B21+1) -> 0 | D22: =IF(E22="","",IF(C22="",D21,D21+1)) | E22: =IF(G21="","",G21) | F22: =IF(G22="",IF(C22="","",F21+1),F21+1) | H22: =IF(E22="","",IF(H$3="","",E22*(1+H$3/100))) | I22: =IF(E22="","",IF(G22="","",G22-E22)) | J22: =IF(I22="","",100*I22/E22) | K22: =IF(J22="","",IF(J22<=-H$4,"Stop",IF(J22>=H$3,"Alvo",IF(G22="","Continue","")))) | M22: =M21+1 -> 19 | N22: =N21*(1+R$5/100) -> 923043 | O22: =100*(N22-R$3)/R$3 -> 92204.3
B23: =IF(C23="",B22,B22+1) -> 0 | D23: =IF(E23="","",IF(C23="",D22,D22+1)) | E23: =IF(G22="","",G22) | F23: =IF(G23="",IF(C23="","",F22+1),F22+1) | H23: =IF(E23="","",IF(H$3="","",E23*(1+H$3/100))) | I23: =IF(E23="","",IF(G23="","",G23-E23)) | J23: =IF(I23="","",100*I23/E23) | K23: =IF(J23="","",IF(J23<=-H$4,"Stop",IF(J23>=H$3,"Alvo",IF(G23="","Continue","")))) | M23: =M22+1 -> 20 | N23: =N22*(1+R$5/100) -> 1322166.8 | O23: =100*(N23-R$3)/R$3 -> 132116.68 | Q23: % Ano | R23: 100
B24: =IF(C24="",B23,B23+1) -> 0 | D24: =IF(E24="","",IF(C24="",D23,D23+1)) | E24: =IF(G23="","",G23) | F24: =IF(G24="",IF(C24="","",F23+1),F23+1) | H24: =IF(E24="","",IF(H$3="","",E24*(1+H$3/100))) | I24: =IF(E24="","",IF(G24="","",G24-E24)) | J24: =IF(I24="","",100*I24/E24) | K24: =IF(J24="","",IF(J24<=-H$4,"Stop",IF(J24>=H$3,"Alvo",IF(G24="","Continue","")))) | M24: =M23+1 -> 21 | N24: =N23*(1+R$5/100) -> 1893871.7 | O24: =100*(N24-R$3)/R$3 -> 189287.17 | Q24: % Mês | R24: =100*((1+R23/100)^(1/12)-1) -> 5.9463094
B25: =IF(C25="",B24,B24+1) -> 0 | D25: =IF(E25="","",IF(C25="",D24,D24+1)) | E25: =IF(G24="","",G24) | F25: =IF(G25="",IF(C25="","",F24+1),F24+1) | H25: =IF(E25="","",IF(H$3="","",E25*(1+H$3/100))) | I25: =IF(E25="","",IF(G25="","",G25-E25)) | J25: =IF(I25="","",100*I25/E25) | K25: =IF(J25="","",IF(J25<=-H$4,"Stop",IF(J25>=H$3,"Alvo",IF(G25="","Continue","")))) | M25: =M24+1 -> 22 | N25: =N24*(1+R$5/100) -> 2712781.9 | O25: =100*(N25-R$3)/R$3 -> 271178.19 | Q25: % Semana | R25: =100*((1+R23/100)^(7/360)-1) -> 1.3569098
B26: =IF(C26="",B25,B25+1) -> 0 | D26: =IF(E26="","",IF(C26="",D25,D25+1)) | E26: =IF(G25="","",G25) | F26: =IF(G26="",IF(C26="","",F25+1),F25+1) | H26: =IF(E26="","",IF(H$3="","",E26*(1+H$3/100))) | I26: =IF(E26="","",IF(G26="","",G26-E26)) | J26: =IF(I26="","",100*I26/E26) | K26: =IF(J26="","",IF(J26<=-H$4,"Stop",IF(J26>=H$3,"Alvo",IF(G26="","Continue","")))) | M26: =M25+1 -> 23 | N26: =N25*(1+R$5/100) -> 3885788.7 | O26: =100*(N26-R$3)/R$3 -> 388478.87 | Q26: % Dia útil | R26: =100*((1+R23/100)^(7/360/5)-1) -> 0.26992087
B27: =IF(C27="",B26,B26+1) -> 0 | D27: =IF(E27="","",IF(C27="",D26,D26+1)) | E27: =IF(G26="","",G26) | F27: =IF(G27="",IF(C27="","",F26+1),F26+1) | H27: =IF(E27="","",IF(H$3="","",E27*(1+H$3/100))) | I27: =IF(E27="","",IF(G27="","",G27-E27)) | J27: =IF(I27="","",100*I27/E27) | K27: =IF(J27="","",IF(J27<=-H$4,"Stop",IF(J27>=H$3,"Alvo",IF(G27="","Continue","")))) | M27: =M26+1 -> 24 | N27: =N26*(1+R$5/100) -> 5566003.8 | O27: =100*(N27-R$3)/R$3 -> 556500.38
B28: =IF(C28="",B27,B27+1) -> 0 | D28: =IF(E28="","",IF(C28="",D27,D27+1)) | E28: =IF(G27="","",G27) | F28: =IF(G28="",IF(C28="","",F27+1),F27+1) | H28: =IF(E28="","",IF(H$3="","",E28*(1+H$3/100))) | I28: =IF(E28="","",IF(G28="","",G28-E28)) | J28: =IF(I28="","",100*I28/E28) | K28: =IF(J28="","",IF(J28<=-H$4,"Stop",IF(J28>=H$3,"Alvo",IF(G28="","Continue","")))) | M28: =M27+1 -> 25 | N28: =N27*(1+R$5/100) -> 7972743.8 | O28: =100*(N28-R$3)/R$3 -> 797174.38 | Q28: % Mês | R28: 20
B29: =IF(C29="",B28,B28+1) -> 0 | D29: =IF(E29="","",IF(C29="",D28,D28+1)) | E29: =IF(G28="","",G28) | F29: =IF(G29="",IF(C29="","",F28+1),F28+1) | H29: =IF(E29="","",IF(H$3="","",E29*(1+H$3/100))) | I29: =IF(E29="","",IF(G29="","",G29-E29)) | J29: =IF(I29="","",100*I29/E29) | K29: =IF(J29="","",IF(J29<=-H$4,"Stop",IF(J29>=H$3,"Alvo",IF(G29="","Continue","")))) | M29: =M28+1 -> 26 | N29: =N28*(1+R$5/100) -> 11420158 | O29: =100*(N29-R$3)/R$3 -> 1141915.8 | Q29: % Semana | R29: =100*((1+R28/100)^(7/30)-1) -> 4.3459564
B30: =IF(C30="",B29,B29+1) -> 0 | D30: =IF(E30="","",IF(C30="",D29,D29+1)) | E30: =IF(G29="","",G29) | F30: =IF(G30="",IF(C30="","",F29+1),F29+1) | H30: =IF(E30="","",IF(H$3="","",E30*(1+H$3/100))) | I30: =IF(E30="","",IF(G30="","",G30-E30)) | J30: =IF(I30="","",100*I30/E30) | K30: =IF(J30="","",IF(J30<=-H$4,"Stop",IF(J30>=H$3,"Alvo",IF(G30="","Continue","")))) | M30: =M29+1 -> 27 | N30: =N29*(1+R$5/100) -> 16358235 | O30: =100*(N30-R$3)/R$3 -> 1635723.5 | Q30: % Dia útil | R30: =100*((1+R28/100)^(7/150)-1) -> 0.85446381
B31: =IF(C31="",B30,B30+1) -> 0 | D31: =IF(E31="","",IF(C31="",D30,D30+1)) | E31: =IF(G30="","",G30) | F31: =IF(G31="",IF(C31="","",F30+1),F30+1) | H31: =IF(E31="","",IF(H$3="","",E31*(1+H$3/100))) | I31: =IF(E31="","",IF(G31="","",G31-E31)) | J31: =IF(I31="","",100*I31/E31) | K31: =IF(J31="","",IF(J31<=-H$4,"Stop",IF(J31>=H$3,"Alvo",IF(G31="","Continue","")))) | M31: =M30+1 -> 28 | N31: =N30*(1+R$5/100) -> 23431535 | O31: =100*(N31-R$3)/R$3 -> 2343053.5
B32: =IF(C32="",B31,B31+1) -> 0 | D32: =IF(E32="","",IF(C32="",D31,D31+1)) | E32: =IF(G31="","",G31) | F32: =IF(G32="",IF(C32="","",F31+1),F31+1) | H32: =IF(E32="","",IF(H$3="","",E32*(1+H$3/100))) | I32: =IF(E32="","",IF(G32="","",G32-E32)) | J32: =IF(I32="","",100*I32/E32) | K32: =IF(J32="","",IF(J32<=-H$4,"Stop",IF(J32>=H$3,"Alvo",IF(G32="","Continue","")))) | M32: =M31+1 -> 29 | N32: =N31*(1+R$5/100) -> 33563331 | O32: =100*(N32-R$3)/R$3 -> 3356233.1 | Q32: % Semana | R32: 5
B33: =IF(C33="",B32,B32+1) -> 0 | D33: =IF(E33="","",IF(C33="",D32,D32+1)) | E33: =IF(G32="","",G32) | F33: =IF(G33="",IF(C33="","",F32+1),F32+1) | M33: =M32+1 -> 30 | N33: =N32*(1+R$5/100) -> 48076116 | O33: =100*(N33-R$3)/R$3 -> 4807511.6 | Q33: % Dia útil | R33: =100*((1+R32/100)^(1/5)-1) -> 0.98057977

Sheet Open
F2: Spread | G2: =10000*(E6-E7) -> 1.9 | H2: Equity | I2: =SUM(E5:H5) -> 34042.55 | K2: Position | L2: Rescue calculator | Q2: Max % DD
B3: Balance | E3: Starting balance | G3: $ Profit | K3: =IF(I10="","",MATCH(VLOOKUP(MAX(J10:J27),J10:K27,2,FALSE),K10:K27,0)) | L3: TP factor | M3: $ Profit | N3: % | O3: Exit 1 | P3: Exit 2 | Q3: =IF(Q6<>"",Q6,IF(Q4<>"",Q4,IF(I6<-Q3,-I6,Q3))) -> 0
G4: Closed | H4: Floating | I4: Total | K4: Last Open | L4: 1 | M4: =IF(L4="","",IF(Q10="","",IF(D28=0,"",L4*Q10))) | N4: =IF(M4="","",IF(E5="","",100*M4/E5)) | O4: =IF(L4="","",IF(L10="","",IF(D28="","",IF(D28=0,"",IF(M4="","",L10+(M4-G5-H5)/Q18/D28))))) | P4: =IF(D28="","",IF(D10=D28,"",(M4-G5-H5-D28*Q18*(K7-L10))/(D28-K5)/Q18+K7))
B5: =E5+G5 -> 34042.55 | E5: =DLog!$H$2 -> 34042.55 | G5: =SUM(M10:M27) -> 0 | H5: =SUM(N10:N27) -> 0 | I5: =G5+H5 -> 0 | K5: =IF(I10="","",INDEX(B10:B27,K3)) | L5: =IF(M5="","",IF(Q10="","",M5/Q10)) | M5: =IF(O5="","",IF(L10="","",IF(D28="","",G5+H5+(O5-L10)*Q18*D28))) | N5: =IF(M5="","",100*M5/E5) | P5: Extreme | Q5: Reset DD
B6: Ask | E6: =[1]!EURUSD/100000 -> 1.06951 | G6: =100*G5/E5 -> 0 | H6: =100*H5/E5 -> 0 | I6: =100*(I2/E5-1) -> 0 | K6: TP Last | L6: Stop out | M6: =IF(N6="","",-N6*E5/100) -> -10212.765 | N6: 30 | O6: =IF(N6="","",IF(L10="","",IF(D28=0,"",L10-(I2-E5-M6)/Q18/D28))) | Q6: =IF(P6="","",IF(D28="","",IF(D28>0,ABS(100*(D28*Q18*(P6-L10)+I5)/E5),ABS(100*(D28*Q18*(P6-L10+0.00015)+I5)/E5))))
B7: Bid | E7: =[2]!EURUSD/100000 -> 1.06932 | G7: % Profit | K7: =IF(I10="","",INDEX(F10:F27,K3)) | L7: Kelly | M7: =IF(N7="","",-N7*E5/100) -> -33906.615 | N7: =Risk!$C$28 -> 99.600691 | O7: =IF(N7="","",IF(L10="","",IF(N7=0,"",IF(D28=0,"",L10-(I2-E5-M7)/Q18/D28)))) | P7: Kelly Alert (%) | Q7: =IF(N7="","",IF(N7=0,"Kelly = 0",IF(Q3="","",100*Q3/N7))) -> 0
B8: Lots (+-) | C8: # | D8: Open Lots | E8: Entry Price | F8: Take Profit | G8: $ Profit Target | H8: Swap | I8: Status (p/o/c) | J8: # | K8: # | L8: Price | M8: Closed Profit $ | N8: Floating Profit $ | O8: % Profit | P8: Scout Default
P9: Take profit | Q9: $ Target
C10: =IF(D10="","",1) | D10: =IF(B10="","",IF(I10="p",D9,IF(I10="o",D9+B10,IF(I10="c",D9,IF(I10="","","Status?"))))) | G10: =IF(B10="","",IF(E10="","",IF(F10="","",B10*Q$18*(F10-E10)))) | J10: =IF(I10="o",1,"") | K10: =IF(I10="o",1,"") | L10: =IF(B10="","",IF(I10<>"o","",IF(B10>0,E$7,IF(B10<0,E$6,"Posição?")))) | M10: =IF(B10="","",IF(E10="","",IF(F10="","",IF(H10="","",IF(I10="c",B10*Q$18*(F10-E10)+H10,""))))) | N10: =IF(B10="","",IF(E10="","",IF(H10="","",IF(I10="o",B10*Q$18*(L10-E10)+H10,"")))) | O10: =IF(B10="","",IF(E10="","",IF(H10="","",IF(I10="p",100*G10/E$5,IF(I10="o",100*N10/E$5,IF(I10="c",100*M10/E$5,"")))))) | Q10: =IF(B10="","",IF(E10="","",IF(P10="","",B10*Q$18*(P10-E10))))
C11: =IF(D11="","",C10+1) | D11: =IF(B11="","",IF(I11="p",D10,IF(I11="o",D10+B11,IF(I11="c",D10,IF(I11="","","Status?"))))) | G11: =IF(B11="","",IF(E11="","",IF(F11="","",B11*Q$18*(F11-E11)))) | J11: =IF(J10="","",IF(I11="","",J10+1)) | K11: =IF(K10="","",IF(I11="","",IF(I11="o",K10+1,K10))) | L11: =IF(B11="","",IF(I11<>"o","",IF(B11>0,E$7,IF(B11<0,E$6,"Posição?")))) | M11: =IF(B11="","",IF(E11="","",IF(F11="","",IF(H11="","",IF(I11="c",B11*Q$18*(F11-E11)+H11,""))))) | N11: =IF(B11="","",IF(E11="","",IF(H11="","",IF(I11="o",B11*Q$18*(L11-E11)+H11,"")))) | O11: =IF(B11="","",IF(E11="","",IF(H11="","",IF(I11="p",100*G11/E$5,IF(I11="o",100*N11/E$5,IF(I11="c",100*M11/E$5,"")))))) | P11: Current $ | Q11: =IF(G10="","",SUM(G10:H27))
C12: =IF(D12="","",C11+1) | D12: =IF(B12="","",IF(I12="p",D11,IF(I12="o",D11+B12,IF(I12="c",D11,IF(I12="","","Status?"))))) | G12: =IF(B12="","",IF(E12="","",IF(F12="","",B12*Q$18*(F12-E12)))) | J12: =IF(J11="","",IF(I12="","",J11+1)) | K12: =IF(K11="","",IF(I12="","",IF(I12="o",K11+1,K11))) | L12: =IF(B12="","",IF(I12<>"o","",IF(B12>0,E$7,IF(B12<0,E$6,"Posição?")))) | M12: =IF(B12="","",IF(E12="","",IF(F12="","",IF(H12="","",IF(I12="c",B12*Q$18*(F12-E12)+H12,""))))) | N12: =IF(B12="","",IF(E12="","",IF(H12="","",IF(I12="o",B12*Q$18*(L12-E12)+H12,"")))) | O12: =IF(B12="","",IF(E12="","",IF(H12="","",IF(I12="p",100*G12/E$5,IF(I12="o",100*N12/E$5,IF(I12="c",100*M12/E$5,"")))))) | P12: % | Q12: =IF(Q11="","",100*Q11/E5)
C13: =IF(D13="","",C12+1) | D13: =IF(B13="","",IF(I13="p",D12,IF(I13="o",D12+B13,IF(I13="c",D12,IF(I13="","","Status?"))))) | G13: =IF(B13="","",IF(E13="","",IF(F13="","",B13*Q$18*(F13-E13)))) | J13: =IF(J12="","",IF(I13="","",J12+1)) | K13: =IF(K12="","",IF(I13="","",IF(I13="o",K12+1,K12))) | L13: =IF(B13="","",IF(I13<>"o","",IF(B13>0,E$7,IF(B13<0,E$6,"Posição?")))) | M13: =IF(B13="","",IF(E13="","",IF(F13="","",IF(H13="","",IF(I13="c",B13*Q$18*(F13-E13)+H13,""))))) | N13: =IF(B13="","",IF(E13="","",IF(H13="","",IF(I13="o",B13*Q$18*(L13-E13)+H13,"")))) | O13: =IF(B13="","",IF(E13="","",IF(H13="","",IF(I13="p",100*G13/E$5,IF(I13="o",100*N13/E$5,IF(I13="c",100*M13/E$5,"")))))) | P13: Factor | Q13: =IF(Q11=0,"",IF(Q10="","",Q11/Q10))
C14: =IF(D14="","",C13+1) | D14: =IF(B14="","",IF(I14="p",D13,IF(I14="o",D13+B14,IF(I14="c",D13,IF(I14="","","Status?"))))) | G14: =IF(B14="","",IF(E14="","",IF(F14="","",B14*Q$18*(F14-E14)))) | J14: =IF(J13="","",IF(I14="","",J13+1)) | K14: =IF(K13="","",IF(I14="","",IF(I14="o",K13+1,K13))) | L14: =IF(B14="","",IF(I14<>"o","",IF(B14>0,E$7,IF(B14<0,E$6,"Posição?")))) | M14: =IF(B14="","",IF(E14="","",IF(F14="","",IF(H14="","",IF(I14="c",B14*Q$18*(F14-E14)+H14,""))))) | N14: =IF(B14="","",IF(E14="","",IF(H14="","",IF(I14="o",B14*Q$18*(L14-E14)+H14,"")))) | O14: =IF(B14="","",IF(E14="","",IF(H14="","",IF(I14="p",100*G14/E$5,IF(I14="o",100*N14/E$5,IF(I14="c",100*M14/E$5,"")))))) | P14: Lots
C15: =IF(D15="","",C14+1) | D15: =IF(B15="","",IF(I15="p",D14,IF(I15="o",D14+B15,IF(I15="c",D14,IF(I15="","","Status?"))))) | G15: =IF(B15="","",IF(E15="","",IF(F15="","",B15*Q$18*(F15-E15)))) | J15: =IF(J14="","",IF(I15="","",J14+1)) | K15: =IF(K14="","",IF(I15="","",IF(I15="o",K14+1,K14))) | L15: =IF(B15="","",IF(I15<>"o","",IF(B15>0,E$7,IF(B15<0,E$6,"Posição?")))) | M15: =IF(B15="","",IF(E15="","",IF(F15="","",IF(H15="","",IF(I15="c",B15*Q$18*(F15-E15)+H15,""))))) | N15: =IF(B15="","",IF(E15="","",IF(H15="","",IF(I15="o",B15*Q$18*(L15-E15)+H15,"")))) | O15: =IF(B15="","",IF(E15="","",IF(H15="","",IF(I15="p",100*G15/E$5,IF(I15="o",100*N15/E$5,IF(I15="c",100*M15/E$5,"")))))) | P15: Base leverage | Q15: 1
C16: =IF(D16="","",C15+1) | D16: =IF(B16="","",IF(I16="p",D15,IF(I16="o",D15+B16,IF(I16="c",D15,IF(I16="","","Status?"))))) | G16: =IF(B16="","",IF(E16="","",IF(F16="","",B16*Q$18*(F16-E16)))) | J16: =IF(J15="","",IF(I16="","",J15+1)) | K16: =IF(K15="","",IF(I16="","",IF(I16="o",K15+1,K15))) | L16: =IF(B16="","",IF(I16<>"o","",IF(B16>0,E$7,IF(B16<0,E$6,"Posição?")))) | M16: =IF(B16="","",IF(E16="","",IF(F16="","",IF(H16="","",IF(I16="c",B16*Q$18*(F16-E16)+H16,""))))) | N16: =IF(B16="","",IF(E16="","",IF(H16="","",IF(I16="o",B16*Q$18*(L16-E16)+H16,"")))) | O16: =IF(B16="","",IF(E16="","",IF(H16="","",IF(I16="p",100*G16/E$5,IF(I16="o",100*N16/E$5,IF(I16="c",100*M16/E$5,"")))))) | P16: Agress (0:100+) | Q16: 110
C17: =IF(D17="","",C16+1) | D17: =IF(B17="","",IF(I17="p",D16,IF(I17="o",D16+B17,IF(I17="c",D16,IF(I17="","","Status?"))))) | G17: =IF(B17="","",IF(E17="","",IF(F17="","",B17*Q$18*(F17-E17)))) | J17: =IF(J16="","",IF(I17="","",J16+1)) | K17: =IF(K16="","",IF(I17="","",IF(I17="o",K16+1,K16))) | L17: =IF(B17="","",IF(I17<>"o","",IF(B17>0,E$7,IF(B17<0,E$6,"Posição?")))) | M17: =IF(B17="","",IF(E17="","",IF(F17="","",IF(H17="","",IF(I17="c",B17*Q$18*(F17-E17)+H17,""))))) | N17: =IF(B17="","",IF(E17="","",IF(H17="","",IF(I17="o",B17*Q$18*(L17-E17)+H17,"")))) | O17: =IF(B17="","",IF(E17="","",IF(H17="","",IF(I17="p",100*G17/E$5,IF(I17="o",100*N17/E$5,IF(I17="c",100*M17/E$5,"")))))) | P17: Start leverage | Q17: =IF(Q15="","",IF(Q16="","",IF(O28="","",Q15*(1+Q16*(O28-1)/100)))) -> 3.5520253
C18: =IF(D18="","",C17+1) | D18: =IF(B18="","",IF(I18="p",D17,IF(I18="o",D17+B18,IF(I18="c",D17,IF(I18="","","Status?"))))) | G18: =IF(B18="","",IF(E18="","",IF(F18="","",B18*Q$18*(F18-E18)))) | J18: =IF(J17="","",IF(I18="","",J17+1)) | K18: =IF(K17="","",IF(I18="","",IF(I18="o",K17+1,K17))) | L18: =IF(B18="","",IF(I18<>"o","",IF(B18>0,E$7,IF(B18<0,E$6,"Posição?")))) | M18: =IF(B18="","",IF(E18="","",IF(F18="","",IF(H18="","",IF(I18="c",B18*Q$18*(F18-E18)+H18,""))))) | N18: =IF(B18="","",IF(E18="","",IF(H18="","",IF(I18="o",B18*Q$18*(L18-E18)+H18,"")))) | O18: =IF(B18="","",IF(E18="","",IF(H18="","",IF(I18="p",100*G18/E$5,IF(I18="o",100*N18/E$5,IF(I18="c",100*M18/E$5,"")))))) | P18: Lot size | Q18: 100000
C19: =IF(D19="","",C18+1) | D19: =IF(B19="","",IF(I19="p",D18,IF(I19="o",D18+B19,IF(I19="c",D18,IF(I19="","","Status?"))))) | G19: =IF(B19="","",IF(E19="","",IF(F19="","",B19*Q$18*(F19-E19)))) | J19: =IF(J18="","",IF(I19="","",J18+1)) | K19: =IF(K18="","",IF(I19="","",IF(I19="o",K18+1,K18))) | L19: =IF(B19="","",IF(I19<>"o","",IF(B19>0,E$7,IF(B19<0,E$6,"Posição?")))) | M19: =IF(B19="","",IF(E19="","",IF(F19="","",IF(H19="","",IF(I19="c",B19*Q$18*(F19-E19)+H19,""))))) | N19: =IF(B19="","",IF(E19="","",IF(H19="","",IF(I19="o",B19*Q$18*(L19-E19)+H19,"")))) | O19: =IF(B19="","",IF(E19="","",IF(H19="","",IF(I19="p",100*G19/E$5,IF(I19="o",100*N19/E$5,IF(I19="c",100*M19/E$5,"")))))) | P19: Max leverage | Q19: 500
C20: =IF(D20="","",C19+1) | D20: =IF(B20="","",IF(I20="p",D19,IF(I20="o",D19+B20,IF(I20="c",D19,IF(I20="","","Status?"))))) | G20: =IF(B20="","",IF(E20="","",IF(F20="","",B20*Q$18*(F20-E20)))) | J20: =IF(J19="","",IF(I20="","",J19+1)) | K20: =IF(K19="","",IF(I20="","",IF(I20="o",K19+1,K19))) | L20: =IF(B20="","",IF(I20<>"o","",IF(B20>0,E$7,IF(B20<0,E$6,"Posição?")))) | M20: =IF(B20="","",IF(E20="","",IF(F20="","",IF(H20="","",IF(I20="c",B20*Q$18*(F20-E20)+H20,""))))) | N20: =IF(B20="","",IF(E20="","",IF(H20="","",IF(I20="o",B20*Q$18*(L20-E20)+H20,"")))) | O20: =IF(B20="","",IF(E20="","",IF(H20="","",IF(I20="p",100*G20/E$5,IF(I20="o",100*N20/E$5,IF(I20="c",100*M20/E$5,"")))))) | P20: Max lots | Q20: =IF(E5="","",IF(Q18="","",IF(Q19="","",E5*Q19/Q18))) -> 170.21275
C21: =IF(D21="","",C20+1) | D21: =IF(B21="","",IF(I21="p",D20,IF(I21="o",D20+B21,IF(I21="c",D20,IF(I21="","","Status?"))))) | G21: =IF(B21="","",IF(E21="","",IF(F21="","",B21*Q$18*(F21-E21)))) | J21: =IF(J20="","",IF(I21="","",J20+1)) | K21: =IF(K20="","",IF(I21="","",IF(I21="o",K20+1,K20))) | L21: =IF(B21="","",IF(I21<>"o","",IF(B21>0,E$7,IF(B21<0,E$6,"Posição?")))) | M21: =IF(B21="","",IF(E21="","",IF(F21="","",IF(H21="","",IF(I21="c",B21*Q$18*(F21-E21)+H21,""))))) | N21: =IF(B21="","",IF(E21="","",IF(H21="","",IF(I21="o",B21*Q$18*(L21-E21)+H21,"")))) | O21: =IF(B21="","",IF(E21="","",IF(H21="","",IF(I21="p",100*G21/E$5,IF(I21="o",100*N21/E$5,IF(I21="c",100*M21/E$5,"")))))) | P21: Lots 1 | Q21: =IF(E5="","",IF(Q17="","",IF(Q18="","",IF(E5*Q17/Q18>Q20,"",E5*Q17/Q18)))) -> 1.2092
C22: =IF(D22="","",C21+1) | D22: =IF(B22="","",IF(I22="p",D21,IF(I22="o",D21+B22,IF(I22="c",D21,IF(I22="","","Status?"))))) | G22: =IF(B22="","",IF(E22="","",IF(F22="","",B22*Q$18*(F22-E22)))) | J22: =IF(J21="","",IF(I22="","",J21+1)) | K22: =IF(K21="","",IF(I22="","",IF(I22="o",K21+1,K21))) | L22: =IF(B22="","",IF(I22<>"o","",IF(B22>0,E$7,IF(B22<0,E$6,"Posição?")))) | M22: =IF(B22="","",IF(E22="","",IF(F22="","",IF(H22="","",IF(I22="c",B22*Q$18*(F22-E22)+H22,""))))) | N22: =IF(B22="","",IF(E22="","",IF(H22="","",IF(I22="o",B22*Q$18*(L22-E22)+H22,"")))) | O22: =IF(B22="","",IF(E22="","",IF(H22="","",IF(I22="p",100*G22/E$5,IF(I22="o",100*N22/E$5,IF(I22="c",100*M22/E$5,"")))))) | P22: Lots 2 | Q22: =IF(Q21="","",IF(SUM(Q$21:Q21)=Q$20,"",IF(2*Q21+SUM(Q$21:Q21)>Q$20,Q$20-SUM(Q$21:Q21),2*Q21))) -> 2.4184
C23: =IF(D23="","",C22+1) | D23: =IF(B23="","",IF(I23="p",D22,IF(I23="o",D22+B23,IF(I23="c",D22,IF(I23="","","Status?"))))) | G23: =IF(B23="","",IF(E23="","",IF(F23="","",B23*Q$18*(F23-E23)))) | J23: =IF(J22="","",IF(I23="","",J22+1)) | K23: =IF(K22="","",IF(I23="","",IF(I23="o",K22+1,K22))) | L23: =IF(B23="","",IF(I23<>"o","",IF(B23>0,E$7,IF(B23<0,E$6,"Posição?")))) | M23: =IF(B23="","",IF(E23="","",IF(F23="","",IF(H23="","",IF(I23="c",B23*Q$18*(F23-E23)+H23,""))))) | N23: =IF(B23="","",IF(E23="","",IF(H23="","",IF(I23="o",B23*Q$18*(L23-E23)+H23,"")))) | O23: =IF(B23="","",IF(E23="","",IF(H23="","",IF(I23="p",100*G23/E$5,IF(I23="o",100*N23/E$5,IF(I23="c",100*M23/E$5,"")))))) | P23: Lots 3 | Q23: =IF(Q22="","",IF(SUM(Q$21:Q22)=Q$20,"",IF(2*Q22+SUM(Q$21:Q22)>Q$20,Q$20-SUM(Q$21:Q22),2*Q22))) -> 4.8368
C24: =IF(D24="","",C23+1) | D24: =IF(B24="","",IF(I24="p",D23,IF(I24="o",D23+B24,IF(I24="c",D23,IF(I24="","","Status?"))))) | G24: =IF(B24="","",IF(E24="","",IF(F24="","",B24*Q$18*(F24-E24)))) | J24: =IF(J23="","",IF(I24="","",J23+1)) | K24: =IF(K23="","",IF(I24="","",IF(I24="o",K23+1,K23))) | L24: =IF(B24="","",IF(I24<>"o","",IF(B24>0,E$7,IF(B24<0,E$6,"Posição?")))) | M24: =IF(B24="","",IF(E24="","",IF(F24="","",IF(H24="","",IF(I24="c",B24*Q$18*(F24-E24)+H24,""))))) | N24: =IF(B24="","",IF(E24="","",IF(H24="","",IF(I24="o",B24*Q$18*(L24-E24)+H24,"")))) | O24: =IF(B24="","",IF(E24="","",IF(H24="","",IF(I24="p",100*G24/E$5,IF(I24="o",100*N24/E$5,IF(I24="c",100*M24/E$5,"")))))) | P24: Lots 4 | Q24: =IF(Q23="","",IF(SUM(Q$21:Q23)=Q$20,"",IF(2*Q23+SUM(Q$21:Q23)>Q$20,Q$20-SUM(Q$21:Q23),2*Q23))) -> 9.6736
C25: =IF(D25="","",C24+1) | D25: =IF(B25="","",IF(I25="p",D24,IF(I25="o",D24+B25,IF(I25="c",D24,IF(I25="","","Status?"))))) | G25: =IF(B25="","",IF(E25="","",IF(F25="","",B25*Q$18*(F25-E25)))) | J25: =IF(J24="","",IF(I25="","",J24+1)) | K25: =IF(K24="","",IF(I25="","",IF(I25="o",K24+1,K24))) | L25: =IF(B25="","",IF(I25<>"o","",IF(B25>0,E$7,IF(B25<0,E$6,"Posição?")))) | M25: =IF(B25="","",IF(E25="","",IF(F25="","",IF(H25="","",IF(I25="c",B25*Q$18*(F25-E25)+H25,""))))) | N25: =IF(B25="","",IF(E25="","",IF(H25="","",IF(I25="o",B25*Q$18*(L25-E25)+H25,"")))) | O25: =IF(B25="","",IF(E25="","",IF(H25="","",IF(I25="p",100*G25/E$5,IF(I25="o",100*N25/E$5,IF(I25="c",100*M25/E$5,"")))))) | P25: Lots 5 | Q25: =IF(Q24="","",IF(SUM(Q$21:Q24)=Q$20,"",IF(2*Q24+SUM(Q$21:Q24)>Q$20,Q$20-SUM(Q$21:Q24),2*Q24))) -> 19.3472
C26: =IF(D26="","",C25+1) | D26: =IF(B26="","",IF(I26="p",D25,IF(I26="o",D25+B26,IF(I26="c",D25,IF(I26="","","Status?"))))) | G26: =IF(B26="","",IF(E26="","",IF(F26="","",B26*Q$18*(F26-E26)))) | J26: =IF(J25="","",IF(I26="","",J25+1)) | K26: =IF(K25="","",IF(I26="","",IF(I26="o",K25+1,K25))) | L26: =IF(B26="","",IF(I26<>"o","",IF(B26>0,E$7,IF(B26<0,E$6,"Posição?")))) | M26: =IF(B26="","",IF(E26="","",IF(F26="","",IF(H26="","",IF(I26="c",B26*Q$18*(F26-E26)+H26,""))))) | N26: =IF(B26="","",IF(E26="","",IF(H26="","",IF(I26="o",B26*Q$18*(L26-E26)+H26,"")))) | O26: =IF(B26="","",IF(E26="","",IF(H26="","",IF(I26="p",100*G26/E$5,IF(I26="o",100*N26/E$5,IF(I26="c",100*M26/E$5,"")))))) | P26: Lots 6 | Q26: =IF(Q25="","",IF(SUM(Q$21:Q25)=Q$20,"",IF(2*Q25+SUM(Q$21:Q25)>Q$20,Q$20-SUM(Q$21:Q25),2*Q25))) -> 38.6944
C27: =IF(D27="","",C26+1) | D27: =IF(B27="","",IF(I27="p",D26,IF(I27="o",D26+B27,IF(I27="c",D26,IF(I27="","","Status?"))))) | G27: =IF(B27="","",IF(E27="","",IF(F27="","",B27*Q$18*(F27-E27)))) | J27: =IF(J26="","",IF(I27="","",J26+1)) | K27: =IF(K26="","",IF(I27="","",IF(I27="o",K26+1,K26))) | L27: =IF(B27="","",IF(I27<>"o","",IF(B27>0,E$7,IF(B27<0,E$6,"Posição?")))) | M27: =IF(B27="","",IF(E27="","",IF(F27="","",IF(H27="","",IF(I27="c",B27*Q$18*(F27-E27)+H27,""))))) | N27: =IF(B27="","",IF(E27="","",IF(H27="","",IF(I27="o",B27*Q$18*(L27-E27)+H27,"")))) | O27: =IF(B27="","",IF(E27="","",IF(H27="","",IF(I27="p",100*G27/E$5,IF(I27="o",100*N27/E$5,IF(I27="c",100*M27/E$5,"")))))) | P27: Lots 7 | Q27: =IF(Q26="","",IF(SUM(Q$21:Q26)=Q$20,"",IF(2*Q26+SUM(Q$21:Q26)>Q$20,Q$20-SUM(Q$21:Q26),2*Q26))) -> 77.3888
B28: Total | D28: =IF(D10="","",VLOOKUP(MAX(C10:C27),C10:D27,2,FALSE)) | E28: Used Leverage | G28: =IF(Q18="","",IF(D28="","",IF(E5="","",ABS(Q18*D28/E5)))) | M28: Kelly Factor | O28: =IF(N6="",1,IF(N7="",1,IF(N7=0,1,IF(N7<N6,1,N7/N6)))) -> 3.320023 | P28: Lots 8 | Q28: =IF(Q27="","",IF(SUM(Q$21:Q27)=Q$20,"",IF(2*Q27+SUM(Q$21:Q27)>Q$20,Q$20-SUM(Q$21:Q27),2*Q27))) -> 16.64435

Sheet Cy
B2: # | C2: Data | D2: Balanço | E2: # | F2: % Bal | G2: # | H2: % Bal Méd | I2: % DD | J2: # | K2: Dias | L2: # | M2: Ciclos | N2: % Ano | P2: % Bal Méd | Q2: =IF(H4="","",VLOOKUP(MAX(G4:G103),G4:H103,2,FALSE)) -> 0.13198198 | R2: Últ % Bal | S2: =IF(F4="","",VLOOKUP(MAX(E4:E103),E4:F103,2,FALSE)) -> 0.38641747 | U2: Há ganho consistente?
B3: 0 | C3: 42737 | D3: 33112.58 | E3: 0 | G3: 0 | J3: 0 | K3: 0 | L3: 0 | M3: 0 | P3: Dias | Q3: =IF(C3="","",VLOOKUP(MAX(J4:J103),J4:K103,2,FALSE)) -> 28 | R3: Ciclos | S3: =IF(L4="","",VLOOKUP(MAX(L4:L103),L4:M103,2,FALSE)) -> 21
B4: =B3+1 -> 1 | C4: 42737 | D4: 33089.15 | E4: =IF(D4="","",E3+1) -> 1 | F4: =IF(D4="","",100*(D4-D3)/D3) -> -0.070758606 | G4: =IF(D4="","",G3+1) -> 1 | H4: =IF(F4="","",100*(((D4-D$3)/D$3+1)^(1/G4)-1)) -> -0.070758606 | I4: 0.07 | J4: =IF(H4="","",J3+1) -> 1 | K4: =IF(D4="","",IF(C4="",K3,C4-C$3)) -> 0 | L4: =IF(J4="","",L3+1) -> 1 | M4: =IF(K4="","",M3+1) -> 1 | U4: Teste T (D3:D24) | W4: =_xlfn.T.TEST(D3:D13,D14:D24,2,3) -> 0.0020140399 | X4: =1-W4 -> 0.99798596
B5: =B4+1 -> 2 | C5: 42738 | D5: 33103.34 | E5: =IF(D5="","",E4+1) -> 2 | F5: =IF(D5="","",100*(D5-D4)/D4) -> 0.042884148 | G5: =IF(D5="","",G4+1) -> 2 | H5: =IF(F5="","",100*(((D5-D$3)/D$3+1)^(1/G5)-1)) -> -0.013953375 | I5: 0.05 | J5: =IF(H5="","",J4+1) -> 2 | K5: =IF(D5="","",IF(C5="",K4,C5-C$3)) -> 1 | L5: =IF(J5="","",L4+1) -> 2 | M5: =IF(K5="","",M4+1) -> 2 | P5: Payoff (% por)
B6: =B5+1 -> 3 | D6: 33130.73 | E6: =IF(D6="","",E5+1) -> 3 | F6: =IF(D6="","",100*(D6-D5)/D5) -> 0.082740896 | G6: =IF(D6="","",G5+1) -> 3 | H6: =IF(F6="","",100*(((D6-D$3)/D$3+1)^(1/G6)-1)) -> 0.018267664 | I6: 0.14 | J6: =IF(H6="","",J5+1) -> 3 | K6: =IF(D6="","",IF(C6="",K5,C6-C$3)) -> 1 | L6: =IF(J6="","",L5+1) -> 3 | M6: =IF(K6="","",M5+1) -> 3 | P6: Usando média | R6: Usando último | U6: O desempenho está melhorando?
B7: =B6+1 -> 4 | C7: 42740 | D7: 33084.86 | E7: =IF(D7="","",E6+1) -> 4 | F7: =IF(D7="","",100*(D7-D6)/D6) -> -0.13845152 | G7: =IF(D7="","",G6+1) -> 4 | H7: =IF(F7="","",100*(((D7-D$3)/D$3+1)^(1/G7)-1)) -> -0.020935175 | I7: 0.15 | J7: =IF(H7="","",J6+1) -> 4 | K7: =IF(D7="","",IF(C7="",K6,C7-C$3)) -> 3 | L7: =IF(J7="","",L6+1) -> 4 | M7: =IF(K7="","",M6+1) -> 4 | P7: Ciclo | Q7: =Risk!$C$18 -> 0.13135502 | R7: Ciclo | S7: =IF(S2="","",100*((1+S2/100)^(Risk!C26/100)*(1-Risk!C24/100)^((100-Risk!C26)/100)-1)) -> 0.38578446
B8: =B7+1 -> 5 | C8: 42741 | D8: 33149.65 | E8: =IF(D8="","",E7+1) -> 5 | F8: =IF(D8="","",100*(D8-D7)/D7) -> 0.19582975 | G8: =IF(D8="","",G7+1) -> 5 | H8: =IF(F8="","",100*(((D8-D$3)/D$3+1)^(1/G8)-1)) -> 0.022380262 | I8: 2.09 | J8: =IF(H8="","",J7+1) -> 5 | K8: =IF(D8="","",IF(C8="",K7,C8-C$3)) -> 4 | L8: =IF(J8="","",L7+1) -> 5 | M8: =IF(K8="","",M7+1) -> 5 | P8: Dia corrido | Q8: =IF(Q7="","",100*((1+Q7/100)^(S3/Q3)-1)) -> 0.098500096 | R8: Dia corrido | S8: =IF(S7="","",100*((1+S7/100)^(S3/Q3)-1)) -> 0.28919904 | U8: Teste T (E4:E23) | W8: =_xlfn.T.TEST(F4:F13,F14:F23,2,3) -> 0.1025848 | X8: =1-W8 -> 0.8974152
B9: =B8+1 -> 6 | C9: 42744 | D9: 33204.63 | E9: =IF(D9="","",E8+1) -> 6 | F9: =IF(D9="","",100*(D9-D8)/D8) -> 0.16585394 | G9: =IF(D9="","",G8+1) -> 6 | H9: =IF(F9="","",100*(((D9-D$3)/D$3+1)^(1/G9)-1)) -> 0.046278262 | I9: 2.25 | J9: =IF(H9="","",J8+1) -> 6 | K9: =IF(D9="","",IF(C9="",K8,C9-C$3)) -> 7 | L9: =IF(J9="","",L8+1) -> 6 | M9: =IF(K9="","",M8+1) -> 6 | P9: Semana | Q9: =IF(Q8="","",100*((1+Q8/100)^7-1)) -> 0.6915415 | R9: Semana | S9: =IF(S8="","",100*((1+S8/100)^7-1)) -> 2.0420418
B10: =B9+1 -> 7 | C10: 42745 | D10: 33237.3 | E10: =IF(D10="","",E9+1) -> 7 | F10: =IF(D10="","",100*(D10-D9)/D9) -> 0.098389893 | G10: =IF(D10="","",G9+1) -> 7 | H10: =IF(F10="","",100*(((D10-D$3)/D$3+1)^(1/G10)-1)) -> 0.05372112 | I10: 0.08 | J10: =IF(H10="","",J9+1) -> 7 | K10: =IF(D10="","",IF(C10="",K9,C10-C$3)) -> 8 | L10: =IF(J10="","",L9+1) -> 7 | M10: =IF(K10="","",M9+1) -> 7 | P10: Mês | Q10: =IF(Q8="","",100*((1+Q8/100)^30-1)) -> 2.9975984 | R10: Mês | S10: =IF(S8="","",100*((1+S8/100)^30-1)) -> 9.0498029
B11: =B10+1 -> 8 | C11: 42746 | D11: 33246.66 | E11: =IF(D11="","",E10+1) -> 8 | F11: =IF(D11="","",100*(D11-D10)/D10) -> 0.028161132 | G11: =IF(D11="","",G10+1) -> 8 | H11: =IF(F11="","",100*(((D11-D$3)/D$3+1)^(1/G11)-1)) -> 0.050525764 | I11: 0.05 | J11: =IF(H11="","",J10+1) -> 8 | K11: =IF(D11="","",IF(C11="",K10,C11-C$3)) -> 9 | L11: =IF(J11="","",L10+1) -> 8 | M11: =IF(K11="","",M10+1) -> 8 | P11: Ano | Q11: =IF(Q8="","",100*((1+Q8/100)^365-1)) -> 43.239576 | R11: Ano | S11: =IF(S8="","",100*((1+S8/100)^365-1)) -> 186.92569
B12: =B11+1 -> 9 | C12: 42747 | D12: 33272.88 | E12: =IF(D12="","",E11+1) -> 9 | F12: =IF(D12="","",100*(D12-D11)/D11) -> 0.078865065 | G12: =IF(D12="","",G11+1) -> 9 | H12: =IF(F12="","",100*(((D12-D$3)/D$3+1)^(1/G12)-1)) -> 0.053674179 | I12: 0.12 | J12: =IF(H12="","",J11+1) -> 9 | K12: =IF(D12="","",IF(C12="",K11,C12-C$3)) -> 10 | L12: =IF(J12="","",L11+1) -> 9 | M12: =IF(K12="","",M11+1) -> 9
B13: =B12+1 -> 10 | C13: 42748 | D13: 33293.94 | E13: =IF(D13="","",E12+1) -> 10 | F13: =IF(D13="","",100*(D13-D12)/D12) -> 0.063294791 | G13: =IF(D13="","",G12+1) -> 10 | H13: =IF(F13="","",100*(((D13-D$3)/D$3+1)^(1/G13)-1)) -> 0.054636199 | I13: 0.06 | J13: =IF(H13="","",J12+1) -> 10 | K13: =IF(D13="","",IF(C13="",K12,C13-C$3)) -> 11 | L13: =IF(J13="","",L12+1) -> 10 | M13: =IF(K13="","",M12+1) -> 10
B14: =B13+1 -> 11 | D14: 33273.66 | E14: =IF(D14="","",E13+1) -> 11 | F14: =IF(D14="","",100*(D14-D13)/D13) -> -0.060911986 | G14: =IF(D14="","",G13+1) -> 11 | H14: =IF(F14="","",100*(((D14-D$3)/D$3+1)^(1/G14)-1)) -> 0.0441263 | I14: 0.15 | J14: =IF(H14="","",J13+1) -> 11 | K14: =IF(D14="","",IF(C14="",K13,C14-C$3)) -> 11 | L14: =IF(J14="","",L13+1) -> 11 | M14: =IF(K14="","",M13+1) -> 11
B15: =B14+1 -> 12 | C15: 42751 | D15: 33285.26 | E15: =IF(D15="","",E14+1) -> 12 | F15: =IF(D15="","",100*(D15-D14)/D14) -> 0.034862411 | G15: =IF(D15="","",G14+1) -> 12 | H15: =IF(F15="","",100*(((D15-D$3)/D$3+1)^(1/G15)-1)) -> 0.043354276 | I15: 0.05 | J15: =IF(H15="","",J14+1) -> 12 | K15: =IF(D15="","",IF(C15="",K14,C15-C$3)) -> 14 | L15: =IF(J15="","",L14+1) -> 12 | M15: =IF(K15="","",M14+1) -> 12
B16: =B15+1 -> 13 | C16: 42752 | D16: 33315.38 | E16: =IF(D16="","",E15+1) -> 13 | F16: =IF(D16="","",100*(D16-D15)/D15) -> 0.090490505 | G16: =IF(D16="","",G15+1) -> 13 | H16: =IF(F16="","",100*(((D16-D$3)/D$3+1)^(1/G16)-1)) -> 0.046979352 | I16: 0.53 | J16: =IF(H16="","",J15+1) -> 13 | K16: =IF(D16="","",IF(C16="",K15,C16-C$3)) -> 15 | L16: =IF(J16="","",L15+1) -> 13 | M16: =IF(K16="","",M15+1) -> 13
B17: =B16+1 -> 14 | C17: 42753 | D17: 33298.88 | E17: =IF(D17="","",E16+1) -> 14 | F17: =IF(D17="","",100*(D17-D16)/D16) -> -0.049526675 | G17: =IF(D17="","",G16+1) -> 14 | H17: =IF(F17="","",100*(((D17-D$3)/D$3+1)^(1/G17)-1)) -> 0.040082975 | I17: 0.19 | J17: =IF(H17="","",J16+1) -> 14 | K17: =IF(D17="","",IF(C17="",K16,C17-C$3)) -> 16 | L17: =IF(J17="","",L16+1) -> 14 | M17: =IF(K17="","",M16+1) -> 14
B18: =B17+1 -> 15 | C18: 42754 | D18: 33348.02 | E18: =IF(D18="","",E17+1) -> 15 | F18: =IF(D18="","",100*(D18-D17)/D17) -> 0.14757253 | G18: =IF(D18="","",G17+1) -> 15 | H18: =IF(F18="","",100*(((D18-D$3)/D$3+1)^(1/G18)-1)) -> 0.047245355 | I18: 0.42 | J18: =IF(H18="","",J17+1) -> 15 | K18: =IF(D18="","",IF(C18="",K17,C18-C$3)) -> 17 | L18: =IF(J18="","",L17+1) -> 15 | M18: =IF(K18="","",M17+1) -> 15
B19: =B18+1 -> 16 | C19: 42758 | D19: 33375.71 | E19: =IF(D19="","",E18+1) -> 16 | F19: =IF(D19="","",100*(D19-D18)/D18) -> 0.083033415 | G19: =IF(D19="","",G18+1) -> 16 | H19: =IF(F19="","",100*(((D19-D$3)/D$3+1)^(1/G19)-1)) -> 0.049481734 | I19: 0.04 | J19: =IF(H19="","",J18+1) -> 16 | K19: =IF(D19="","",IF(C19="",K18,C19-C$3)) -> 21 | L19: =IF(J19="","",L18+1) -> 16 | M19: =IF(K19="","",M18+1) -> 16
B20: =B19+1 -> 17 | C20: 42759 | D20: 33465.77 | E20: =IF(D20="","",E19+1) -> 17 | F20: =IF(D20="","",100*(D20-D19)/D19) -> 0.26983696 | G20: =IF(D20="","",G19+1) -> 17 | H20: =IF(F20="","",100*(((D20-D$3)/D$3+1)^(1/G20)-1)) -> 0.06243039 | I20: 0.78 | J20: =IF(H20="","",J19+1) -> 17 | K20: =IF(D20="","",IF(C20="",K19,C20-C$3)) -> 22 | L20: =IF(J20="","",L19+1) -> 17 | M20: =IF(K20="","",M19+1) -> 17
B21: =B20+1 -> 18 | C21: 42760 | D21: 33573.65 | E21: =IF(D21="","",E20+1) -> 18 | F21: =IF(D21="","",100*(D21-D20)/D20) -> 0.32235923 | G21: =IF(D21="","",G20+1) -> 18 | H21: =IF(F21="","",100*(((D21-D$3)/D$3+1)^(1/G21)-1)) -> 0.076853198 | I21: 0.18 | J21: =IF(H21="","",J20+1) -> 18 | K21: =IF(D21="","",IF(C21="",K20,C21-C$3)) -> 23 | L21: =IF(J21="","",L20+1) -> 18 | M21: =IF(K21="","",M20+1) -> 18
B22: =B21+1 -> 19 | C22: 42761 | D22: 33714.95 | E22: =IF(D22="","",E21+1) -> 19 | F22: =IF(D22="","",100*(D22-D21)/D21) -> 0.42086577 | G22: =IF(D22="","",G21+1) -> 19 | H22: =IF(F22="","",100*(((D22-D$3)/D$3+1)^(1/G22)-1)) -> 0.094929706 | I22: 2.42 | J22: =IF(H22="","",J21+1) -> 19 | K22: =IF(D22="","",IF(C22="",K21,C22-C$3)) -> 24 | L22: =IF(J22="","",L21+1) -> 19 | M22: =IF(K22="","",M21+1) -> 19 | N22: 31.54
B23: =B22+1 -> 20 | C23: 42762 | D23: 33911.51 | E23: =IF(D23="","",E22+1) -> 20 | F23: =IF(D23="","",100*(D23-D22)/D22) -> 0.58300546 | G23: =IF(D23="","",G22+1) -> 20 | H23: =IF(F23="","",100*(((D23-D$3)/D$3+1)^(1/G23)-1)) -> 0.11927715 | I23: 2.51 | J23: =IF(H23="","",J22+1) -> 20 | K23: =IF(D23="","",IF(C23="",K22,C23-C$3)) -> 25 | L23: =IF(J23="","",L22+1) -> 20 | M23: =IF(K23="","",M22+1) -> 20 | N23: 41.32
B24: =B23+1 -> 21 | C24: 42765 | D24: 34042.55 | E24: =IF(D24="","",E23+1) -> 21 | F24: =IF(D24="","",100*(D24-D23)/D23) -> 0.38641747 | G24: =IF(D24="","",G23+1) -> 21 | H24: =IF(F24="","",100*(((D24-D$3)/D$3+1)^(1/G24)-1)) -> 0.13198198 | I24: 0.34 | J24: =IF(H24="","",J23+1) -> 21 | K24: =IF(D24="","",IF(C24="",K23,C24-C$3)) -> 28 | L24: =IF(J24="","",L23+1) -> 21 | M24: =IF(K24="","",M23+1) -> 21 | N24: 43.24
B25: =B24+1 -> 22 | E25: =IF(D25="","",E24+1) | F25: =IF(D25="","",100*(D25-D24)/D24) | G25: =IF(D25="","",G24+1) | H25: =IF(F25="","",100*(((D25-D$3)/D$3+1)^(1/G25)-1)) | J25: =IF(H25="","",J24+1) | K25: =IF(D25="","",IF(C25="",K24,C25-C$3)) | L25: =IF(J25="","",L24+1) | M25: =IF(K25="","",M24+1)
B26: =B25+1 -> 23 | E26: =IF(D26="","",E25+1) | F26: =IF(D26="","",100*(D26-D25)/D25) | G26: =IF(D26="","",G25+1) | H26: =IF(F26="","",100*(((D26-D$3)/D$3+1)^(1/G26)-1)) | J26: =IF(H26="","",J25+1) | K26: =IF(D26="","",IF(C26="",K25,C26-C$3)) | L26: =IF(J26="","",L25+1) | M26: =IF(K26="","",M25+1)
B27: =B26+1 -> 24 | E27: =IF(D27="","",E26+1) | F27: =IF(D27="","",100*(D27-D26)/D26) | G27: =IF(D27="","",G26+1) | H27: =IF(F27="","",100*(((D27-D$3)/D$3+1)^(1/G27)-1)) | J27: =IF(H27="","",J26+1) | K27: =IF(D27="","",IF(C27="",K26,C27-C$3)) | L27: =IF(J27="","",L26+1) | M27: =IF(K27="","",M26+1)
B28: =B27+1 -> 25 | E28: =IF(D28="","",E27+1) | F28: =IF(D28="","",100*(D28-D27)/D27) | G28: =IF(D28="","",G27+1) | H28: =IF(F28="","",100*(((D28-D$3)/D$3+1)^(1/G28)-1)) | J28: =IF(H28="","",J27+1) | K28: =IF(D28="","",IF(C28="",K27,C28-C$3)) | L28: =IF(J28="","",L27+1) | M28: =IF(K28="","",M27+1)
B29: =B28+1 -> 26 | E29: =IF(D29="","",E28+1) | F29: =IF(D29="","",100*(D29-D28)/D28) | G29: =IF(D29="","",G28+1) | H29: =IF(F29="","",100*(((D29-D$3)/D$3+1)^(1/G29)-1)) | J29: =IF(H29="","",J28+1) | K29: =IF(D29="","",IF(C29="",K28,C29-C$3)) | L29: =IF(J29="","",L28+1) | M29: =IF(K29="","",M28+1)
B30: =B29+1 -> 27 | E30: =IF(D30="","",E29+1) | F30: =IF(D30="","",100*(D30-D29)/D29) | G30: =IF(D30="","",G29+1) | H30: =IF(F30="","",100*(((D30-D$3)/D$3+1)^(1/G30)-1)) | J30: =IF(H30="","",J29+1) | K30: =IF(D30="","",IF(C30="",K29,C30-C$3)) | L30: =IF(J30="","",L29+1) | M30: =IF(K30="","",M29+1)
B31: =B30+1 -> 28 | E31: =IF(D31="","",E30+1) | F31: =IF(D31="","",100*(D31-D30)/D30) | G31: =IF(D31="","",G30+1) | H31: =IF(F31="","",100*(((D31-D$3)/D$3+1)^(1/G31)-1)) | J31: =IF(H31="","",J30+1) | K31: =IF(D31="","",IF(C31="",K30,C31-C$3)) | L31: =IF(J31="","",L30+1) | M31: =IF(K31="","",M30+1)
B32: =B31+1 -> 29 | E32: =IF(D32="","",E31+1) | F32: =IF(D32="","",100*(D32-D31)/D31) | G32: =IF(D32="","",G31+1) | H32: =IF(F32="","",100*(((D32-D$3)/D$3+1)^(1/G32)-1)) | J32: =IF(H32="","",J31+1) | K32: =IF(D32="","",IF(C32="",K31,C32-C$3)) | L32: =IF(J32="","",L31+1) | M32: =IF(K32="","",M31+1)
B33: =B32+1 -> 30 | E33: =IF(D33="","",E32+1) | F33: =IF(D33="","",100*(D33-D32)/D32) | G33: =IF(D33="","",G32+1) | H33: =IF(F33="","",100*(((D33-D$3)/D$3+1)^(1/G33)-1)) | J33: =IF(H33="","",J32+1) | K33: =IF(D33="","",IF(C33="",K32,C33-C$3)) | L33: =IF(J33="","",L32+1) | M33: =IF(K33="","",M32+1)
B34: =B33+1 -> 31 | E34: =IF(D34="","",E33+1) | F34: =IF(D34="","",100*(D34-D33)/D33) | G34: =IF(D34="","",G33+1) | H34: =IF(F34="","",100*(((D34-D$3)/D$3+1)^(1/G34)-1)) | J34: =IF(H34="","",J33+1) | K34: =IF(D34="","",IF(C34="",K33,C34-C$3)) | L34: =IF(J34="","",L33+1) | M34: =IF(K34="","",M33+1)
B35: =B34+1 -> 32 | E35: =IF(D35="","",E34+1) | F35: =IF(D35="","",100*(D35-D34)/D34) | G35: =IF(D35="","",G34+1) | H35: =IF(F35="","",100*(((D35-D$3)/D$3+1)^(1/G35)-1)) | J35: =IF(H35="","",J34+1) | K35: =IF(D35="","",IF(C35="",K34,C35-C$3)) | L35: =IF(J35="","",L34+1) | M35: =IF(K35="","",M34+1)
B36: =B35+1 -> 33 | E36: =IF(D36="","",E35+1) | F36: =IF(D36="","",100*(D36-D35)/D35) | G36: =IF(D36="","",G35+1) | H36: =IF(F36="","",100*(((D36-D$3)/D$3+1)^(1/G36)-1)) | J36: =IF(H36="","",J35+1) | K36: =IF(D36="","",IF(C36="",K35,C36-C$3)) | L36: =IF(J36="","",L35+1) | M36: =IF(K36="","",M35+1)
... B103: =B102+1 -> 100 | E103: =IF(D103="","",E102+1) | F103: =IF(D103="","",100*(D103-D102)/D102) | G103: =IF(D103="","",G102+1) | H103: =IF(F103="","",100*(((D103-D$3)/D$3+1)^(1/G103)-1)) | J103: =IF(H103="","",J102+1) | K103: =IF(D103="","",IF(C103="",K102,C103-C$3)) | L103: =IF(J103="","",L102+1) | M103: =IF(K103="","",M102+1)

Sheet DDCy
B2: # | C2: % DD | D2: %Bal+ | E2: % Bal | F2: Kelly % | G2: P(K) | H2: # | I2: HS % | J2: P(HS) | L2: Faixa até % | M2: Freq | N2: Ant | O2: Tot | P2: Prob1 | Q2: Prob2
B3: 1 | C3: =IF(Cy!I4="","",Cy!I4) -> 0.07 | D3: =E3+0.15 -> 0.079241394 | E3: =IF(Cy!F4="","",Cy!F4) -> -0.070758606 | H3: 1 | I3: 30 | L3: 2.42 | M3: =IF(L3="","",FREQUENCY(C$3:C$102,L3)) -> 20 | N3: 0 | O3: =IF(M3="",N3,M3+N3) -> 20 | P3: =O3/O$13 -> 0.95238095 | Q3: =IF(L3="","",IF(O3>0,O3/O$13,M$17*L3^N$17)) -> 0.95238095
B4: =B3+1 -> 2 | C4: =IF(Cy!I5="","",Cy!I5) -> 0.05 | D4: =IF(E4="","",E4+D$3-E$3) -> 0.19288415 | E4: =IF(Cy!F5="","",Cy!F5) -> 0.042884148 | H4: =IF(I4="","",H3+1) -> 2 | I4: 30 | L4: =IF(L3="","",IF(L3+L$3<L$12,L3+L$3,"")) -> 4.84 | M4: =IF(L4="","",FREQUENCY(C$3:C$102,L4)-FREQUENCY(C$3:C$102,L3)) -> 1 | N4: 0 | O4: =IF(M4="",N4,M4+N4) -> 1 | P4: =O4/O$13 -> 0.047619048 | Q4: =IF(L4="","",IF(O4>0,O4/O$13,M$17*L4^N$17)) -> 0.047619048
B5: =B4+1 -> 3 | C5: =IF(Cy!I6="","",Cy!I6) -> 0.14 | D5: =IF(E5="","",E5+D$3-E$3) -> 0.2327409 | E5: =IF(Cy!F6="","",Cy!F6) -> 0.082740896 | F5: 0 | G5: 100 | H5: =IF(I5="","",H4+1) -> 3 | I5: 30 | J5: 0.94 | L5: =IF(L4="","",IF(L4+L$3<L$12,L4+L$3,"")) -> 7.26 | M5: =IF(L5="","",FREQUENCY(C$3:C$102,L5)-FREQUENCY(C$3:C$102,L4)) -> 0 | N5: 0 | O5: =IF(M5="",N5,M5+N5) -> 0 | Q5: =IF(L5="","",IF(O5>0,O5/O$13,M$17*((L5+L4)/2)^N$17)) -> 0.018150269
B6: =B5+1 -> 4 | C6: =IF(Cy!I7="","",Cy!I7) -> 0.15 | D6: =IF(E6="","",E6+D$3-E$3) -> 0.011548478 | E6: =IF(Cy!F7="","",Cy!F7) -> -0.13845152 | F6: 0 | G6: 100 | H6: =IF(I6="","",H5+1) -> 4 | I6: 30 | J6: 0.015 | L6: =IF(L5="","",IF(L5+L$3<L$12,L5+L$3,"")) -> 9.68 | M6: =IF(L6="","",FREQUENCY(C$3:C$102,L6)-FREQUENCY(C$3:C$102,L5)) -> 0 | N6: 0 | O6: =IF(M6="",N6,M6+N6) -> 0 | Q6: =IF(L6="","",IF(O6>0,O6/O$13,M$17*((L6+L5)/2)^N$17)) -> 0.0042395299
B7: =B6+1 -> 5 | C7: =IF(Cy!I8="","",Cy!I8) -> 2.09 | D7: =IF(E7="","",E7+D$3-E$3) -> 0.34582975 | E7: =IF(Cy!F8="","",Cy!F8) -> 0.19582975 | F7: 0 | G7: 100 | H7: =IF(I7="","",H6+1) -> 5 | I7: 30 | J7: 0.098 | L7: =IF(L6="","",IF(L6+L$3<L$12,L6+L$3,"")) -> 12.1 | M7: =IF(L7="","",FREQUENCY(C$3:C$102,L7)-FREQUENCY(C$3:C$102,L6)) -> 0 | N7: 0 | O7: =IF(M7="",N7,M7+N7) -> 0 | Q7: =IF(L7="","",IF(O7>0,O7/O$13,M$17*((L7+L6)/2)^N$17)) -> 0.0014308539
B8: =B7+1 -> 6 | C8: =IF(Cy!I9="","",Cy!I9) -> 2.25 | D8: =IF(E8="","",E8+D$3-E$3) -> 0.31585394 | E8: =IF(Cy!F9="","",Cy!F9) -> 0.16585394 | F8: 0 | G8: 100 | H8: =IF(I8="","",H7+1) -> 6 | I8: 30 | J8: 0.172 | L8: =IF(L7="","",IF(L7+L$3<L$12,L7+L$3,"")) -> 14.52 | M8: =IF(L8="","",FREQUENCY(C$3:C$102,L8)-FREQUENCY(C$3:C$102,L7)) -> 0 | N8: 0 | O8: =IF(M8="",N8,M8+N8) -> 0 | Q8: =IF(L8="","",IF(O8>0,O8/O$13,M$17*((L8+L7)/2)^N$17)) -> 0.00060107996
B9: =B8+1 -> 7 | C9: =IF(Cy!I10="","",Cy!I10) -> 0.08 | D9: =IF(E9="","",E9+D$3-E$3) -> 0.24838989 | E9: =IF(Cy!F10="","",Cy!F10) -> 0.098389893 | F9: 51.02 | G9: 0.022 | H9: =IF(I9="","",H8+1) -> 7 | I9: 30 | J9: 0.088 | L9: =IF(L8="","",IF(L8+L$3<L$12,L8+L$3,"")) -> 16.94 | M9: =IF(L9="","",FREQUENCY(C$3:C$102,L9)-FREQUENCY(C$3:C$102,L8)) -> 0 | N9: 0 | O9: =IF(M9="",N9,M9+N9) -> 0 | Q9: =IF(L9="","",IF(O9>0,O9/O$13,M$17*((L9+L8)/2)^N$17)) -> 0.00029199019
B10: =B9+1 -> 8 | C10: =IF(Cy!I11="","",Cy!I11) -> 0.05 | D10: =IF(E10="","",E10+D$3-E$3) -> 0.17816113 | E10: =IF(Cy!F11="","",Cy!F11) -> 0.028161132 | F10: 70.57 | G10: 0.004 | H10: =IF(I10="","",H9+1) -> 8 | I10: 30 | J10: 0.049 | L10: =IF(L9="","",IF(L9+L$3<L$12,L9+L$3,"")) -> 19.36 | M10: =IF(L10="","",FREQUENCY(C$3:C$102,L10)-FREQUENCY(C$3:C$102,L9)) -> 0 | N10: 0 | O10: =IF(M10="",N10,M10+N10) -> 0 | Q10: =IF(L10="","",IF(O10>0,O10/O$13,M$17*((L10+L9)/2)^N$17)) -> 0.00015731314
B11: =B10+1 -> 9 | C11: =IF(Cy!I12="","",Cy!I12) -> 0.12 | D11: =IF(E11="","",E11+D$3-E$3) -> 0.22886506 | E11: =IF(Cy!F12="","",Cy!F12) -> 0.078865065 | F11: 83.17 | G11: 0.001 | H11: =IF(I11="","",H10+1) -> 9 | I11: 30 | J11: 0.03 | L11: =IF(L10="","",IF(L10+L$3<L$12,L10+L$3,"")) -> 21.78 | M11: =IF(L11="","",FREQUENCY(C$3:C$102,L11)-FREQUENCY(C$3:C$102,L10)) -> 0 | N11: 0 | O11: =IF(M11="",N11,M11+N11) -> 0 | Q11: =IF(L11="","",IF(O11>0,O11/O$13,M$17*((L11+L10)/2)^N$17)) -> 9.1586443e-05
B12: =B11+1 -> 10 | C12: =IF(Cy!I13="","",Cy!I13) -> 0.06 | D12: =IF(E12="","",E12+D$3-E$3) -> 0.21329479 | E12: =IF(Cy!F13="","",Cy!F13) -> 0.063294791 | F12: 89.36 | G12: 0.001 | H12: =IF(I12="","",H11+1) -> 10 | I12: 30 | J12: 0.019 | L12: =$M$19 -> 30 | M12: =IF(L12="","",IF(L11="",FREQUENCY(C$3:C$102,L12)-FREQUENCY(C$3:C$102,L12-0.01),FREQUENCY(C$3:C$102,L12)-FREQUENCY(C$3:C$102,L11))) -> 0 | N12: 0 | O12: =IF(M12="",N12,M12+N12) -> 0 | Q12: =IF(L12="","",IF(O12>0,O12/O$13,M$17*L12^N$17)) -> 1.792717e-05
B13: =B12+1 -> 11 | C13: =IF(Cy!I14="","",Cy!I14) -> 0.15 | D13: =IF(E13="","",E13+D$3-E$3) -> 0.089088014 | E13: =IF(Cy!F14="","",Cy!F14) -> -0.060911986 | F13: 91.13 | G13: 0 | H13: =IF(I13="","",H12+1) -> 11 | I13: 30 | J13: 0.013 | L13: Totais | M13: =SUM(M3:M12) -> 21 | N13: =SUM(N3:N12) -> 0 | O13: =SUM(O3:O12) -> 21 | P13: =SUM(P3:P12) -> 1 | Q13: =SUM(Q3:Q12) -> 1.0249806
B14: =B13+1 -> 12 | C14: =IF(Cy!I15="","",Cy!I15) -> 0.05 | D14: =IF(E14="","",E14+D$3-E$3) -> 0.18486241 | E14: =IF(Cy!F15="","",Cy!F15) -> 0.034862411 | F14: 93.67 | G14: 0 | H14: =IF(I14="","",H13+1) -> 12 | I14: 30 | J14: 0.009
B15: =B14+1 -> 13 | C15: =IF(Cy!I16="","",Cy!I16) -> 0.53 | D15: =IF(E15="","",E15+D$3-E$3) -> 0.24049051 | E15: =IF(Cy!F16="","",Cy!F16) -> 0.090490505 | F15: 95.8 | G15: 0 | H15: =IF(I15="","",H14+1) -> 13 | I15: 30 | J15: 0.007 | L15: Probabilidades (%)
B16: =B15+1 -> 14 | C16: =IF(Cy!I17="","",Cy!I17) -> 0.19 | D16: =IF(E16="","",E16+D$3-E$3) -> 0.10047332 | E16: =IF(Cy!F17="","",Cy!F17) -> -0.049526675 | F16: 96.35 | G16: 0 | H16: =IF(I16="","",H15+1) -> 14 | I16: 30 | J16: 0.005 | L16: Coeficientes | M16: Base | N16: Expo
B17: =B16+1 -> 15 | C17: =IF(Cy!I18="","",Cy!I18) -> 0.42 | D17: =IF(E17="","",E17+D$3-E$3) -> 0.29757253 | E17: =IF(Cy!F18="","",Cy!F18) -> 0.14757253 | F17: 97.76 | G17: 0 | H17: =IF(I17="","",H16+1) -> 15 | I17: 30 | J17: 0.004 | M17: 43.414 | N17: -4.322
B18: =B17+1 -> 16 | C18: =IF(Cy!I19="","",Cy!I19) -> 0.04 | D18: =IF(E18="","",E18+D$3-E$3) -> 0.23303342 | E18: =IF(Cy!F19="","",Cy!F19) -> 0.083033415 | F18: 98.35 | G18: 0 | H18: =IF(I18="","",H17+1) -> 16 | I18: 30 | J18: 0.003 | L18: Kelly (%) | M18: =Risk!$C$28 -> 99.600691 | N18: =IF(M18=0,100,100*M17*M18^N17/Q13) -> 9.7819243e-06
B19: =B18+1 -> 17 | C19: =IF(Cy!I20="","",Cy!I20) -> 0.78 | D19: =IF(E19="","",E19+D$3-E$3) -> 0.41983696 | E19: =IF(Cy!F20="","",Cy!F20) -> 0.26983696 | F19: 98.97 | G19: 0 | H19: =IF(I19="","",H18+1) -> 17 | I19: 30 | J19: 0.002 | L19: Hard Stop (%) | M19: =IF(I3="","",VLOOKUP(MAX(H3:H102),H3:I102,2,FALSE)) -> 30 | N19: =100*M17*M19^N17/Q13 -> 0.0017490254
B20: =B19+1 -> 18 | C20: =IF(Cy!I21="","",Cy!I21) -> 0.18 | D20: =IF(E20="","",E20+D$3-E$3) -> 0.47235923 | E20: =IF(Cy!F21="","",Cy!F21) -> 0.32235923 | F20: 99.33 | G20: 0 | H20: =IF(I20="","",H19+1) -> 18 | I20: 30 | J20: 0.002
B21: =B20+1 -> 19 | C21: =IF(Cy!I22="","",Cy!I22) -> 2.42 | D21: =IF(E21="","",E21+D$3-E$3) -> 0.57086577 | E21: =IF(Cy!F22="","",Cy!F22) -> 0.42086577 | F21: 99.41 | G21: 0 | H21: =IF(I21="","",H20+1) -> 19 | I21: 30 | J21: 0.002
B22: =B21+1 -> 20 | C22: =IF(Cy!I23="","",Cy!I23) -> 2.51 | D22: =IF(E22="","",E22+D$3-E$3) -> 0.73300546 | E22: =IF(Cy!F23="","",Cy!F23) -> 0.58300546 | F22: 99.47 | G22: 0 | H22: =IF(I22="","",H21+1) -> 20 | I22: 30 | J22: 0.002
B23: =B22+1 -> 21 | C23: =IF(Cy!I24="","",Cy!I24) -> 0.34 | D23: =IF(E23="","",E23+D$3-E$3) -> 0.53641747 | E23: =IF(Cy!F24="","",Cy!F24) -> 0.38641747 | F23: 99.6 | G23: 0 | I23: 30 | J23: 0.002
B24: =B23+1 -> 22 | C24: =IF(Cy!I25="","",Cy!I25) | D24: =IF(E24="","",E24+D$3-E$3) | E24: =IF(Cy!F25="","",Cy!F25) | H24: =IF(I24="","",H23+1)
B25: =B24+1 -> 23 | C25: =IF(Cy!I26="","",Cy!I26) | D25: =IF(E25="","",E25+D$3-E$3) | E25: =IF(Cy!F26="","",Cy!F26) | H25: =IF(I25="","",H24+1)
B26: =B25+1 -> 24 | C26: =IF(Cy!I27="","",Cy!I27) | D26: =IF(E26="","",E26+D$3-E$3) | E26: =IF(Cy!F27="","",Cy!F27) | H26: =IF(I26="","",H25+1)
B27: =B26+1 -> 25 | C27: =IF(Cy!I28="","",Cy!I28) | D27: =IF(E27="","",E27+D$3-E$3) | E27: =IF(Cy!F28="","",Cy!F28) | H27: =IF(I27="","",H26+1)
B28: =B27+1 -> 26 | C28: =IF(Cy!I29="","",Cy!I29) | D28: =IF(E28="","",E28+D$3-E$3) | E28: =IF(Cy!F29="","",Cy!F29) | H28: =IF(I28="","",H27+1)
B29: =B28+1 -> 27 | C29: =IF(Cy!I30="","",Cy!I30) | D29: =IF(E29="","",E29+D$3-E$3) | E29: =IF(Cy!F30="","",Cy!F30) | H29: =IF(I29="","",H28+1)
B30: =B29+1 -> 28 | C30: =IF(Cy!I31="","",Cy!I31) | D30: =IF(E30="","",E30+D$3-E$3) | E30: =IF(Cy!F31="","",Cy!F31) | H30: =IF(I30="","",H29+1)
B31: =B30+1 -> 29 | C31: =IF(Cy!I32="","",Cy!I32) | D31: =IF(E31="","",E31+D$3-E$3) | E31: =IF(Cy!F32="","",Cy!F32) | H31: =IF(I31="","",H30+1)
B32: =B31+1 -> 30 | C32: =IF(Cy!I33="","",Cy!I33) | D32: =IF(E32="","",E32+D$3-E$3) | E32: =IF(Cy!F33="","",Cy!F33) | H32: =IF(I32="","",H31+1)
B33: =B32+1 -> 31 | C33: =IF(Cy!I34="","",Cy!I34) | D33: =IF(E33="","",E33+D$3-E$3) | E33: =IF(Cy!F34="","",Cy!F34) | H33: =IF(I33="","",H32+1)
B34: =B33+1 -> 32 | C34: =IF(Cy!I35="","",Cy!I35) | D34: =IF(E34="","",E34+D$3-E$3) | E34: =IF(Cy!F35="","",Cy!F35) | H34: =IF(I34="","",H33+1)
B35: =B34+1 -> 33 | C35: =IF(Cy!I36="","",Cy!I36) | D35: =IF(E35="","",E35+D$3-E$3) | E35: =IF(Cy!F36="","",Cy!F36) | H35: =IF(I35="","",H34+1)
... B102: =B101+1 -> 100 | C102: =IF(Cy!I103="","",Cy!I103) | D102: =IF(E102="","",E102+D$3-E$3) | E102: =IF(Cy!F103="","",Cy!F103) | H102: =IF(I102="","",H101+1)

Sheet Risk
B2: Quadro Resumo (CLog) | N2: Por operação
B3: Saldo Inicial | C3: =CLog!$X$4 -> 33112.58 | N3: %CAR | O3: Ganho | P3: Perda | Q3: %Payoff
B4: $Ac | C4: =CLog!X5 -> 929.97 | N4: 1 | O4: =IF(L$27="","",1+L$27*N4/100) -> 1.05 | P4: =IF(O4="","",1-N4/100) -> 0.99 | Q4: =IF(O4="","",100*(O4^(L$28/100)*P4^((100-L$28)/100)-1)) -> 2.5575547
B5: Saldo Atual | C5: =CLog!X6 -> 34042.55 | N5: =N4+1 -> 2 | O5: =IF(L$27="","",1+L$27*N5/100) -> 1.1 | P5: =IF(O5="","",1-N5/100) -> 0.98 | Q5: =IF(O5="","",100*(O5^(L$28/100)*P5^((100-L$28)/100)-1)) -> 5.0330656
B6: =CLog!W13 -> Ganhos | C6: =CLog!X13 -> 17 | N6: =N5+1 -> 3 | O6: =IF(L$27="","",1+L$27*N6/100) -> 1.15 | P6: =IF(O6="","",1-N6/100) -> 0.97 | Q6: =IF(O6="","",100*(O6^(L$28/100)*P6^((100-L$28)/100)-1)) -> 7.4304507
B7: =CLog!W14 -> Perdas | C7: =CLog!X14 -> 4 | N7: =N6+1 -> 4 | O7: =IF(L$27="","",1+L$27*N7/100) -> 1.2 | P7: =IF(O7="","",1-N7/100) -> 0.96 | Q7: =IF(O7="","",100*(O7^(L$28/100)*P7^((100-L$28)/100)-1)) -> 9.7532125
B8: =CLog!W15 -> Operações | C8: =CLog!X15 -> 21 | N8: =N7+1 -> 5 | O8: =IF(L$27="","",1+L$27*N8/100) -> 1.25 | P8: =IF(O8="","",1-N8/100) -> 0.95 | Q8: =IF(O8="","",100*(O8^(L$28/100)*P8^((100-L$28)/100)-1)) -> 12.004494
B9: =CLog!W16 -> WinP | C9: =CLog!X16 -> 0.80952381 | N9: =N8+1 -> 6 | O9: =IF(L$27="","",1+L$27*N9/100) -> 1.3 | P9: =IF(O9="","",1-N9/100) -> 0.94 | Q9: =IF(O9="","",100*(O9^(L$28/100)*P9^((100-L$28)/100)-1)) -> 14.187129
B10: =CLog!W17 -> CAR | C10: =CLog!X17 -> 26.52 | N10: =N9+1 -> 7 | O10: =IF(L$27="","",1+L$27*N10/100) -> 1.35 | P10: =IF(O10="","",1-N10/100) -> 0.93 | Q10: =IF(O10="","",100*(O10^(L$28/100)*P10^((100-L$28)/100)-1)) -> 16.303676
C11: =CLog!X18 -> 0.00080090407 | N11: =N10+1 -> 8 | O11: =IF(L$27="","",1+L$27*N11/100) -> 1.4 | P11: =IF(O11="","",1-N11/100) -> 0.92 | Q11: =IF(O11="","",100*(O11^(L$28/100)*P11^((100-L$28)/100)-1)) -> 18.356456
B12: =CLog!W19 -> FL | C12: =CLog!X19 -> 2.2980437 | N12: =N11+1 -> 9 | O12: =IF(L$27="","",1+L$27*N12/100) -> 1.45 | P12: =IF(O12="","",1-N12/100) -> 0.91 | Q12: =IF(O12="","",100*(O12^(L$28/100)*P12^((100-L$28)/100)-1)) -> 20.347579
B13: Kelly % | C13: =IF(C9="","",IF(C12="","",IF(C9-(1-C9)/C12<0,0,100*(C9-(1-C9)/C12)))) -> 72.663757 | N13: =N12+1 -> 10 | O13: =IF(L$27="","",1+L$27*N13/100) -> 1.5 | P13: =IF(O13="","",1-N13/100) -> 0.9 | Q13: =IF(O13="","",100*(O13^(L$28/100)*P13^((100-L$28)/100)-1)) -> 22.278966
N14: =N13+1 -> 11 | O14: =IF(L$27="","",1+L$27*N14/100) -> 1.55 | P14: =IF(O14="","",1-N14/100) -> 0.89 | Q14: =IF(O14="","",100*(O14^(L$28/100)*P14^((100-L$28)/100)-1)) -> 24.152372
B15: Payoff (% por ciclo) | N15: =N14+1 -> 12 | O15: =IF(L$27="","",1+L$27*N15/100) -> 1.6 | P15: =IF(O15="","",1-N15/100) -> 0.88 | Q15: =IF(O15="","",100*(O15^(L$28/100)*P15^((100-L$28)/100)-1)) -> 25.969399
B16: CLog "ideal" | D16: x | N16: =N15+1 -> 13 | O16: =IF(L$27="","",1+L$27*N16/100) -> 1.65 | P16: =IF(O16="","",1-N16/100) -> 0.87 | Q16: =IF(O16="","",100*(O16^(L$28/100)*P16^((100-L$28)/100)-1)) -> 27.731516
B17: CyHS "ideal" | C17: =IF(C24="","",100*((1+C23/100)^((100-DDCy!$N$18)/100)*(1-C28/100)^(DDCy!$N$18/100)-1)) -> 0.13192787 | D17: x | N17: =N16+1 -> 14 | O17: =IF(L$27="","",1+L$27*N17/100) -> 1.7 | P17: =IF(O17="","",1-N17/100) -> 0.86 | Q17: =IF(O17="","",100*(O17^(L$28/100)*P17^((100-L$28)/100)-1)) -> 29.440068
B18: Com HS atual | C18: =IF(C24="","",100*((1+C23/100)^(C26/100)*(1-C24/100)^((100-C26)/100)-1)) -> 0.13135502 | N18: =N17+1 -> 15 | O18: =IF(L$27="","",1+L$27*N18/100) -> 1.75 | P18: =IF(O18="","",1-N18/100) -> 0.85 | Q18: =IF(O18="","",100*(O18^(L$28/100)*P18^((100-L$28)/100)-1)) -> 31.096289
B19: Hard Stop (%) | C19: 30 | N19: =N18+1 -> 16 | O19: =IF(L$27="","",1+L$27*N19/100) -> 1.8 | P19: =IF(O19="","",1-N19/100) -> 0.84 | Q19: =IF(O19="","",100*(O19^(L$28/100)*P19^((100-L$28)/100)-1)) -> 32.701312
B20: Payoff (%) | C20: =IF(C19="","",100*((1+C23/100)^(C26/100)*(1-C19/100)^((100-C26)/100)-1)) -> 0.13135502 | D20: x | E20: =IF(L26="CLog","Perfil de risco de Clog (não analisa drawdown)",IF(L26="CyHS","Perfil de risco de Cycle HS",IF(L26="Sim","Perfil de risco de operações hipotéticas","Gráfico de perfil de risco"))) -> Perfil de risco de operações hipotéticas | F20: =IF(B26="x",IF(C27="",#REF!,""),IF(C27="x",IF(B26="",#REF!,""),"")) | G20: =IF(#REF!="x",IF(G28="",#REF!,""),IF(G28="x",IF(#REF!="",#REF!,""),"")) -> #REF! | H20: =IF(C26="x",IF(H23="",#REF!,""),IF(H23="x",IF(C26="",#REF!,""),"")) | I20: =IF(#REF!="x",IF(I23="",#REF!,""),IF(I23="x",IF(#REF!="",#REF!,""),"")) -> #REF! | K20: =IF(#REF!="x",IF(K23="",#REF!,""),IF(K23="x",IF(#REF!="",#REF!,""),"")) -> #REF! | L20: =IF(#REF!="x",IF(L23="",#REF!,""),IF(L23="x",IF(#REF!="",#REF!,""),"")) -> #REF! | N20: =N19+1 -> 17 | O20: =IF(L$27="","",1+L$27*N20/100) -> 1.85 | P20: =IF(O20="","",1-N20/100) -> 0.83 | Q20: =IF(O20="","",100*(O20^(L$28/100)*P20^((100-L$28)/100)-1)) -> 34.256176
N21: =N20+1 -> 18 | O21: =IF(L$27="","",1+L$27*N21/100) -> 1.9 | P21: =IF(O21="","",1-N21/100) -> 0.82 | Q21: =IF(O21="","",100*(O21^(L$28/100)*P21^((100-L$28)/100)-1)) -> 35.761836
B22: Cycle HS Risk (CyHS) | N22: =N21+1 -> 19 | O22: =IF(L$27="","",1+L$27*N22/100) -> 1.95 | P22: =IF(O22="","",1-N22/100) -> 0.81 | Q22: =IF(O22="","",100*(O22^(L$28/100)*P22^((100-L$28)/100)-1)) -> 37.219166
B23: Cycle Avg % | C23: =Cy!$Q$2 -> 0.13198198 | E23: Simulações (Sim) | N23: =N22+1 -> 20 | O23: =IF(L$27="","",1+L$27*N23/100) -> 2 | P23: =IF(O23="","",1-N23/100) -> 0.8 | Q23: =IF(O23="","",100*(O23^(L$28/100)*P23^((100-L$28)/100)-1)) -> 38.628969
B24: Hard Stop % | C24: =DDCy!$M$19 -> 30 | E24: Ganho ($ ou %) | F24: 5 | H24: Ideais por ciclo | N24: =N23+1 -> 21 | O24: =IF(L$27="","",1+L$27*N24/100) -> 2.05 | P24: =IF(O24="","",1-N24/100) -> 0.79 | Q24: =IF(O24="","",100*(O24^(L$28/100)*P24^((100-L$28)/100)-1)) -> 39.991979
B25: H Stop Prob % | C25: =DDCy!$N$19 -> 0.0017490254 | E25: Perda ($ ou %) | F25: 1 | H25: Capital em risco | I25: =IF(L27="","",IF(L28="","",IF(L27<0,0,IF(L28/100-(1-L28/100)/L27<0,0,L28/100-(1-L28/100)/L27)))) -> 0.52 | K25: Gráfico | N25: =N24+1 -> 22 | O25: =IF(L$27="","",1+L$27*N25/100) -> 2.1 | P25: =IF(O25="","",1-N25/100) -> 0.78 | Q25: =IF(O25="","",100*(O25^(L$28/100)*P25^((100-L$28)/100)-1)) -> 41.308868
B26: Win % | C26: =IF(C25="","",100-C25) -> 99.998251 | E26: Win % | F26: 60 | I26: =IF(I25="","",IF(C5="",IF(C3="","",C3*I25),C5*I25)) -> 17702.126 | K26: Opção | L26: Sim | N26: =N25+1 -> 23 | O26: =IF(L$27="","",1+L$27*N26/100) -> 2.15 | P26: =IF(O26="","",1-N26/100) -> 0.77 | Q26: =IF(O26="","",100*(O26^(L$28/100)*P26^((100-L$28)/100)-1)) -> 42.580248
B27: FL | C27: =IF(C23="","",IF(C24="","",IF(C26="","",C23/C24))) -> 0.0043993994 | E27: FL | F27: =IF(F24="","",IF(F25="","",IF(F26="","",F24/F25))) -> 5 | H27: Payoff | I27: =IF(L27="","",IF(MAX(Q4:Q103)<0,0,MAX(Q4:Q103)/100)) -> 0.6079702 | K27: FL | L27: =IF(L26="CLog",C12,IF(L26="CyHS",C27,IF(L26="Sim",F27,""))) -> 5 | N27: =N26+1 -> 24 | O27: =IF(L$27="","",1+L$27*N27/100) -> 2.2 | P27: =IF(O27="","",1-N27/100) -> 0.76 | Q27: =IF(O27="","",100*(O27^(L$28/100)*P27^((100-L$28)/100)-1)) -> 43.806675
B28: Kelly % | C28: =IF(C26="","",IF(C27="","",IF(C23<0,0,IF(100*((C26/100)-(1-C26/100)/C27)<0,0,100*((C26/100)-(1-C26/100)/C27))))) -> 99.600691 | E28: Kelly % | F28: =IF(F26="","",IF(F27="","",IF(100*((F26/100)-(1-F26/100)/F27)<0,0,100*((F26/100)-(1-F26/100)/F27)))) -> 52 | I28: =IF(I27="","",IF(C5="",IF(C3="","",C3*I27),C5*I27)) -> 20696.856 | K28: WinP | L28: =IF(L26="CLog",100*C9,IF(L26="CyHS",C26,IF(L26="Sim",F26,""))) -> 60 | N28: =N27+1 -> 25 | O28: =IF(L$27="","",1+L$27*N28/100) -> 2.25 | P28: =IF(O28="","",1-N28/100) -> 0.75 | Q28: =IF(O28="","",100*(O28^(L$28/100)*P28^((100-L$28)/100)-1)) -> 44.988653
N29: =N28+1 -> 26 | O29: =IF(L$27="","",1+L$27*N29/100) -> 2.3 | P29: =IF(O29="","",1-N29/100) -> 0.74 | Q29: =IF(O29="","",100*(O29^(L$28/100)*P29^((100-L$28)/100)-1)) -> 46.126637
