Workbook

Sheet Plan
B3: Plano testado: só curtas
C5: Registrar resultado de cada sessão/ciclo
D6: Lotes proporcionais ao balanço inicial
D7: Alavancagem determinada pelo critério de Kelly
D8: Averaging down
D9: Perda máxima: 30% (hard stop)
D10: Duração da sessão
E11: Preestabelecida
E12: Máxima: 1 a 3 horas (sem interrupção)
D13: Não operar nas duas pontas simultaneamente
B15: Próximo passo
C17: Conta real

Sheet DLog
G2: Saldo | H2: =CLog!$X$6 -> 33112.58 | M2: Ciclos | N2: Saldo | O2: % Lucro acumulado | Q2: Capitalização
G3: Objetivo % | H3: 0.5 | M3: 0 | N3: =IF(R3="","",R3) -> 1000 | O3: =100*(N3-R$3)/R$3 -> 0 | Q3: $ Inicial | R3: 1000
G4: Stop % | H4: 30 | M4: =M3+1 -> 1 | N4: =N3*(1+R$5/100) -> 2754.9 | O4: =100*(N4-R$3)/R$3 -> 175.49 | Q4: % Atual | R4: 0
M5: =M4+1 -> 2 | N5: =N4*(1+R$5/100) -> 7589.474 | O5: =100*(N5-R$3)/R$3 -> 658.9474 | Q5: % por ciclo | R5: 175.49
C6: Resumo do dia | M6: =M5+1 -> 3 | N6: =N5*(1+R$5/100) -> 20908.242 | O6: =100*(N6-R$3)/R$3 -> 1990.8242
C7: Data | E7: $ Inicial | G7: $ Final | H7: Objetivo $ | I7: Lucro $ | J7: Lucro % | K7: Alerta | M7: =M6+1 -> 4 | N7: =N6*(1+R$5/100) -> 57600.116 | O7: =100*(N7-R$3)/R$3 -> 5660.0116
C8: =IF(C12="","",VLOOKUP(MAX(B12:B33),B12:C33,2,FALSE)) -> 42734 | E8: =IF(E12="","",VLOOKUP(MAX(D12:D33),D12:E33,2,FALSE)) -> 31830.78 | G8: =IF(G12="","",IF(VLOOKUP(MAX(F12:F33),F12:G33,2,FALSE)="","",VLOOKUP(MAX(F12:F33),F12:G33,2,FALSE))) -> 33112.58 | H8: =IF(E8="","",IF(H$3="","",E8*(1+H$3/100))) -> 31989.934 | I8: =IF(E8="","",IF(G8="","",G8-E8)) -> 1281.8 | J8: =IF(I8="","",100*I8/E8) -> 4.0269199 | K8: =IF(J8="","",IF(J8<=-H$4,"Stop",IF(J8>=H$3,"Alvo",IF(G8="","Continue","")))) -> Alvo | M8: =M7+1 -> 5 | N8: =N7*(1+R$5/100) -> 158682.56 | O8: =100*(N8-R$3)/R$3 -> 15768.256 | Q8: Conversões
M9: =M8+1 -> 6 | N9: =N8*(1+R$5/100) -> 437154.58 | O9: =100*(N9-R$3)/R$3 -> 43615.458
C10: Ciclos operacionais na semana | M10: =M9+1 -> 7 | N10: =N9*(1+R$5/100) -> 1204317.2 | O10: =100*(N10-R$3)/R$3 -> 120331.72 | Q10: % Dia | R10: 0.27
B11: # | C11: Data | D11: # | E11: $ Inicial | F11: # | G11: $ Final | H11: Objetivo $ | I11: Lucro $ | J11: Lucro % | K11: Alerta | M11: =M10+1 -> 8 | N11: =N10*(1+R$5/100) -> 3317773.3 | O11: =100*(N11-R$3)/R$3 -> 331677.33 | Q11: % Semana | R11: =100*((1+R10/100)^5-1) -> 1.3573097
B12: 0 | C12: 42723 | D12: 0 | E12: =CLog!X4 -> 31019.2 | F12: 0 | G12: 31202.87 | H12: =IF(E12="","",IF(H$3="","",E12*(1+H$3/100))) -> 31174.296 | I12: =IF(E12="","",IF(G12="","",G12-E12)) -> 183.67 | J12: =IF(I12="","",100*I12/E12) -> 0.59211714 | K12: =IF(J12="","",IF(J12<=-H$4,"Stop",IF(J12>=H$3,"Alvo",IF(G12="","Continue","")))) -> Alvo | M12: =M11+1 -> 9 | N12: =N11*(1+R$5/100) -> 9140133.8 | O12: =100*(N12-R$3)/R$3 -> 913913.38 | Q12: % Mês | R12: =100*((1+R10/100)^(30*5/7)-1) -> 5.9481011
B13: =IF(C13="",B12,B12+1) -> 1 | C13: 42724 | D13: =IF(C13="",D12,D12+1) -> 1 | E13: =IF(G12="","",G12) -> 31202.87 | F13: =IF(G13="",IF(C13="","",F12+1),F12+1) -> 1 | G13: 31227.36 | H13: =IF(E13="","",IF(H$3="","",E13*(1+H$3/100))) -> 31358.884 | I13: =IF(E13="","",IF(G13="","",G13-E13)) -> 24.49 | J13: =IF(I13="","",100*I13/E13) -> 0.07848637 | K13: =IF(J13="","",IF(J13<=-H$4,"Stop",IF(J13>=H$3,"Alvo",IF(G13="","Continue","")))) | M13: =M12+1 -> 10 | N13: =N12*(1+R$5/100) -> 25180154 | O13: =100*(N13-R$3)/R$3 -> 2517915.4 | Q13: % Ano | R13: =100*((1+R10/100)^(360*5/7)-1) -> 100.04059
B14: =IF(C14="",B13,B13+1) -> 2 | C14: 42726 | D14: =IF(C14="",D13,D13+1) -> 2 | E14: =IF(G13="","",G13) -> 31227.36 | F14: =IF(G14="",IF(C14="","",F13+1),F13+1) -> 2 | G14: 31533.96 | H14: =IF(E14="","",IF(H$3="","",E14*(1+H$3/100))) -> 31383.497 | I14: =IF(E14="","",IF(G14="","",G14-E14)) -> 306.6 | J14: =IF(I14="","",100*I14/E14) -> 0.98183132 | K14: =IF(J14="","",IF(J14<=-H$4,"Stop",IF(J14>=H$3,"Alvo",IF(G14="","Continue","")))) -> Alvo | M14: =M13+1 -> 11 | N14: =N13*(1+R$5/100) -> 69368808 | O14: =100*(N14-R$3)/R$3 -> 6936780.8
B15: =IF(C15="",B14,B14+1) -> 3 | C15: 42727 | D15: =IF(C15="",D14,D14+1) -> 3 | E15: =IF(G14="","",G14) -> 31533.96 | F15: =IF(G15="",IF(C15="","",F14+1),F14+1) -> 3 | G15: 31637.31 | H15: =IF(E15="","",IF(H$3="","",E15*(1+H$3/100))) -> 31691.63 | I15: =IF(E15="","",IF(G15="","",G15-E15)) -> 103.35 | J15: =IF(I15="","",100*I15/E15) -> 0.3277419 | K15: =IF(J15="","",IF(J15<=-H$4,"Stop",IF(J15>=H$3,"Alvo",IF(G15="","Continue","")))) | M15: =M14+1 -> 12 | N15: =N14*(1+R$5/100) -> 1.9110413e+08 | O15: =100*(N15-R$3)/R$3 -> 19110313 | Q15: % Semana | R15: 1.99
B16: =IF(C16="",B15,B15+1) -> 4 | C16: 42731 | D16: =IF(C16="",D15,D15+1) -> 4 | E16: =IF(G15="","",G15) -> 31637.31 | F16: =IF(G16="",IF(C16="","",F15+1),F15+1) -> 4 | G16: 31682.86 | H16: =IF(E16="","",IF(H$3="","",E16*(1+H$3/100))) -> 31795.497 | I16: =IF(E16="","",IF(G16="","",G16-E16)) -> 45.55 | J16: =IF(I16="","",100*I16/E16) -> 0.14397558 | K16: =IF(J16="","",IF(J16<=-H$4,"Stop",IF(J16>=H$3,"Alvo",IF(G16="","Continue","")))) | M16: =M15+1 -> 13 | N16: =N15*(1+R$5/100) -> 5.2647276e+08 | O16: =100*(N16-R$3)/R$3 -> 52647176 | Q16: % Mês | R16: =100*((1+R15/100)^(30/7)-1) -> 8.8116494
B17: =IF(C17="",B16,B16+1) -> 5 | C17: 42732 | D17: =IF(C17="",D16,D16+1) -> 5 | E17: =IF(G16="","",G16) -> 31682.86 | F17: =IF(G17="",IF(C17="","",F16+1),F16+1) -> 5 | G17: 31730.22 | H17: =IF(E17="","",IF(H$3="","",E17*(1+H$3/100))) -> 31841.274 | I17: =IF(E17="","",IF(G17="","",G17-E17)) -> 47.36 | J17: =IF(I17="","",100*I17/E17) -> 0.14948145 | K17: =IF(J17="","",IF(J17<=-H$4,"Stop",IF(J17>=H$3,"Alvo",IF(G17="","Continue","")))) | M17: =M16+1 -> 14 | N17: =N16*(1+R$5/100) -> 1.4503798e+09 | O17: =100*(N17-R$3)/R$3 -> 1.4503788e+08 | Q17: % Ano | R17: =100*((1+R15/100)^(360/7)-1) -> 175.48929
B18: =IF(C18="",B17,B17+1) -> 6 | C18: 42733 | D18: =IF(C18="",D17,D17+1) -> 6 | E18: =IF(G17="","",G17) -> 31730.22 | F18: =IF(G18="",IF(C18="","",F17+1),F17+1) -> 6 | G18: 31830.78 | H18: =IF(E18="","",IF(H$3="","",E18*(1+H$3/100))) -> 31888.871 | I18: =IF(E18="","",IF(G18="","",G18-E18)) -> 100.56 | J18: =IF(I18="","",100*I18/E18) -> 0.31692185 | K18: =IF(J18="","",IF(J18<=-H$4,"Stop",IF(J18>=H$3,"Alvo",IF(G18="","Continue","")))) | M18: =M17+1 -> 15 | N18: =N17*(1+R$5/100) -> 3.9956513e+09 | O18: =100*(N18-R$3)/R$3 -> 3.9956503e+08
B19: =IF(C19="",B18,B18+1) -> 7 | C19: 42734 | D19: =IF(C19="",D18,D18+1) -> 7 | E19: =IF(G18="","",G18) -> 31830.78 | F19: =IF(G19="",IF(C19="","",F18+1),F18+1) -> 7 | G19: 31883.9 | H19: =IF(E19="","",IF(H$3="","",E19*(1+H$3/100))) -> 31989.934 | I19: =IF(E19="","",IF(G19="","",G19-E19)) -> 53.12 | J19: =IF(I19="","",100*I19/E19) -> 0.1668825 | K19: =IF(J19="","",IF(J19<=-H$4,"Stop",IF(J19>=H$3,"Alvo",IF(G19="","Continue","")))) | M19: =M18+1 -> 16 | N19: =N18*(1+R$5/100) -> 1.100762e+10 | O19: =100*(N19-R$3)/R$3 -> 1.1007619e+09 | Q19: % Mês | R19: 20
B20: =IF(C20="",B19,B19+1) -> 7 | D20: =IF(C20="",D19,D19+1) -> 7 | E20: =IF(G19="","",G19) -> 31883.9 | F20: =IF(G20="",IF(C20="","",F19+1),F19+1) -> 8 | G20: 31927.74 | H20: =IF(E20="","",IF(H$3="","",E20*(1+H$3/100))) -> 32043.319 | I20: =IF(E20="","",IF(G20="","",G20-E20)) -> 43.84 | J20: =IF(I20="","",100*I20/E20) -> 0.13749886 | K20: =IF(J20="","",IF(J20<=-H$4,"Stop",IF(J20>=H$3,"Alvo",IF(G20="","Continue","")))) | M20: =M19+1 -> 17 | N20: =N19*(1+R$5/100) -> 3.0324892e+10 | O20: =100*(N20-R$3)/R$3 -> 3.0324891e+09 | Q20: % Ano | R20: =100*((1+R19/100)^12-1) -> 791.61004
B21: =IF(C21="",B20,B20+1) -> 7 | D21: =IF(C21="",D20,D20+1) -> 7 | E21: =IF(G20="","",G20) -> 31927.74 | F21: =IF(G21="",IF(C21="","",F20+1),F20+1) -> 9 | G21: 31974.46 | H21: =IF(E21="","",IF(H$3="","",E21*(1+H$3/100))) -> 32087.379 | I21: =IF(E21="","",IF(G21="","",G21-E21)) -> 46.72 | J21: =IF(I21="","",100*I21/E21) -> 0.14633043 | K21: =IF(J21="","",IF(J21<=-H$4,"Stop",IF(J21>=H$3,"Alvo",IF(G21="","Continue","")))) | M21: =M20+1 -> 18 | N21: =N20*(1+R$5/100) -> 8.3542045e+10 | O21: =100*(N21-R$3)/R$3 -> 8.3542044e+09
B22: =IF(C22="",B21,B21+1) -> 7 | D22: =IF(C22="",D21,D21+1) -> 7 | E22: =IF(G21="","",G21) -> 31974.46 | F22: =IF(G22="",IF(C22="","",F21+1),F21+1) -> 10 | G22: 31994.94 | H22: =IF(E22="","",IF(H$3="","",E22*(1+H$3/100))) -> 32134.332 | I22: =IF(E22="","",IF(G22="","",G22-E22)) -> 20.48 | J22: =IF(I22="","",100*I22/E22) -> 0.064051121 | K22: =IF(J22="","",IF(J22<=-H$4,"Stop",IF(J22>=H$3,"Alvo",IF(G22="","Continue","")))) | M22: =M21+1 -> 19 | N22: =N21*(1+R$5/100) -> 2.3014998e+11 | O22: =100*(N22-R$3)/R$3 -> 2.3014998e+10
B23: =IF(C23="",B22,B22+1) -> 7 | D23: =IF(C23="",D22,D22+1) -> 7 | E23: =IF(G22="","",G22) -> 31994.94 | F23: =IF(G23="",IF(C23="","",F22+1),F22+1) -> 11 | G23: 33112.58 | H23: =IF(E23="","",IF(H$3="","",E23*(1+H$3/100))) -> 32154.915 | I23: =IF(E23="","",IF(G23="","",G23-E23)) -> 1117.64 | J23: =IF(I23="","",100*I23/E23) -> 3.4931774 | K23: =IF(J23="","",IF(J23<=-H$4,"Stop",IF(J23>=H$3,"Alvo",IF(G23="","Continue","")))) -> Alvo | M23: =M22+1 -> 20 | N23: =N22*(1+R$5/100) -> 6.3404018e+11 | O23: =100*(N23-R$3)/R$3 -> 6.3404018e+10 | Q23: % Ano | R23: 100
B24: =IF(C24="",B23,B23+1) -> 7 | D24: =IF(C24="",D23,D23+1) -> 7 | E24: =IF(G23="","",G23) -> 33112.58 | F24: =IF(G24="",IF(C24="","",F23+1),F23+1) | H24: =IF(E24="","",IF(H$3="","",E24*(1+H$3/100))) -> 33278.143 | I24: =IF(E24="","",IF(G24="","",G24-E24)) | J24: =IF(I24="","",100*I24/E24) | K24: =IF(J24="","",IF(J24<=-H$4,"Stop",IF(J24>=H$3,"Alvo",IF(G24="","Continue","")))) | M24: =M23+1 -> 21 | N24: =N23*(1+R$5/100) -> 1.7467173e+12 | O24: =100*(N24-R$3)/R$3 -> 1.7467173e+11 | Q24: % Mês | R24: =100*((1+R23/100)^(1/12)-1) -> 5.9463094
B25: =IF(C25="",B24,B24+1) -> 7 | D25: =IF(C25="",D24,D24+1) -> 7 | E25: =IF(G24="","",G24) | F25: =IF(G25="",IF(C25="","",F24+1),F24+1) | H25: =IF(E25="","",IF(H$3="","",E25*(1+H$3/100))) | I25: =IF(E25="","",IF(G25="","",G25-E25)) | J25: =IF(I25="","",100*I25/E25) | K25: =IF(J25="","",IF(J25<=-H$4,"Stop",IF(J25>=H$3,"Alvo",IF(G25="","Continue","")))) | M25: =M24+1 -> 22 | N25: =N24*(1+R$5/100) -> 4.8120315e+12 | O25: =100*(N25-R$3)/R$3 -> 4.8120315e+11 | Q25: % Semana | R25: =100*((1+R23/100)^(7/360)-1) -> 1.3569098
B26: =IF(C26="",B25,B25+1) -> 7 | D26: =IF(C26="",D25,D25+1) -> 7 | E26: =IF(G25="","",G25) | F26: =IF(G26="",IF(C26="","",F25+1),F25+1) | H26: =IF(E26="","",IF(H$3="","",E26*(1+H$3/100))) | I26: =IF(E26="","",IF(G26="","",G26-E26)) | J26: =IF(I26="","",100*I26/E26) | K26: =IF(J26="","",IF(J26<=-H$4,"Stop",IF(J26>=H$3,"Alvo",IF(G26="","Continue","")))) | M26: =M25+1 -> 23 | N26: =N25*(1+R$5/100) -> 1.3256665e+13 | O26: =100*(N26-R$3)/R$3 -> 1.3256665e+12 | Q26: % Dia | R26: =100*((1+R23/100)^(7/360/5)-1) -> 0.26992087
B27: =IF(C27="",B26,B26+1) -> 7 | D27: =IF(C27="",D26,D26+1) -> 7 | E27: =IF(G26="","",G26) | F27: =IF(G27="",IF(C27="","",F26+1),F26+1) | H27: =IF(E27="","",IF(H$3="","",E27*(1+H$3/100))) | I27: =IF(E27="","",IF(G27="","",G27-E27)) | J27: =IF(I27="","",100*I27/E27) | K27: =IF(J27="","",IF(J27<=-H$4,"Stop",IF(J27>=H$3,"Alvo",IF(G27="","Continue","")))) | M27: =M26+1 -> 24 | N27: =N26*(1+R$5/100) -> 3.6520788e+13 | O27: =100*(N27-R$3)/R$3 -> 3.6520788e+12
B28: =IF(C28="",B27,B27+1) -> 7 | D28: =IF(C28="",D27,D27+1) -> 7 | E28: =IF(G27="","",G27) | F28: =IF(G28="",IF(C28="","",F27+1),F27+1) | H28: =IF(E28="","",IF(H$3="","",E28*(1+H$3/100))) | I28: =IF(E28="","",IF(G28="","",G28-E28)) | J28: =IF(I28="","",100*I28/E28) | K28: =IF(J28="","",IF(J28<=-H$4,"Stop",IF(J28>=H$3,"Alvo",IF(G28="","Continue","")))) | M28: =M27+1 -> 25 | N28: =N27*(1+R$5/100) -> 1.0061112e+14 | O28: =100*(N28-R$3)/R$3 -> 1.0061112e+13 | Q28: % Mês | R28: 20
B29: =IF(C29="",B28,B28+1) -> 7 | D29: =IF(C29="",D28,D28+1) -> 7 | E29: =IF(G28="","",G28) | F29: =IF(G29="",IF(C29="","",F28+1),F28+1) | H29: =IF(E29="","",IF(H$3="","",E29*(1+H$3/100))) | I29: =IF(E29="","",IF(G29="","",G29-E29)) | J29: =IF(I29="","",100*I29/E29) | K29: =IF(J29="","",IF(J29<=-H$4,"Stop",IF(J29>=H$3,"Alvo",IF(G29="","Continue","")))) | M29: =M28+1 -> 26 | N29: =N28*(1+R$5/100) -> 2.7717357e+14 | O29: =100*(N29-R$3)/R$3 -> 2.7717357e+13 | Q29: % Semana | R29: =100*((1+R28/100)^(7/30)-1) -> 4.3459564
B30: =IF(C30="",B29,B29+1) -> 7 | D30: =IF(C30="",D29,D29+1) -> 7 | E30: =IF(G29="","",G29) | F30: =IF(G30="",IF(C30="","",F29+1),F29+1) | H30: =IF(E30="","",IF(H$3="","",E30*(1+H$3/100))) | I30: =IF(E30="","",IF(G30="","",G30-E30)) | J30: =IF(I30="","",100*I30/E30) | K30: =IF(J30="","",IF(J30<=-H$4,"Stop",IF(J30>=H$3,"Alvo",IF(G30="","Continue","")))) | M30: =M29+1 -> 27 | N30: =N29*(1+R$5/100) -> 7.6358547e+14 | O30: =100*(N30-R$3)/R$3 -> 7.6358547e+13 | Q30: % Dia | R30: =100*((1+R28/100)^(7/150)-1) -> 0.85446381
B31: =IF(C31="",B30,B30+1) -> 7 | D31: =IF(C31="",D30,D30+1) -> 7 | E31: =IF(G30="","",G30) | F31: =IF(G31="",IF(C31="","",F30+1),F30+1) | H31: =IF(E31="","",IF(H$3="","",E31*(1+H$3/100))) | I31: =IF(E31="","",IF(G31="","",G31-E31)) | J31: =IF(I31="","",100*I31/E31) | K31: =IF(J31="","",IF(J31<=-H$4,"Stop",IF(J31>=H$3,"Alvo",IF(G31="","Continue","")))) | M31: =M30+1 -> 28 | N31: =N30*(1+R$5/100) -> 2.1036016e+15 | O31: =100*(N31-R$3)/R$3 -> 2.1036016e+14
B32: =IF(C32="",B31,B31+1) -> 7 | D32: =IF(C32="",D31,D31+1) -> 7 | E32: =IF(G31="","",G31) | F32: =IF(G32="",IF(C32="","",F31+1),F31+1) | H32: =IF(E32="","",IF(H$3="","",E32*(1+H$3/100))) | I32: =IF(E32="","",IF(G32="","",G32-E32)) | J32: =IF(I32="","",100*I32/E32) | K32: =IF(J32="","",IF(J32<=-H$4,"Stop",IF(J32>=H$3,"Alvo",IF(G32="","Continue","")))) | M32: =M31+1 -> 29 | N32: =N31*(1+R$5/100) -> 5.7952121e+15 | O32: =100*(N32-R$3)/R$3 -> 5.7952121e+14 | Q32: % Semana | R32: 5
B33: =IF(C33="",B32,B32+1) -> 7 | D33: =IF(C33="",D32,D32+1) -> 7 | E33: =IF(G32="","",G32) | F33: =IF(G33="",IF(C33="","",F32+1),F32+1) | M33: =M32+1 -> 30 | N33: =N32*(1+R$5/100) -> 1.596523e+16 | O33: =100*(N33-R$3)/R$3 -> 1.596523e+15 | Q33: % Dia | R33: =100*((1+R32/100)^(1/5)-1) -> 0.98057977

Sheet Open
F2: Spread | G2: =10000*(E6-E7) -> 2.5 | H2: Equity | I2: =SUM(E5:H5) -> 33123.14 | K2: Position | L2: Rescue calculator | Q2: Max % DD
B3: Balance | E3: Starting balance | G3: $ Profit | K3: =IF(I10="","",MATCH(VLOOKUP(MAX(J10:J27),J10:K27,2,FALSE),K10:K27,0)) -> 1 | L3: TP factor | M3: $ Profit | N3: % | O3: Exit 1 | P3: Exit 2 | Q3: =IF(Q6<>"",Q6,IF(Q4<>"",Q4,IF(I6<-Q3,-I6,Q3))) -> 0.026908202
G4: Closed | H4: Floating | I4: Total | K4: Last Open | L4: 1 | M4: =IF(L4="","",IF(Q10="","",IF(D28=0,"",L4*Q10))) -> 26.4 | N4: =IF(M4="","",IF(E5="","",100*M4/E5)) -> 0.079728007 | O4: =IF(L4="","",IF(L10="","",IF(D28="","",IF(D28=0,"",IF(M4="","",L10+(M4-G5-H5)/Q19/D28))))) -> 1.04921 | P4: =IF(D28="","",IF(D10=D28,"",(M4-G5-H5-D28*Q19*(K7-L10))/(D28-K5)/Q19+K7))
B5: =E5+G5 -> 33112.58 | E5: =DLog!$H$2 -> 33112.58 | G5: =SUM(M10:M27) -> 0 | H5: =SUM(N10:N27) -> 10.56 | I5: =G5+H5 -> 10.56 | K5: =IF(I10="","",INDEX(B10:B27,K3)) -> 0.33 | L5: =IF(M5="","",IF(Q10="","",M5/Q10)) | M5: =IF(O5="","",IF(L10="","",IF(D28="","",G5+H5+(O5-L10)*Q19*D28))) | N5: =IF(M5="","",100*M5/E5) | P5: Extreme | Q5: Reset DD
B6: Ask | E6: =[1]!EURUSD/100000 -> 1.04898 | G6: =100*G5/E5 -> 0 | H6: =100*H5/E5 -> 0.031891203 | I6: =100*(I2/E5-1) -> 0.031891203 | K6: TP Last | L6: Stop out | M6: =IF(N6="","",-N6*E5/100) -> -9933.774 | N6: 30 | O6: =IF(N6="","",IF(L10="","",IF(D28=0,"",L10-(I2-E5-M6)/Q19/D28))) -> 0.74738655 | Q6: =IF(P6="","",IF(D28="","",IF(D28>0,ABS(100*(D28*Q19*(P6-L10)+I5)/E5),ABS(100*(D28*Q19*(P6-L10+0.00015)+I5)/E5))))
B7: Bid | E7: =[2]!EURUSD/100000 -> 1.04873 | G7: % Profit | K7: =IF(I10="","",INDEX(F10:F27,K3)) -> 1.04921 | L7: Kelly | M7: =IF(N7="","",-N7*E5/100) -> 0 | N7: =Risk!$F$28 -> 0 | O7: =IF(N7="","",IF(L10="","",IF(N7=0,"",IF(D28=0,"",L10-(I2-E5-M7)/Q19/D28)))) | P7: Kelly Alert (%) | Q7: =IF(N7="","",IF(N7=0,"Kelly = 0",IF(Q3="","",100*Q3/N7))) -> Kelly = 0
B8: Lots (+-) | C8: # | D8: Open Lots | E8: Entry Price | F8: Take Profit | G8: $ Profit Target | H8: Swap | I8: Status (p/o/c) | J8: # | K8: # | L8: Price | M8: Closed Profit $ | N8: Floating Profit $ | O8: % Profit | P8: Scout Default
P9: Take profit | Q9: $ Target
B10: 0.33 | C10: =IF(D10="","",1) -> 1 | D10: =IF(B10="","",IF(I10="p",D9,IF(I10="o",D9+B10,IF(I10="c",D9,IF(I10="","","Status?"))))) -> 0.33 | E10: 1.04841 | F10: 1.04921 | G10: =IF(B10="","",IF(E10="","",IF(F10="","",B10*Q$19*(F10-E10)))) -> 26.4 | H10: 0 | I10: o | J10: =IF(I10="o",1,"") -> 1 | K10: =IF(I10="o",1,"") -> 1 | L10: =IF(B10="","",IF(I10<>"o","",IF(B10>0,E$7,IF(B10<0,E$6,"Posição?")))) -> 1.04873 | M10: =IF(B10="","",IF(E10="","",IF(F10="","",IF(H10="","",IF(I10="c",B10*Q$19*(F10-E10)+H10,""))))) | N10: =IF(B10="","",IF(E10="","",IF(H10="","",IF(I10="o",B10*Q$19*(L10-E10)+H10,"")))) -> 10.56 | O10: =IF(B10="","",IF(E10="","",IF(H10="","",IF(I10="p",100*G10/E$5,IF(I10="o",100*N10/E$5,IF(I10="c",100*M10/E$5,"")))))) -> 0.031891203 | P10: 1.04921 | Q10: =IF(B10="","",IF(E10="","",IF(P10="","",B10*Q$19*(P10-E10)))) -> 26.4
C11: =IF(D11="","",C10+1) | D11: =IF(B11="","",IF(I11="p",D10,IF(I11="o",D10+B11,IF(I11="c",D10,IF(I11="","","Status?"))))) | G11: =IF(B11="","",IF(E11="","",IF(F11="","",B11*Q$19*(F11-E11)))) | J11: =IF(J10="","",IF(I11="","",J10+1)) | K11: =IF(K10="","",IF(I11="","",IF(I11="o",K10+1,K10))) | L11: =IF(B11="","",IF(I11<>"o","",IF(B11>0,E$7,IF(B11<0,E$6,"Posição?")))) | M11: =IF(B11="","",IF(E11="","",IF(F11="","",IF(H11="","",IF(I11="c",B11*Q$19*(F11-E11)+H11,""))))) | N11: =IF(B11="","",IF(E11="","",IF(H11="","",IF(I11="o",B11*Q$19*(L11-E11)+H11,"")))) | O11: =IF(B11="","",IF(E11="","",IF(H11="","",IF(I11="p",100*G11/E$5,IF(I11="o",100*N11/E$5,IF(I11="c",100*M11/E$5,"")))))) | P11: Current $ | Q11: =IF(G10="","",SUM(G10:H27)) -> 26.4
C12: =IF(D12="","",C11+1) | D12: =IF(B12="","",IF(I12="p",D11,IF(I12="o",D11+B12,IF(I12="c",D11,IF(I12="","","Status?"))))) | G12: =IF(B12="","",IF(E12="","",IF(F12="","",B12*Q$19*(F12-E12)))) | J12: =IF(J11="","",IF(I12="","",J11+1)) | K12: =IF(K11="","",IF(I12="","",IF(I12="o",K11+1,K11))) | L12: =IF(B12="","",IF(I12<>"o","",IF(B12>0,E$7,IF(B12<0,E$6,"Posição?")))) | M12: =IF(B12="","",IF(E12="","",IF(F12="","",IF(H12="","",IF(I12="c",B12*Q$19*(F12-E12)+H12,""))))) | N12: =IF(B12="","",IF(E12="","",IF(H12="","",IF(I12="o",B12*Q$19*(L12-E12)+H12,"")))) | O12: =IF(B12="","",IF(E12="","",IF(H12="","",IF(I12="p",100*G12/E$5,IF(I12="o",100*N12/E$5,IF(I12="c",100*M12/E$5,"")))))) | P12: % | Q12: =IF(Q11="","",100*Q11/E5) -> 0.079728007
C13: =IF(D13="","",C12+1) | D13: =IF(B13="","",IF(I13="p",D12,IF(I13="o",D12+B13,IF(I13="c",D12,IF(I13="","","Status?"))))) | G13: =IF(B13="","",IF(E13="","",IF(F13="","",B13*Q$19*(F13-E13)))) | J13: =IF(J12="","",IF(I13="","",J12+1)) | K13: =IF(K12="","",IF(I13="","",IF(I13="o",K12+1,K12))) | L13: =IF(B13="","",IF(I13<>"o","",IF(B13>0,E$7,IF(B13<0,E$6,"Posição?")))) | M13: =IF(B13="","",IF(E13="","",IF(F13="","",IF(H13="","",IF(I13="c",B13*Q$19*(F13-E13)+H13,""))))) | N13: =IF(B13="","",IF(E13="","",IF(H13="","",IF(I13="o",B13*Q$19*(L13-E13)+H13,"")))) | O13: =IF(B13="","",IF(E13="","",IF(H13="","",IF(I13="p",100*G13/E$5,IF(I13="o",100*N13/E$5,IF(I13="c",100*M13/E$5,"")))))) | P13: Factor | Q13: =IF(Q11=0,"",IF(Q10="","",Q11/Q10)) -> 1
C14: =IF(D14="","",C13+1) | D14: =IF(B14="","",IF(I14="p",D13,IF(I14="o",D13+B14,IF(I14="c",D13,IF(I14="","","Status?"))))) | G14: =IF(B14="","",IF(E14="","",IF(F14="","",B14*Q$19*(F14-E14)))) | J14: =IF(J13="","",IF(I14="","",J13+1)) | K14: =IF(K13="","",IF(I14="","",IF(I14="o",K13+1,K13))) | L14: =IF(B14="","",IF(I14<>"o","",IF(B14>0,E$7,IF(B14<0,E$6,"Posição?")))) | M14: =IF(B14="","",IF(E14="","",IF(F14="","",IF(H14="","",IF(I14="c",B14*Q$19*(F14-E14)+H14,""))))) | N14: =IF(B14="","",IF(E14="","",IF(H14="","",IF(I14="o",B14*Q$19*(L14-E14)+H14,"")))) | O14: =IF(B14="","",IF(E14="","",IF(H14="","",IF(I14="p",100*G14/E$5,IF(I14="o",100*N14/E$5,IF(I14="c",100*M14/E$5,"")))))) | P14: Lots
C15: =IF(D15="","",C14+1) | D15: =IF(B15="","",IF(I15="p",D14,IF(I15="o",D14+B15,IF(I15="c",D14,IF(I15="","","Status?"))))) | G15: =IF(B15="","",IF(E15="","",IF(F15="","",B15*Q$19*(F15-E15)))) | J15: =IF(J14="","",IF(I15="","",J14+1)) | K15: =IF(K14="","",IF(I15="","",IF(I15="o",K14+1,K14))) | L15: =IF(B15="","",IF(I15<>"o","",IF(B15>0,E$7,IF(B15<0,E$6,"Posição?")))) | M15: =IF(B15="","",IF(E15="","",IF(F15="","",IF(H15="","",IF(I15="c",B15*Q$19*(F15-E15)+H15,""))))) | N15: =IF(B15="","",IF(E15="","",IF(H15="","",IF(I15="o",B15*Q$19*(L15-E15)+H15,"")))) | O15: =IF(B15="","",IF(E15="","",IF(H15="","",IF(I15="p",100*G15/E$5,IF(I15="o",100*N15/E$5,IF(I15="c",100*M15/E$5,"")))))) | P15: Balance | Q15: =E5 -> 33112.58
C16: =IF(D16="","",C15+1) | D16: =IF(B16="","",IF(I16="p",D15,IF(I16="o",D15+B16,IF(I16="c",D15,IF(I16="","","Status?"))))) | G16: =IF(B16="","",IF(E16="","",IF(F16="","",B16*Q$19*(F16-E16)))) | J16: =IF(J15="","",IF(I16="","",J15+1)) | K16: =IF(K15="","",IF(I16="","",IF(I16="o",K15+1,K15))) | L16: =IF(B16="","",IF(I16<>"o","",IF(B16>0,E$7,IF(B16<0,E$6,"Posição?")))) | M16: =IF(B16="","",IF(E16="","",IF(F16="","",IF(H16="","",IF(I16="c",B16*Q$19*(F16-E16)+H16,""))))) | N16: =IF(B16="","",IF(E16="","",IF(H16="","",IF(I16="o",B16*Q$19*(L16-E16)+H16,"")))) | O16: =IF(B16="","",IF(E16="","",IF(H16="","",IF(I16="p",100*G16/E$5,IF(I16="o",100*N16/E$5,IF(I16="c",100*M16/E$5,"")))))) | P16: Base leverage | Q16: 1
C17: =IF(D17="","",C16+1) | D17: =IF(B17="","",IF(I17="p",D16,IF(I17="o",D16+B17,IF(I17="c",D16,IF(I17="","","Status?"))))) | G17: =IF(B17="","",IF(E17="","",IF(F17="","",B17*Q$19*(F17-E17)))) | J17: =IF(J16="","",IF(I17="","",J16+1)) | K17: =IF(K16="","",IF(I17="","",IF(I17="o",K16+1,K16))) | L17: =IF(B17="","",IF(I17<>"o","",IF(B17>0,E$7,IF(B17<0,E$6,"Posição?")))) | M17: =IF(B17="","",IF(E17="","",IF(F17="","",IF(H17="","",IF(I17="c",B17*Q$19*(F17-E17)+H17,""))))) | N17: =IF(B17="","",IF(E17="","",IF(H17="","",IF(I17="o",B17*Q$19*(L17-E17)+H17,"")))) | O17: =IF(B17="","",IF(E17="","",IF(H17="","",IF(I17="p",100*G17/E$5,IF(I17="o",100*N17/E$5,IF(I17="c",100*M17/E$5,"")))))) | P17: Increm (0:100+) | Q17: 0
C18: =IF(D18="","",C17+1) | D18: =IF(B18="","",IF(I18="p",D17,IF(I18="o",D17+B18,IF(I18="c",D17,IF(I18="","","Status?"))))) | G18: =IF(B18="","",IF(E18="","",IF(F18="","",B18*Q$19*(F18-E18)))) | J18: =IF(J17="","",IF(I18="","",J17+1)) | K18: =IF(K17="","",IF(I18="","",IF(I18="o",K17+1,K17))) | L18: =IF(B18="","",IF(I18<>"o","",IF(B18>0,E$7,IF(B18<0,E$6,"Posição?")))) | M18: =IF(B18="","",IF(E18="","",IF(F18="","",IF(H18="","",IF(I18="c",B18*Q$19*(F18-E18)+H18,""))))) | N18: =IF(B18="","",IF(E18="","",IF(H18="","",IF(I18="o",B18*Q$19*(L18-E18)+H18,"")))) | O18: =IF(B18="","",IF(E18="","",IF(H18="","",IF(I18="p",100*G18/E$5,IF(I18="o",100*N18/E$5,IF(I18="c",100*M18/E$5,"")))))) | P18: Start leverage | Q18: =IF(Q16="","",IF(Q17="","",IF(O28="","",Q16*(1+Q17*(O28-1)/100)))) -> 1
C19: =IF(D19="","",C18+1) | D19: =IF(B19="","",IF(I19="p",D18,IF(I19="o",D18+B19,IF(I19="c",D18,IF(I19="","","Status?"))))) | G19: =IF(B19="","",IF(E19="","",IF(F19="","",B19*Q$19*(F19-E19)))) | J19: =IF(J18="","",IF(I19="","",J18+1)) | K19: =IF(K18="","",IF(I19="","",IF(I19="o",K18+1,K18))) | L19: =IF(B19="","",IF(I19<>"o","",IF(B19>0,E$7,IF(B19<0,E$6,"Posição?")))) | M19: =IF(B19="","",IF(E19="","",IF(F19="","",IF(H19="","",IF(I19="c",B19*Q$19*(F19-E19)+H19,""))))) | N19: =IF(B19="","",IF(E19="","",IF(H19="","",IF(I19="o",B19*Q$19*(L19-E19)+H19,"")))) | O19: =IF(B19="","",IF(E19="","",IF(H19="","",IF(I19="p",100*G19/E$5,IF(I19="o",100*N19/E$5,IF(I19="c",100*M19/E$5,"")))))) | P19: Lot size | Q19: 100000
C20: =IF(D20="","",C19+1) | D20: =IF(B20="","",IF(I20="p",D19,IF(I20="o",D19+B20,IF(I20="c",D19,IF(I20="","","Status?"))))) | G20: =IF(B20="","",IF(E20="","",IF(F20="","",B20*Q$19*(F20-E20)))) | J20: =IF(J19="","",IF(I20="","",J19+1)) | K20: =IF(K19="","",IF(I20="","",IF(I20="o",K19+1,K19))) | L20: =IF(B20="","",IF(I20<>"o","",IF(B20>0,E$7,IF(B20<0,E$6,"Posição?")))) | M20: =IF(B20="","",IF(E20="","",IF(F20="","",IF(H20="","",IF(I20="c",B20*Q$19*(F20-E20)+H20,""))))) | N20: =IF(B20="","",IF(E20="","",IF(H20="","",IF(I20="o",B20*Q$19*(L20-E20)+H20,"")))) | O20: =IF(B20="","",IF(E20="","",IF(H20="","",IF(I20="p",100*G20/E$5,IF(I20="o",100*N20/E$5,IF(I20="c",100*M20/E$5,"")))))) | P20: Lots 1 | Q20: =IF(Q15="","",IF(Q18="","",IF(Q19="","",Q15*Q18/Q19))) -> 0.3311258
C21: =IF(D21="","",C20+1) | D21: =IF(B21="","",IF(I21="p",D20,IF(I21="o",D20+B21,IF(I21="c",D20,IF(I21="","","Status?"))))) | G21: =IF(B21="","",IF(E21="","",IF(F21="","",B21*Q$19*(F21-E21)))) | J21: =IF(J20="","",IF(I21="","",J20+1)) | K21: =IF(K20="","",IF(I21="","",IF(I21="o",K20+1,K20))) | L21: =IF(B21="","",IF(I21<>"o","",IF(B21>0,E$7,IF(B21<0,E$6,"Posição?")))) | M21: =IF(B21="","",IF(E21="","",IF(F21="","",IF(H21="","",IF(I21="c",B21*Q$19*(F21-E21)+H21,""))))) | N21: =IF(B21="","",IF(E21="","",IF(H21="","",IF(I21="o",B21*Q$19*(L21-E21)+H21,"")))) | O21: =IF(B21="","",IF(E21="","",IF(H21="","",IF(I21="p",100*G21/E$5,IF(I21="o",100*N21/E$5,IF(I21="c",100*M21/E$5,"")))))) | P21: Lots 2 | Q21: =IF(Q20="","",2*Q20) -> 0.6622516
C22: =IF(D22="","",C21+1) | D22: =IF(B22="","",IF(I22="p",D21,IF(I22="o",D21+B22,IF(I22="c",D21,IF(I22="","","Status?"))))) | G22: =IF(B22="","",IF(E22="","",IF(F22="","",B22*Q$19*(F22-E22)))) | J22: =IF(J21="","",IF(I22="","",J21+1)) | K22: =IF(K21="","",IF(I22="","",IF(I22="o",K21+1,K21))) | L22: =IF(B22="","",IF(I22<>"o","",IF(B22>0,E$7,IF(B22<0,E$6,"Posição?")))) | M22: =IF(B22="","",IF(E22="","",IF(F22="","",IF(H22="","",IF(I22="c",B22*Q$19*(F22-E22)+H22,""))))) | N22: =IF(B22="","",IF(E22="","",IF(H22="","",IF(I22="o",B22*Q$19*(L22-E22)+H22,"")))) | O22: =IF(B22="","",IF(E22="","",IF(H22="","",IF(I22="p",100*G22/E$5,IF(I22="o",100*N22/E$5,IF(I22="c",100*M22/E$5,"")))))) | P22: Lots 3 | Q22: =IF(Q21="","",2*Q21) -> 1.3245032
C23: =IF(D23="","",C22+1) | D23: =IF(B23="","",IF(I23="p",D22,IF(I23="o",D22+B23,IF(I23="c",D22,IF(I23="","","Status?"))))) | G23: =IF(B23="","",IF(E23="","",IF(F23="","",B23*Q$19*(F23-E23)))) | J23: =IF(J22="","",IF(I23="","",J22+1)) | K23: =IF(K22="","",IF(I23="","",IF(I23="o",K22+1,K22))) | L23: =IF(B23="","",IF(I23<>"o","",IF(B23>0,E$7,IF(B23<0,E$6,"Posição?")))) | M23: =IF(B23="","",IF(E23="","",IF(F23="","",IF(H23="","",IF(I23="c",B23*Q$19*(F23-E23)+H23,""))))) | N23: =IF(B23="","",IF(E23="","",IF(H23="","",IF(I23="o",B23*Q$19*(L23-E23)+H23,"")))) | O23: =IF(B23="","",IF(E23="","",IF(H23="","",IF(I23="p",100*G23/E$5,IF(I23="o",100*N23/E$5,IF(I23="c",100*M23/E$5,"")))))) | P23: Lots 4 | Q23: =IF(Q22="","",2*Q22) -> 2.6490064
C24: =IF(D24="","",C23+1) | D24: =IF(B24="","",IF(I24="p",D23,IF(I24="o",D23+B24,IF(I24="c",D23,IF(I24="","","Status?"))))) | G24: =IF(B24="","",IF(E24="","",IF(F24="","",B24*Q$19*(F24-E24)))) | J24: =IF(J23="","",IF(I24="","",J23+1)) | K24: =IF(K23="","",IF(I24="","",IF(I24="o",K23+1,K23))) | L24: =IF(B24="","",IF(I24<>"o","",IF(B24>0,E$7,IF(B24<0,E$6,"Posição?")))) | M24: =IF(B24="","",IF(E24="","",IF(F24="","",IF(H24="","",IF(I24="c",B24*Q$19*(F24-E24)+H24,""))))) | N24: =IF(B24="","",IF(E24="","",IF(H24="","",IF(I24="o",B24*Q$19*(L24-E24)+H24,"")))) | O24: =IF(B24="","",IF(E24="","",IF(H24="","",IF(I24="p",100*G24/E$5,IF(I24="o",100*N24/E$5,IF(I24="c",100*M24/E$5,"")))))) | P24: Lots 5 | Q24: =IF(Q23="","",2*Q23) -> 5.2980128
C25: =IF(D25="","",C24+1) | D25: =IF(B25="","",IF(I25="p",D24,IF(I25="o",D24+B25,IF(I25="c",D24,IF(I25="","","Status?"))))) | G25: =IF(B25="","",IF(E25="","",IF(F25="","",B25*Q$19*(F25-E25)))) | J25: =IF(J24="","",IF(I25="","",J24+1)) | K25: =IF(K24="","",IF(I25="","",IF(I25="o",K24+1,K24))) | L25: =IF(B25="","",IF(I25<>"o","",IF(B25>0,E$7,IF(B25<0,E$6,"Posição?")))) | M25: =IF(B25="","",IF(E25="","",IF(F25="","",IF(H25="","",IF(I25="c",B25*Q$19*(F25-E25)+H25,""))))) | N25: =IF(B25="","",IF(E25="","",IF(H25="","",IF(I25="o",B25*Q$19*(L25-E25)+H25,"")))) | O25: =IF(B25="","",IF(E25="","",IF(H25="","",IF(I25="p",100*G25/E$5,IF(I25="o",100*N25/E$5,IF(I25="c",100*M25/E$5,"")))))) | P25: Lots 6 | Q25: =IF(Q24="","",2*Q24) -> 10.596026
C26: =IF(D26="","",C25+1) | D26: =IF(B26="","",IF(I26="p",D25,IF(I26="o",D25+B26,IF(I26="c",D25,IF(I26="","","Status?"))))) | G26: =IF(B26="","",IF(E26="","",IF(F26="","",B26*Q$19*(F26-E26)))) | J26: =IF(J25="","",IF(I26="","",J25+1)) | K26: =IF(K25="","",IF(I26="","",IF(I26="o",K25+1,K25))) | L26: =IF(B26="","",IF(I26<>"o","",IF(B26>0,E$7,IF(B26<0,E$6,"Posição?")))) | M26: =IF(B26="","",IF(E26="","",IF(F26="","",IF(H26="","",IF(I26="c",B26*Q$19*(F26-E26)+H26,""))))) | N26: =IF(B26="","",IF(E26="","",IF(H26="","",IF(I26="o",B26*Q$19*(L26-E26)+H26,"")))) | O26: =IF(B26="","",IF(E26="","",IF(H26="","",IF(I26="p",100*G26/E$5,IF(I26="o",100*N26/E$5,IF(I26="c",100*M26/E$5,"")))))) | P26: Lots 7 | Q26: =IF(Q25="","",2*Q25) -> 21.192051
C27: =IF(D27="","",C26+1) | D27: =IF(B27="","",IF(I27="p",D26,IF(I27="o",D26+B27,IF(I27="c",D26,IF(I27="","","Status?"))))) | G27: =IF(B27="","",IF(E27="","",IF(F27="","",B27*Q$19*(F27-E27)))) | J27: =IF(J26="","",IF(I27="","",J26+1)) | K27: =IF(K26="","",IF(I27="","",IF(I27="o",K26+1,K26))) | L27: =IF(B27="","",IF(I27<>"o","",IF(B27>0,E$7,IF(B27<0,E$6,"Posição?")))) | M27: =IF(B27="","",IF(E27="","",IF(F27="","",IF(H27="","",IF(I27="c",B27*Q$19*(F27-E27)+H27,""))))) | N27: =IF(B27="","",IF(E27="","",IF(H27="","",IF(I27="o",B27*Q$19*(L27-E27)+H27,"")))) | O27: =IF(B27="","",IF(E27="","",IF(H27="","",IF(I27="p",100*G27/E$5,IF(I27="o",100*N27/E$5,IF(I27="c",100*M27/E$5,"")))))) | P27: Lots 8 | Q27: =IF(Q26="","",2*Q26) -> 42.384102
B28: Total | D28: =IF(D10="","",VLOOKUP(MAX(C10:C27),C10:D27,2,FALSE)) -> 0.33 | E28: Used Leverage | G28: =IF(Q19="","",IF(D28="","",IF(E5="","",ABS(Q19*D28/E5)))) -> 0.99660008 | I28: Max % DD | L28: 25.61 | M28: K % DD | N28: =Risk!$F$28 -> 0 | O28: =IF(L28="",1,IF(N28="",1,IF(N28=0,1,N28/L28))) -> 1 | P28: Kelly DD Factor

Sheet Cy
B2: # | C2: Balanço | D2: % Bal | E2: # | F2: % Bal Méd | G2: % DD | I2: % Bal Méd
B3: 0 | C3: 31019.2 | E3: 0 | I3: =IF(F4="","",VLOOKUP(MAX(E4:E103),E4:F103,2,FALSE)) -> 0.46756758
B4: =B3+1 -> 1 | C4: 31090.03 | D4: =IF(C4="","",100*(C4-C3)/C3) -> 0.22834245 | E4: =IF(C4="","",E3+1) -> 1 | F4: =IF(D4="","",100*(((C4-C$3)/C$3+1)^(1/E4)-1)) -> 0.22834245 | G4: 0.57
B5: =B4+1 -> 2 | C5: 31152.03 | D5: =IF(C5="","",100*(C5-C4)/C4) -> 0.19942084 | E5: =IF(C5="","",E4+1) -> 2 | F5: =IF(D5="","",100*(((C5-C$3)/C$3+1)^(1/E5)-1)) -> 0.2138806 | G5: 0.22 | K5: Há ganho consistente?
B6: =B5+1 -> 3 | C6: 31202.87 | D6: =IF(C6="","",100*(C6-C5)/C5) -> 0.16319964 | E6: =IF(C6="","",E5+1) -> 3 | F6: =IF(D6="","",100*(((C6-C$3)/C$3+1)^(1/E6)-1)) -> 0.1969841 | G6: 0.69
B7: =B6+1 -> 4 | C7: 31227.36 | D7: =IF(C7="","",100*(C7-C6)/C6) -> 0.07848637 | E7: =IF(C7="","",E6+1) -> 4 | F7: =IF(D7="","",100*(((C7-C$3)/C$3+1)^(1/E7)-1)) -> 0.16734652 | G7: 0.11 | K7: Wilcoxon (C3:C16) | M7: =_xlfn.T.TEST(C3:C9,C10:C16,2,3) -> 0.00019082833 | N7: =1-M7 -> 0.99980917
B8: =B7+1 -> 5 | C8: 31533.96 | D8: =IF(C8="","",100*(C8-C7)/C7) -> 0.98183132 | E8: =IF(C8="","",E7+1) -> 5 | F8: =IF(D8="","",100*(((C8-C$3)/C$3+1)^(1/E8)-1)) -> 0.32971623 | G8: 20.45
B9: =B8+1 -> 6 | C9: 31637.31 | D9: =IF(C9="","",100*(C9-C8)/C8) -> 0.3277419 | E9: =IF(C9="","",E8+1) -> 6 | F9: =IF(D9="","",100*(((C9-C$3)/C$3+1)^(1/E9)-1)) -> 0.32938717 | G9: 1.61 | K9: O desempenho está melhorando?
B10: =B9+1 -> 7 | C10: 31682.86 | D10: =IF(C10="","",100*(C10-C9)/C9) -> 0.14397558 | E10: =IF(C10="","",E9+1) -> 7 | F10: =IF(D10="","",100*(((C10-C$3)/C$3+1)^(1/E10)-1)) -> 0.3028788 | G10: 0.14
B11: =B10+1 -> 8 | C11: 31730.22 | D11: =IF(C11="","",100*(C11-C10)/C10) -> 0.14948145 | E11: =IF(C11="","",E10+1) -> 8 | F11: =IF(D11="","",100*(((C11-C$3)/C$3+1)^(1/E11)-1)) -> 0.28369129 | G11: 0.06 | K11: Wilcoxon (D4:D17) | M11: =_xlfn.T.TEST(D4:D10,D11:D17,2,3) -> 0.51648729 | N11: =1-M11 -> 0.48351271
B12: =B11+1 -> 9 | C12: 31830.78 | D12: =IF(C12="","",100*(C12-C11)/C11) -> 0.31692185 | E12: =IF(C12="","",E11+1) -> 9 | F12: =IF(D12="","",100*(((C12-C$3)/C$3+1)^(1/E12)-1)) -> 0.28738303 | G12: 0.27
B13: =B12+1 -> 10 | C13: 31883.9 | D13: =IF(C13="","",100*(C13-C12)/C12) -> 0.1668825 | E13: =IF(C13="","",E12+1) -> 10 | F13: =IF(D13="","",100*(((C13-C$3)/C$3+1)^(1/E13)-1)) -> 0.27532645 | G13: 0.09
B14: =B13+1 -> 11 | C14: 31927.74 | D14: =IF(C14="","",100*(C14-C13)/C13) -> 0.13749886 | E14: =IF(C14="","",E13+1) -> 11 | F14: =IF(D14="","",100*(((C14-C$3)/C$3+1)^(1/E14)-1)) -> 0.26278884 | G14: 0.06
B15: =B14+1 -> 12 | C15: 31974.46 | D15: =IF(C15="","",100*(C15-C14)/C14) -> 0.14633043 | E15: =IF(C15="","",E14+1) -> 12 | F15: =IF(D15="","",100*(((C15-C$3)/C$3+1)^(1/E15)-1)) -> 0.2530788 | G15: 0.15
B16: =B15+1 -> 13 | C16: 31994.94 | D16: =IF(C16="","",100*(C16-C15)/C15) -> 0.064051121 | E16: =IF(C16="","",E15+1) -> 13 | F16: =IF(D16="","",100*(((C16-C$3)/C$3+1)^(1/E16)-1)) -> 0.23852554 | G16: 0.04
B17: =B16+1 -> 14 | C17: 33112.58 | D17: =IF(C17="","",100*(C17-C16)/C16) -> 3.4931774 | E17: =IF(C17="","",E16+1) -> 14 | F17: =IF(D17="","",100*(((C17-C$3)/C$3+1)^(1/E17)-1)) -> 0.46756758 | G17: 25.61
B18: =B17+1 -> 15 | D18: =IF(C18="","",100*(C18-C17)/C17) | E18: =IF(C18="","",E17+1) | F18: =IF(D18="","",100*(((C18-C$3)/C$3+1)^(1/E18)-1)) | G18: 0.03
B19: =B18+1 -> 16 | D19: =IF(C19="","",100*(C19-C18)/C18) | E19: =IF(C19="","",E18+1) | F19: =IF(D19="","",100*(((C19-C$3)/C$3+1)^(1/E19)-1))
B20: =B19+1 -> 17 | D20: =IF(C20="","",100*(C20-C19)/C19) | E20: =IF(C20="","",E19+1) | F20: =IF(D20="","",100*(((C20-C$3)/C$3+1)^(1/E20)-1))
B21: =B20+1 -> 18 | D21: =IF(C21="","",100*(C21-C20)/C20) | E21: =IF(C21="","",E20+1) | F21: =IF(D21="","",100*(((C21-C$3)/C$3+1)^(1/E21)-1))
B22: =B21+1 -> 19 | D22: =IF(C22="","",100*(C22-C21)/C21) | E22: =IF(C22="","",E21+1) | F22: =IF(D22="","",100*(((C22-C$3)/C$3+1)^(1/E22)-1))
B23: =B22+1 -> 20 | D23: =IF(C23="","",100*(C23-C22)/C22) | E23: =IF(C23="","",E22+1) | F23: =IF(D23="","",100*(((C23-C$3)/C$3+1)^(1/E23)-1))
B24: =B23+1 -> 21 | D24: =IF(C24="","",100*(C24-C23)/C23) | E24: =IF(C24="","",E23+1) | F24: =IF(D24="","",100*(((C24-C$3)/C$3+1)^(1/E24)-1))
B25: =B24+1 -> 22 | D25: =IF(C25="","",100*(C25-C24)/C24) | E25: =IF(C25="","",E24+1) | F25: =IF(D25="","",100*(((C25-C$3)/C$3+1)^(1/E25)-1))
B26: =B25+1 -> 23 | D26: =IF(C26="","",100*(C26-C25)/C25) | E26: =IF(C26="","",E25+1) | F26: =IF(D26="","",100*(((C26-C$3)/C$3+1)^(1/E26)-1))
B27: =B26+1 -> 24 | D27: =IF(C27="","",100*(C27-C26)/C26) | E27: =IF(C27="","",E26+1) | F27: =IF(D27="","",100*(((C27-C$3)/C$3+1)^(1/E27)-1))
B28: =B27+1 -> 25 | D28: =IF(C28="","",100*(C28-C27)/C27) | E28: =IF(C28="","",E27+1) | F28: =IF(D28="","",100*(((C28-C$3)/C$3+1)^(1/E28)-1))
B29: =B28+1 -> 26 | D29: =IF(C29="","",100*(C29-C28)/C28) | E29: =IF(C29="","",E28+1) | F29: =IF(D29="","",100*(((C29-C$3)/C$3+1)^(1/E29)-1))
B30: =B29+1 -> 27 | D30: =IF(C30="","",100*(C30-C29)/C29) | E30: =IF(C30="","",E29+1) | F30: =IF(D30="","",100*(((C30-C$3)/C$3+1)^(1/E30)-1))
... B103: =B102+1 -> 100 | D103: =IF(C103="","",100*(C103-C102)/C102) | E103: =IF(C103="","",E102+1) | F103: =IF(D103="","",100*(((C103-C$3)/C$3+1)^(1/E103)-1))

Sheet DDCy
B2: # | C2: % DD | D2: % Bal | E2: Kelly % | F2: P(K) | G2: P(Call) | I2: Faixa até % | J2: Freq | K2: Ant | L2: Tot | M2: Prob
B3: 1 | C3: =IF(Cy!G4="","",Cy!G4) -> 0.57 | D3: =IF(Cy!D4="","",Cy!D4) -> 0.22834245 | I3: 10.23 | J3: =FREQUENCY(C$3:C$32,I3) -> 13 | K3: 0 | L3: =J3+K3 -> 13 | M3: =L3/L$13 -> 0.86666667
B4: =B3+1 -> 2 | C4: =IF(Cy!G5="","",Cy!G5) -> 0.22 | D4: =IF(Cy!D5="","",Cy!D5) -> 0.19942084 | I4: =I3+I$3 -> 20.46 | J4: =FREQUENCY(C$3:C$32,I4)-FREQUENCY(C$3:C$32,I3) -> 1 | K4: 0 | L4: =J4+K4 -> 1 | M4: =L4/L$13 -> 0.066666667
B5: =B4+1 -> 3 | C5: =IF(Cy!G6="","",Cy!G6) -> 0.69 | D5: =IF(Cy!D6="","",Cy!D6) -> 0.16319964 | E5: 0 | F5: 100 | G5: 0.422 | I5: =I4+I$3 -> 30.69 | J5: =FREQUENCY(C$3:C$32,I5)-FREQUENCY(C$3:C$32,I4) -> 1 | K5: 0 | L5: =J5+K5 -> 1 | M5: =L5/L$13 -> 0.066666667
B6: =B5+1 -> 4 | C6: =IF(Cy!G7="","",Cy!G7) -> 0.11 | D6: =IF(Cy!D7="","",Cy!D7) -> 0.07848637 | E6: 86.74 | F6: 0.026 | G6: 0.025 | I6: =I5+I$3 -> 40.92 | J6: =FREQUENCY(C$3:C$32,I6)-FREQUENCY(C$3:C$32,I5) -> 0 | K6: 0 | L6: =J6+K6 -> 0
B7: =B6+1 -> 5 | C7: =IF(Cy!G8="","",Cy!G8) -> 20.45 | D7: =IF(Cy!D8="","",Cy!D8) -> 0.98183132 | E7: 0 | F7: 100 | G7: 9.296 | I7: =I6+I$3 -> 51.15 | J7: =FREQUENCY(C$3:C$32,I7)-FREQUENCY(C$3:C$32,I6) -> 0 | K7: 0 | L7: =J7+K7 -> 0
B8: =B7+1 -> 6 | C8: =IF(Cy!G9="","",Cy!G9) -> 1.61 | D8: =IF(Cy!D9="","",Cy!D9) -> 0.3277419 | E8: 0 | F8: 100 | G8: 6.846 | I8: =I7+I$3 -> 61.38 | J8: =FREQUENCY(C$3:C$32,I8)-FREQUENCY(C$3:C$32,I7) -> 0 | K8: 0 | L8: =J8+K8 -> 0
B9: =B8+1 -> 7 | C9: =IF(Cy!G10="","",Cy!G10) -> 0.14 | D9: =IF(Cy!D10="","",Cy!D10) -> 0.14397558 | E9: 0 | F9: 100 | G9: 5.307 | I9: =I8+I$3 -> 71.61 | J9: =FREQUENCY(C$3:C$32,I9)-FREQUENCY(C$3:C$32,I8) -> 0 | K9: 0 | L9: =J9+K9 -> 0
B10: =B9+1 -> 8 | C10: =IF(Cy!G11="","",Cy!G11) -> 0.06 | D10: =IF(Cy!D11="","",Cy!D11) -> 0.14948145 | E10: 0 | F10: 100 | G10: 4.27 | I10: =I9+I$3 -> 81.84 | J10: =FREQUENCY(C$3:C$32,I10)-FREQUENCY(C$3:C$32,I9) -> 0 | K10: 0 | L10: =J10+K10 -> 0
B11: =B10+1 -> 9 | C11: =IF(Cy!G12="","",Cy!G12) -> 0.27 | D11: =IF(Cy!D12="","",Cy!D12) -> 0.31692185 | E11: 0 | F11: 100 | G11: 3.521 | I11: 90 | J11: =FREQUENCY(C$3:C$32,I11)-FREQUENCY(C$3:C$32,I10) -> 0 | K11: 0 | L11: =J11+K11 -> 0
B12: =B11+1 -> 10 | C12: =IF(Cy!G13="","",Cy!G13) -> 0.09 | D12: =IF(Cy!D13="","",Cy!D13) -> 0.1668825 | E12: 0 | F12: 100 | G12: 2.969 | I12: 100 | J12: =FREQUENCY(C$3:C$32,I12)-FREQUENCY(C$3:C$32,I11) -> 0 | K12: 0 | L12: =J12+K12 -> 0
B13: =B12+1 -> 11 | C13: =IF(Cy!G14="","",Cy!G14) -> 0.06 | D13: =IF(Cy!D14="","",Cy!D14) -> 0.13749886 | E13: 0 | F13: 100 | G13: 2.546 | I13: Totais | J13: =SUM(J3:J12) -> 15 | K13: =SUM(K3:K12) -> 0 | L13: =SUM(L3:L12) -> 15 | M13: =SUM(M3:M12) -> 1
B14: =B13+1 -> 12 | C14: =IF(Cy!G15="","",Cy!G15) -> 0.15 | D14: =IF(Cy!D15="","",Cy!D15) -> 0.14633043 | E14: 0 | F14: 100 | G14: 2.218
B15: =B14+1 -> 13 | C15: =IF(Cy!G16="","",Cy!G16) -> 0.04 | D15: =IF(Cy!D16="","",Cy!D16) -> 0.064051121 | E15: 0 | F15: 100 | G15: 1.948 | I15: Probabilidades (%)
B16: =B15+1 -> 14 | C16: =IF(Cy!G17="","",Cy!G17) -> 25.61 | D16: =IF(Cy!D17="","",Cy!D17) -> 3.4931774 | E16: 0 | F16: 100 | G16: 5.176 | I16: Coeficientes | J16: Base | K16: Expo
B17: =B16+1 -> 15 | C17: =IF(Cy!G18="","",Cy!G18) -> 0.03 | D17: =IF(Cy!D18="","",Cy!D18) | E17: 0 | F17: 100 | G17: 4.772 | J17: 221.436 | K17: -2.482
B18: =B17+1 -> 16 | C18: =IF(Cy!G19="","",Cy!G19) | D18: =IF(Cy!D19="","",Cy!D19) | I18: =Open!M28 -> K % DD | J18: =Risk!$F$28 -> 0 | K18: =IF(J18=0,100,100*J17*J18^K17) -> 100
B19: =B18+1 -> 17 | C19: =IF(Cy!G20="","",Cy!G20) | D19: =IF(Cy!D20="","",Cy!D20) | I19: Call (%) | J19: 30.01 | K19: =100*J17*J19^K17 -> 4.7717098
B20: =B19+1 -> 18 | C20: =IF(Cy!G21="","",Cy!G21) | D20: =IF(Cy!D21="","",Cy!D21)
B21: =B20+1 -> 19 | C21: =IF(Cy!G22="","",Cy!G22) | D21: =IF(Cy!D22="","",Cy!D22)
B22: =B21+1 -> 20 | C22: =IF(Cy!G23="","",Cy!G23) | D22: =IF(Cy!D23="","",Cy!D23)
B23: =B22+1 -> 21 | C23: =IF(Cy!G24="","",Cy!G24) | D23: =IF(Cy!D24="","",Cy!D24)
B24: =B23+1 -> 22 | C24: =IF(Cy!G25="","",Cy!G25) | D24: =IF(Cy!D25="","",Cy!D25)
B25: =B24+1 -> 23 | C25: =IF(Cy!G26="","",Cy!G26) | D25: =IF(Cy!D26="","",Cy!D26)
B26: =B25+1 -> 24 | C26: =IF(Cy!G27="","",Cy!G27) | D26: =IF(Cy!D27="","",Cy!D27)
B27: =B26+1 -> 25 | C27: =IF(Cy!G28="","",Cy!G28) | D27: =IF(Cy!D28="","",Cy!D28)
B28: =B27+1 -> 26 | C28: =IF(Cy!G29="","",Cy!G29) | D28: =IF(Cy!D29="","",Cy!D29)
B29: =B28+1 -> 27 | C29: =IF(Cy!G30="","",Cy!G30) | D29: =IF(Cy!D30="","",Cy!D30)
B30: =B29+1 -> 28 | C30: =IF(Cy!G31="","",Cy!G31) | D30: =IF(Cy!D31="","",Cy!D31)
B31: =B30+1 -> 29 | C31: =IF(Cy!G32="","",Cy!G32) | D31: =IF(Cy!D32="","",Cy!D32)
B32: =B31+1 -> 30 | C32: =IF(Cy!G33="","",Cy!G33) | D32: =IF(Cy!D33="","",Cy!D33)

Sheet Risk
B2: Quadro Resumo | N2: Por operação
B3: Saldo Inicial | C3: =CLog!$X$4 -> 31019.2 | N3: %CAR | O3: Ganho | P3: Perda | Q3: %Payoff
B4: $Ac | C4: =CLog!X5 -> 2093.38 | N4: 1 | O4: =IF(L$26="","",1+L$26*N4/100) -> 1.0001558 | P4: =IF(O4="","",1-N4/100) -> 0.99 | Q4: =IF(O4="","",100*(O4^(L$27/100)*P4^((100-L$27)/100)-1)) -> -0.033116016
B5: Saldo Atual | C5: =CLog!X6 -> 33112.58 | N5: =N4+1 -> 2 | O5: =IF(L$26="","",1+L$26*N5/100) -> 1.0003116 | P5: =IF(O5="","",1-N5/100) -> 0.98 | Q5: =IF(O5="","",100*(O5^(L$27/100)*P5^((100-L$27)/100)-1)) -> -0.066709936
B6: =CLog!W13 -> Ganhos | C6: =CLog!X13 -> 14 | N6: =N5+1 -> 3 | O6: =IF(L$26="","",1+L$26*N6/100) -> 1.0004674 | P6: =IF(O6="","",1-N6/100) -> 0.97 | Q6: =IF(O6="","",100*(O6^(L$27/100)*P6^((100-L$27)/100)-1)) -> -0.10079125
B7: =CLog!W14 -> Perdas | C7: =CLog!X14 -> 0 | N7: =N6+1 -> 4 | O7: =IF(L$26="","",1+L$26*N7/100) -> 1.0006232 | P7: =IF(O7="","",1-N7/100) -> 0.96 | Q7: =IF(O7="","",100*(O7^(L$27/100)*P7^((100-L$27)/100)-1)) -> -0.13536973
B8: =CLog!W15 -> Operações | C8: =CLog!X15 -> 14 | N8: =N7+1 -> 5 | O8: =IF(L$26="","",1+L$26*N8/100) -> 1.000779 | P8: =IF(O8="","",1-N8/100) -> 0.95 | Q8: =IF(O8="","",100*(O8^(L$27/100)*P8^((100-L$27)/100)-1)) -> -0.17045545
B9: =CLog!W16 -> WinP | C9: =CLog!X16 -> 1 | N9: =N8+1 -> 6 | O9: =IF(L$26="","",1+L$26*N9/100) -> 1.0009348 | P9: =IF(O9="","",1-N9/100) -> 0.94 | Q9: =IF(O9="","",100*(O9^(L$27/100)*P9^((100-L$27)/100)-1)) -> -0.20605881
B10: =CLog!W17 -> CAR | C10: =CLog!X17 | N10: =N9+1 -> 7 | O10: =IF(L$26="","",1+L$26*N10/100) -> 1.0010906 | P10: =IF(O10="","",1-N10/100) -> 0.93 | Q10: =IF(O10="","",100*(O10^(L$27/100)*P10^((100-L$27)/100)-1)) -> -0.24219054
C11: =CLog!X18 | N11: =N10+1 -> 8 | O11: =IF(L$26="","",1+L$26*N11/100) -> 1.0012464 | P11: =IF(O11="","",1-N11/100) -> 0.92 | Q11: =IF(O11="","",100*(O11^(L$27/100)*P11^((100-L$27)/100)-1)) -> -0.27886168
B12: =CLog!W19 -> FL | C12: =CLog!X19 | N12: =N11+1 -> 9 | O12: =IF(L$26="","",1+L$26*N12/100) -> 1.0014022 | P12: =IF(O12="","",1-N12/100) -> 0.91 | Q12: =IF(O12="","",100*(O12^(L$27/100)*P12^((100-L$27)/100)-1)) -> -0.31608366
B13: Kelly % | C13: =IF(C9="","",IF(C12="","",IF(C9-(1-C9)/C12<0,0,100*(C9-(1-C9)/C12)))) | N13: =N12+1 -> 10 | O13: =IF(L$26="","",1+L$26*N13/100) -> 1.001558 | P13: =IF(O13="","",1-N13/100) -> 0.9 | Q13: =IF(O13="","",100*(O13^(L$27/100)*P13^((100-L$27)/100)-1)) -> -0.35386826
N14: =N13+1 -> 11 | O14: =IF(L$26="","",1+L$26*N14/100) -> 1.0017138 | P14: =IF(O14="","",1-N14/100) -> 0.89 | Q14: =IF(O14="","",100*(O14^(L$27/100)*P14^((100-L$27)/100)-1)) -> -0.39222767
B15: Simulações (Sim) | N15: =N14+1 -> 12 | O15: =IF(L$26="","",1+L$26*N15/100) -> 1.0018696 | P15: =IF(O15="","",1-N15/100) -> 0.88 | Q15: =IF(O15="","",100*(O15^(L$27/100)*P15^((100-L$27)/100)-1)) -> -0.43117445
B16: Ganho ($ ou %) | C16: 0.4676 | N16: =N15+1 -> 13 | O16: =IF(L$26="","",1+L$26*N16/100) -> 1.0020255 | P16: =IF(O16="","",1-N16/100) -> 0.87 | Q16: =IF(O16="","",100*(O16^(L$27/100)*P16^((100-L$27)/100)-1)) -> -0.47072163
B17: Perda ($ ou %) | C17: 30 | N17: =N16+1 -> 14 | O17: =IF(L$26="","",1+L$26*N17/100) -> 1.0021813 | P17: =IF(O17="","",1-N17/100) -> 0.86 | Q17: =IF(O17="","",100*(O17^(L$27/100)*P17^((100-L$27)/100)-1)) -> -0.51088263
B18: Win % | C18: 98.5 | N18: =N17+1 -> 15 | O18: =IF(L$26="","",1+L$26*N18/100) -> 1.0023371 | P18: =IF(O18="","",1-N18/100) -> 0.85 | Q18: =IF(O18="","",100*(O18^(L$27/100)*P18^((100-L$27)/100)-1)) -> -0.55167138
B19: FL | C19: =IF(C16="","",IF(C17="","",IF(C18="","",C16/C17))) -> 0.015586667 | E19: =IF(L25="CyHS","Perfil de risco de Cycle HS",IF(L25="KHS","Perfil de risco de Kelly Hard Stop",IF(L25="Sim","Perfil de risco de operações hipotéticas","Gráfico de perfil de risco"))) -> Perfil de risco de Cycle HS | F19: =IF(E26="x",IF(F27="",#REF!,""),IF(F27="x",IF(E26="",#REF!,""),"")) | G19: =IF(#REF!="x",IF(G27="",#REF!,""),IF(G27="x",IF(#REF!="",#REF!,""),"")) -> #REF! | H19: =IF(F26="x",IF(H22="",#REF!,""),IF(H22="x",IF(F26="",#REF!,""),"")) | I19: =IF(#REF!="x",IF(I22="",#REF!,""),IF(I22="x",IF(#REF!="",#REF!,""),"")) -> #REF! | K19: =IF(#REF!="x",IF(K22="",#REF!,""),IF(K22="x",IF(#REF!="",#REF!,""),"")) -> #REF! | L19: =IF(#REF!="x",IF(L22="",#REF!,""),IF(L22="x",IF(#REF!="",#REF!,""),"")) -> #REF! | N19: =N18+1 -> 16 | O19: =IF(L$26="","",1+L$26*N19/100) -> 1.0024929 | P19: =IF(O19="","",1-N19/100) -> 0.84 | Q19: =IF(O19="","",100*(O19^(L$27/100)*P19^((100-L$27)/100)-1)) -> -0.59310227
B20: Kelly % | C20: =IF(C18="","",IF(C19="","",IF(100*((C18/100)-(1-C18/100)/C19)<0,0,100*((C18/100)-(1-C18/100)/C19)))) -> 2.2639008 | N20: =N19+1 -> 17 | O20: =IF(L$26="","",1+L$26*N20/100) -> 1.0026487 | P20: =IF(O20="","",1-N20/100) -> 0.83 | Q20: =IF(O20="","",100*(O20^(L$27/100)*P20^((100-L$27)/100)-1)) -> -0.63519021
N21: =N20+1 -> 18 | O21: =IF(L$26="","",1+L$26*N21/100) -> 1.0028045 | P21: =IF(O21="","",1-N21/100) -> 0.82 | Q21: =IF(O21="","",100*(O21^(L$27/100)*P21^((100-L$27)/100)-1)) -> -0.67795062
B22: Kelly Hard Stop (KHS) | E22: Cycle HS Risk (CyHS) | N22: =N21+1 -> 19 | O22: =IF(L$26="","",1+L$26*N22/100) -> 1.0029603 | P22: =IF(O22="","",1-N22/100) -> 0.81 | Q22: =IF(O22="","",100*(O22^(L$27/100)*P22^((100-L$27)/100)-1)) -> -0.7213995
B23: Cycle Avg.% | C23: =$F$23 -> 0.46756758 | E23: Cycle Avg % | F23: =Cy!$I$3 -> 0.46756758 | H23: Ideais por ciclo | N23: =N22+1 -> 20 | O23: =IF(L$26="","",1+L$26*N23/100) -> 1.0031161 | P23: =IF(O23="","",1-N23/100) -> 0.8 | Q23: =IF(O23="","",100*(O23^(L$27/100)*P23^((100-L$27)/100)-1)) -> -0.76555342
B24: KHS Loss % | C24: =$F$28 -> 0 | E24: H Stop Loss % | F24: =DDCy!$J$19 -> 30.01 | H24: Capital em risco | I24: =IF(L26="","",IF(L27="","",IF(L27/100-(1-L27/100)/L26<0,0,L27/100-(1-L27/100)/L26))) -> 0 | K24: Gráfico | N24: =N23+1 -> 21 | O24: =IF(L$26="","",1+L$26*N24/100) -> 1.0032719 | P24: =IF(O24="","",1-N24/100) -> 0.79 | Q24: =IF(O24="","",100*(O24^(L$27/100)*P24^((100-L$27)/100)-1)) -> -0.81042959
B25: KHS Prob % | C25: 100 | E25: H Stop Prob % | F25: =DDCy!$K$19 -> 4.7717098 | I25: =IF(I24="","",IF(C5="",IF(C3="","",C3*I24),C5*I24)) -> 0 | K25: Opção | L25: CyHS | N25: =N24+1 -> 22 | O25: =IF(L$26="","",1+L$26*N25/100) -> 1.0034277 | P25: =IF(O25="","",1-N25/100) -> 0.78 | Q25: =IF(O25="","",100*(O25^(L$27/100)*P25^((100-L$27)/100)-1)) -> -0.85604583
B26: Win % | C26: =IF(C25="","",100-C25) -> 0 | E26: Win % | F26: =IF(F25="","",100-F25) -> 95.22829 | H26: Payoff | I26: =IF(L26="","",IF(MAX(Q4:Q103)<0,0,MAX(Q4:Q103)/100)) -> 0 | K26: FL | L26: =IF(L25="Week",C12,IF(L25="MT4",#REF!,IF(L25="FF",#REF!,IF(L25="WMC",#REF!,IF(L25="CyHS",F27,IF(L25="KHS",C27,IF(L25="Sim",C19,""))))))) -> 0.015580393 | N26: =N25+1 -> 23 | O26: =IF(L$26="","",1+L$26*N26/100) -> 1.0035835 | P26: =IF(O26="","",1-N26/100) -> 0.77 | Q26: =IF(O26="","",100*(O26^(L$27/100)*P26^((100-L$27)/100)-1)) -> -0.90242066
B27: FL | C27: =IF(C23="","",IF(C24="","",IF(C24=0,"",IF(C26="","",C23/C24)))) | E27: FL | F27: =IF(F23="","",IF(F24="","",IF(F26="","",F23/F24))) -> 0.015580393 | I27: =IF(I26="","",IF(C5="",IF(C3="","",C3*I26),C5*I26)) -> 0 | K27: WinP | L27: =IF(L25="Week",100*C9,IF(L25="MT4",#REF!,IF(L25="FF",#REF!,IF(L25="WMC",#REF!,IF(L25="CyHS",F26,IF(L25="KHS",C26,IF(L25="Sim",C18,""))))))) -> 95.22829 | N27: =N26+1 -> 24 | O27: =IF(L$26="","",1+L$26*N27/100) -> 1.0037393 | P27: =IF(O27="","",1-N27/100) -> 0.76 | Q27: =IF(O27="","",100*(O27^(L$27/100)*P27^((100-L$27)/100)-1)) -> -0.94957331
B28: Kelly % | C28: =IF(C26="","",IF(C27="","",IF(100*((C26/100)-(1-C26/100)/C27)<0,0,100*((C26/100)-(1-C26/100)/C27)))) | E28: Kelly % | F28: =IF(F26="","",IF(F27="","",IF(100*((F26/100)-(1-F26/100)/F27)<0,0,100*((F26/100)-(1-F26/100)/F27)))) -> 0 | N28: =N27+1 -> 25 | O28: =IF(L$26="","",1+L$26*N28/100) -> 1.0038951 | P28: =IF(O28="","",1-N28/100) -> 0.75 | Q28: =IF(O28="","",100*(O28^(L$27/100)*P28^((100-L$27)/100)-1)) -> -0.99752376
N29: =N28+1 -> 26 | O29: =IF(L$26="","",1+L$26*N29/100) -> 1.0040509 | P29: =IF(O29="","",1-N29/100) -> 0.74 | Q29: =IF(O29="","",100*(O29^(L$27/100)*P29^((100-L$27)/100)-1)) -> -1.0462928
N30: =N29+1 -> 27 | O30: =IF(L$26="","",1+L$26*N30/100) -> 1.0042067 | P30: =IF(O30="","",1-N30/100) -> 0.73 | Q30: =IF(O30="","",100*(O30^(L$27/100)*P30^((100-L$27)/100)-1)) -> -1.0959019
N31: =N30+1 -> 28 | O31: =IF(L$26="","",1+L$26*N31/100) -> 1.0043625 | P31: =IF(O31="","",1-N31/100) -> 0.72 | Q31: =IF(O31="","",100*(O31^(L$27/100)*P31^((100-L$27)/100)-1)) -> -1.1463738
N32: =N31+1 -> 29 | O32: =IF(L$26="","",1+L$26*N32/100) -> 1.0045183 | P32: =IF(O32="","",1-N32/100) -> 0.71 | Q32: =IF(O32="","",100*(O32^(L$27/100)*P32^((100-L$27)/100)-1)) -> -1.1977316
N33: =N32+1 -> 30 | O33: =IF(L$26="","",1+L$26*N33/100) -> 1.0046741 | P33: =IF(O33="","",1-N33/100) -> 0.7 | Q33: =IF(O33="","",100*(O33^(L$27/100)*P33^((100-L$27)/100)-1)) -> -1.2499999
N34: =N33+1 -> 31 | O34: =IF(L$26="","",1+L$26*N34/100) -> 1.0048299 | P34: =IF(O34="","",1-N34/100) -> 0.69 | Q34: =IF(O34="","",100*(O34^(L$27/100)*P34^((100-L$27)/100)-1)) -> -1.303204
N35: =N34+1 -> 32 | O35: =IF(L$26="","",1+L$26*N35/100) -> 1.0049857 | P35: =IF(O35="","",1-N35/100) -> 0.68 | Q35: =IF(O35="","",100*(O35^(L$27/100)*P35^((100-L$27)/100)-1)) -> -1.3573705
N36: =N35+1 -> 33 | O36: =IF(L$26="","",1+L$26*N36/100) -> 1.0051415 | P36: =IF(O36="","",1-N36/100) -> 0.67 | Q36: =IF(O36="","",100*(O36^(L$27/100)*P36^((100-L$27)/100)-1)) -> -1.412527
N37: =N36+1 -> 34 | O37: =IF(L$26="","",1+L$26*N37/100) -> 1.0052973 | P37: =IF(O37="","",1-N37/100) -> 0.66 | Q37: =IF(O37="","",100*(O37^(L$27/100)*P37^((100-L$27)/100)-1)) -> -1.4687023
N38: =N37+1 -> 35 | O38: =IF(L$26="","",1+L$26*N38/100) -> 1.0054531 | P38: =IF(O38="","",1-N38/100) -> 0.65 | Q38: =IF(O38="","",100*(O38^(L$27/100)*P38^((100-L$27)/100)-1)) -> -1.5259268
N39: =N38+1 -> 36 | O39: =IF(L$26="","",1+L$26*N39/100) -> 1.0056089 | P39: =IF(O39="","",1-N39/100) -> 0.64 | Q39: =IF(O39="","",100*(O39^(L$27/100)*P39^((100-L$27)/100)-1)) -> -1.584232
N40: =N39+1 -> 37 | O40: =IF(L$26="","",1+L$26*N40/100) -> 1.0057647 | P40: =IF(O40="","",1-N40/100) -> 0.63 | Q40: =IF(O40="","",100*(O40^(L$27/100)*P40^((100-L$27)/100)-1)) -> -1.6436508
... N103: =N102+1 -> 100 | O103: =IF(L$26="","",1+L$26*N103/100) -> 1.0155804 | P103: =IF(O103="","",1-N103/100) -> 0 | Q103: =IF(O103="","",100*(O103^(L$27/100)*P103^((100-L$27)/100)-1)) -> -100

Sheet CRes
A1: Data | B1: Depósito | C1: Principal | D1: Balanço | E1: $ Bal | F1: $ Bal Ac | G1: % Bal | H1: % Bal Ac | I1: Pos.Liq. | J1: $ Liq | K1: $ Liq Ac | L1: % Liq | M1: % Liq Ac | N1: $ Aberto | O1: Obs.
A2: 42720 | C2: 31019.2 | D2: =IF(Cy!C3="","",Cy!C3) -> 31019.2 | I2: =D2 -> 31019.2
B3: 0 | C3: =IF(B3="","",C2+B3) -> 31019.2 | D3: =IF(Cy!C4="","",Cy!C4) -> 31090.03 | E3: =IF(B3="","",IF(D3="","",D3-D2-B3)) -> 70.83 | F3: =IF(E3="","",F2+E3) -> 70.83 | G3: =IF(E3="","",100*E3/(D2+0.5*B3)) -> 0.22834245 | H3: =IF(F3="","",100*F3/C3) -> 0.22834245 | I3: =D3 -> 31090.03 | J3: =IF(B3="","",IF(I3="","",I3-I2-B3)) -> 70.83 | K3: =IF(J3="","",K2+J3) -> 70.83 | L3: =IF(J3="","",100*J3/(I2+0.5*B3)) -> 0.22834245 | M3: =IF(K3="","",100*K3/C3) -> 0.22834245 | N3: =IF(D3="","",IF(I3="","",I3-D3)) -> 0
B4: 0 | C4: =IF(B4="","",C3+B4) -> 31019.2 | D4: =IF(Cy!C5="","",Cy!C5) -> 31152.03 | E4: =IF(B4="","",IF(D4="","",D4-D3-B4)) -> 62 | F4: =IF(E4="","",F3+E4) -> 132.83 | G4: =IF(E4="","",100*E4/(D3+0.5*B4)) -> 0.19942084 | H4: =IF(F4="","",100*F4/C4) -> 0.42821865 | I4: =D4 -> 31152.03 | J4: =IF(B4="","",IF(I4="","",I4-I3-B4)) -> 62 | K4: =IF(J4="","",K3+J4) -> 132.83 | L4: =IF(J4="","",100*J4/(I3+0.5*B4)) -> 0.19942084 | M4: =IF(K4="","",100*K4/C4) -> 0.42821865 | N4: =IF(D4="","",IF(I4="","",I4-D4)) -> 0
A5: 42723 | B5: 0 | C5: =IF(B5="","",C4+B5) -> 31019.2 | D5: =IF(Cy!C6="","",Cy!C6) -> 31202.87 | E5: =IF(B5="","",IF(D5="","",D5-D4-B5)) -> 50.84 | F5: =IF(E5="","",F4+E5) -> 183.67 | G5: =IF(E5="","",100*E5/(D4+0.5*B5)) -> 0.16319964 | H5: =IF(F5="","",100*F5/C5) -> 0.59211714 | I5: =D5 -> 31202.87 | J5: =IF(B5="","",IF(I5="","",I5-I4-B5)) -> 50.84 | K5: =IF(J5="","",K4+J5) -> 183.67 | L5: =IF(J5="","",100*J5/(I4+0.5*B5)) -> 0.16319964 | M5: =IF(K5="","",100*K5/C5) -> 0.59211714 | N5: =IF(D5="","",IF(I5="","",I5-D5)) -> 0
A6: 42724 | B6: 0 | C6: =IF(B6="","",C5+B6) -> 31019.2 | D6: =IF(Cy!C7="","",Cy!C7) -> 31227.36 | E6: =IF(B6="","",IF(D6="","",D6-D5-B6)) -> 24.49 | F6: =IF(E6="","",F5+E6) -> 208.16 | G6: =IF(E6="","",100*E6/(D5+0.5*B6)) -> 0.07848637 | H6: =IF(F6="","",100*F6/C6) -> 0.67106824 | I6: =D6 -> 31227.36 | J6: =IF(B6="","",IF(I6="","",I6-I5-B6)) -> 24.49 | K6: =IF(J6="","",K5+J6) -> 208.16 | L6: =IF(J6="","",100*J6/(I5+0.5*B6)) -> 0.07848637 | M6: =IF(K6="","",100*K6/C6) -> 0.67106824 | N6: =IF(D6="","",IF(I6="","",I6-D6)) -> 0
A7: 42726 | B7: 0 | C7: =IF(B7="","",C6+B7) -> 31019.2 | D7: =IF(Cy!C8="","",Cy!C8) -> 31533.96 | E7: =IF(B7="","",IF(D7="","",D7-D6-B7)) -> 306.6 | F7: =IF(E7="","",F6+E7) -> 514.76 | G7: =IF(E7="","",100*E7/(D6+0.5*B7)) -> 0.98183132 | H7: =IF(F7="","",100*F7/C7) -> 1.6594883 | I7: =D7 -> 31533.96 | J7: =IF(B7="","",IF(I7="","",I7-I6-B7)) -> 306.6 | K7: =IF(J7="","",K6+J7) -> 514.76 | L7: =IF(J7="","",100*J7/(I6+0.5*B7)) -> 0.98183132 | M7: =IF(K7="","",100*K7/C7) -> 1.6594883 | N7: =IF(D7="","",IF(I7="","",I7-D7)) -> 0 | O7: Operei nas duas pontas
A8: 42727 | B8: 0 | C8: =IF(B8="","",C7+B8) -> 31019.2 | D8: =IF(Cy!C9="","",Cy!C9) -> 31637.31 | E8: =IF(B8="","",IF(D8="","",D8-D7-B8)) -> 103.35 | F8: =IF(E8="","",F7+E8) -> 618.11 | G8: =IF(E8="","",100*E8/(D7+0.5*B8)) -> 0.3277419 | H8: =IF(F8="","",100*F8/C8) -> 1.9926691 | I8: =D8 -> 31637.31 | J8: =IF(B8="","",IF(I8="","",I8-I7-B8)) -> 103.35 | K8: =IF(J8="","",K7+J8) -> 618.11 | L8: =IF(J8="","",100*J8/(I7+0.5*B8)) -> 0.3277419 | M8: =IF(K8="","",100*K8/C8) -> 1.9926691 | N8: =IF(D8="","",IF(I8="","",I8-D8)) -> 0 | O8: Encavalei ordens em mercado parado
A9: 42731 | B9: 0 | C9: =IF(B9="","",C8+B9) -> 31019.2 | D9: =IF(Cy!C10="","",Cy!C10) -> 31682.86 | E9: =IF(B9="","",IF(D9="","",D9-D8-B9)) -> 45.55 | F9: =IF(E9="","",F8+E9) -> 663.66 | G9: =IF(E9="","",100*E9/(D8+0.5*B9)) -> 0.14397558 | H9: =IF(F9="","",100*F9/C9) -> 2.1395136 | I9: =D9 -> 31682.86 | J9: =IF(B9="","",IF(I9="","",I9-I8-B9)) -> 45.55 | K9: =IF(J9="","",K8+J9) -> 663.66 | L9: =IF(J9="","",100*J9/(I8+0.5*B9)) -> 0.14397558 | M9: =IF(K9="","",100*K9/C9) -> 2.1395136 | N9: =IF(D9="","",IF(I9="","",I9-D9)) -> 0 | O9: Mercado meio parado, entrei contra a tendência do dia, precipitado, antes mesmo de ver qual era o spread no momento
A10: 42732 | B10: 0 | C10: =IF(B10="","",C9+B10) -> 31019.2 | D10: =IF(Cy!C11="","",Cy!C11) -> 31730.22 | E10: =IF(B10="","",IF(D10="","",D10-D9-B10)) -> 47.36 | F10: =IF(E10="","",F9+E10) -> 711.02 | G10: =IF(E10="","",100*E10/(D9+0.5*B10)) -> 0.14948145 | H10: =IF(F10="","",100*F10/C10) -> 2.2921932 | I10: =D10 -> 31730.22 | J10: =IF(B10="","",IF(I10="","",I10-I9-B10)) -> 47.36 | K10: =IF(J10="","",K9+J10) -> 711.02 | L10: =IF(J10="","",100*J10/(I9+0.5*B10)) -> 0.14948145 | M10: =IF(K10="","",100*K10/C10) -> 2.2921932 | N10: =IF(D10="","",IF(I10="","",I10-D10)) -> 0 | O10: Entrei meio tarde no movimento
A11: 42733 | B11: 0 | C11: =IF(B11="","",C10+B11) -> 31019.2 | D11: =IF(Cy!C12="","",Cy!C12) -> 31830.78 | E11: =IF(B11="","",IF(D11="","",D11-D10-B11)) -> 100.56 | F11: =IF(E11="","",F10+E11) -> 811.58 | G11: =IF(E11="","",100*E11/(D10+0.5*B11)) -> 0.31692185 | H11: =IF(F11="","",100*F11/C11) -> 2.6163795 | I11: =D11 -> 31830.78 | J11: =IF(B11="","",IF(I11="","",I11-I10-B11)) -> 100.56 | K11: =IF(J11="","",K10+J11) -> 811.58 | L11: =IF(J11="","",100*J11/(I10+0.5*B11)) -> 0.31692185 | M11: =IF(K11="","",100*K11/C11) -> 2.6163795 | N11: =IF(D11="","",IF(I11="","",I11-D11)) -> 0 | O11: De novo entrei tarde mas isso não importa para operações curtas
A12: 42734 | B12: 0 | C12: =IF(B12="","",C11+B12) -> 31019.2 | D12: =IF(Cy!C13="","",Cy!C13) -> 31883.9 | E12: =IF(B12="","",IF(D12="","",D12-D11-B12)) -> 53.12 | F12: =IF(E12="","",F11+E12) -> 864.7 | G12: =IF(E12="","",100*E12/(D11+0.5*B12)) -> 0.1668825 | H12: =IF(F12="","",100*F12/C12) -> 2.7876283 | I12: =D12 -> 31883.9 | J12: =IF(B12="","",IF(I12="","",I12-I11-B12)) -> 53.12 | K12: =IF(J12="","",K11+J12) -> 864.7 | L12: =IF(J12="","",100*J12/(I11+0.5*B12)) -> 0.1668825 | M12: =IF(K12="","",100*K12/C12) -> 2.7876283 | N12: =IF(D12="","",IF(I12="","",I12-D12)) -> 0
B13: 0 | C13: =IF(B13="","",C12+B13) -> 31019.2 | D13: =IF(Cy!C14="","",Cy!C14) -> 31927.74 | E13: =IF(B13="","",IF(D13="","",D13-D12-B13)) -> 43.84 | F13: =IF(E13="","",F12+E13) -> 908.54 | G13: =IF(E13="","",100*E13/(D12+0.5*B13)) -> 0.13749886 | H13: =IF(F13="","",100*F13/C13) -> 2.9289601 | I13: =D13 -> 31927.74 | J13: =IF(B13="","",IF(I13="","",I13-I12-B13)) -> 43.84 | K13: =IF(J13="","",K12+J13) -> 908.54 | L13: =IF(J13="","",100*J13/(I12+0.5*B13)) -> 0.13749886 | M13: =IF(K13="","",100*K13/C13) -> 2.9289601 | N13: =IF(D13="","",IF(I13="","",I13-D13)) -> 0
B14: 0 | C14: =IF(B14="","",C13+B14) -> 31019.2 | D14: =IF(Cy!C15="","",Cy!C15) -> 31974.46 | E14: =IF(B14="","",IF(D14="","",D14-D13-B14)) -> 46.72 | F14: =IF(E14="","",F13+E14) -> 955.26 | G14: =IF(E14="","",100*E14/(D13+0.5*B14)) -> 0.14633043 | H14: =IF(F14="","",100*F14/C14) -> 3.0795765 | I14: =D14 -> 31974.46 | J14: =IF(B14="","",IF(I14="","",I14-I13-B14)) -> 46.72 | K14: =IF(J14="","",K13+J14) -> 955.26 | L14: =IF(J14="","",100*J14/(I13+0.5*B14)) -> 0.14633043 | M14: =IF(K14="","",100*K14/C14) -> 3.0795765 | N14: =IF(D14="","",IF(I14="","",I14-D14)) -> 0 | O14: Operação (talvez) prejudicada por interrupção
B15: 0 | C15: =IF(B15="","",C14+B15) -> 31019.2 | D15: =IF(Cy!C16="","",Cy!C16) -> 31994.94 | E15: =IF(B15="","",IF(D15="","",D15-D14-B15)) -> 20.48 | F15: =IF(E15="","",F14+E15) -> 975.74 | G15: =IF(E15="","",100*E15/(D14+0.5*B15)) -> 0.064051121 | H15: =IF(F15="","",100*F15/C15) -> 3.1456001 | I15: =D15 -> 31994.94 | J15: =IF(B15="","",IF(I15="","",I15-I14-B15)) -> 20.48 | K15: =IF(J15="","",K14+J15) -> 975.74 | L15: =IF(J15="","",100*J15/(I14+0.5*B15)) -> 0.064051121 | M15: =IF(K15="","",100*K15/C15) -> 3.1456001 | N15: =IF(D15="","",IF(I15="","",I15-D15)) -> 0
B16: 0 | C16: =IF(B16="","",C15+B16) -> 31019.2 | D16: =IF(Cy!C17="","",Cy!C17) -> 33112.58 | E16: =IF(B16="","",IF(D16="","",D16-D15-B16)) -> 1117.64 | F16: =IF(E16="","",F15+E16) -> 2093.38 | G16: =IF(E16="","",100*E16/(D15+0.5*B16)) -> 3.4931774 | H16: =IF(F16="","",100*F16/C16) -> 6.7486589 | I16: =D16 -> 33112.58 | J16: =IF(B16="","",IF(I16="","",I16-I15-B16)) -> 1117.64 | K16: =IF(J16="","",K15+J16) -> 2093.38 | L16: =IF(J16="","",100*J16/(I15+0.5*B16)) -> 3.4931774 | M16: =IF(K16="","",100*K16/C16) -> 6.7486589 | N16: =IF(D16="","",IF(I16="","",I16-D16)) -> 0 | O16: Depois de quatro compras bem sucedidas no dia, estupidamente comprei um topo. Erro típico meu.
C17: =IF(B17="","",C16+B17) | D17: =IF(Cy!C18="","",Cy!C18) | E17: =IF(B17="","",IF(D17="","",D17-D16-B17)) | F17: =IF(E17="","",F16+E17) | G17: =IF(E17="","",100*E17/(D16+0.5*B17)) | H17: =IF(F17="","",100*F17/C17) | I17: =D17 | J17: =IF(B17="","",IF(I17="","",I17-I16-B17)) | K17: =IF(J17="","",K16+J17) | L17: =IF(J17="","",100*J17/(I16+0.5*B17)) | M17: =IF(K17="","",100*K17/C17) | N17: =IF(D17="","",IF(I17="","",I17-D17))
C18: =IF(B18="","",C17+B18) | D18: =IF(Cy!C19="","",Cy!C19) | E18: =IF(B18="","",IF(D18="","",D18-D17-B18)) | F18: =IF(E18="","",F17+E18) | G18: =IF(E18="","",100*E18/(D17+0.5*B18)) | H18: =IF(F18="","",100*F18/C18) | I18: =D18 | J18: =IF(B18="","",IF(I18="","",I18-I17-B18)) | K18: =IF(J18="","",K17+J18) | L18: =IF(J18="","",100*J18/(I17+0.5*B18)) | M18: =IF(K18="","",100*K18/C18) | N18: =IF(D18="","",IF(I18="","",I18-D18))
C19: =IF(B19="","",C18+B19) | D19: =IF(Cy!C20="","",Cy!C20) | E19: =IF(B19="","",IF(D19="","",D19-D18-B19)) | F19: =IF(E19="","",F18+E19) | G19: =IF(E19="","",100*E19/(D18+0.5*B19)) | H19: =IF(F19="","",100*F19/C19) | I19: =D19 | J19: =IF(B19="","",IF(I19="","",I19-I18-B19)) | K19: =IF(J19="","",K18+J19) | L19: =IF(J19="","",100*J19/(I18+0.5*B19)) | M19: =IF(K19="","",100*K19/C19) | N19: =IF(D19="","",IF(I19="","",I19-D19))
