Workbook

Sheet Use
B3: Uso da planilha
C5: Aplicar a um trade plan de cada vez
C6: Só usar em conta real se passar no teste em conta demo
B8: Para aprovação (mínimo de 30 resultados)
C10: A partir do 10º resultado
D11: o $Ac não deve ficar negativo
D12: a regressão linear deve ser sempre ascendente
C13: Após o 30º resultado
D14: o R2 da exponencial deve ser maior que o da linear
B16: Última alteração: 20/01/2016

Sheet Plan
B3: Plano testado: só curtas
C5: Registrar resultado de cada sessão/ciclo
D6: Lotes proporcionais ao balanço inicial
D7: Alavancagem determinada pelo critério de Kelly
D8: Averaging down
D9: Perda máxima: 30% (hard stop)
D10: Duração da sessão
E11: Preestabelecida
E12: Máxima: 1 a 3 horas (sem interrupção)
D13: Não operar nas duas pontas simultaneamente
B15: Próximo passo
C17: Conta real

Sheet DLog
G2: Saldo | H2: =IF(E12="","",VLOOKUP(MAX(D12:D33),D12:E33,2,FALSE)) -> 31830.78 | M2: Ciclos | N2: Saldo | O2: % Lucro acumulado | Q2: Capitalização
G3: Objetivo % | H3: 0.5 | M3: 0 | N3: =IF(R3="","",R3) -> 1000 | O3: =100*(N3-R$3)/R$3 -> 0 | Q3: $ Inicial | R3: 1000
G4: Stop % | H4: 30 | M4: =M3+1 -> 1 | N4: =N3*(1+R$5/100) -> 2754.9 | O4: =100*(N4-R$3)/R$3 -> 175.49 | Q4: % Atual | R4: 0
M5: =M4+1 -> 2 | N5: =N4*(1+R$5/100) -> 7589.474 | O5: =100*(N5-R$3)/R$3 -> 658.9474 | Q5: % por ciclo | R5: 175.49
C6: Resumo do dia | M6: =M5+1 -> 3 | N6: =N5*(1+R$5/100) -> 20908.242 | O6: =100*(N6-R$3)/R$3 -> 1990.8242
C7: Data | E7: $ Inicial | G7: $ Final | H7: Objetivo $ | I7: Lucro $ | J7: Lucro % | K7: Alerta | M7: =M6+1 -> 4 | N7: =N6*(1+R$5/100) -> 57600.116 | O7: =100*(N7-R$3)/R$3 -> 5660.0116
C8: =IF(C12="","",VLOOKUP(MAX(B12:B33),B12:C33,2,FALSE)) -> 42734 | E8: =IF(E12="","",VLOOKUP(MAX(D12:D33),D12:E33,2,FALSE)) -> 31830.78 | G8: =IF(G12="","",IF(VLOOKUP(MAX(F12:F33),F12:G33,2,FALSE)="","",VLOOKUP(MAX(F12:F33),F12:G33,2,FALSE))) -> 33112.58 | H8: =IF(E8="","",IF(H$3="","",E8*(1+H$3/100))) -> 31989.934 | I8: =IF(E8="","",IF(G8="","",G8-E8)) -> 1281.8 | J8: =IF(I8="","",100*I8/E8) -> 4.0269199 | K8: =IF(J8="","",IF(J8<=-H$4,"Stop",IF(J8>=H$3,"Alvo",IF(G8="","Continue","")))) -> Alvo | M8: =M7+1 -> 5 | N8: =N7*(1+R$5/100) -> 158682.56 | O8: =100*(N8-R$3)/R$3 -> 15768.256 | Q8: Conversões
M9: =M8+1 -> 6 | N9: =N8*(1+R$5/100) -> 437154.58 | O9: =100*(N9-R$3)/R$3 -> 43615.458
C10: Ciclos operacionais na semana | M10: =M9+1 -> 7 | N10: =N9*(1+R$5/100) -> 1204317.2 | O10: =100*(N10-R$3)/R$3 -> 120331.72 | Q10: % Dia | R10: 0.27
B11: # | C11: Data | D11: # | E11: $ Inicial | F11: # | G11: $ Final | H11: Objetivo $ | I11: Lucro $ | J11: Lucro % | K11: Alerta | M11: =M10+1 -> 8 | N11: =N10*(1+R$5/100) -> 3317773.3 | O11: =100*(N11-R$3)/R$3 -> 331677.33 | Q11: % Semana | R11: =100*((1+R10/100)^5-1) -> 1.3573097
B12: 0 | C12: 42723 | D12: 0 | E12: =CLog!X4 -> 31019.2 | F12: 0 | G12: 31202.87 | H12: =IF(E12="","",IF(H$3="","",E12*(1+H$3/100))) -> 31174.296 | I12: =IF(E12="","",IF(G12="","",G12-E12)) -> 183.67 | J12: =IF(I12="","",100*I12/E12) -> 0.59211714 | K12: =IF(J12="","",IF(J12<=-H$4,"Stop",IF(J12>=H$3,"Alvo",IF(G12="","Continue","")))) -> Alvo | M12: =M11+1 -> 9 | N12: =N11*(1+R$5/100) -> 9140133.8 | O12: =100*(N12-R$3)/R$3 -> 913913.38 | Q12: % Mês | R12: =100*((1+R10/100)^(30*5/7)-1) -> 5.9481011
B13: =IF(C13="",B12,B12+1) -> 1 | C13: 42724 | D13: =IF(C13="",D12,D12+1) -> 1 | E13: =IF(G12="","",G12) -> 31202.87 | F13: =IF(G13="",IF(C13="","",F12+1),F12+1) -> 1 | G13: 31227.36 | H13: =IF(E13="","",IF(H$3="","",E13*(1+H$3/100))) -> 31358.884 | I13: =IF(E13="","",IF(G13="","",G13-E13)) -> 24.49 | J13: =IF(I13="","",100*I13/E13) -> 0.07848637 | K13: =IF(J13="","",IF(J13<=-H$4,"Stop",IF(J13>=H$3,"Alvo",IF(G13="","Continue","")))) | M13: =M12+1 -> 10 | N13: =N12*(1+R$5/100) -> 25180154 | O13: =100*(N13-R$3)/R$3 -> 2517915.4 | Q13: % Ano | R13: =100*((1+R10/100)^(360*5/7)-1) -> 100.04059
B14: =IF(C14="",B13,B13+1) -> 2 | C14: 42726 | D14: =IF(C14="",D13,D13+1) -> 2 | E14: =IF(G13="","",G13) -> 31227.36 | F14: =IF(G14="",IF(C14="","",F13+1),F13+1) -> 2 | G14: 31533.96 | H14: =IF(E14="","",IF(H$3="","",E14*(1+H$3/100))) -> 31383.497 | I14: =IF(E14="","",IF(G14="","",G14-E14)) -> 306.6 | J14: =IF(I14="","",100*I14/E14) -> 0.98183132 | K14: =IF(J14="","",IF(J14<=-H$4,"Stop",IF(J14>=H$3,"Alvo",IF(G14="","Continue","")))) -> Alvo | M14: =M13+1 -> 11 | N14: =N13*(1+R$5/100) -> 69368808 | O14: =100*(N14-R$3)/R$3 -> 6936780.8
B15: =IF(C15="",B14,B14+1) -> 3 | C15: 42727 | D15: =IF(C15="",D14,D14+1) -> 3 | E15: =IF(G14="","",G14) -> 31533.96 | F15: =IF(G15="",IF(C15="","",F14+1),F14+1) -> 3 | G15: 31637.31 | H15: =IF(E15="","",IF(H$3="","",E15*(1+H$3/100))) -> 31691.63 | I15: =IF(E15="","",IF(G15="","",G15-E15)) -> 103.35 | J15: =IF(I15="","",100*I15/E15) -> 0.3277419 | K15: =IF(J15="","",IF(J15<=-H$4,"Stop",IF(J15>=H$3,"Alvo",IF(G15="","Continue","")))) | M15: =M14+1 -> 12 | N15: =N14*(1+R$5/100) -> 1.9110413e+08 | O15: =100*(N15-R$3)/R$3 -> 19110313 | Q15: % Semana | R15: 1.99
B16: =IF(C16="",B15,B15+1) -> 4 | C16: 42731 | D16: =IF(C16="",D15,D15+1) -> 4 | E16: =IF(G15="","",G15) -> 31637.31 | F16: =IF(G16="",IF(C16="","",F15+1),F15+1) -> 4 | G16: 31682.86 | H16: =IF(E16="","",IF(H$3="","",E16*(1+H$3/100))) -> 31795.497 | I16: =IF(E16="","",IF(G16="","",G16-E16)) -> 45.55 | J16: =IF(I16="","",100*I16/E16) -> 0.14397558 | K16: =IF(J16="","",IF(J16<=-H$4,"Stop",IF(J16>=H$3,"Alvo",IF(G16="","Continue","")))) | M16: =M15+1 -> 13 | N16: =N15*(1+R$5/100) -> 5.2647276e+08 | O16: =100*(N16-R$3)/R$3 -> 52647176 | Q16: % Mês | R16: =100*((1+R15/100)^(30/7)-1) -> 8.8116494
B17: =IF(C17="",B16,B16+1) -> 5 | C17: 42732 | D17: =IF(C17="",D16,D16+1) -> 5 | E17: =IF(G16="","",G16) -> 31682.86 | F17: =IF(G17="",IF(C17="","",F16+1),F16+1) -> 5 | G17: 31730.22 | H17: =IF(E17="","",IF(H$3="","",E17*(1+H$3/100))) -> 31841.274 | I17: =IF(E17="","",IF(G17="","",G17-E17)) -> 47.36 | J17: =IF(I17="","",100*I17/E17) -> 0.14948145 | K17: =IF(J17="","",IF(J17<=-H$4,"Stop",IF(J17>=H$3,"Alvo",IF(G17="","Continue","")))) | M17: =M16+1 -> 14 | N17: =N16*(1+R$5/100) -> 1.4503798e+09 | O17: =100*(N17-R$3)/R$3 -> 1.4503788e+08 | Q17: % Ano | R17: =100*((1+R15/100)^(360/7)-1) -> 175.48929
B18: =IF(C18="",B17,B17+1) -> 6 | C18: 42733 | D18: =IF(C18="",D17,D17+1) -> 6 | E18: =IF(G17="","",G17) -> 31730.22 | F18: =IF(G18="",IF(C18="","",F17+1),F17+1) -> 6 | G18: 31830.78 | H18: =IF(E18="","",IF(H$3="","",E18*(1+H$3/100))) -> 31888.871 | I18: =IF(E18="","",IF(G18="","",G18-E18)) -> 100.56 | J18: =IF(I18="","",100*I18/E18) -> 0.31692185 | K18: =IF(J18="","",IF(J18<=-H$4,"Stop",IF(J18>=H$3,"Alvo",IF(G18="","Continue","")))) | M18: =M17+1 -> 15 | N18: =N17*(1+R$5/100) -> 3.9956513e+09 | O18: =100*(N18-R$3)/R$3 -> 3.9956503e+08
B19: =IF(C19="",B18,B18+1) -> 7 | C19: 42734 | D19: =IF(C19="",D18,D18+1) -> 7 | E19: =IF(G18="","",G18) -> 31830.78 | F19: =IF(G19="",IF(C19="","",F18+1),F18+1) -> 7 | G19: 31883.9 | H19: =IF(E19="","",IF(H$3="","",E19*(1+H$3/100))) -> 31989.934 | I19: =IF(E19="","",IF(G19="","",G19-E19)) -> 53.12 | J19: =IF(I19="","",100*I19/E19) -> 0.1668825 | K19: =IF(J19="","",IF(J19<=-H$4,"Stop",IF(J19>=H$3,"Alvo",IF(G19="","Continue","")))) | M19: =M18+1 -> 16 | N19: =N18*(1+R$5/100) -> 1.100762e+10 | O19: =100*(N19-R$3)/R$3 -> 1.1007619e+09 | Q19: % Mês | R19: 20
B20: =IF(C20="",B19,B19+1) -> 7 | D20: =IF(C20="",D19,D19+1) -> 7 | E20: =IF(G19="","",G19) -> 31883.9 | F20: =IF(G20="",IF(C20="","",F19+1),F19+1) -> 8 | G20: 31927.74 | H20: =IF(E20="","",IF(H$3="","",E20*(1+H$3/100))) -> 32043.319 | I20: =IF(E20="","",IF(G20="","",G20-E20)) -> 43.84 | J20: =IF(I20="","",100*I20/E20) -> 0.13749886 | K20: =IF(J20="","",IF(J20<=-H$4,"Stop",IF(J20>=H$3,"Alvo",IF(G20="","Continue","")))) | M20: =M19+1 -> 17 | N20: =N19*(1+R$5/100) -> 3.0324892e+10 | O20: =100*(N20-R$3)/R$3 -> 3.0324891e+09 | Q20: % Ano | R20: =100*((1+R19/100)^12-1) -> 791.61004
B21: =IF(C21="",B20,B20+1) -> 7 | D21: =IF(C21="",D20,D20+1) -> 7 | E21: =IF(G20="","",G20) -> 31927.74 | F21: =IF(G21="",IF(C21="","",F20+1),F20+1) -> 9 | G21: 31974.46 | H21: =IF(E21="","",IF(H$3="","",E21*(1+H$3/100))) -> 32087.379 | I21: =IF(E21="","",IF(G21="","",G21-E21)) -> 46.72 | J21: =IF(I21="","",100*I21/E21) -> 0.14633043 | K21: =IF(J21="","",IF(J21<=-H$4,"Stop",IF(J21>=H$3,"Alvo",IF(G21="","Continue","")))) | M21: =M20+1 -> 18 | N21: =N20*(1+R$5/100) -> 8.3542045e+10 | O21: =100*(N21-R$3)/R$3 -> 8.3542044e+09
B22: =IF(C22="",B21,B21+1) -> 7 | D22: =IF(C22="",D21,D21+1) -> 7 | E22: =IF(G21="","",G21) -> 31974.46 | F22: =IF(G22="",IF(C22="","",F21+1),F21+1) -> 10 | G22: 31994.94 | H22: =IF(E22="","",IF(H$3="","",E22*(1+H$3/100))) -> 32134.332 | I22: =IF(E22="","",IF(G22="","",G22-E22)) -> 20.48 | J22: =IF(I22="","",100*I22/E22) -> 0.064051121 | K22: =IF(J22="","",IF(J22<=-H$4,"Stop",IF(J22>=H$3,"Alvo",IF(G22="","Continue","")))) | M22: =M21+1 -> 19 | N22: =N21*(1+R$5/100) -> 2.3014998e+11 | O22: =100*(N22-R$3)/R$3 -> 2.3014998e+10
B23: =IF(C23="",B22,B22+1) -> 7 | D23: =IF(C23="",D22,D22+1) -> 7 | E23: =IF(G22="","",G22) -> 31994.94 | F23: =IF(G23="",IF(C23="","",F22+1),F22+1) -> 11 | G23: 33112.58 | H23: =IF(E23="","",IF(H$3="","",E23*(1+H$3/100))) -> 32154.915 | I23: =IF(E23="","",IF(G23="","",G23-E23)) -> 1117.64 | J23: =IF(I23="","",100*I23/E23) -> 3.4931774 | K23: =IF(J23="","",IF(J23<=-H$4,"Stop",IF(J23>=H$3,"Alvo",IF(G23="","Continue","")))) -> Alvo | M23: =M22+1 -> 20 | N23: =N22*(1+R$5/100) -> 6.3404018e+11 | O23: =100*(N23-R$3)/R$3 -> 6.3404018e+10 | Q23: % Ano | R23: 100
B24: =IF(C24="",B23,B23+1) -> 7 | D24: =IF(C24="",D23,D23+1) -> 7 | E24: =IF(G23="","",G23) -> 33112.58 | F24: =IF(G24="",IF(C24="","",F23+1),F23+1) | H24: =IF(E24="","",IF(H$3="","",E24*(1+H$3/100))) -> 33278.143 | I24: =IF(E24="","",IF(G24="","",G24-E24)) | J24: =IF(I24="","",100*I24/E24) | K24: =IF(J24="","",IF(J24<=-H$4,"Stop",IF(J24>=H$3,"Alvo",IF(G24="","Continue","")))) | M24: =M23+1 -> 21 | N24: =N23*(1+R$5/100) -> 1.7467173e+12 | O24: =100*(N24-R$3)/R$3 -> 1.7467173e+11 | Q24: % Mês | R24: =100*((1+R23/100)^(1/12)-1) -> 5.9463094
B25: =IF(C25="",B24,B24+1) -> 7 | D25: =IF(C25="",D24,D24+1) -> 7 | E25: =IF(G24="","",G24) | F25: =IF(G25="",IF(C25="","",F24+1),F24+1) | H25: =IF(E25="","",IF(H$3="","",E25*(1+H$3/100))) | I25: =IF(E25="","",IF(G25="","",G25-E25)) | J25: =IF(I25="","",100*I25/E25) | K25: =IF(J25="","",IF(J25<=-H$4,"Stop",IF(J25>=H$3,"Alvo",IF(G25="","Continue","")))) | M25: =M24+1 -> 22 | N25: =N24*(1+R$5/100) -> 4.8120315e+12 | O25: =100*(N25-R$3)/R$3 -> 4.8120315e+11 | Q25: % Semana | R25: =100*((1+R23/100)^(7/360)-1) -> 1.3569098
B26: =IF(C26="",B25,B25+1) -> 7 | D26: =IF(C26="",D25,D25+1) -> 7 | E26: =IF(G25="","",G25) | F26: =IF(G26="",IF(C26="","",F25+1),F25+1) | H26: =IF(E26="","",IF(H$3="","",E26*(1+H$3/100))) | I26: =IF(E26="","",IF(G26="","",G26-E26)) | J26: =IF(I26="","",100*I26/E26) | K26: =IF(J26="","",IF(J26<=-H$4,"Stop",IF(J26>=H$3,"Alvo",IF(G26="","Continue","")))) | M26: =M25+1 -> 23 | N26: =N25*(1+R$5/100) -> 1.3256665e+13 | O26: =100*(N26-R$3)/R$3 -> 1.3256665e+12 | Q26: % Dia | R26: =100*((1+R23/100)^(7/360/5)-1) -> 0.26992087
B27: =IF(C27="",B26,B26+1) -> 7 | D27: =IF(C27="",D26,D26+1) -> 7 | E27: =IF(G26="","",G26) | F27: =IF(G27="",IF(C27="","",F26+1),F26+1) | H27: =IF(E27="","",IF(H$3="","",E27*(1+H$3/100))) | I27: =IF(E27="","",IF(G27="","",G27-E27)) | J27: =IF(I27="","",100*I27/E27) | K27: =IF(J27="","",IF(J27<=-H$4,"Stop",IF(J27>=H$3,"Alvo",IF(G27="","Continue","")))) | M27: =M26+1 -> 24 | N27: =N26*(1+R$5/100) -> 3.6520788e+13 | O27: =100*(N27-R$3)/R$3 -> 3.6520788e+12
B28: =IF(C28="",B27,B27+1) -> 7 | D28: =IF(C28="",D27,D27+1) -> 7 | E28: =IF(G27="","",G27) | F28: =IF(G28="",IF(C28="","",F27+1),F27+1) | H28: =IF(E28="","",IF(H$3="","",E28*(1+H$3/100))) | I28: =IF(E28="","",IF(G28="","",G28-E28)) | J28: =IF(I28="","",100*I28/E28) | K28: =IF(J28="","",IF(J28<=-H$4,"Stop",IF(J28>=H$3,"Alvo",IF(G28="","Continue","")))) | M28: =M27+1 -> 25 | N28: =N27*(1+R$5/100) -> 1.0061112e+14 | O28: =100*(N28-R$3)/R$3 -> 1.0061112e+13 | Q28: % Mês | R28: 20
B29: =IF(C29="",B28,B28+1) -> 7 | D29: =IF(C29="",D28,D28+1) -> 7 | E29: =IF(G28="","",G28) | F29: =IF(G29="",IF(C29="","",F28+1),F28+1) | H29: =IF(E29="","",IF(H$3="","",E29*(1+H$3/100))) | I29: =IF(E29="","",IF(G29="","",G29-E29)) | J29: =IF(I29="","",100*I29/E29) | K29: =IF(J29="","",IF(J29<=-H$4,"Stop",IF(J29>=H$3,"Alvo",IF(G29="","Continue","")))) | M29: =M28+1 -> 26 | N29: =N28*(1+R$5/100) -> 2.7717357e+14 | O29: =100*(N29-R$3)/R$3 -> 2.7717357e+13 | Q29: % Semana | R29: =100*((1+R28/100)^(7/30)-1) -> 4.3459564
B30: =IF(C30="",B29,B29+1) -> 7 | D30: =IF(C30="",D29,D29+1) -> 7 | E30: =IF(G29="","",G29) | F30: =IF(G30="",IF(C30="","",F29+1),F29+1) | H30: =IF(E30="","",IF(H$3="","",E30*(1+H$3/100))) | I30: =IF(E30="","",IF(G30="","",G30-E30)) | J30: =IF(I30="","",100*I30/E30) | K30: =IF(J30="","",IF(J30<=-H$4,"Stop",IF(J30>=H$3,"Alvo",IF(G30="","Continue","")))) | M30: =M29+1 -> 27 | N30: =N29*(1+R$5/100) -> 7.6358547e+14 | O30: =100*(N30-R$3)/R$3 -> 7.6358547e+13 | Q30: % Dia | R30: =100*((1+R28/100)^(7/150)-1) -> 0.85446381
B31: =IF(C31="",B30,B30+1) -> 7 | D31: =IF(C31="",D30,D30+1) -> 7 | E31: =IF(G30="","",G30) | F31: =IF(G31="",IF(C31="","",F30+1),F30+1) | H31: =IF(E31="","",IF(H$3="","",E31*(1+H$3/100))) | I31: =IF(E31="","",IF(G31="","",G31-E31)) | J31: =IF(I31="","",100*I31/E31) | K31: =IF(J31="","",IF(J31<=-H$4,"Stop",IF(J31>=H$3,"Alvo",IF(G31="","Continue","")))) | M31: =M30+1 -> 28 | N31: =N30*(1+R$5/100) -> 2.1036016e+15 | O31: =100*(N31-R$3)/R$3 -> 2.1036016e+14
B32: =IF(C32="",B31,B31+1) -> 7 | D32: =IF(C32="",D31,D31+1) -> 7 | E32: =IF(G31="","",G31) | F32: =IF(G32="",IF(C32="","",F31+1),F31+1) | H32: =IF(E32="","",IF(H$3="","",E32*(1+H$3/100))) | I32: =IF(E32="","",IF(G32="","",G32-E32)) | J32: =IF(I32="","",100*I32/E32) | K32: =IF(J32="","",IF(J32<=-H$4,"Stop",IF(J32>=H$3,"Alvo",IF(G32="","Continue","")))) | M32: =M31+1 -> 29 | N32: =N31*(1+R$5/100) -> 5.7952121e+15 | O32: =100*(N32-R$3)/R$3 -> 5.7952121e+14 | Q32: % Semana | R32: 5
B33: =IF(C33="",B32,B32+1) -> 7 | D33: =IF(C33="",D32,D32+1) -> 7 | E33: =IF(G32="","",G32) | F33: =IF(G33="",IF(C33="","",F32+1),F32+1) | M33: =M32+1 -> 30 | N33: =N32*(1+R$5/100) -> 1.596523e+16 | O33: =100*(N33-R$3)/R$3 -> 1.596523e+15 | Q33: % Dia | R33: =100*((1+R32/100)^(1/5)-1) -> 0.98057977

Sheet Open
F2: Spread | G2: =10000*(E6-E7) -> 1.3 | H2: Equity | I2: =SUM(E5:H5) -> 31830.78 | J2: =IF(I11="","",MATCH(J29,J11:J28,0)) | K2: Rescue calculator | P2: Max pips DD
B3: Balance | E3: Starting balance | G3: $ Profit | J3: Last Open | K3: TP factor | L3: $ Profit | M3: % | N3: Exit 1 | O3: Exit 2 | P3: =IF(B11="",0,IF(E11="",0,IF(K11="",P3,IF(O8<>"",10000*ABS(O8-E11),IF(B11>0,IF(10000*(E11-K11)>P3,10000*(E11-K11),P3),IF(B11<0,IF(10000*(K11-E11)>P3,10000*(K11-E11),P3))))))) -> 0
G4: Closed | H4: Floating | I4: Total | J4: =IF(I11="","",INDEX(B11:B28,J2)) | K4: 1 | L4: =IF(K4="","",IF(P11="","",K4*P11)) | M4: =IF(L4="","",IF(E5="","",100*L4/E5)) | N4: =IF(K4="","",IF(K11="","",IF(D29=0,"",K11+(L4-G5-H5)/P20/D29))) | O4: =IF(D29="","",IF(D11=D29,"",(L4-G5-H5-D29*P20*(J6-K11))/(D29-J4)/P20+J6)) | P4: Max % DD
B5: =E5+G5 -> 31830.78 | E5: =DLog!$H$2 -> 31830.78 | G5: =SUM(L11:L28) -> 0 | H5: =SUM(M11:M28) -> 0 | I5: =G5+H5 -> 0 | J5: TP Last | K5: =IF(L5="","",IF(P11="","",L5/P11)) | L5: =IF(N5="","",IF(K11="","",IF(D29="","",G5+H5+(N5-K11)*P20*D29))) | M5: =IF(L5="","",100*L5/E5) | P5: =IF(O8<>"",P8,IF(O6<>"",O6,IF(I6<-P5,-I6,P5))) -> #VALUE!
B6: Ask | E6: =[1]!EURUSD/100000 -> 1.05184 | G6: =100*G5/E5 -> 0 | H6: =100*H5/E5 -> 0 | I6: =100*(I2/E5-1) -> 0 | J6: =IF(I11="","",INDEX(F11:F28,J2)) | K6: Stop out | L6: =IF(M6="","",-M6*E5/100) -> -9549.234 | M6: 30 | N6: =IF(M6="","",IF(K11="","",IF(D29=0,"",K11-(I2-E5-L6)/P20/D29))) | P6: Kelly Alert
B7: Bid | E7: =[2]!EURUSD/100000 -> 1.05171 | G7: % Profit | K7: Kelly | L7: =IF(M7="","",-M7*E5/100) -> 0 | M7: 0 | N7: =IF(M7="","",IF(K11="","",IF(M7=0,"",IF(D29=0,"",K11-(I2-E5-L7)/P20/D29)))) | O7: Reset DD | P7: =IF(M7="","",IF(M7=0,"Kelly = 0",IF(P5="","",100*P5/M7))) -> Kelly = 0
N8: Extremo | P8: =IF(O8="","",ABS(100*(D29*P20*(O8-K11+0.00015)+I5)/E5))
B9: Lots (+-) | C9: # | D9: Open Lots | E9: Entry Price | F9: Take Profit | G9: $ Profit Target | H9: Swap | I9: Status (p/o/c) | J9: # | K9: Price | L9: Closed Profit $ | M9: Floating Profit $ | N9: % Profit | O9: Scout Default
O10: Take profit | P10: $ Target
C11: =IF(D11="","",1) | D11: =IF(B11="","",IF(I11="p",D10,IF(I11="o",D10+B11,IF(I11="c",D10,IF(I11="","","Status?"))))) | G11: =IF(B11="","",IF(E11="","",IF(F11="","",B11*P$20*(F11-E11)))) | J11: =IF(I11="o",1,"") | K11: =IF(B11="","",IF(I11<>"o","",IF(B11>0,E$7,IF(B11<0,E$6,"Posição?")))) | L11: =IF(B11="","",IF(E11="","",IF(F11="","",IF(H11="","",IF(I11="c",B11*P$20*(F11-E11)+H11,""))))) | M11: =IF(B11="","",IF(E11="","",IF(H11="","",IF(I11="o",B11*P$20*(K11-E11)+H11,"")))) | N11: =IF(B11="","",IF(E11="","",IF(H11="","",IF(I11="p",100*G11/E$5,IF(I11="o",100*M11/E$5,IF(I11="c",100*L11/E$5,"")))))) | P11: =IF(B11="","",IF(E11="","",IF(O11="","",B11*P$20*(O11-E11))))
C12: =IF(D12="","",C11+1) | D12: =IF(B12="","",IF(I12="p",D11,IF(I12="o",D11+B12,IF(I12="c",D11,IF(I12="","","Status?"))))) | G12: =IF(B12="","",IF(E12="","",IF(F12="","",B12*P$20*(F12-E12)))) | J12: =IF(J11="","",IF(I12="","",IF(I12="o",J11+1,J11))) | K12: =IF(B12="","",IF(I12<>"o","",IF(B12>0,E$7,IF(B12<0,E$6,"Posição?")))) | L12: =IF(B12="","",IF(E12="","",IF(F12="","",IF(H12="","",IF(I12="c",B12*P$20*(F12-E12)+H12,""))))) | M12: =IF(B12="","",IF(E12="","",IF(H12="","",IF(I12="o",B12*P$20*(K12-E12)+H12,"")))) | N12: =IF(B12="","",IF(E12="","",IF(H12="","",IF(I12="p",100*G12/E$5,IF(I12="o",100*M12/E$5,IF(I12="c",100*L12/E$5,"")))))) | O12: Current $ | P12: =IF(G11="","",SUM(G11:H28))
C13: =IF(D13="","",C12+1) | D13: =IF(B13="","",IF(I13="p",D12,IF(I13="o",D12+B13,IF(I13="c",D12,IF(I13="","","Status?"))))) | G13: =IF(B13="","",IF(E13="","",IF(F13="","",B13*P$20*(F13-E13)))) | J13: =IF(J12="","",IF(I13="","",IF(I13="o",J12+1,J12))) | K13: =IF(B13="","",IF(I13<>"o","",IF(B13>0,E$7,IF(B13<0,E$6,"Posição?")))) | L13: =IF(B13="","",IF(E13="","",IF(F13="","",IF(H13="","",IF(I13="c",B13*P$20*(F13-E13)+H13,""))))) | M13: =IF(B13="","",IF(E13="","",IF(H13="","",IF(I13="o",B13*P$20*(K13-E13)+H13,"")))) | N13: =IF(B13="","",IF(E13="","",IF(H13="","",IF(I13="p",100*G13/E$5,IF(I13="o",100*M13/E$5,IF(I13="c",100*L13/E$5,"")))))) | O13: % | P13: =IF(P12="","",100*P12/E5)
C14: =IF(D14="","",C13+1) | D14: =IF(B14="","",IF(I14="p",D13,IF(I14="o",D13+B14,IF(I14="c",D13,IF(I14="","","Status?"))))) | G14: =IF(B14="","",IF(E14="","",IF(F14="","",B14*P$20*(F14-E14)))) | J14: =IF(J13="","",IF(I14="","",IF(I14="o",J13+1,J13))) | K14: =IF(B14="","",IF(I14<>"o","",IF(B14>0,E$7,IF(B14<0,E$6,"Posição?")))) | L14: =IF(B14="","",IF(E14="","",IF(F14="","",IF(H14="","",IF(I14="c",B14*P$20*(F14-E14)+H14,""))))) | M14: =IF(B14="","",IF(E14="","",IF(H14="","",IF(I14="o",B14*P$20*(K14-E14)+H14,"")))) | N14: =IF(B14="","",IF(E14="","",IF(H14="","",IF(I14="p",100*G14/E$5,IF(I14="o",100*M14/E$5,IF(I14="c",100*L14/E$5,"")))))) | O14: Factor | P14: =IF(P12=0,"",IF(P11="","",P12/P11))
C15: =IF(D15="","",C14+1) | D15: =IF(B15="","",IF(I15="p",D14,IF(I15="o",D14+B15,IF(I15="c",D14,IF(I15="","","Status?"))))) | G15: =IF(B15="","",IF(E15="","",IF(F15="","",B15*P$20*(F15-E15)))) | J15: =IF(J14="","",IF(I15="","",IF(I15="o",J14+1,J14))) | K15: =IF(B15="","",IF(I15<>"o","",IF(B15>0,E$7,IF(B15<0,E$6,"Posição?")))) | L15: =IF(B15="","",IF(E15="","",IF(F15="","",IF(H15="","",IF(I15="c",B15*P$20*(F15-E15)+H15,""))))) | M15: =IF(B15="","",IF(E15="","",IF(H15="","",IF(I15="o",B15*P$20*(K15-E15)+H15,"")))) | N15: =IF(B15="","",IF(E15="","",IF(H15="","",IF(I15="p",100*G15/E$5,IF(I15="o",100*M15/E$5,IF(I15="c",100*L15/E$5,"")))))) | O15: Lotes
C16: =IF(D16="","",C15+1) | D16: =IF(B16="","",IF(I16="p",D15,IF(I16="o",D15+B16,IF(I16="c",D15,IF(I16="","","Status?"))))) | G16: =IF(B16="","",IF(E16="","",IF(F16="","",B16*P$20*(F16-E16)))) | J16: =IF(J15="","",IF(I16="","",IF(I16="o",J15+1,J15))) | K16: =IF(B16="","",IF(I16<>"o","",IF(B16>0,E$7,IF(B16<0,E$6,"Posição?")))) | L16: =IF(B16="","",IF(E16="","",IF(F16="","",IF(H16="","",IF(I16="c",B16*P$20*(F16-E16)+H16,""))))) | M16: =IF(B16="","",IF(E16="","",IF(H16="","",IF(I16="o",B16*P$20*(K16-E16)+H16,"")))) | N16: =IF(B16="","",IF(E16="","",IF(H16="","",IF(I16="p",100*G16/E$5,IF(I16="o",100*M16/E$5,IF(I16="c",100*L16/E$5,"")))))) | O16: Balanço | P16: =E5 -> 31830.78
C17: =IF(D17="","",C16+1) | D17: =IF(B17="","",IF(I17="p",D16,IF(I17="o",D16+B17,IF(I17="c",D16,IF(I17="","","Status?"))))) | G17: =IF(B17="","",IF(E17="","",IF(F17="","",B17*P$20*(F17-E17)))) | J17: =IF(J16="","",IF(I17="","",IF(I17="o",J16+1,J16))) | K17: =IF(B17="","",IF(I17<>"o","",IF(B17>0,E$7,IF(B17<0,E$6,"Posição?")))) | L17: =IF(B17="","",IF(E17="","",IF(F17="","",IF(H17="","",IF(I17="c",B17*P$20*(F17-E17)+H17,""))))) | M17: =IF(B17="","",IF(E17="","",IF(H17="","",IF(I17="o",B17*P$20*(K17-E17)+H17,"")))) | N17: =IF(B17="","",IF(E17="","",IF(H17="","",IF(I17="p",100*G17/E$5,IF(I17="o",100*M17/E$5,IF(I17="c",100*L17/E$5,"")))))) | O17: Base leverage | P17: 1
C18: =IF(D18="","",C17+1) | D18: =IF(B18="","",IF(I18="p",D17,IF(I18="o",D17+B18,IF(I18="c",D17,IF(I18="","","Status?"))))) | G18: =IF(B18="","",IF(E18="","",IF(F18="","",B18*P$20*(F18-E18)))) | J18: =IF(J17="","",IF(I18="","",IF(I18="o",J17+1,J17))) | K18: =IF(B18="","",IF(I18<>"o","",IF(B18>0,E$7,IF(B18<0,E$6,"Posição?")))) | L18: =IF(B18="","",IF(E18="","",IF(F18="","",IF(H18="","",IF(I18="c",B18*P$20*(F18-E18)+H18,""))))) | M18: =IF(B18="","",IF(E18="","",IF(H18="","",IF(I18="o",B18*P$20*(K18-E18)+H18,"")))) | N18: =IF(B18="","",IF(E18="","",IF(H18="","",IF(I18="p",100*G18/E$5,IF(I18="o",100*M18/E$5,IF(I18="c",100*L18/E$5,"")))))) | O18: Increm (0:100+) | P18: 0
C19: =IF(D19="","",C18+1) | D19: =IF(B19="","",IF(I19="p",D18,IF(I19="o",D18+B19,IF(I19="c",D18,IF(I19="","","Status?"))))) | G19: =IF(B19="","",IF(E19="","",IF(F19="","",B19*P$20*(F19-E19)))) | J19: =IF(J18="","",IF(I19="","",IF(I19="o",J18+1,J18))) | K19: =IF(B19="","",IF(I19<>"o","",IF(B19>0,E$7,IF(B19<0,E$6,"Posição?")))) | L19: =IF(B19="","",IF(E19="","",IF(F19="","",IF(H19="","",IF(I19="c",B19*P$20*(F19-E19)+H19,""))))) | M19: =IF(B19="","",IF(E19="","",IF(H19="","",IF(I19="o",B19*P$20*(K19-E19)+H19,"")))) | N19: =IF(B19="","",IF(E19="","",IF(H19="","",IF(I19="p",100*G19/E$5,IF(I19="o",100*M19/E$5,IF(I19="c",100*L19/E$5,"")))))) | O19: Start leverage | P19: =IF(P17="","",IF(P18="","",IF(P28="","",P17*(1+P18*(P28-1)/100)))) -> 1
C20: =IF(D20="","",C19+1) | D20: =IF(B20="","",IF(I20="p",D19,IF(I20="o",D19+B20,IF(I20="c",D19,IF(I20="","","Status?"))))) | G20: =IF(B20="","",IF(E20="","",IF(F20="","",B20*P$20*(F20-E20)))) | J20: =IF(J19="","",IF(I20="","",IF(I20="o",J19+1,J19))) | K20: =IF(B20="","",IF(I20<>"o","",IF(B20>0,E$7,IF(B20<0,E$6,"Posição?")))) | L20: =IF(B20="","",IF(E20="","",IF(F20="","",IF(H20="","",IF(I20="c",B20*P$20*(F20-E20)+H20,""))))) | M20: =IF(B20="","",IF(E20="","",IF(H20="","",IF(I20="o",B20*P$20*(K20-E20)+H20,"")))) | N20: =IF(B20="","",IF(E20="","",IF(H20="","",IF(I20="p",100*G20/E$5,IF(I20="o",100*M20/E$5,IF(I20="c",100*L20/E$5,"")))))) | O20: Lot size | P20: 100000
C21: =IF(D21="","",C20+1) | D21: =IF(B21="","",IF(I21="p",D20,IF(I21="o",D20+B21,IF(I21="c",D20,IF(I21="","","Status?"))))) | G21: =IF(B21="","",IF(E21="","",IF(F21="","",B21*P$20*(F21-E21)))) | J21: =IF(J20="","",IF(I21="","",IF(I21="o",J20+1,J20))) | K21: =IF(B21="","",IF(I21<>"o","",IF(B21>0,E$7,IF(B21<0,E$6,"Posição?")))) | L21: =IF(B21="","",IF(E21="","",IF(F21="","",IF(H21="","",IF(I21="c",B21*P$20*(F21-E21)+H21,""))))) | M21: =IF(B21="","",IF(E21="","",IF(H21="","",IF(I21="o",B21*P$20*(K21-E21)+H21,"")))) | N21: =IF(B21="","",IF(E21="","",IF(H21="","",IF(I21="p",100*G21/E$5,IF(I21="o",100*M21/E$5,IF(I21="c",100*L21/E$5,"")))))) | O21: Lotes 1 | P21: =IF(P16="","",IF(P19="","",IF(P20="","",P16*P19/P20))) -> 0.3183078
C22: =IF(D22="","",C21+1) | D22: =IF(B22="","",IF(I22="p",D21,IF(I22="o",D21+B22,IF(I22="c",D21,IF(I22="","","Status?"))))) | G22: =IF(B22="","",IF(E22="","",IF(F22="","",B22*P$20*(F22-E22)))) | J22: =IF(J21="","",IF(I22="","",IF(I22="o",J21+1,J21))) | K22: =IF(B22="","",IF(I22<>"o","",IF(B22>0,E$7,IF(B22<0,E$6,"Posição?")))) | L22: =IF(B22="","",IF(E22="","",IF(F22="","",IF(H22="","",IF(I22="c",B22*P$20*(F22-E22)+H22,""))))) | M22: =IF(B22="","",IF(E22="","",IF(H22="","",IF(I22="o",B22*P$20*(K22-E22)+H22,"")))) | N22: =IF(B22="","",IF(E22="","",IF(H22="","",IF(I22="p",100*G22/E$5,IF(I22="o",100*M22/E$5,IF(I22="c",100*L22/E$5,"")))))) | O22: Lotes 2 | P22: =IF(P21="","",2*P21) -> 0.6366156
C23: =IF(D23="","",C22+1) | D23: =IF(B23="","",IF(I23="p",D22,IF(I23="o",D22+B23,IF(I23="c",D22,IF(I23="","","Status?"))))) | G23: =IF(B23="","",IF(E23="","",IF(F23="","",B23*P$20*(F23-E23)))) | J23: =IF(J22="","",IF(I23="","",IF(I23="o",J22+1,J22))) | K23: =IF(B23="","",IF(I23<>"o","",IF(B23>0,E$7,IF(B23<0,E$6,"Posição?")))) | L23: =IF(B23="","",IF(E23="","",IF(F23="","",IF(H23="","",IF(I23="c",B23*P$20*(F23-E23)+H23,""))))) | M23: =IF(B23="","",IF(E23="","",IF(H23="","",IF(I23="o",B23*P$20*(K23-E23)+H23,"")))) | N23: =IF(B23="","",IF(E23="","",IF(H23="","",IF(I23="p",100*G23/E$5,IF(I23="o",100*M23/E$5,IF(I23="c",100*L23/E$5,"")))))) | O23: Lotes 3 | P23: =IF(P22="","",2*P22) -> 1.2732312
C24: =IF(D24="","",C23+1) | D24: =IF(B24="","",IF(I24="p",D23,IF(I24="o",D23+B24,IF(I24="c",D23,IF(I24="","","Status?"))))) | G24: =IF(B24="","",IF(E24="","",IF(F24="","",B24*P$20*(F24-E24)))) | J24: =IF(J23="","",IF(I24="","",IF(I24="o",J23+1,J23))) | K24: =IF(B24="","",IF(I24<>"o","",IF(B24>0,E$7,IF(B24<0,E$6,"Posição?")))) | L24: =IF(B24="","",IF(E24="","",IF(F24="","",IF(H24="","",IF(I24="c",B24*P$20*(F24-E24)+H24,""))))) | M24: =IF(B24="","",IF(E24="","",IF(H24="","",IF(I24="o",B24*P$20*(K24-E24)+H24,"")))) | N24: =IF(B24="","",IF(E24="","",IF(H24="","",IF(I24="p",100*G24/E$5,IF(I24="o",100*M24/E$5,IF(I24="c",100*L24/E$5,"")))))) | O24: Lotes 4 | P24: =IF(P23="","",2*P23) -> 2.5464624
C25: =IF(D25="","",C24+1) | D25: =IF(B25="","",IF(I25="p",D24,IF(I25="o",D24+B25,IF(I25="c",D24,IF(I25="","","Status?"))))) | G25: =IF(B25="","",IF(E25="","",IF(F25="","",B25*P$20*(F25-E25)))) | J25: =IF(J24="","",IF(I25="","",IF(I25="o",J24+1,J24))) | K25: =IF(B25="","",IF(I25<>"o","",IF(B25>0,E$7,IF(B25<0,E$6,"Posição?")))) | L25: =IF(B25="","",IF(E25="","",IF(F25="","",IF(H25="","",IF(I25="c",B25*P$20*(F25-E25)+H25,""))))) | M25: =IF(B25="","",IF(E25="","",IF(H25="","",IF(I25="o",B25*P$20*(K25-E25)+H25,"")))) | N25: =IF(B25="","",IF(E25="","",IF(H25="","",IF(I25="p",100*G25/E$5,IF(I25="o",100*M25/E$5,IF(I25="c",100*L25/E$5,"")))))) | O25: Lotes 5 | P25: =IF(P24="","",2*P24) -> 5.0929248
C26: =IF(D26="","",C25+1) | D26: =IF(B26="","",IF(I26="p",D25,IF(I26="o",D25+B26,IF(I26="c",D25,IF(I26="","","Status?"))))) | G26: =IF(B26="","",IF(E26="","",IF(F26="","",B26*P$20*(F26-E26)))) | J26: =IF(J25="","",IF(I26="","",IF(I26="o",J25+1,J25))) | K26: =IF(B26="","",IF(I26<>"o","",IF(B26>0,E$7,IF(B26<0,E$6,"Posição?")))) | L26: =IF(B26="","",IF(E26="","",IF(F26="","",IF(H26="","",IF(I26="c",B26*P$20*(F26-E26)+H26,""))))) | M26: =IF(B26="","",IF(E26="","",IF(H26="","",IF(I26="o",B26*P$20*(K26-E26)+H26,"")))) | N26: =IF(B26="","",IF(E26="","",IF(H26="","",IF(I26="p",100*G26/E$5,IF(I26="o",100*M26/E$5,IF(I26="c",100*L26/E$5,"")))))) | O26: Max % DD | P26: 25.61
C27: =IF(D27="","",C26+1) | D27: =IF(B27="","",IF(I27="p",D26,IF(I27="o",D26+B27,IF(I27="c",D26,IF(I27="","","Status?"))))) | G27: =IF(B27="","",IF(E27="","",IF(F27="","",B27*P$20*(F27-E27)))) | J27: =IF(J26="","",IF(I27="","",IF(I27="o",J26+1,J26))) | K27: =IF(B27="","",IF(I27<>"o","",IF(B27>0,E$7,IF(B27<0,E$6,"Posição?")))) | L27: =IF(B27="","",IF(E27="","",IF(F27="","",IF(H27="","",IF(I27="c",B27*P$20*(F27-E27)+H27,""))))) | M27: =IF(B27="","",IF(E27="","",IF(H27="","",IF(I27="o",B27*P$20*(K27-E27)+H27,"")))) | N27: =IF(B27="","",IF(E27="","",IF(H27="","",IF(I27="p",100*G27/E$5,IF(I27="o",100*M27/E$5,IF(I27="c",100*L27/E$5,"")))))) | O27: Kelly % DD
C28: =IF(D28="","",C27+1) | D28: =IF(B28="","",IF(I28="p",D27,IF(I28="o",D27+B28,IF(I28="c",D27,IF(I28="","","Status?"))))) | G28: =IF(B28="","",IF(E28="","",IF(F28="","",B28*P$20*(F28-E28)))) | J28: =IF(J27="","",IF(I28="","",IF(I28="o",J27+1,J27))) | K28: =IF(B28="","",IF(I28<>"o","",IF(B28>0,E$7,IF(B28<0,E$6,"Posição?")))) | L28: =IF(B28="","",IF(E28="","",IF(F28="","",IF(H28="","",IF(I28="c",B28*P$20*(F28-E28)+H28,""))))) | M28: =IF(B28="","",IF(E28="","",IF(H28="","",IF(I28="o",B28*P$20*(K28-E28)+H28,"")))) | N28: =IF(B28="","",IF(E28="","",IF(H28="","",IF(I28="p",100*G28/E$5,IF(I28="o",100*M28/E$5,IF(I28="c",100*L28/E$5,"")))))) | O28: Kelly DD Factor | P28: =IF(P26="",1,IF(P27="",1,IF(P27=0,1,P27/P26))) -> 1
B29: Total | D29: =IF(B11="","",VLOOKUP(MAX(C11:C28),C11:D28,2,FALSE)) | E29: Used Leverage | G29: =IF(B5="","",IF(D29="","",IF(E5="","",ABS(P20*D29/E5)))) | J29: =IF(I11="","",COUNTIF(I11:I28,"o"))

Sheet Cy
B2: # | C2: Balanço | D2: % Bal | E2: # | F2: % Bal Méd | G2: % DD | I2: % Bal Méd
B3: 0 | C3: 31019.2 | E3: 0 | I3: =IF(F4="","",VLOOKUP(MAX(E4:E103),E4:F103,2,FALSE)) -> 0.46756758
B4: =B3+1 -> 1 | C4: 31090.03 | D4: =IF(C4="","",100*(C4-C3)/C3) -> 0.22834245 | E4: =IF(C4="","",E3+1) -> 1 | F4: =IF(D4="","",100*(((C4-C$3)/C$3+1)^(1/E4)-1)) -> 0.22834245 | G4: 0.57
B5: =B4+1 -> 2 | C5: 31152.03 | D5: =IF(C5="","",100*(C5-C4)/C4) -> 0.19942084 | E5: =IF(C5="","",E4+1) -> 2 | F5: =IF(D5="","",100*(((C5-C$3)/C$3+1)^(1/E5)-1)) -> 0.2138806 | G5: 0.22 | K5: Há ganho consistente?
B6: =B5+1 -> 3 | C6: 31202.87 | D6: =IF(C6="","",100*(C6-C5)/C5) -> 0.16319964 | E6: =IF(C6="","",E5+1) -> 3 | F6: =IF(D6="","",100*(((C6-C$3)/C$3+1)^(1/E6)-1)) -> 0.1969841 | G6: 0.69
B7: =B6+1 -> 4 | C7: 31227.36 | D7: =IF(C7="","",100*(C7-C6)/C6) -> 0.07848637 | E7: =IF(C7="","",E6+1) -> 4 | F7: =IF(D7="","",100*(((C7-C$3)/C$3+1)^(1/E7)-1)) -> 0.16734652 | G7: 0.11 | K7: Wilcoxon (C3:C16) | M7: =_xlfn.T.TEST(C3:C9,C10:C16,2,3) -> 0.00019082833 | N7: =1-M7 -> 0.99980917
B8: =B7+1 -> 5 | C8: 31533.96 | D8: =IF(C8="","",100*(C8-C7)/C7) -> 0.98183132 | E8: =IF(C8="","",E7+1) -> 5 | F8: =IF(D8="","",100*(((C8-C$3)/C$3+1)^(1/E8)-1)) -> 0.32971623 | G8: 20.45
B9: =B8+1 -> 6 | C9: 31637.31 | D9: =IF(C9="","",100*(C9-C8)/C8) -> 0.3277419 | E9: =IF(C9="","",E8+1) -> 6 | F9: =IF(D9="","",100*(((C9-C$3)/C$3+1)^(1/E9)-1)) -> 0.32938717 | G9: 1.61 | K9: O desempenho está melhorando?
B10: =B9+1 -> 7 | C10: 31682.86 | D10: =IF(C10="","",100*(C10-C9)/C9) -> 0.14397558 | E10: =IF(C10="","",E9+1) -> 7 | F10: =IF(D10="","",100*(((C10-C$3)/C$3+1)^(1/E10)-1)) -> 0.3028788 | G10: 0.14
B11: =B10+1 -> 8 | C11: 31730.22 | D11: =IF(C11="","",100*(C11-C10)/C10) -> 0.14948145 | E11: =IF(C11="","",E10+1) -> 8 | F11: =IF(D11="","",100*(((C11-C$3)/C$3+1)^(1/E11)-1)) -> 0.28369129 | G11: 0.06 | K11: Wilcoxon (D4:D17) | M11: =_xlfn.T.TEST(D4:D10,D11:D17,2,3) -> 0.51648729 | N11: =1-M11 -> 0.48351271
B12: =B11+1 -> 9 | C12: 31830.78 | D12: =IF(C12="","",100*(C12-C11)/C11) -> 0.31692185 | E12: =IF(C12="","",E11+1) -> 9 | F12: =IF(D12="","",100*(((C12-C$3)/C$3+1)^(1/E12)-1)) -> 0.28738303 | G12: 0.27
B13: =B12+1 -> 10 | C13: 31883.9 | D13: =IF(C13="","",100*(C13-C12)/C12) -> 0.1668825 | E13: =IF(C13="","",E12+1) -> 10 | F13: =IF(D13="","",100*(((C13-C$3)/C$3+1)^(1/E13)-1)) -> 0.27532645 | G13: 0.09
B14: =B13+1 -> 11 | C14: 31927.74 | D14: =IF(C14="","",100*(C14-C13)/C13) -> 0.13749886 | E14: =IF(C14="","",E13+1) -> 11 | F14: =IF(D14="","",100*(((C14-C$3)/C$3+1)^(1/E14)-1)) -> 0.26278884 | G14: 0.06
B15: =B14+1 -> 12 | C15: 31974.46 | D15: =IF(C15="","",100*(C15-C14)/C14) -> 0.14633043 | E15: =IF(C15="","",E14+1) -> 12 | F15: =IF(D15="","",100*(((C15-C$3)/C$3+1)^(1/E15)-1)) -> 0.2530788 | G15: 0.15
B16: =B15+1 -> 13 | C16: 31994.94 | D16: =IF(C16="","",100*(C16-C15)/C15) -> 0.064051121 | E16: =IF(C16="","",E15+1) -> 13 | F16: =IF(D16="","",100*(((C16-C$3)/C$3+1)^(1/E16)-1)) -> 0.23852554 | G16: 0.04
B17: =B16+1 -> 14 | C17: 33112.58 | D17: =IF(C17="","",100*(C17-C16)/C16) -> 3.4931774 | E17: =IF(C17="","",E16+1) -> 14 | F17: =IF(D17="","",100*(((C17-C$3)/C$3+1)^(1/E17)-1)) -> 0.46756758 | G17: 25.61
B18: =B17+1 -> 15 | D18: =IF(C18="","",100*(C18-C17)/C17) | E18: =IF(C18="","",E17+1) | F18: =IF(D18="","",100*(((C18-C$3)/C$3+1)^(1/E18)-1))
B19: =B18+1 -> 16 | D19: =IF(C19="","",100*(C19-C18)/C18) | E19: =IF(C19="","",E18+1) | F19: =IF(D19="","",100*(((C19-C$3)/C$3+1)^(1/E19)-1))
B20: =B19+1 -> 17 | D20: =IF(C20="","",100*(C20-C19)/C19) | E20: =IF(C20="","",E19+1) | F20: =IF(D20="","",100*(((C20-C$3)/C$3+1)^(1/E20)-1))
B21: =B20+1 -> 18 | D21: =IF(C21="","",100*(C21-C20)/C20) | E21: =IF(C21="","",E20+1) | F21: =IF(D21="","",100*(((C21-C$3)/C$3+1)^(1/E21)-1))
B22: =B21+1 -> 19 | D22: =IF(C22="","",100*(C22-C21)/C21) | E22: =IF(C22="","",E21+1) | F22: =IF(D22="","",100*(((C22-C$3)/C$3+1)^(1/E22)-1))
B23: =B22+1 -> 20 | D23: =IF(C23="","",100*(C23-C22)/C22) | E23: =IF(C23="","",E22+1) | F23: =IF(D23="","",100*(((C23-C$3)/C$3+1)^(1/E23)-1))
B24: =B23+1 -> 21 | D24: =IF(C24="","",100*(C24-C23)/C23) | E24: =IF(C24="","",E23+1) | F24: =IF(D24="","",100*(((C24-C$3)/C$3+1)^(1/E24)-1))
B25: =B24+1 -> 22 | D25: =IF(C25="","",100*(C25-C24)/C24) | E25: =IF(C25="","",E24+1) | F25: =IF(D25="","",100*(((C25-C$3)/C$3+1)^(1/E25)-1))
B26: =B25+1 -> 23 | D26: =IF(C26="","",100*(C26-C25)/C25) | E26: =IF(C26="","",E25+1) | F26: =IF(D26="","",100*(((C26-C$3)/C$3+1)^(1/E26)-1))
B27: =B26+1 -> 24 | D27: =IF(C27="","",100*(C27-C26)/C26) | E27: =IF(C27="","",E26+1) | F27: =IF(D27="","",100*(((C27-C$3)/C$3+1)^(1/E27)-1))
B28: =B27+1 -> 25 | D28: =IF(C28="","",100*(C28-C27)/C27) | E28: =IF(C28="","",E27+1) | F28: =IF(D28="","",100*(((C28-C$3)/C$3+1)^(1/E28)-1))
B29: =B28+1 -> 26 | D29: =IF(C29="","",100*(C29-C28)/C28) | E29: =IF(C29="","",E28+1) | F29: =IF(D29="","",100*(((C29-C$3)/C$3+1)^(1/E29)-1))
... B103: =B102+1 -> 100 | D103: =IF(C103="","",100*(C103-C102)/C102) | E103: =IF(C103="","",E102+1) | F103: =IF(D103="","",100*(((C103-C$3)/C$3+1)^(1/E103)-1))

Sheet DDCy
B2: # | C2: % DD | D2: % Bal | E2: Kelly % | F2: P(K) | G2: P(Call) | I2: Faixa até % | J2: Freq | K2: Ant | L2: Tot | M2: Prob
B3: 1 | C3: =IF(Cy!G4="","",Cy!G4) -> 0.57 | D3: =IF(Cy!D4="","",Cy!D4) -> 0.22834245 | I3: 10.23 | J3: =FREQUENCY(C$3:C$32,I3) -> 12 | K3: 0 | L3: =J3+K3 -> 12 | M3: =L3/L$13 -> 0.85714286
B4: =B3+1 -> 2 | C4: =IF(Cy!G5="","",Cy!G5) -> 0.22 | D4: =IF(Cy!D5="","",Cy!D5) -> 0.19942084 | I4: =I3+I$3 -> 20.46 | J4: =FREQUENCY(C$3:C$32,I4)-FREQUENCY(C$3:C$32,I3) -> 1 | K4: 0 | L4: =J4+K4 -> 1 | M4: =L4/L$13 -> 0.071428571
B5: =B4+1 -> 3 | C5: =IF(Cy!G6="","",Cy!G6) -> 0.69 | D5: =IF(Cy!D6="","",Cy!D6) -> 0.16319964 | E5: 0 | F5: 100 | G5: 0.422 | I5: =I4+I$3 -> 30.69 | J5: =FREQUENCY(C$3:C$32,I5)-FREQUENCY(C$3:C$32,I4) -> 1 | K5: 0 | L5: =J5+K5 -> 1 | M5: =L5/L$13 -> 0.071428571
B6: =B5+1 -> 4 | C6: =IF(Cy!G7="","",Cy!G7) -> 0.11 | D6: =IF(Cy!D7="","",Cy!D7) -> 0.07848637 | E6: 86.74 | F6: 0.026 | G6: 0.025 | I6: =I5+I$3 -> 40.92 | J6: =FREQUENCY(C$3:C$32,I6)-FREQUENCY(C$3:C$32,I5) -> 0 | K6: 0 | L6: =J6+K6 -> 0
B7: =B6+1 -> 5 | C7: =IF(Cy!G8="","",Cy!G8) -> 20.45 | D7: =IF(Cy!D8="","",Cy!D8) -> 0.98183132 | E7: 0 | F7: 100 | G7: 9.296 | I7: =I6+I$3 -> 51.15 | J7: =FREQUENCY(C$3:C$32,I7)-FREQUENCY(C$3:C$32,I6) -> 0 | K7: 0 | L7: =J7+K7 -> 0
B8: =B7+1 -> 6 | C8: =IF(Cy!G9="","",Cy!G9) -> 1.61 | D8: =IF(Cy!D9="","",Cy!D9) -> 0.3277419 | E8: 0 | F8: 100 | G8: 6.846 | I8: =I7+I$3 -> 61.38 | J8: =FREQUENCY(C$3:C$32,I8)-FREQUENCY(C$3:C$32,I7) -> 0 | K8: 0 | L8: =J8+K8 -> 0
B9: =B8+1 -> 7 | C9: =IF(Cy!G10="","",Cy!G10) -> 0.14 | D9: =IF(Cy!D10="","",Cy!D10) -> 0.14397558 | E9: 0 | F9: 100 | G9: 5.307 | I9: =I8+I$3 -> 71.61 | J9: =FREQUENCY(C$3:C$32,I9)-FREQUENCY(C$3:C$32,I8) -> 0 | K9: 0 | L9: =J9+K9 -> 0
B10: =B9+1 -> 8 | C10: =IF(Cy!G11="","",Cy!G11) -> 0.06 | D10: =IF(Cy!D11="","",Cy!D11) -> 0.14948145 | E10: 0 | F10: 100 | G10: 4.27 | I10: =I9+I$3 -> 81.84 | J10: =FREQUENCY(C$3:C$32,I10)-FREQUENCY(C$3:C$32,I9) -> 0 | K10: 0 | L10: =J10+K10 -> 0
B11: =B10+1 -> 9 | C11: =IF(Cy!G12="","",Cy!G12) -> 0.27 | D11: =IF(Cy!D12="","",Cy!D12) -> 0.31692185 | E11: 0 | F11: 100 | G11: 3.521 | I11: 90 | J11: =FREQUENCY(C$3:C$32,I11)-FREQUENCY(C$3:C$32,I10) -> 0 | K11: 0 | L11: =J11+K11 -> 0
B12: =B11+1 -> 10 | C12: =IF(Cy!G13="","",Cy!G13) -> 0.09 | D12: =IF(Cy!D13="","",Cy!D13) -> 0.1668825 | E12: 0 | F12: 100 | G12: 2.969 | I12: 100 | J12: =FREQUENCY(C$3:C$32,I12)-FREQUENCY(C$3:C$32,I11) -> 0 | K12: 0 | L12: =J12+K12 -> 0
B13: =B12+1 -> 11 | C13: =IF(Cy!G14="","",Cy!G14) -> 0.06 | D13: =IF(Cy!D14="","",Cy!D14) -> 0.13749886 | E13: 0 | F13: 100 | G13: 2.546 | I13: Totais | J13: =SUM(J3:J12) -> 14 | K13: =SUM(K3:K12) -> 0 | L13: =SUM(L3:L12) -> 14 | M13: =SUM(M3:M12) -> 1
B14: =B13+1 -> 12 | C14: =IF(Cy!G15="","",Cy!G15) -> 0.15 | D14: =IF(Cy!D15="","",Cy!D15) -> 0.14633043 | E14: 0 | F14: 100 | G14: 2.218
B15: =B14+1 -> 13 | C15: =IF(Cy!G16="","",Cy!G16) -> 0.04 | D15: =IF(Cy!D16="","",Cy!D16) -> 0.064051121 | E15: 0 | F15: 100 | G15: 1.948 | I15: Probabilidades (%)
B16: =B15+1 -> 14 | C16: =IF(Cy!G17="","",Cy!G17) -> 25.61 | D16: =IF(Cy!D17="","",Cy!D17) -> 3.4931774 | E16: 0 | F16: 100 | G16: 5.176 | I16: Coeficientes | J16: Base | K16: Expo
B17: =B16+1 -> 15 | C17: =IF(Cy!G18="","",Cy!G18) | D17: =IF(Cy!D18="","",Cy!D18) | J17: 184.214 | K17: -2.404
B18: =B17+1 -> 16 | C18: =IF(Cy!G19="","",Cy!G19) | D18: =IF(Cy!D19="","",Cy!D19) | I18: =Open!O27 -> Kelly % DD | J18: =Risk!$I$28 -> 0 | K18: =IF(J18=0,100,100*J17*J18^K17) -> 100
B19: =B18+1 -> 17 | C19: =IF(Cy!G20="","",Cy!G20) | D19: =IF(Cy!D20="","",Cy!D20) | I19: Call (%) | J19: 30.01 | K19: =100*J17*J19^K17 -> 5.1757725
B20: =B19+1 -> 18 | C20: =IF(Cy!G21="","",Cy!G21) | D20: =IF(Cy!D21="","",Cy!D21)
B21: =B20+1 -> 19 | C21: =IF(Cy!G22="","",Cy!G22) | D21: =IF(Cy!D22="","",Cy!D22)
B22: =B21+1 -> 20 | C22: =IF(Cy!G23="","",Cy!G23) | D22: =IF(Cy!D23="","",Cy!D23)
B23: =B22+1 -> 21 | C23: =IF(Cy!G24="","",Cy!G24) | D23: =IF(Cy!D24="","",Cy!D24)
B24: =B23+1 -> 22 | C24: =IF(Cy!G25="","",Cy!G25) | D24: =IF(Cy!D25="","",Cy!D25)
B25: =B24+1 -> 23 | C25: =IF(Cy!G26="","",Cy!G26) | D25: =IF(Cy!D26="","",Cy!D26)
B26: =B25+1 -> 24 | C26: =IF(Cy!G27="","",Cy!G27) | D26: =IF(Cy!D27="","",Cy!D27)
B27: =B26+1 -> 25 | C27: =IF(Cy!G28="","",Cy!G28) | D27: =IF(Cy!D28="","",Cy!D28)
B28: =B27+1 -> 26 | C28: =IF(Cy!G29="","",Cy!G29) | D28: =IF(Cy!D29="","",Cy!D29)
B29: =B28+1 -> 27 | C29: =IF(Cy!G30="","",Cy!G30) | D29: =IF(Cy!D30="","",Cy!D30)
B30: =B29+1 -> 28 | C30: =IF(Cy!G31="","",Cy!G31) | D30: =IF(Cy!D31="","",Cy!D31)
B31: =B30+1 -> 29 | C31: =IF(Cy!G32="","",Cy!G32) | D31: =IF(Cy!D32="","",Cy!D32)
B32: =B31+1 -> 30 | C32: =IF(Cy!G33="","",Cy!G33) | D32: =IF(Cy!D33="","",Cy!D33)

Sheet Risk
B2: Semanal (Week) | E2: MT4 Statement (MT4) | Q2: Por operação
B3: Saldo Inicial | C3: =CLog!$X$4 -> 31019.2 | E3: Avg.Profit $ | Q3: %CAR | R3: Ganho | S3: Perda | T3: %Payoff
B4: $Ac | C4: =CLog!X5 -> 2093.38 | E4: Avg.Loss $ | Q4: 1 | R4: =IF(O$26="","",1+O$26*Q4/100) -> 1.0001558 | S4: =IF(R4="","",1-Q4/100) -> 0.99 | T4: =IF(R4="","",100*(R4^(O$27/100)*S4^((100-O$27)/100)-1)) -> -0.037238481
B5: Saldo Atual | C5: =CLog!X6 -> 33112.58 | E5: Win % (c/BE) | Q5: =Q4+1 -> 2 | R5: =IF(O$26="","",1+O$26*Q5/100) -> 1.0003116 | S5: =IF(R5="","",1-Q5/100) -> 0.98 | T5: =IF(R5="","",100*(R5^(O$27/100)*S5^((100-O$27)/100)-1)) -> -0.074993112
B6: =CLog!W13 -> Ganhos | C6: =CLog!X13 -> 14 | E6: FL | F6: =IF(F3="","",IF(F4="","",IF(F5="","",F3/F4))) | Q6: =Q5+1 -> 3 | R6: =IF(O$26="","",1+O$26*Q6/100) -> 1.0004674 | S6: =IF(R6="","",1-Q6/100) -> 0.97 | T6: =IF(R6="","",100*(R6^(O$27/100)*S6^((100-O$27)/100)-1)) -> -0.11327412
B7: =CLog!W14 -> Perdas | C7: =CLog!X14 -> 0 | E7: Kelly % | F7: =IF(F5="","",IF(F6="","",IF(100*((F5/100)-(1-F5/100)/F6)<0,0,100*((F5/100)-(1-F5/100)/F6)))) | Q7: =Q6+1 -> 4 | R7: =IF(O$26="","",1+O$26*Q7/100) -> 1.0006232 | S7: =IF(R7="","",1-Q7/100) -> 0.96 | T7: =IF(R7="","",100*(R7^(O$27/100)*S7^((100-O$27)/100)-1)) -> -0.15209204
B8: =CLog!W15 -> Operações | C8: =CLog!X15 -> 14 | Q8: =Q7+1 -> 5 | R8: =IF(O$26="","",1+O$26*Q8/100) -> 1.000779 | S8: =IF(R8="","",1-Q8/100) -> 0.95 | T8: =IF(R8="","",100*(R8^(O$27/100)*S8^((100-O$27)/100)-1)) -> -0.19145773
B9: =CLog!W16 -> WinP | C9: =CLog!X16 -> 1 | E9: FF Trade Explorer (FF) | Q9: =Q8+1 -> 6 | R9: =IF(O$26="","",1+O$26*Q9/100) -> 1.0009348 | S9: =IF(R9="","",1-Q9/100) -> 0.94 | T9: =IF(R9="","",100*(R9^(O$27/100)*S9^((100-O$27)/100)-1)) -> -0.2313824
B10: =CLog!W17 -> CAR | C10: =CLog!X17 | E10: Avg.Win Trade $ | Q10: =Q9+1 -> 7 | R10: =IF(O$26="","",1+O$26*Q10/100) -> 1.0010906 | S10: =IF(R10="","",1-Q10/100) -> 0.93 | T10: =IF(R10="","",100*(R10^(O$27/100)*S10^((100-O$27)/100)-1)) -> -0.27187759
C11: =CLog!X18 | E11: Avg.Loss Trade $ | Q11: =Q10+1 -> 8 | R11: =IF(O$26="","",1+O$26*Q11/100) -> 1.0012464 | S11: =IF(R11="","",1-Q11/100) -> 0.92 | T11: =IF(R11="","",100*(R11^(O$27/100)*S11^((100-O$27)/100)-1)) -> -0.31295521
B12: =CLog!W19 -> FL | C12: =CLog!X19 | E12: Closed Trades | Q12: =Q11+1 -> 9 | R12: =IF(O$26="","",1+O$26*Q12/100) -> 1.0014022 | S12: =IF(R12="","",1-Q12/100) -> 0.91 | T12: =IF(R12="","",100*(R12^(O$27/100)*S12^((100-O$27)/100)-1)) -> -0.35462758
B13: Kelly % | C13: =IF(C9="","",IF(C12="","",IF(C9-(1-C9)/C12<0,0,100*(C9-(1-C9)/C12)))) | E13: Winning Trades | Q13: =Q12+1 -> 10 | R13: =IF(O$26="","",1+O$26*Q13/100) -> 1.001558 | S13: =IF(R13="","",1-Q13/100) -> 0.9 | T13: =IF(R13="","",100*(R13^(O$27/100)*S13^((100-O$27)/100)-1)) -> -0.3969074
E14: Win % (s/BE) | F14: =IF(F12="","",IF(F13="","",100*F13/F12)) | Q14: =Q13+1 -> 11 | R14: =IF(O$26="","",1+O$26*Q14/100) -> 1.0017138 | S14: =IF(R14="","",1-Q14/100) -> 0.89 | T14: =IF(R14="","",100*(R14^(O$27/100)*S14^((100-O$27)/100)-1)) -> -0.43980777
B15: Simulações (Sim) | E15: FL | F15: =IF(F10="","",IF(F11="","",IF(F14="","",F10/F11))) | Q15: =Q14+1 -> 12 | R15: =IF(O$26="","",1+O$26*Q15/100) -> 1.0018696 | S15: =IF(R15="","",1-Q15/100) -> 0.88 | T15: =IF(R15="","",100*(R15^(O$27/100)*S15^((100-O$27)/100)-1)) -> -0.48334226
B16: Ganho ($ ou %) | C16: 0.4676 | E16: Kelly % | F16: =IF(F14="","",IF(F15="","",IF(100*((F14/100)-(1-F14/100)/F15)<0,0,100*((F14/100)-(1-F14/100)/F15)))) | Q16: =Q15+1 -> 13 | R16: =IF(O$26="","",1+O$26*Q16/100) -> 1.0020255 | S16: =IF(R16="","",1-Q16/100) -> 0.87 | T16: =IF(R16="","",100*(R16^(O$27/100)*S16^((100-O$27)/100)-1)) -> -0.52752487
B17: Perda ($ ou %) | C17: 30 | Q17: =Q16+1 -> 14 | R17: =IF(O$26="","",1+O$26*Q17/100) -> 1.0021813 | S17: =IF(R17="","",1-Q17/100) -> 0.86 | T17: =IF(R17="","",100*(R17^(O$27/100)*S17^((100-O$27)/100)-1)) -> -0.57237009
B18: Win % | C18: 98.5 | E18: Week% / MC Risk - Resumo | Q18: =Q17+1 -> 15 | R18: =IF(O$26="","",1+O$26*Q18/100) -> 1.0023371 | S18: =IF(R18="","",1-Q18/100) -> 0.85 | T18: =IF(R18="","",100*(R18^(O$27/100)*S18^((100-O$27)/100)-1)) -> -0.6178929
B19: FL | C19: =IF(C16="","",IF(C17="","",IF(C18="","",C16/C17))) -> 0.015586667 | E19: W% p/ K% > 0 | H19: =IF(O25="Week","Perfil de risco dos resultados semanais",IF(O25="MT4","Perfil de risco conforme relatório MT4",IF(O25="FF","Perfil de risco conforme FF Trade Explorer",IF(O25="WMC","Perfil de risco de Weekly MC",IF(O25="CyMC","Perfil de risco de Cycle MC",IF(O25="KHS","Perfil de risco de Kelly Hard Stop",IF(O25="Sim","Perfil de risco de operações hipotéticas","Gráfico de perfil de risco"))))))) -> Perfil de risco de Cycle MC | I19: =IF(H26="x",IF(I27="",#REF!,""),IF(I27="x",IF(H26="",#REF!,""),"")) | J19: =IF(#REF!="x",IF(J27="",#REF!,""),IF(J27="x",IF(#REF!="",#REF!,""),"")) -> #REF! | K19: =IF(I26="x",IF(K22="",#REF!,""),IF(K22="x",IF(I26="",#REF!,""),"")) | L19: =IF(#REF!="x",IF(L22="",#REF!,""),IF(L22="x",IF(#REF!="",#REF!,""),"")) -> #REF! | N19: =IF(#REF!="x",IF(N22="",#REF!,""),IF(N22="x",IF(#REF!="",#REF!,""),"")) -> #REF! | O19: =IF(#REF!="x",IF(O22="",#REF!,""),IF(O22="x",IF(#REF!="",#REF!,""),"")) -> #REF! | Q19: =Q18+1 -> 16 | R19: =IF(O$26="","",1+O$26*Q19/100) -> 1.0024929 | S19: =IF(R19="","",1-Q19/100) -> 0.84 | T19: =IF(R19="","",100*(R19^(O$27/100)*S19^((100-O$27)/100)-1)) -> -0.66410881
B20: Kelly % | C20: =IF(C18="","",IF(C19="","",IF(100*((C18/100)-(1-C18/100)/C19)<0,0,100*((C18/100)-(1-C18/100)/C19)))) -> 2.2639008 | E20: W% p/ K% = 90 | Q20: =Q19+1 -> 17 | R20: =IF(O$26="","",1+O$26*Q20/100) -> 1.0026487 | S20: =IF(R20="","",1-Q20/100) -> 0.83 | T20: =IF(R20="","",100*(R20^(O$27/100)*S20^((100-O$27)/100)-1)) -> -0.71103387
Q21: =Q20+1 -> 18 | R21: =IF(O$26="","",1+O$26*Q21/100) -> 1.0028045 | S21: =IF(R21="","",1-Q21/100) -> 0.82 | T21: =IF(R21="","",100*(R21^(O$27/100)*S21^((100-O$27)/100)-1)) -> -0.7586847
B22: Kelly Hard Stop (KHS) | E22: Weekly MC Risk (WMC) | H22: Cycle MC Risk (CyMC) | Q22: =Q21+1 -> 19 | R22: =IF(O$26="","",1+O$26*Q22/100) -> 1.0029603 | S22: =IF(R22="","",1-Q22/100) -> 0.81 | T22: =IF(R22="","",100*(R22^(O$27/100)*S22^((100-O$27)/100)-1)) -> -0.80707853
B23: Cycle Avg.% | C23: =$I$23 -> 0.46756758 | E23: Avg Weekly % | H23: Cycle Avg % | I23: =Cy!$I$3 -> 0.46756758 | K23: Ideais por ciclo | Q23: =Q22+1 -> 20 | R23: =IF(O$26="","",1+O$26*Q23/100) -> 1.0031161 | S23: =IF(R23="","",1-Q23/100) -> 0.8 | T23: =IF(R23="","",100*(R23^(O$27/100)*S23^((100-O$27)/100)-1)) -> -0.8562332
B24: KHS Loss % | C24: =$I$28 -> 0 | E24: M Call Loss % | H24: M Call Loss % | I24: =DDCy!$J$19 -> 30.01 | K24: Capital em risco | L24: =IF(O26="","",IF(O27="","",IF(O27/100-(1-O27/100)/O26<0,0,O27/100-(1-O27/100)/O26))) -> 0 | N24: Gráfico | Q24: =Q23+1 -> 21 | R24: =IF(O$26="","",1+O$26*Q24/100) -> 1.0032719 | S24: =IF(R24="","",1-Q24/100) -> 0.79 | T24: =IF(R24="","",100*(R24^(O$27/100)*S24^((100-O$27)/100)-1)) -> -0.90616723
B25: KHS Probab % | C25: 100 | E25: M Call Probab % | H25: M Call Probab % | I25: =DDCy!$K$19 -> 5.1757725 | L25: =IF(L24="","",IF(C5="",IF(C3="","",C3*L24),C5*L24)) -> 0 | N25: Opção | O25: CyMC | Q25: =Q24+1 -> 22 | R25: =IF(O$26="","",1+O$26*Q25/100) -> 1.0034277 | S25: =IF(R25="","",1-Q25/100) -> 0.78 | T25: =IF(R25="","",100*(R25^(O$27/100)*S25^((100-O$27)/100)-1)) -> -0.95689984
B26: Win % | C26: =IF(C25="","",100-C25) -> 0 | E26: Win % | H26: Win % | I26: =IF(I25="","",100-I25) -> 94.824227 | K26: Payoff | L26: =IF(O26="","",IF(MAX(T4:T103)<0,0,MAX(T4:T103)/100)) -> 0 | N26: FL | O26: =IF(O25="Week",C12,IF(O25="MT4",F6,IF(O25="FF",F15,IF(O25="WMC",F27,IF(O25="CyMC",I27,IF(O25="KHS",C27,IF(O25="Sim",C19,""))))))) -> 0.015580393 | Q26: =Q25+1 -> 23 | R26: =IF(O$26="","",1+O$26*Q26/100) -> 1.0035835 | S26: =IF(R26="","",1-Q26/100) -> 0.77 | T26: =IF(R26="","",100*(R26^(O$27/100)*S26^((100-O$27)/100)-1)) -> -1.0084509
B27: FL | C27: =IF(C23="","",IF(C24="","",IF(C24=0,"",IF(C26="","",C23/C24)))) | E27: FL | H27: FL | I27: =IF(I23="","",IF(I24="","",IF(I26="","",I23/I24))) -> 0.015580393 | L27: =IF(L26="","",IF(C5="",IF(C3="","",C3*L26),C5*L26)) -> 0 | N27: WinP | O27: =IF(O25="Week",100*C9,IF(O25="MT4",F5,IF(O25="FF",F14,IF(O25="WMC",F26,IF(O25="CyMC",I26,IF(O25="KHS",C26,IF(O25="Sim",C18,""))))))) -> 94.824227 | Q27: =Q26+1 -> 24 | R27: =IF(O$26="","",1+O$26*Q27/100) -> 1.0037393 | S27: =IF(R27="","",1-Q27/100) -> 0.76 | T27: =IF(R27="","",100*(R27^(O$27/100)*S27^((100-O$27)/100)-1)) -> -1.0608412
B28: Kelly % | C28: =IF(C26="","",IF(C27="","",IF(100*((C26/100)-(1-C26/100)/C27)<0,0,100*((C26/100)-(1-C26/100)/C27)))) | E28: Kelly % | H28: Kelly % | I28: =IF(I26="","",IF(I27="","",IF(100*((I26/100)-(1-I26/100)/I27)<0,0,100*((I26/100)-(1-I26/100)/I27)))) -> 0 | Q28: =Q27+1 -> 25 | R28: =IF(O$26="","",1+O$26*Q28/100) -> 1.0038951 | S28: =IF(R28="","",1-Q28/100) -> 0.75 | T28: =IF(R28="","",100*(R28^(O$27/100)*S28^((100-O$27)/100)-1)) -> -1.1140923
Q29: =Q28+1 -> 26 | R29: =IF(O$26="","",1+O$26*Q29/100) -> 1.0040509 | S29: =IF(R29="","",1-Q29/100) -> 0.74 | T29: =IF(R29="","",100*(R29^(O$27/100)*S29^((100-O$27)/100)-1)) -> -1.1682264
Q30: =Q29+1 -> 27 | R30: =IF(O$26="","",1+O$26*Q30/100) -> 1.0042067 | S30: =IF(R30="","",1-Q30/100) -> 0.73 | T30: =IF(R30="","",100*(R30^(O$27/100)*S30^((100-O$27)/100)-1)) -> -1.2232668
Q31: =Q30+1 -> 28 | R31: =IF(O$26="","",1+O$26*Q31/100) -> 1.0043625 | S31: =IF(R31="","",1-Q31/100) -> 0.72 | T31: =IF(R31="","",100*(R31^(O$27/100)*S31^((100-O$27)/100)-1)) -> -1.2792377
Q32: =Q31+1 -> 29 | R32: =IF(O$26="","",1+O$26*Q32/100) -> 1.0045183 | S32: =IF(R32="","",1-Q32/100) -> 0.71 | T32: =IF(R32="","",100*(R32^(O$27/100)*S32^((100-O$27)/100)-1)) -> -1.3361643
Q33: =Q32+1 -> 30 | R33: =IF(O$26="","",1+O$26*Q33/100) -> 1.0046741 | S33: =IF(R33="","",1-Q33/100) -> 0.7 | T33: =IF(R33="","",100*(R33^(O$27/100)*S33^((100-O$27)/100)-1)) -> -1.3940729
Q34: =Q33+1 -> 31 | R34: =IF(O$26="","",1+O$26*Q34/100) -> 1.0048299 | S34: =IF(R34="","",1-Q34/100) -> 0.69 | T34: =IF(R34="","",100*(R34^(O$27/100)*S34^((100-O$27)/100)-1)) -> -1.4529908
Q35: =Q34+1 -> 32 | R35: =IF(O$26="","",1+O$26*Q35/100) -> 1.0049857 | S35: =IF(R35="","",1-Q35/100) -> 0.68 | T35: =IF(R35="","",100*(R35^(O$27/100)*S35^((100-O$27)/100)-1)) -> -1.5129465
Q36: =Q35+1 -> 33 | R36: =IF(O$26="","",1+O$26*Q36/100) -> 1.0051415 | S36: =IF(R36="","",1-Q36/100) -> 0.67 | T36: =IF(R36="","",100*(R36^(O$27/100)*S36^((100-O$27)/100)-1)) -> -1.5739699
Q37: =Q36+1 -> 34 | R37: =IF(O$26="","",1+O$26*Q37/100) -> 1.0052973 | S37: =IF(R37="","",1-Q37/100) -> 0.66 | T37: =IF(R37="","",100*(R37^(O$27/100)*S37^((100-O$27)/100)-1)) -> -1.6360919
Q38: =Q37+1 -> 35 | R38: =IF(O$26="","",1+O$26*Q38/100) -> 1.0054531 | S38: =IF(R38="","",1-Q38/100) -> 0.65 | T38: =IF(R38="","",100*(R38^(O$27/100)*S38^((100-O$27)/100)-1)) -> -1.6993451
Q39: =Q38+1 -> 36 | R39: =IF(O$26="","",1+O$26*Q39/100) -> 1.0056089 | S39: =IF(R39="","",1-Q39/100) -> 0.64 | T39: =IF(R39="","",100*(R39^(O$27/100)*S39^((100-O$27)/100)-1)) -> -1.7637634
Q40: =Q39+1 -> 37 | R40: =IF(O$26="","",1+O$26*Q40/100) -> 1.0057647 | S40: =IF(R40="","",1-Q40/100) -> 0.63 | T40: =IF(R40="","",100*(R40^(O$27/100)*S40^((100-O$27)/100)-1)) -> -1.8293824
... Q103: =Q102+1 -> 100 | R103: =IF(O$26="","",1+O$26*Q103/100) -> 1.0155804 | S103: =IF(R103="","",1-Q103/100) -> 0 | T103: =IF(R103="","",100*(R103^(O$27/100)*S103^((100-O$27)/100)-1)) -> -100

Sheet CRes
A1: Data | B1: Depósito | C1: Principal | D1: Balanço | E1: $ Bal | F1: $ Bal Ac | G1: % Bal | H1: % Bal Ac | I1: Pos.Liq. | J1: $ Liq | K1: $ Liq Ac | L1: % Liq | M1: % Liq Ac | N1: $ Aberto | O1: Obs.
A2: 42720 | C2: 31019.2 | D2: =IF(Cy!C3="","",Cy!C3) -> 31019.2 | I2: =D2 -> 31019.2
B3: 0 | C3: =IF(B3="","",C2+B3) -> 31019.2 | D3: =IF(Cy!C4="","",Cy!C4) -> 31090.03 | E3: =IF(B3="","",IF(D3="","",D3-D2-B3)) -> 70.83 | F3: =IF(E3="","",F2+E3) -> 70.83 | G3: =IF(E3="","",100*E3/(D2+0.5*B3)) -> 0.22834245 | H3: =IF(F3="","",100*F3/C3) -> 0.22834245 | I3: =D3 -> 31090.03 | J3: =IF(B3="","",IF(I3="","",I3-I2-B3)) -> 70.83 | K3: =IF(J3="","",K2+J3) -> 70.83 | L3: =IF(J3="","",100*J3/(I2+0.5*B3)) -> 0.22834245 | M3: =IF(K3="","",100*K3/C3) -> 0.22834245 | N3: =IF(D3="","",IF(I3="","",I3-D3)) -> 0
B4: 0 | C4: =IF(B4="","",C3+B4) -> 31019.2 | D4: =IF(Cy!C5="","",Cy!C5) -> 31152.03 | E4: =IF(B4="","",IF(D4="","",D4-D3-B4)) -> 62 | F4: =IF(E4="","",F3+E4) -> 132.83 | G4: =IF(E4="","",100*E4/(D3+0.5*B4)) -> 0.19942084 | H4: =IF(F4="","",100*F4/C4) -> 0.42821865 | I4: =D4 -> 31152.03 | J4: =IF(B4="","",IF(I4="","",I4-I3-B4)) -> 62 | K4: =IF(J4="","",K3+J4) -> 132.83 | L4: =IF(J4="","",100*J4/(I3+0.5*B4)) -> 0.19942084 | M4: =IF(K4="","",100*K4/C4) -> 0.42821865 | N4: =IF(D4="","",IF(I4="","",I4-D4)) -> 0
A5: 42723 | B5: 0 | C5: =IF(B5="","",C4+B5) -> 31019.2 | D5: =IF(Cy!C6="","",Cy!C6) -> 31202.87 | E5: =IF(B5="","",IF(D5="","",D5-D4-B5)) -> 50.84 | F5: =IF(E5="","",F4+E5) -> 183.67 | G5: =IF(E5="","",100*E5/(D4+0.5*B5)) -> 0.16319964 | H5: =IF(F5="","",100*F5/C5) -> 0.59211714 | I5: =D5 -> 31202.87 | J5: =IF(B5="","",IF(I5="","",I5-I4-B5)) -> 50.84 | K5: =IF(J5="","",K4+J5) -> 183.67 | L5: =IF(J5="","",100*J5/(I4+0.5*B5)) -> 0.16319964 | M5: =IF(K5="","",100*K5/C5) -> 0.59211714 | N5: =IF(D5="","",IF(I5="","",I5-D5)) -> 0
A6: 42724 | B6: 0 | C6: =IF(B6="","",C5+B6) -> 31019.2 | D6: =IF(Cy!C7="","",Cy!C7) -> 31227.36 | E6: =IF(B6="","",IF(D6="","",D6-D5-B6)) -> 24.49 | F6: =IF(E6="","",F5+E6) -> 208.16 | G6: =IF(E6="","",100*E6/(D5+0.5*B6)) -> 0.07848637 | H6: =IF(F6="","",100*F6/C6) -> 0.67106824 | I6: =D6 -> 31227.36 | J6: =IF(B6="","",IF(I6="","",I6-I5-B6)) -> 24.49 | K6: =IF(J6="","",K5+J6) -> 208.16 | L6: =IF(J6="","",100*J6/(I5+0.5*B6)) -> 0.07848637 | M6: =IF(K6="","",100*K6/C6) -> 0.67106824 | N6: =IF(D6="","",IF(I6="","",I6-D6)) -> 0
A7: 42726 | B7: 0 | C7: =IF(B7="","",C6+B7) -> 31019.2 | D7: =IF(Cy!C8="","",Cy!C8) -> 31533.96 | E7: =IF(B7="","",IF(D7="","",D7-D6-B7)) -> 306.6 | F7: =IF(E7="","",F6+E7) -> 514.76 | G7: =IF(E7="","",100*E7/(D6+0.5*B7)) -> 0.98183132 | H7: =IF(F7="","",100*F7/C7) -> 1.6594883 | I7: =D7 -> 31533.96 | J7: =IF(B7="","",IF(I7="","",I7-I6-B7)) -> 306.6 | K7: =IF(J7="","",K6+J7) -> 514.76 | L7: =IF(J7="","",100*J7/(I6+0.5*B7)) -> 0.98183132 | M7: =IF(K7="","",100*K7/C7) -> 1.6594883 | N7: =IF(D7="","",IF(I7="","",I7-D7)) -> 0 | O7: Operei nas duas pontas
A8: 42727 | B8: 0 | C8: =IF(B8="","",C7+B8) -> 31019.2 | D8: =IF(Cy!C9="","",Cy!C9) -> 31637.31 | E8: =IF(B8="","",IF(D8="","",D8-D7-B8)) -> 103.35 | F8: =IF(E8="","",F7+E8) -> 618.11 | G8: =IF(E8="","",100*E8/(D7+0.5*B8)) -> 0.3277419 | H8: =IF(F8="","",100*F8/C8) -> 1.9926691 | I8: =D8 -> 31637.31 | J8: =IF(B8="","",IF(I8="","",I8-I7-B8)) -> 103.35 | K8: =IF(J8="","",K7+J8) -> 618.11 | L8: =IF(J8="","",100*J8/(I7+0.5*B8)) -> 0.3277419 | M8: =IF(K8="","",100*K8/C8) -> 1.9926691 | N8: =IF(D8="","",IF(I8="","",I8-D8)) -> 0 | O8: Encavalei ordens em mercado parado
A9: 42731 | B9: 0 | C9: =IF(B9="","",C8+B9) -> 31019.2 | D9: =IF(Cy!C10="","",Cy!C10) -> 31682.86 | E9: =IF(B9="","",IF(D9="","",D9-D8-B9)) -> 45.55 | F9: =IF(E9="","",F8+E9) -> 663.66 | G9: =IF(E9="","",100*E9/(D8+0.5*B9)) -> 0.14397558 | H9: =IF(F9="","",100*F9/C9) -> 2.1395136 | I9: =D9 -> 31682.86 | J9: =IF(B9="","",IF(I9="","",I9-I8-B9)) -> 45.55 | K9: =IF(J9="","",K8+J9) -> 663.66 | L9: =IF(J9="","",100*J9/(I8+0.5*B9)) -> 0.14397558 | M9: =IF(K9="","",100*K9/C9) -> 2.1395136 | N9: =IF(D9="","",IF(I9="","",I9-D9)) -> 0 | O9: Mercado meio parado, entrei contra a tendência do dia, precipitado, antes mesmo de ver qual era o spread no momento
A10: 42732 | B10: 0 | C10: =IF(B10="","",C9+B10) -> 31019.2 | D10: =IF(Cy!C11="","",Cy!C11) -> 31730.22 | E10: =IF(B10="","",IF(D10="","",D10-D9-B10)) -> 47.36 | F10: =IF(E10="","",F9+E10) -> 711.02 | G10: =IF(E10="","",100*E10/(D9+0.5*B10)) -> 0.14948145 | H10: =IF(F10="","",100*F10/C10) -> 2.2921932 | I10: =D10 -> 31730.22 | J10: =IF(B10="","",IF(I10="","",I10-I9-B10)) -> 47.36 | K10: =IF(J10="","",K9+J10) -> 711.02 | L10: =IF(J10="","",100*J10/(I9+0.5*B10)) -> 0.14948145 | M10: =IF(K10="","",100*K10/C10) -> 2.2921932 | N10: =IF(D10="","",IF(I10="","",I10-D10)) -> 0 | O10: Entrei meio tarde no movimento
A11: 42733 | B11: 0 | C11: =IF(B11="","",C10+B11) -> 31019.2 | D11: =IF(Cy!C12="","",Cy!C12) -> 31830.78 | E11: =IF(B11="","",IF(D11="","",D11-D10-B11)) -> 100.56 | F11: =IF(E11="","",F10+E11) -> 811.58 | G11: =IF(E11="","",100*E11/(D10+0.5*B11)) -> 0.31692185 | H11: =IF(F11="","",100*F11/C11) -> 2.6163795 | I11: =D11 -> 31830.78 | J11: =IF(B11="","",IF(I11="","",I11-I10-B11)) -> 100.56 | K11: =IF(J11="","",K10+J11) -> 811.58 | L11: =IF(J11="","",100*J11/(I10+0.5*B11)) -> 0.31692185 | M11: =IF(K11="","",100*K11/C11) -> 2.6163795 | N11: =IF(D11="","",IF(I11="","",I11-D11)) -> 0 | O11: De novo entrei tarde mas isso não importa para operações curtas
A12: 42734 | B12: 0 | C12: =IF(B12="","",C11+B12) -> 31019.2 | D12: =IF(Cy!C13="","",Cy!C13) -> 31883.9 | E12: =IF(B12="","",IF(D12="","",D12-D11-B12)) -> 53.12 | F12: =IF(E12="","",F11+E12) -> 864.7 | G12: =IF(E12="","",100*E12/(D11+0.5*B12)) -> 0.1668825 | H12: =IF(F12="","",100*F12/C12) -> 2.7876283 | I12: =D12 -> 31883.9 | J12: =IF(B12="","",IF(I12="","",I12-I11-B12)) -> 53.12 | K12: =IF(J12="","",K11+J12) -> 864.7 | L12: =IF(J12="","",100*J12/(I11+0.5*B12)) -> 0.1668825 | M12: =IF(K12="","",100*K12/C12) -> 2.7876283 | N12: =IF(D12="","",IF(I12="","",I12-D12)) -> 0
B13: 0 | C13: =IF(B13="","",C12+B13) -> 31019.2 | D13: =IF(Cy!C14="","",Cy!C14) -> 31927.74 | E13: =IF(B13="","",IF(D13="","",D13-D12-B13)) -> 43.84 | F13: =IF(E13="","",F12+E13) -> 908.54 | G13: =IF(E13="","",100*E13/(D12+0.5*B13)) -> 0.13749886 | H13: =IF(F13="","",100*F13/C13) -> 2.9289601 | I13: =D13 -> 31927.74 | J13: =IF(B13="","",IF(I13="","",I13-I12-B13)) -> 43.84 | K13: =IF(J13="","",K12+J13) -> 908.54 | L13: =IF(J13="","",100*J13/(I12+0.5*B13)) -> 0.13749886 | M13: =IF(K13="","",100*K13/C13) -> 2.9289601 | N13: =IF(D13="","",IF(I13="","",I13-D13)) -> 0
B14: 0 | C14: =IF(B14="","",C13+B14) -> 31019.2 | D14: =IF(Cy!C15="","",Cy!C15) -> 31974.46 | E14: =IF(B14="","",IF(D14="","",D14-D13-B14)) -> 46.72 | F14: =IF(E14="","",F13+E14) -> 955.26 | G14: =IF(E14="","",100*E14/(D13+0.5*B14)) -> 0.14633043 | H14: =IF(F14="","",100*F14/C14) -> 3.0795765 | I14: =D14 -> 31974.46 | J14: =IF(B14="","",IF(I14="","",I14-I13-B14)) -> 46.72 | K14: =IF(J14="","",K13+J14) -> 955.26 | L14: =IF(J14="","",100*J14/(I13+0.5*B14)) -> 0.14633043 | M14: =IF(K14="","",100*K14/C14) -> 3.0795765 | N14: =IF(D14="","",IF(I14="","",I14-D14)) -> 0 | O14: Operação (talvez) prejudicada por interrupção
B15: 0 | C15: =IF(B15="","",C14+B15) -> 31019.2 | D15: =IF(Cy!C16="","",Cy!C16) -> 31994.94 | E15: =IF(B15="","",IF(D15="","",D15-D14-B15)) -> 20.48 | F15: =IF(E15="","",F14+E15) -> 975.74 | G15: =IF(E15="","",100*E15/(D14+0.5*B15)) -> 0.064051121 | H15: =IF(F15="","",100*F15/C15) -> 3.1456001 | I15: =D15 -> 31994.94 | J15: =IF(B15="","",IF(I15="","",I15-I14-B15)) -> 20.48 | K15: =IF(J15="","",K14+J15) -> 975.74 | L15: =IF(J15="","",100*J15/(I14+0.5*B15)) -> 0.064051121 | M15: =IF(K15="","",100*K15/C15) -> 3.1456001 | N15: =IF(D15="","",IF(I15="","",I15-D15)) -> 0
B16: 0 | C16: =IF(B16="","",C15+B16) -> 31019.2 | D16: =IF(Cy!C17="","",Cy!C17) -> 33112.58 | E16: =IF(B16="","",IF(D16="","",D16-D15-B16)) -> 1117.64 | F16: =IF(E16="","",F15+E16) -> 2093.38 | G16: =IF(E16="","",100*E16/(D15+0.5*B16)) -> 3.4931774 | H16: =IF(F16="","",100*F16/C16) -> 6.7486589 | I16: =D16 -> 33112.58 | J16: =IF(B16="","",IF(I16="","",I16-I15-B16)) -> 1117.64 | K16: =IF(J16="","",K15+J16) -> 2093.38 | L16: =IF(J16="","",100*J16/(I15+0.5*B16)) -> 3.4931774 | M16: =IF(K16="","",100*K16/C16) -> 6.7486589 | N16: =IF(D16="","",IF(I16="","",I16-D16)) -> 0 | O16: Depois de quatro compras bem sucedidas no dia, estupidamente comprei um topo. Erro típico meu.
C17: =IF(B17="","",C16+B17) | D17: =IF(Cy!C18="","",Cy!C18) | E17: =IF(B17="","",IF(D17="","",D17-D16-B17)) | F17: =IF(E17="","",F16+E17) | G17: =IF(E17="","",100*E17/(D16+0.5*B17)) | H17: =IF(F17="","",100*F17/C17) | I17: =D17 | J17: =IF(B17="","",IF(I17="","",I17-I16-B17)) | K17: =IF(J17="","",K16+J17) | L17: =IF(J17="","",100*J17/(I16+0.5*B17)) | M17: =IF(K17="","",100*K17/C17) | N17: =IF(D17="","",IF(I17="","",I17-D17))
C18: =IF(B18="","",C17+B18) | D18: =IF(Cy!C19="","",Cy!C19) | E18: =IF(B18="","",IF(D18="","",D18-D17-B18)) | F18: =IF(E18="","",F17+E18) | G18: =IF(E18="","",100*E18/(D17+0.5*B18)) | H18: =IF(F18="","",100*F18/C18) | I18: =D18 | J18: =IF(B18="","",IF(I18="","",I18-I17-B18)) | K18: =IF(J18="","",K17+J18) | L18: =IF(J18="","",100*J18/(I17+0.5*B18)) | M18: =IF(K18="","",100*K18/C18) | N18: =IF(D18="","",IF(I18="","",I18-D18))
C19: =IF(B19="","",C18+B19) | D19: =IF(Cy!C20="","",Cy!C20) | E19: =IF(B19="","",IF(D19="","",D19-D18-B19)) | F19: =IF(E19="","",F18+E19) | G19: =IF(E19="","",100*E19/(D18+0.5*B19)) | H19: =IF(F19="","",100*F19/C19) | I19: =D19 | J19: =IF(B19="","",IF(I19="","",I19-I18-B19)) | K19: =IF(J19="","",K18+J19) | L19: =IF(J19="","",100*J19/(I18+0.5*B19)) | M19: =IF(K19="","",100*K19/C19) | N19: =IF(D19="","",IF(I19="","",I19-D19))
