Workbook

Sheet Read This First!
B2: Using the Trade Journal
B4: NOTE: It is important not to use the cut and paste function within the spread sheet. Using these functions will result in errors in formulas associated with individual cells. If you need to manipulate data use the copy, paste and delete functions.
B6: The "Currency" trade log is divided into six tab sections.
B9: Tab 2 is the worksheet where you will past the data from the MT4 report. (regular or detailed)
B10: Tab 3 is your journal. This is where you will make notes regarding your trades and how you are doing.
B11: Tab 4 contains the grand totals and summaries
B12: Tab 5 is an example watchlist
B13: Tab 6 is for making notes regarding good trades that you missed. Why did you miss them and what can you do to catch them in the future?
B15: Tab 2 -- Data Copy Worksheet
A17: 1 | B17: Never Paste MT4 report data into the journal - Only into the appropriate place in the Data Copy Worksheet.
A18: 2 | B18: Run A Detailed Report in MT4 - Pull up the Terminal window. Select the account history tab (bottom left). Right click anywhere on the header. Select the period of time that you want data for. Make sure that comments is not checked. Select "Save as Report" or "Save as Detailed Report". Over write the previous one if it asks. The report will pop up in your browser. Select the trades you wish to copy and paste into your journal. Paste them into the DATA COPY worksheet. (Tab 2)
A19: 3 | B19: The Journal is designed for up to 3 separate lots per trade - If you only used one lot per trade you can either just use the first line and leave the other two blank or renumber them…It is up to you.
A21: 4 | B21: Advanced users may wish to first copy the trade data from the MT4 report into the "Sheet1" tab, select the last four columns and unmerge them, do a custom sort by the column that contains the canceled trades, delete the canceled trades and resort by trade open or closed date/time and now copy and past all the grouped actual trades into the spreadsheet data copy tab.
B23: Tab 3 -- Journal

Sheet Data Copy
B2: Trade | E2: Entry Information | K2: Exit Information | M2: Trade
B3: # | C3: Ticket | D3: Open Time | E3: Type | F3: Size | G3: Pair | H3: Price | I3: S / L | J3: T / P | K3: Close Time | L3: Price | M3: Cmsn | N3: Taxes | O3: Swap | P3: Profit
B4: 1 | C4: 13787439 | D4: 2016.05.10 08:24:45 | E4: sell | F4: 3.00 | G4: gbpjpyi | H4: 156637 | I4: 0.000 | J4: 156561 | K4: 2016.05.10 08:26:38 | L4: 156561 | M4: -0.23 | N4: 0.00 | O4: 0.00 | P4: 1.84
B7: 2 | C7: 13788633 | D7: 2016.05.10 09:09:33 | E7: buy | F7: 3.00 | G7: eurusdi | H7: 113853 | I7: 0.00000 | J7: 113919 | K7: 2016.05.10 09:38:12 | L7: 113919 | M7: -0.18 | N7: 0.00 | O7: 0.00 | P7: 1.74
B10: 3 | C10: 13790424 | D10: 2016.05.10 09:52:23 | E10: buy | F10: 3.00 | G10: audusdi | H10: 0.73429 | I10: 0.00000 | J10: 0.73497 | K10: 2016.05.10 10:21:48 | L10: 0.73483 | M10: -0.12 | N10: 0.00 | O10: 0.00 | P10: 1.42
B13: 4 | C13: 13794144 | D13: 2016.05.10 11:05:09 | E13: sell | F13: 3.00 | G13: eurusdi | H13: 113839 | I13: 0.00000 | J13: 113767 | K13: 2016.05.10 13:11:46 | L13: 113771 | M13: -0.18 | N13: 0.00 | O13: 0.00 | P13: 1.79
B16: 5
B19: 6
B22: 7
B25: 8
B28: 9
B31: 10
B34: 11
B37: 12
B40: 13
B43: 14
B46: 15
B49: 16
... B751: 250

Sheet Journal
B2: Account Summary | AF2: Misc. Spreadsheet Calculations
B3: Current Account Information | F3: Current Account Capital In Use | L3: Trading Summary for Entire Journal | R3: Account Leverage Information
B4: Initial Starting Capital | D4: 175.83 | L4: Income / (Loss) | N4: =Summary!D4 -> 0
B5: Current Account Capital | D5: =D4+Summary!D4 -> 175.83 | F5: Capital in Use | J5: =Summary!M4 -> 0 | L5: Reward Ratio | N5: =Summary!J4 -> #DIV/0! | R5: Account Standard Lot | U5: 100000
B6: Trading Account Leverage | D6: 400 | F6: % of Account at Risk | J6: =Summary!N4 -> #VALUE! | L6: Income Percentage | N6: =Summary!H4 -> 0.75 | R6: Capital to trade 1 Lot | U6: =U5/D6 -> 250
B7: Account Stop Loss Limit | D7: =D4*0.94 -> 165.2802 | F7: Actual $ at Risk | J7: =Summary!O4 -> #VALUE! | L7: Expense Percentage | N7: =Summary!I4 -> #DIV/0! | R7: Dollar Value per Pip | U7: =U5*0.0001 -> 10
B8: Net Pips | D8: =D11+D95+D179+D263+D347+D431+D515+D599+D683+D767 -> #VALUE!
B10: Currency Trades 1 - 25 | M10: Current Block Information
B11: Net Pips This Block | D11: =SUM(R16:R90) -> #VALUE! | F11: Income Percentage | J11: =COUNTIF(R16:R90,">0")/COUNTIF(R16:R90,"<>0") -> 0.75 | L11: Average Income Trade (Pips) | Q11: =SUM(AO16:AO90)/COUNTIF(AO16:AO90,">0") -> #VALUE! | S11: Per Trade Pip Avg. | U11: =SUM(R16:R90)/COUNTIF(R16:R90,"<>0") -> #VALUE! | Z11: Trade Executed according to plan / rules | AB11: Profitable
B12: Income/Expense for the Block | D12: =AM91+AN91+AS91 -> 0 | F12: Expense Percentage | J12: =COUNTIF(R16:R90,"<0")/COUNTIF(R16:R90,"<>0") -> 0 | L12: Average Expense Trade (Pips) | Q12: =SUM(AP16:AP90)/COUNTIF(AP16:AP90,"<0") -> #VALUE! | S12: $ Per Trade Avg. | U12: =SUM(Q16:Q90)/COUNTIF(Q16:Q90,"<>0") -> 0
B13: Reward Ratio for this Block | D13: =Q11/Q12*-1 -> #VALUE! | F13: # Income | H13: =COUNTIF(R16:R90,">0") -> 3 | I13: # Expense | K13: =COUNTIF(Q16:Q90,"<0") -> 0 | S13: Commissions | U13: =SUM(N16:N90) -> 0
B14: Trade | C14: Reason for entry | D14: Entry Information | L14: Exit Information | N14: Trade | S14: Open Trade Risk/Potential Reward | Z14: Entry | AA14: Exit | AO14: Pips | AP14: Pips
B15: # | D15: Ticket | E15: Open Time | F15: Type | G15: Size | H15: Pair | I15: Price | J15: S / L | K15: T / P | L15: Close Time | M15: Price | N15: Cmsn | O15: Taxes | P15: Swap | Q15: Profit | R15: pips | S15: R/R Ratio | T15: % Risk | U15: Pip Risk | V15: Pip Reward | W15: Reason for Exit | X15: Errors Made | Y15: Notes/Corrective Action | Z15: Yes | AA15: No | AF15: Pips | AG15: Profit | AH15: R/R Ratio | AI15: % Risk | AJ15: Pip Risk | AK15: Pip Reward | AL15: Price | AM15: Income | AN15: Expense | AO15: Income | AP15: Expense | AQ15: $ Risk | AR15: Size | AS15: Swap
B16: 1 | D16: ='Data Copy'!C4 -> 13787439 | E16: ='Data Copy'!D4 -> 2016.05.10 08:24:45 | F16: ='Data Copy'!E4 -> sell | G16: ='Data Copy'!F4 -> 3.00 | H16: ='Data Copy'!G4 -> gbpjpyi | I16: ='Data Copy'!H4 -> 156637 | J16: ='Data Copy'!I4 -> 0.000 | K16: ='Data Copy'!J4 -> 156561 | L16: ='Data Copy'!K4 -> 2016.05.10 08:26:38 | M16: =IF(L16>0,AL16,0) -> 156561 | N16: ='Data Copy'!M4 -> -0.23 | O16: ='Data Copy'!N4 -> 0.00 | P16: ='Data Copy'!O4 -> 0.00 | Q16: =IF(L16>0,AG16,0) -> 1.84 | R16: =IF(L16>0, IF(I16>2,AF16*100,AF16*10000),0) -> 7600 | S16: =IF(L16>0,0, IF(AH16>0,AH16,0)) -> 0 | T16: =IF(U16<=0,0,(G16*U16)/(G16*$U$6)) -> 0 | U16: =IF(L16>0,0,IF(AJ16<=0,0,IF(J16>2,(AJ16/100),AJ16))) -> 0 | V16: =IF(L16>0,0, IF(AK16<=0,0, IF(K16>2,(AK16/100),AK16))) -> 0 | W16: You can embed a screenshot of your trade by right clicking, select insert comment, right click comment hash mark border, select format comment, select colors and lines tab, select colors drop down menu, choose fill effects, choose picture tab, Select picture, lock picture aspect ratio check, OK, OK and resize comment window. | Z16: Yes | AA16: no | AB16: =IF(AG16=0," ", IF(AG16 > 0,"Yes","No")) -> Yes | AF16: =IF(F16="sell",I16-M16,M16-I16) -> 76 | AG16: ='Data Copy'!P4 -> 1.84 | AH16: =IF(K16=0,0,((K16-I16)/(I16-J16))) -> #VALUE! | AJ16: =IF(J16=0,0,IF(F16="buy",I16-J16,J16-I16)*10000) -> #VALUE! | AK16: =IF(K16=0,0, IF(F16="buy",K16-I16,I16-K16)*10000) -> 760000 | AL16: ='Data Copy'!L4 -> 156561 | AM16: =IF(Q16>0,Q16,0) -> 1.84 | AN16: =IF(Q16<0,Q16,0) -> 0 | AO16: =IF(R16>0,R16,0) -> 7600 | AP16: =IF(R16<0,R16,0) -> 0 | AQ16: =U16*G16*$U$7 -> #VALUE! | AR16: =IF(L16>0,0,G16*$U$6) -> 0 | AS16: =P16 -> 0.00
D17: ='Data Copy'!C5 -> 0 | E17: ='Data Copy'!D5 -> 0 | F17: ='Data Copy'!E5 -> 0 | G17: ='Data Copy'!F5 -> 0 | H17: ='Data Copy'!G5 -> 0 | I17: ='Data Copy'!H5 -> 0 | J17: ='Data Copy'!I5 -> 0 | K17: ='Data Copy'!J5 -> 0 | L17: ='Data Copy'!K5 -> 0 | M17: =IF(L17>0,AL17,0) -> 0 | N17: ='Data Copy'!M5 -> 0 | O17: ='Data Copy'!N5 -> 0 | P17: ='Data Copy'!O5 -> 0 | Q17: =IF(L17>0,AG17,0) -> 0 | R17: =IF(L17>0, IF(I17>2,AF17*100,AF17*10000),0) -> 0 | S17: =IF(L17>0,0, IF(AH17>0,AH17,0)) -> 0 | T17: =IF(U17<=0,0,(G17*U17)/(G17*$U$6)) -> 0 | U17: =IF(L17>0,0,IF(AJ17<=0,0,IF(J17>2,(AJ17/100),AJ17))) -> 0 | V17: =IF(L17>0,0, IF(AK17<=0,0, IF(K17>2,(AK17/100),AK17))) -> 0 | AB17: =IF(Q17=0," ", IF(Q17 > 0,"Yes","No")) | AF17: =IF(F17="sell",I17-M17,M17-I17) -> 0 | AG17: ='Data Copy'!P5 -> 0 | AH17: =IF(K17=0,0,((K17-I17)/(I17-J17))) -> 0 | AJ17: =IF(J17=0,0,IF(F17="buy",I17-J17,J17-I17)*10000) -> 0 | AK17: =IF(K17=0,0, IF(F17="buy",K17-I17,I17-K17)*10000) -> 0 | AL17: ='Data Copy'!L5 -> 0 | AM17: =IF(Q17>0,Q17,0) -> 0 | AN17: =IF(Q17<0,Q17,0) -> 0 | AO17: =IF(R17>0,R17,0) -> 0 | AP17: =IF(R17<0,R17,0) -> 0 | AQ17: =U17*G17*$U$7 -> 0 | AR17: =IF(L17>0,0,G17*$U$6) -> 0 | AS17: =P17 -> 0
D18: ='Data Copy'!C6 -> 0 | E18: ='Data Copy'!D6 -> 0 | F18: ='Data Copy'!E6 -> 0 | G18: ='Data Copy'!F6 -> 0 | H18: ='Data Copy'!G6 -> 0 | I18: ='Data Copy'!H6 -> 0 | J18: ='Data Copy'!I6 -> 0 | K18: ='Data Copy'!J6 -> 0 | L18: ='Data Copy'!K6 -> 0 | M18: =IF(L18>0,AL18,0) -> 0 | N18: ='Data Copy'!M6 -> 0 | O18: ='Data Copy'!N6 -> 0 | P18: ='Data Copy'!O6 -> 0 | Q18: =IF(L18>0,AG18,0) -> 0 | R18: =IF(L18>0, IF(I18>2,AF18*100,AF18*10000),0) -> 0 | S18: =IF(L18>0,0, IF(AH18>0,AH18,0)) -> 0 | T18: =IF(U18<=0,0,(G18*U18)/(G18*$U$6)) -> 0 | U18: =IF(L18>0,0,IF(AJ18<=0,0,IF(J18>2,(AJ18/100),AJ18))) -> 0 | V18: =IF(L18>0,0, IF(AK18<=0,0, IF(K18>2,(AK18/100),AK18))) -> 0 | AB18: =IF(Q18=0," ", IF(Q18 > 0,"Yes","No")) | AF18: =IF(F18="sell",I18-M18,M18-I18) -> 0 | AG18: ='Data Copy'!P6 -> 0 | AH18: =IF(K18=0,0,((K18-I18)/(I18-J18))) -> 0 | AJ18: =IF(J18=0,0,IF(F18="buy",I18-J18,J18-I18)*10000) -> 0 | AK18: =IF(K18=0,0, IF(F18="buy",K18-I18,I18-K18)*10000) -> 0 | AL18: ='Data Copy'!L6 -> 0 | AM18: =IF(Q18>0,Q18,0) -> 0 | AN18: =IF(Q18<0,Q18,0) -> 0 | AO18: =IF(R18>0,R18,0) -> 0 | AP18: =IF(R18<0,R18,0) -> 0 | AQ18: =U18*G18*$U$7 -> 0 | AR18: =IF(L18>0,0,G18*$U$6) -> 0 | AS18: =P18 -> 0
B19: 2 | D19: ='Data Copy'!C7 -> 13788633 | E19: ='Data Copy'!D7 -> 2016.05.10 09:09:33 | F19: ='Data Copy'!E7 -> buy | G19: ='Data Copy'!F7 -> 3.00 | H19: ='Data Copy'!G7 -> eurusdi | I19: ='Data Copy'!H7 -> 113853 | J19: ='Data Copy'!I7 -> 0.00000 | K19: ='Data Copy'!J7 -> 113919 | L19: ='Data Copy'!K7 -> 2016.05.10 09:38:12 | M19: =IF(L19>0,AL19,0) -> 113919 | N19: ='Data Copy'!M7 -> -0.18 | O19: ='Data Copy'!N7 -> 0.00 | P19: ='Data Copy'!O7 -> 0.00 | Q19: =IF(L19>0,AG19,0) -> 1.74 | R19: =IF(L19>0, IF(I19>2,AF19*100,AF19*10000),0) -> 6600 | S19: =IF(L19>0,0, IF(AH19>0,AH19,0)) -> 0 | T19: =IF(U19<=0,0,(G19*U19)/(G19*$U$6)) -> 0 | U19: =IF(L19>0,0,IF(AJ19<=0,0,IF(J19>2,(AJ19/100),AJ19))) -> 0 | V19: =IF(L19>0,0, IF(AK19<=0,0, IF(K19>2,(AK19/100),AK19))) -> 0 | AB19: =IF(Q19=0," ", IF(Q19 > 0,"Yes","No")) -> Yes | AF19: =IF(F19="sell",I19-M19,M19-I19) -> 66 | AG19: ='Data Copy'!P7 -> 1.74 | AH19: =IF(K19=0,0,((K19-I19)/(I19-J19))) -> #VALUE! | AJ19: =IF(J19=0,0,IF(F19="buy",I19-J19,J19-I19)*10000) -> #VALUE! | AK19: =IF(K19=0,0, IF(F19="buy",K19-I19,I19-K19)*10000) -> 660000 | AL19: ='Data Copy'!L7 -> 113919 | AM19: =IF(Q19>0,Q19,0) -> 1.74 | AN19: =IF(Q19<0,Q19,0) -> 0 | AO19: =IF(R19>0,R19,0) -> 6600 | AP19: =IF(R19<0,R19,0) -> 0 | AQ19: =U19*G19*$U$7 -> #VALUE! | AR19: =IF(L19>0,0,G19*$U$6) -> 0 | AS19: =P19 -> 0.00
D20: ='Data Copy'!C8 -> 0 | E20: ='Data Copy'!D8 -> 0 | F20: ='Data Copy'!E8 -> 0 | G20: ='Data Copy'!F8 -> 0 | H20: ='Data Copy'!G8 -> 0 | I20: ='Data Copy'!H8 -> 0 | J20: ='Data Copy'!I8 -> 0 | K20: ='Data Copy'!J8 -> 0 | L20: ='Data Copy'!K8 -> 0 | M20: =IF(L20>0,AL20,0) -> 0 | N20: ='Data Copy'!M8 -> 0 | O20: ='Data Copy'!N8 -> 0 | P20: ='Data Copy'!O8 -> 0 | Q20: =IF(L20>0,AG20,0) -> 0 | R20: =IF(L20>0, IF(I20>2,AF20*100,AF20*10000),0) -> 0 | S20: =IF(L20>0,0, IF(AH20>0,AH20,0)) -> 0 | T20: =IF(U20<=0,0,(G20*U20)/(G20*$U$6)) -> 0 | U20: =IF(L20>0,0,IF(AJ20<=0,0,IF(J20>2,(AJ20/100),AJ20))) -> 0 | V20: =IF(L20>0,0, IF(AK20<=0,0, IF(K20>2,(AK20/100),AK20))) -> 0 | AB20: =IF(Q20=0," ", IF(Q20 > 0,"Yes","No")) | AF20: =IF(F20="sell",I20-M20,M20-I20) -> 0 | AG20: ='Data Copy'!P8 -> 0 | AH20: =IF(K20=0,0,((K20-I20)/(I20-J20))) -> 0 | AJ20: =IF(J20=0,0,IF(F20="buy",I20-J20,J20-I20)*10000) -> 0 | AK20: =IF(K20=0,0, IF(F20="buy",K20-I20,I20-K20)*10000) -> 0 | AL20: ='Data Copy'!L8 -> 0 | AM20: =IF(Q20>0,Q20,0) -> 0 | AN20: =IF(Q20<0,Q20,0) -> 0 | AO20: =IF(R20>0,R20,0) -> 0 | AP20: =IF(R20<0,R20,0) -> 0 | AQ20: =U20*G20*$U$7 -> 0 | AR20: =IF(L20>0,0,G20*$U$6) -> 0 | AS20: =P20 -> 0
D21: ='Data Copy'!C9 -> 0 | E21: ='Data Copy'!D9 -> 0 | F21: ='Data Copy'!E9 -> 0 | G21: ='Data Copy'!F9 -> 0 | H21: ='Data Copy'!G9 -> 0 | I21: ='Data Copy'!H9 -> 0 | J21: ='Data Copy'!I9 -> 0 | K21: ='Data Copy'!J9 -> 0 | L21: ='Data Copy'!K9 -> 0 | M21: =IF(L21>0,AL21,0) -> 0 | N21: ='Data Copy'!M9 -> 0 | O21: ='Data Copy'!N9 -> 0 | P21: ='Data Copy'!O9 -> 0 | Q21: =IF(L21>0,AG21,0) -> 0 | R21: =IF(L21>0, IF(I21>2,AF21*100,AF21*10000),0) -> 0 | S21: =IF(L21>0,0, IF(AH21>0,AH21,0)) -> 0 | T21: =IF(U21<=0,0,(G21*U21)/(G21*$U$6)) -> 0 | U21: =IF(L21>0,0,IF(AJ21<=0,0,IF(J21>2,(AJ21/100),AJ21))) -> 0 | V21: =IF(L21>0,0, IF(AK21<=0,0, IF(K21>2,(AK21/100),AK21))) -> 0 | AB21: =IF(Q21=0," ", IF(Q21 > 0,"Yes","No")) | AF21: =IF(F21="sell",I21-M21,M21-I21) -> 0 | AG21: ='Data Copy'!P9 -> 0 | AH21: =IF(K21=0,0,((K21-I21)/(I21-J21))) -> 0 | AJ21: =IF(J21=0,0,IF(F21="buy",I21-J21,J21-I21)*10000) -> 0 | AK21: =IF(K21=0,0, IF(F21="buy",K21-I21,I21-K21)*10000) -> 0 | AL21: ='Data Copy'!L9 -> 0 | AM21: =IF(Q21>0,Q21,0) -> 0 | AN21: =IF(Q21<0,Q21,0) -> 0 | AO21: =IF(R21>0,R21,0) -> 0 | AP21: =IF(R21<0,R21,0) -> 0 | AQ21: =U21*G21*$U$7 -> 0 | AR21: =IF(L21>0,0,G21*$U$6) -> 0 | AS21: =P21 -> 0
B22: 3 | D22: ='Data Copy'!C10 -> 13790424 | E22: ='Data Copy'!D10 -> 2016.05.10 09:52:23 | F22: ='Data Copy'!E10 -> buy | G22: ='Data Copy'!F10 -> 3.00 | H22: ='Data Copy'!G10 -> audusdi | I22: ='Data Copy'!H10 -> 0.73429 | J22: ='Data Copy'!I10 -> 0.00000 | K22: ='Data Copy'!J10 -> 0.73497 | L22: ='Data Copy'!K10 -> 2016.05.10 10:21:48 | M22: =IF(L22>0,AL22,0) -> 0.73483 | N22: ='Data Copy'!M10 -> -0.12 | O22: ='Data Copy'!N10 -> 0.00 | P22: ='Data Copy'!O10 -> 0.00 | Q22: =IF(L22>0,AG22,0) -> 1.42 | R22: =IF(L22>0, IF(I22>2,AF22*100,AF22*10000),0) -> #VALUE! | S22: =IF(L22>0,0, IF(AH22>0,AH22,0)) -> 0 | T22: =IF(U22<=0,0,(G22*U22)/(G22*$U$6)) -> 0 | U22: =IF(L22>0,0,IF(AJ22<=0,0,IF(J22>2,(AJ22/100),AJ22))) -> 0 | V22: =IF(L22>0,0, IF(AK22<=0,0, IF(K22>2,(AK22/100),AK22))) -> 0 | AB22: =IF(Q22=0," ", IF(Q22 > 0,"Yes","No")) -> Yes | AF22: =IF(F22="sell",I22-M22,M22-I22) -> #VALUE! | AG22: ='Data Copy'!P10 -> 1.42 | AH22: =IF(K22=0,0,((K22-I22)/(I22-J22))) -> #VALUE! | AJ22: =IF(J22=0,0,IF(F22="buy",I22-J22,J22-I22)*10000) -> #VALUE! | AK22: =IF(K22=0,0, IF(F22="buy",K22-I22,I22-K22)*10000) -> #VALUE! | AL22: ='Data Copy'!L10 -> 0.73483 | AM22: =IF(Q22>0,Q22,0) -> 1.42 | AN22: =IF(Q22<0,Q22,0) -> 0 | AO22: =IF(R22>0,R22,0) -> #VALUE! | AP22: =IF(R22<0,R22,0) -> #VALUE! | AQ22: =U22*G22*$U$7 -> #VALUE! | AR22: =IF(L22>0,0,G22*$U$6) -> 0 | AS22: =P22 -> 0.00
D23: ='Data Copy'!C11 -> 0 | E23: ='Data Copy'!D11 -> 0 | F23: ='Data Copy'!E11 -> 0 | G23: ='Data Copy'!F11 -> 0 | H23: ='Data Copy'!G11 -> 0 | I23: ='Data Copy'!H11 -> 0 | J23: ='Data Copy'!I11 -> 0 | K23: ='Data Copy'!J11 -> 0 | L23: ='Data Copy'!K11 -> 0 | M23: =IF(L23>0,AL23,0) -> 0 | N23: ='Data Copy'!M11 -> 0 | O23: ='Data Copy'!N11 -> 0 | P23: ='Data Copy'!O11 -> 0 | Q23: =IF(L23>0,AG23,0) -> 0 | R23: =IF(L23>0, IF(I23>2,AF23*100,AF23*10000),0) -> 0 | S23: =IF(L23>0,0, IF(AH23>0,AH23,0)) -> 0 | T23: =IF(U23<=0,0,(G23*U23)/(G23*$U$6)) -> 0 | U23: =IF(L23>0,0,IF(AJ23<=0,0,IF(J23>2,(AJ23/100),AJ23))) -> 0 | V23: =IF(L23>0,0, IF(AK23<=0,0, IF(K23>2,(AK23/100),AK23))) -> 0 | AB23: =IF(Q23=0," ", IF(Q23 > 0,"Yes","No")) | AF23: =IF(F23="sell",I23-M23,M23-I23) -> 0 | AG23: ='Data Copy'!P11 -> 0 | AH23: =IF(K23=0,0,((K23-I23)/(I23-J23))) -> 0 | AJ23: =IF(J23=0,0,IF(F23="buy",I23-J23,J23-I23)*10000) -> 0 | AK23: =IF(K23=0,0, IF(F23="buy",K23-I23,I23-K23)*10000) -> 0 | AL23: ='Data Copy'!L11 -> 0 | AM23: =IF(Q23>0,Q23,0) -> 0 | AN23: =IF(Q23<0,Q23,0) -> 0 | AO23: =IF(R23>0,R23,0) -> 0 | AP23: =IF(R23<0,R23,0) -> 0 | AQ23: =U23*G23*$U$7 -> 0 | AR23: =IF(L23>0,0,G23*$U$6) -> 0 | AS23: =P23 -> 0
D24: ='Data Copy'!C12 -> 0 | E24: ='Data Copy'!D12 -> 0 | F24: ='Data Copy'!E12 -> 0 | G24: ='Data Copy'!F12 -> 0 | H24: ='Data Copy'!G12 -> 0 | I24: ='Data Copy'!H12 -> 0 | J24: ='Data Copy'!I12 -> 0 | K24: ='Data Copy'!J12 -> 0 | L24: ='Data Copy'!K12 -> 0 | M24: =IF(L24>0,AL24,0) -> 0 | N24: ='Data Copy'!M12 -> 0 | O24: ='Data Copy'!N12 -> 0 | P24: ='Data Copy'!O12 -> 0 | Q24: =IF(L24>0,AG24,0) -> 0 | R24: =IF(L24>0, IF(I24>2,AF24*100,AF24*10000),0) -> 0 | S24: =IF(L24>0,0, IF(AH24>0,AH24,0)) -> 0 | T24: =IF(U24<=0,0,(G24*U24)/(G24*$U$6)) -> 0 | U24: =IF(L24>0,0,IF(AJ24<=0,0,IF(J24>2,(AJ24/100),AJ24))) -> 0 | V24: =IF(L24>0,0, IF(AK24<=0,0, IF(K24>2,(AK24/100),AK24))) -> 0 | AB24: =IF(Q24=0," ", IF(Q24 > 0,"Yes","No")) | AF24: =IF(F24="sell",I24-M24,M24-I24) -> 0 | AG24: ='Data Copy'!P12 -> 0 | AH24: =IF(K24=0,0,((K24-I24)/(I24-J24))) -> 0 | AJ24: =IF(J24=0,0,IF(F24="buy",I24-J24,J24-I24)*10000) -> 0 | AK24: =IF(K24=0,0, IF(F24="buy",K24-I24,I24-K24)*10000) -> 0 | AL24: ='Data Copy'!L12 -> 0 | AM24: =IF(Q24>0,Q24,0) -> 0 | AN24: =IF(Q24<0,Q24,0) -> 0 | AO24: =IF(R24>0,R24,0) -> 0 | AP24: =IF(R24<0,R24,0) -> 0 | AQ24: =U24*G24*$U$7 -> 0 | AR24: =IF(L24>0,0,G24*$U$6) -> 0 | AS24: =P24 -> 0
B25: 4 | D25: ='Data Copy'!C13 -> 13794144 | E25: ='Data Copy'!D13 -> 2016.05.10 11:05:09 | F25: ='Data Copy'!E13 -> sell | G25: ='Data Copy'!F13 -> 3.00 | H25: ='Data Copy'!G13 -> eurusdi | I25: ='Data Copy'!H13 -> 113839 | J25: ='Data Copy'!I13 -> 0.00000 | K25: ='Data Copy'!J13 -> 113767 | L25: ='Data Copy'!K13 -> 2016.05.10 13:11:46 | M25: =IF(L25>0,AL25,0) -> 113771 | N25: ='Data Copy'!M13 -> -0.18 | O25: ='Data Copy'!N13 -> 0.00 | P25: ='Data Copy'!O13 -> 0.00 | Q25: =IF(L25>0,AG25,0) -> 1.79 | R25: =IF(L25>0, IF(I25>2,AF25*100,AF25*10000),0) -> 6800 | S25: =IF(L25>0,0, IF(AH25>0,AH25,0)) -> 0 | T25: =IF(U25<=0,0,(G25*U25)/(G25*$U$6)) -> 0 | U25: =IF(L25>0,0,IF(AJ25<=0,0,IF(J25>2,(AJ25/100),AJ25))) -> 0 | V25: =IF(L25>0,0, IF(AK25<=0,0, IF(K25>2,(AK25/100),AK25))) -> 0 | AB25: =IF(Q25=0," ", IF(Q25 > 0,"Yes","No")) -> Yes | AF25: =IF(F25="sell",I25-M25,M25-I25) -> 68 | AG25: ='Data Copy'!P13 -> 1.79 | AH25: =IF(K25=0,0,((K25-I25)/(I25-J25))) -> #VALUE! | AJ25: =IF(J25=0,0,IF(F25="buy",I25-J25,J25-I25)*10000) -> #VALUE! | AK25: =IF(K25=0,0, IF(F25="buy",K25-I25,I25-K25)*10000) -> 720000 | AL25: ='Data Copy'!L13 -> 113771 | AM25: =IF(Q25>0,Q25,0) -> 1.79 | AN25: =IF(Q25<0,Q25,0) -> 0 | AO25: =IF(R25>0,R25,0) -> 6800 | AP25: =IF(R25<0,R25,0) -> 0 | AQ25: =U25*G25*$U$7 -> #VALUE! | AR25: =IF(L25>0,0,G25*$U$6) -> 0 | AS25: =P25 -> 0.00
D26: ='Data Copy'!C14 -> 0 | E26: ='Data Copy'!D14 -> 0 | F26: ='Data Copy'!E14 -> 0 | G26: ='Data Copy'!F14 -> 0 | H26: ='Data Copy'!G14 -> 0 | I26: ='Data Copy'!H14 -> 0 | J26: ='Data Copy'!I14 -> 0 | K26: ='Data Copy'!J14 -> 0 | L26: ='Data Copy'!K14 -> 0 | M26: =IF(L26>0,AL26,0) -> 0 | N26: ='Data Copy'!M14 -> 0 | O26: ='Data Copy'!N14 -> 0 | P26: ='Data Copy'!O14 -> 0 | Q26: =IF(L26>0,AG26,0) -> 0 | R26: =IF(L26>0, IF(I26>2,AF26*100,AF26*10000),0) -> 0 | S26: =IF(L26>0,0, IF(AH26>0,AH26,0)) -> 0 | T26: =IF(U26<=0,0,(G26*U26)/(G26*$U$6)) -> 0 | U26: =IF(L26>0,0,IF(AJ26<=0,0,IF(J26>2,(AJ26/100),AJ26))) -> 0 | V26: =IF(L26>0,0, IF(AK26<=0,0, IF(K26>2,(AK26/100),AK26))) -> 0 | AB26: =IF(Q26=0," ", IF(Q26 > 0,"Yes","No")) | AF26: =IF(F26="sell",I26-M26,M26-I26) -> 0 | AG26: ='Data Copy'!P14 -> 0 | AH26: =IF(K26=0,0,((K26-I26)/(I26-J26))) -> 0 | AJ26: =IF(J26=0,0,IF(F26="buy",I26-J26,J26-I26)*10000) -> 0 | AK26: =IF(K26=0,0, IF(F26="buy",K26-I26,I26-K26)*10000) -> 0 | AL26: ='Data Copy'!L14 -> 0 | AM26: =IF(Q26>0,Q26,0) -> 0 | AN26: =IF(Q26<0,Q26,0) -> 0 | AO26: =IF(R26>0,R26,0) -> 0 | AP26: =IF(R26<0,R26,0) -> 0 | AQ26: =U26*G26*$U$7 -> 0 | AR26: =IF(L26>0,0,G26*$U$6) -> 0 | AS26: =P26 -> 0
D27: ='Data Copy'!C15 -> 0 | E27: ='Data Copy'!D15 -> 0 | F27: ='Data Copy'!E15 -> 0 | G27: ='Data Copy'!F15 -> 0 | H27: ='Data Copy'!G15 -> 0 | I27: ='Data Copy'!H15 -> 0 | J27: ='Data Copy'!I15 -> 0 | K27: ='Data Copy'!J15 -> 0 | L27: ='Data Copy'!K15 -> 0 | M27: =IF(L27>0,AL27,0) -> 0 | N27: ='Data Copy'!M15 -> 0 | O27: ='Data Copy'!N15 -> 0 | P27: ='Data Copy'!O15 -> 0 | Q27: =IF(L27>0,AG27,0) -> 0 | R27: =IF(L27>0, IF(I27>2,AF27*100,AF27*10000),0) -> 0 | S27: =IF(L27>0,0, IF(AH27>0,AH27,0)) -> 0 | T27: =IF(U27<=0,0,(G27*U27)/(G27*$U$6)) -> 0 | U27: =IF(L27>0,0,IF(AJ27<=0,0,IF(J27>2,(AJ27/100),AJ27))) -> 0 | V27: =IF(L27>0,0, IF(AK27<=0,0, IF(K27>2,(AK27/100),AK27))) -> 0 | AB27: =IF(Q27=0," ", IF(Q27 > 0,"Yes","No")) | AF27: =IF(F27="sell",I27-M27,M27-I27) -> 0 | AG27: ='Data Copy'!P15 -> 0 | AH27: =IF(K27=0,0,((K27-I27)/(I27-J27))) -> 0 | AJ27: =IF(J27=0,0,IF(F27="buy",I27-J27,J27-I27)*10000) -> 0 | AK27: =IF(K27=0,0, IF(F27="buy",K27-I27,I27-K27)*10000) -> 0 | AL27: ='Data Copy'!L15 -> 0 | AM27: =IF(Q27>0,Q27,0) -> 0 | AN27: =IF(Q27<0,Q27,0) -> 0 | AO27: =IF(R27>0,R27,0) -> 0 | AP27: =IF(R27<0,R27,0) -> 0 | AQ27: =U27*G27*$U$7 -> 0 | AR27: =IF(L27>0,0,G27*$U$6) -> 0 | AS27: =P27 -> 0
B28: 5 | D28: ='Data Copy'!C16 -> 0 | E28: ='Data Copy'!D16 -> 0 | F28: ='Data Copy'!E16 -> 0 | G28: ='Data Copy'!F16 -> 0 | H28: ='Data Copy'!G16 -> 0 | I28: ='Data Copy'!H16 -> 0 | J28: ='Data Copy'!I16 -> 0 | K28: ='Data Copy'!J16 -> 0 | L28: ='Data Copy'!K16 -> 0 | M28: =IF(L28>0,AL28,0) -> 0 | N28: ='Data Copy'!M16 -> 0 | O28: ='Data Copy'!N16 -> 0 | P28: ='Data Copy'!O16 -> 0 | Q28: =IF(L28>0,AG28,0) -> 0 | R28: =IF(L28>0, IF(I28>2,AF28*100,AF28*10000),0) -> 0 | S28: =IF(L28>0,0, IF(AH28>0,AH28,0)) -> 0 | T28: =IF(U28<=0,0,(G28*U28)/(G28*$U$6)) -> 0 | U28: =IF(L28>0,0,IF(AJ28<=0,0,IF(J28>2,(AJ28/100),AJ28))) -> 0 | V28: =IF(L28>0,0, IF(AK28<=0,0, IF(K28>2,(AK28/100),AK28))) -> 0 | AB28: =IF(Q28=0," ", IF(Q28 > 0,"Yes","No")) | AF28: =IF(F28="sell",I28-M28,M28-I28) -> 0 | AG28: ='Data Copy'!P16 -> 0 | AH28: =IF(K28=0,0,((K28-I28)/(I28-J28))) -> 0 | AJ28: =IF(J28=0,0,IF(F28="buy",I28-J28,J28-I28)*10000) -> 0 | AK28: =IF(K28=0,0, IF(F28="buy",K28-I28,I28-K28)*10000) -> 0 | AL28: ='Data Copy'!L16 -> 0 | AM28: =IF(Q28>0,Q28,0) -> 0 | AN28: =IF(Q28<0,Q28,0) -> 0 | AO28: =IF(R28>0,R28,0) -> 0 | AP28: =IF(R28<0,R28,0) -> 0 | AQ28: =U28*G28*$U$7 -> 0 | AR28: =IF(L28>0,0,G28*$U$6) -> 0 | AS28: =P28 -> 0
D29: ='Data Copy'!C17 -> 0 | E29: ='Data Copy'!D17 -> 0 | F29: ='Data Copy'!E17 -> 0 | G29: ='Data Copy'!F17 -> 0 | H29: ='Data Copy'!G17 -> 0 | I29: ='Data Copy'!H17 -> 0 | J29: ='Data Copy'!I17 -> 0 | K29: ='Data Copy'!J17 -> 0 | L29: ='Data Copy'!K17 -> 0 | M29: =IF(L29>0,AL29,0) -> 0 | N29: ='Data Copy'!M17 -> 0 | O29: ='Data Copy'!N17 -> 0 | P29: ='Data Copy'!O17 -> 0 | Q29: =IF(L29>0,AG29,0) -> 0 | R29: =IF(L29>0, IF(I29>2,AF29*100,AF29*10000),0) -> 0 | S29: =IF(L29>0,0, IF(AH29>0,AH29,0)) -> 0 | T29: =IF(U29<=0,0,(G29*U29)/(G29*$U$6)) -> 0 | U29: =IF(L29>0,0,IF(AJ29<=0,0,IF(J29>2,(AJ29/100),AJ29))) -> 0 | V29: =IF(L29>0,0, IF(AK29<=0,0, IF(K29>2,(AK29/100),AK29))) -> 0 | AB29: =IF(Q29=0," ", IF(Q29 > 0,"Yes","No")) | AF29: =IF(F29="sell",I29-M29,M29-I29) -> 0 | AG29: ='Data Copy'!P17 -> 0 | AH29: =IF(K29=0,0,((K29-I29)/(I29-J29))) -> 0 | AJ29: =IF(J29=0,0,IF(F29="buy",I29-J29,J29-I29)*10000) -> 0 | AK29: =IF(K29=0,0, IF(F29="buy",K29-I29,I29-K29)*10000) -> 0 | AL29: ='Data Copy'!L17 -> 0 | AM29: =IF(Q29>0,Q29,0) -> 0 | AN29: =IF(Q29<0,Q29,0) -> 0 | AO29: =IF(R29>0,R29,0) -> 0 | AP29: =IF(R29<0,R29,0) -> 0 | AQ29: =U29*G29*$U$7 -> 0 | AR29: =IF(L29>0,0,G29*$U$6) -> 0 | AS29: =P29 -> 0
D30: ='Data Copy'!C18 -> 0 | E30: ='Data Copy'!D18 -> 0 | F30: ='Data Copy'!E18 -> 0 | G30: ='Data Copy'!F18 -> 0 | H30: ='Data Copy'!G18 -> 0 | I30: ='Data Copy'!H18 -> 0 | J30: ='Data Copy'!I18 -> 0 | K30: ='Data Copy'!J18 -> 0 | L30: ='Data Copy'!K18 -> 0 | M30: =IF(L30>0,AL30,0) -> 0 | N30: ='Data Copy'!M18 -> 0 | O30: ='Data Copy'!N18 -> 0 | P30: ='Data Copy'!O18 -> 0 | Q30: =IF(L30>0,AG30,0) -> 0 | R30: =IF(L30>0, IF(I30>2,AF30*100,AF30*10000),0) -> 0 | S30: =IF(L30>0,0, IF(AH30>0,AH30,0)) -> 0 | T30: =IF(U30<=0,0,(G30*U30)/(G30*$U$6)) -> 0 | U30: =IF(L30>0,0,IF(AJ30<=0,0,IF(J30>2,(AJ30/100),AJ30))) -> 0 | V30: =IF(L30>0,0, IF(AK30<=0,0, IF(K30>2,(AK30/100),AK30))) -> 0 | AB30: =IF(Q30=0," ", IF(Q30 > 0,"Yes","No")) | AF30: =IF(F30="sell",I30-M30,M30-I30) -> 0 | AG30: ='Data Copy'!P18 -> 0 | AH30: =IF(K30=0,0,((K30-I30)/(I30-J30))) -> 0 | AJ30: =IF(J30=0,0,IF(F30="buy",I30-J30,J30-I30)*10000) -> 0 | AK30: =IF(K30=0,0, IF(F30="buy",K30-I30,I30-K30)*10000) -> 0 | AL30: ='Data Copy'!L18 -> 0 | AM30: =IF(Q30>0,Q30,0) -> 0 | AN30: =IF(Q30<0,Q30,0) -> 0 | AO30: =IF(R30>0,R30,0) -> 0 | AP30: =IF(R30<0,R30,0) -> 0 | AQ30: =U30*G30*$U$7 -> 0 | AR30: =IF(L30>0,0,G30*$U$6) -> 0 | AS30: =P30 -> 0
B31: 6 | D31: ='Data Copy'!C19 -> 0 | E31: ='Data Copy'!D19 -> 0 | F31: ='Data Copy'!E19 -> 0 | G31: ='Data Copy'!F19 -> 0 | H31: ='Data Copy'!G19 -> 0 | I31: ='Data Copy'!H19 -> 0 | J31: ='Data Copy'!I19 -> 0 | K31: ='Data Copy'!J19 -> 0 | L31: ='Data Copy'!K19 -> 0 | M31: =IF(L31>0,AL31,0) -> 0 | N31: ='Data Copy'!M19 -> 0 | O31: ='Data Copy'!N19 -> 0 | P31: ='Data Copy'!O19 -> 0 | Q31: =IF(L31>0,AG31,0) -> 0 | R31: =IF(L31>0, IF(I31>2,AF31*100,AF31*10000),0) -> 0 | S31: =IF(L31>0,0, IF(AH31>0,AH31,0)) -> 0 | T31: =IF(U31<=0,0,(G31*U31)/(G31*$U$6)) -> 0 | U31: =IF(L31>0,0,IF(AJ31<=0,0,IF(J31>2,(AJ31/100),AJ31))) -> 0 | V31: =IF(L31>0,0, IF(AK31<=0,0, IF(K31>2,(AK31/100),AK31))) -> 0 | AB31: =IF(Q31=0," ", IF(Q31 > 0,"Yes","No")) | AF31: =IF(F31="sell",I31-M31,M31-I31) -> 0 | AG31: ='Data Copy'!P19 -> 0 | AH31: =IF(K31=0,0,((K31-I31)/(I31-J31))) -> 0 | AJ31: =IF(J31=0,0,IF(F31="buy",I31-J31,J31-I31)*10000) -> 0 | AK31: =IF(K31=0,0, IF(F31="buy",K31-I31,I31-K31)*10000) -> 0 | AL31: ='Data Copy'!L19 -> 0 | AM31: =IF(Q31>0,Q31,0) -> 0 | AN31: =IF(Q31<0,Q31,0) -> 0 | AO31: =IF(R31>0,R31,0) -> 0 | AP31: =IF(R31<0,R31,0) -> 0 | AQ31: =U31*G31*$U$7 -> 0 | AR31: =IF(L31>0,0,G31*$U$6) -> 0 | AS31: =P31 -> 0
D32: ='Data Copy'!C20 -> 0 | E32: ='Data Copy'!D20 -> 0 | F32: ='Data Copy'!E20 -> 0 | G32: ='Data Copy'!F20 -> 0 | H32: ='Data Copy'!G20 -> 0 | I32: ='Data Copy'!H20 -> 0 | J32: ='Data Copy'!I20 -> 0 | K32: ='Data Copy'!J20 -> 0 | L32: ='Data Copy'!K20 -> 0 | M32: =IF(L32>0,AL32,0) -> 0 | N32: ='Data Copy'!M20 -> 0 | O32: ='Data Copy'!N20 -> 0 | P32: ='Data Copy'!O20 -> 0 | Q32: =IF(L32>0,AG32,0) -> 0 | R32: =IF(L32>0, IF(I32>2,AF32*100,AF32*10000),0) -> 0 | S32: =IF(L32>0,0, IF(AH32>0,AH32,0)) -> 0 | T32: =IF(U32<=0,0,(G32*U32)/(G32*$U$6)) -> 0 | U32: =IF(L32>0,0,IF(AJ32<=0,0,IF(J32>2,(AJ32/100),AJ32))) -> 0 | V32: =IF(L32>0,0, IF(AK32<=0,0, IF(K32>2,(AK32/100),AK32))) -> 0 | AB32: =IF(Q32=0," ", IF(Q32 > 0,"Yes","No")) | AF32: =IF(F32="sell",I32-M32,M32-I32) -> 0 | AG32: ='Data Copy'!P20 -> 0 | AH32: =IF(K32=0,0,((K32-I32)/(I32-J32))) -> 0 | AJ32: =IF(J32=0,0,IF(F32="buy",I32-J32,J32-I32)*10000) -> 0 | AK32: =IF(K32=0,0, IF(F32="buy",K32-I32,I32-K32)*10000) -> 0 | AL32: ='Data Copy'!L20 -> 0 | AM32: =IF(Q32>0,Q32,0) -> 0 | AN32: =IF(Q32<0,Q32,0) -> 0 | AO32: =IF(R32>0,R32,0) -> 0 | AP32: =IF(R32<0,R32,0) -> 0 | AQ32: =U32*G32*$U$7 -> 0 | AR32: =IF(L32>0,0,G32*$U$6) -> 0 | AS32: =P32 -> 0
D33: ='Data Copy'!C21 -> 0 | E33: ='Data Copy'!D21 -> 0 | F33: ='Data Copy'!E21 -> 0 | G33: ='Data Copy'!F21 -> 0 | H33: ='Data Copy'!G21 -> 0 | I33: ='Data Copy'!H21 -> 0 | J33: ='Data Copy'!I21 -> 0 | K33: ='Data Copy'!J21 -> 0 | L33: ='Data Copy'!K21 -> 0 | M33: =IF(L33>0,AL33,0) -> 0 | N33: ='Data Copy'!M21 -> 0 | O33: ='Data Copy'!N21 -> 0 | P33: ='Data Copy'!O21 -> 0 | Q33: =IF(L33>0,AG33,0) -> 0 | R33: =IF(L33>0, IF(I33>2,AF33*100,AF33*10000),0) -> 0 | S33: =IF(L33>0,0, IF(AH33>0,AH33,0)) -> 0 | T33: =IF(U33<=0,0,(G33*U33)/(G33*$U$6)) -> 0 | U33: =IF(L33>0,0,IF(AJ33<=0,0,IF(J33>2,(AJ33/100),AJ33))) -> 0 | V33: =IF(L33>0,0, IF(AK33<=0,0, IF(K33>2,(AK33/100),AK33))) -> 0 | AB33: =IF(Q33=0," ", IF(Q33 > 0,"Yes","No")) | AF33: =IF(F33="sell",I33-M33,M33-I33) -> 0 | AG33: ='Data Copy'!P21 -> 0 | AH33: =IF(K33=0,0,((K33-I33)/(I33-J33))) -> 0 | AJ33: =IF(J33=0,0,IF(F33="buy",I33-J33,J33-I33)*10000) -> 0 | AK33: =IF(K33=0,0, IF(F33="buy",K33-I33,I33-K33)*10000) -> 0 | AL33: ='Data Copy'!L21 -> 0 | AM33: =IF(Q33>0,Q33,0) -> 0 | AN33: =IF(Q33<0,Q33,0) -> 0 | AO33: =IF(R33>0,R33,0) -> 0 | AP33: =IF(R33<0,R33,0) -> 0 | AQ33: =U33*G33*$U$7 -> 0 | AR33: =IF(L33>0,0,G33*$U$6) -> 0 | AS33: =P33 -> 0
B34: 7 | D34: ='Data Copy'!C22 -> 0 | E34: ='Data Copy'!D22 -> 0 | F34: ='Data Copy'!E22 -> 0 | G34: ='Data Copy'!F22 -> 0 | H34: ='Data Copy'!G22 -> 0 | I34: ='Data Copy'!H22 -> 0 | J34: ='Data Copy'!I22 -> 0 | K34: ='Data Copy'!J22 -> 0 | L34: ='Data Copy'!K22 -> 0 | M34: =IF(L34>0,AL34,0) -> 0 | N34: ='Data Copy'!M22 -> 0 | O34: ='Data Copy'!N22 -> 0 | P34: ='Data Copy'!O22 -> 0 | Q34: =IF(L34>0,AG34,0) -> 0 | R34: =IF(L34>0, IF(I34>2,AF34*100,AF34*10000),0) -> 0 | S34: =IF(L34>0,0, IF(AH34>0,AH34,0)) -> 0 | T34: =IF(U34<=0,0,(G34*U34)/(G34*$U$6)) -> 0 | U34: =IF(L34>0,0,IF(AJ34<=0,0,IF(J34>2,(AJ34/100),AJ34))) -> 0 | V34: =IF(L34>0,0, IF(AK34<=0,0, IF(K34>2,(AK34/100),AK34))) -> 0 | AB34: =IF(Q34=0," ", IF(Q34 > 0,"Yes","No")) | AF34: =IF(F34="sell",I34-M34,M34-I34) -> 0 | AG34: ='Data Copy'!P22 -> 0 | AH34: =IF(K34=0,0,((K34-I34)/(I34-J34))) -> 0 | AJ34: =IF(J34=0,0,IF(F34="buy",I34-J34,J34-I34)*10000) -> 0 | AK34: =IF(K34=0,0, IF(F34="buy",K34-I34,I34-K34)*10000) -> 0 | AL34: ='Data Copy'!L22 -> 0 | AM34: =IF(Q34>0,Q34,0) -> 0 | AN34: =IF(Q34<0,Q34,0) -> 0 | AO34: =IF(R34>0,R34,0) -> 0 | AP34: =IF(R34<0,R34,0) -> 0 | AQ34: =U34*G34*$U$7 -> 0 | AR34: =IF(L34>0,0,G34*$U$6) -> 0 | AS34: =P34 -> 0
D35: ='Data Copy'!C23 -> 0 | E35: ='Data Copy'!D23 -> 0 | F35: ='Data Copy'!E23 -> 0 | G35: ='Data Copy'!F23 -> 0 | H35: ='Data Copy'!G23 -> 0 | I35: ='Data Copy'!H23 -> 0 | J35: ='Data Copy'!I23 -> 0 | K35: ='Data Copy'!J23 -> 0 | L35: ='Data Copy'!K23 -> 0 | M35: =IF(L35>0,AL35,0) -> 0 | N35: ='Data Copy'!M23 -> 0 | O35: ='Data Copy'!N23 -> 0 | P35: ='Data Copy'!O23 -> 0 | Q35: =IF(L35>0,AG35,0) -> 0 | R35: =IF(L35>0, IF(I35>2,AF35*100,AF35*10000),0) -> 0 | S35: =IF(L35>0,0, IF(AH35>0,AH35,0)) -> 0 | T35: =IF(U35<=0,0,(G35*U35)/(G35*$U$6)) -> 0 | U35: =IF(L35>0,0,IF(AJ35<=0,0,IF(J35>2,(AJ35/100),AJ35))) -> 0 | V35: =IF(L35>0,0, IF(AK35<=0,0, IF(K35>2,(AK35/100),AK35))) -> 0 | AB35: =IF(Q35=0," ", IF(Q35 > 0,"Yes","No")) | AF35: =IF(F35="sell",I35-M35,M35-I35) -> 0 | AG35: ='Data Copy'!P23 -> 0 | AH35: =IF(K35=0,0,((K35-I35)/(I35-J35))) -> 0 | AJ35: =IF(J35=0,0,IF(F35="buy",I35-J35,J35-I35)*10000) -> 0 | AK35: =IF(K35=0,0, IF(F35="buy",K35-I35,I35-K35)*10000) -> 0 | AL35: ='Data Copy'!L23 -> 0 | AM35: =IF(Q35>0,Q35,0) -> 0 | AN35: =IF(Q35<0,Q35,0) -> 0 | AO35: =IF(R35>0,R35,0) -> 0 | AP35: =IF(R35<0,R35,0) -> 0 | AQ35: =U35*G35*$U$7 -> 0 | AR35: =IF(L35>0,0,G35*$U$6) -> 0 | AS35: =P35 -> 0
D36: ='Data Copy'!C24 -> 0 | E36: ='Data Copy'!D24 -> 0 | F36: ='Data Copy'!E24 -> 0 | G36: ='Data Copy'!F24 -> 0 | H36: ='Data Copy'!G24 -> 0 | I36: ='Data Copy'!H24 -> 0 | J36: ='Data Copy'!I24 -> 0 | K36: ='Data Copy'!J24 -> 0 | L36: ='Data Copy'!K24 -> 0 | M36: =IF(L36>0,AL36,0) -> 0 | N36: ='Data Copy'!M24 -> 0 | O36: ='Data Copy'!N24 -> 0 | P36: ='Data Copy'!O24 -> 0 | Q36: =IF(L36>0,AG36,0) -> 0 | R36: =IF(L36>0, IF(I36>2,AF36*100,AF36*10000),0) -> 0 | S36: =IF(L36>0,0, IF(AH36>0,AH36,0)) -> 0 | T36: =IF(U36<=0,0,(G36*U36)/(G36*$U$6)) -> 0 | U36: =IF(L36>0,0,IF(AJ36<=0,0,IF(J36>2,(AJ36/100),AJ36))) -> 0 | V36: =IF(L36>0,0, IF(AK36<=0,0, IF(K36>2,(AK36/100),AK36))) -> 0 | AB36: =IF(Q36=0," ", IF(Q36 > 0,"Yes","No")) | AF36: =IF(F36="sell",I36-M36,M36-I36) -> 0 | AG36: ='Data Copy'!P24 -> 0 | AH36: =IF(K36=0,0,((K36-I36)/(I36-J36))) -> 0 | AJ36: =IF(J36=0,0,IF(F36="buy",I36-J36,J36-I36)*10000) -> 0 | AK36: =IF(K36=0,0, IF(F36="buy",K36-I36,I36-K36)*10000) -> 0 | AL36: ='Data Copy'!L24 -> 0 | AM36: =IF(Q36>0,Q36,0) -> 0 | AN36: =IF(Q36<0,Q36,0) -> 0 | AO36: =IF(R36>0,R36,0) -> 0 | AP36: =IF(R36<0,R36,0) -> 0 | AQ36: =U36*G36*$U$7 -> 0 | AR36: =IF(L36>0,0,G36*$U$6) -> 0 | AS36: =P36 -> 0
B37: 8 | D37: ='Data Copy'!C25 -> 0 | E37: ='Data Copy'!D25 -> 0 | F37: ='Data Copy'!E25 -> 0 | G37: ='Data Copy'!F25 -> 0 | H37: ='Data Copy'!G25 -> 0 | I37: ='Data Copy'!H25 -> 0 | J37: ='Data Copy'!I25 -> 0 | K37: ='Data Copy'!J25 -> 0 | L37: ='Data Copy'!K25 -> 0 | M37: =IF(L37>0,AL37,0) -> 0 | N37: ='Data Copy'!M25 -> 0 | O37: ='Data Copy'!N25 -> 0 | P37: ='Data Copy'!O25 -> 0 | Q37: =IF(L37>0,AG37,0) -> 0 | R37: =IF(L37>0, IF(I37>2,AF37*100,AF37*10000),0) -> 0 | S37: =IF(L37>0,0, IF(AH37>0,AH37,0)) -> 0 | T37: =IF(U37<=0,0,(G37*U37)/(G37*$U$6)) -> 0 | U37: =IF(L37>0,0,IF(AJ37<=0,0,IF(J37>2,(AJ37/100),AJ37))) -> 0 | V37: =IF(L37>0,0, IF(AK37<=0,0, IF(K37>2,(AK37/100),AK37))) -> 0 | AB37: =IF(Q37=0," ", IF(Q37 > 0,"Yes","No")) | AF37: =IF(F37="sell",I37-M37,M37-I37) -> 0 | AG37: ='Data Copy'!P25 -> 0 | AH37: =IF(K37=0,0,((K37-I37)/(I37-J37))) -> 0 | AJ37: =IF(J37=0,0,IF(F37="buy",I37-J37,J37-I37)*10000) -> 0 | AK37: =IF(K37=0,0, IF(F37="buy",K37-I37,I37-K37)*10000) -> 0 | AL37: ='Data Copy'!L25 -> 0 | AM37: =IF(Q37>0,Q37,0) -> 0 | AN37: =IF(Q37<0,Q37,0) -> 0 | AO37: =IF(R37>0,R37,0) -> 0 | AP37: =IF(R37<0,R37,0) -> 0 | AQ37: =U37*G37*$U$7 -> 0 | AR37: =IF(L37>0,0,G37*$U$6) -> 0 | AS37: =P37 -> 0
D38: ='Data Copy'!C26 -> 0 | E38: ='Data Copy'!D26 -> 0 | F38: ='Data Copy'!E26 -> 0 | G38: ='Data Copy'!F26 -> 0 | H38: ='Data Copy'!G26 -> 0 | I38: ='Data Copy'!H26 -> 0 | J38: ='Data Copy'!I26 -> 0 | K38: ='Data Copy'!J26 -> 0 | L38: ='Data Copy'!K26 -> 0 | M38: =IF(L38>0,AL38,0) -> 0 | N38: ='Data Copy'!M26 -> 0 | O38: ='Data Copy'!N26 -> 0 | P38: ='Data Copy'!O26 -> 0 | Q38: =IF(L38>0,AG38,0) -> 0 | R38: =IF(L38>0, IF(I38>2,AF38*100,AF38*10000),0) -> 0 | S38: =IF(L38>0,0, IF(AH38>0,AH38,0)) -> 0 | T38: =IF(U38<=0,0,(G38*U38)/(G38*$U$6)) -> 0 | U38: =IF(L38>0,0,IF(AJ38<=0,0,IF(J38>2,(AJ38/100),AJ38))) -> 0 | V38: =IF(L38>0,0, IF(AK38<=0,0, IF(K38>2,(AK38/100),AK38))) -> 0 | AB38: =IF(Q38=0," ", IF(Q38 > 0,"Yes","No")) | AF38: =IF(F38="sell",I38-M38,M38-I38) -> 0 | AG38: ='Data Copy'!P26 -> 0 | AH38: =IF(K38=0,0,((K38-I38)/(I38-J38))) -> 0 | AJ38: =IF(J38=0,0,IF(F38="buy",I38-J38,J38-I38)*10000) -> 0 | AK38: =IF(K38=0,0, IF(F38="buy",K38-I38,I38-K38)*10000) -> 0 | AL38: ='Data Copy'!L26 -> 0 | AM38: =IF(Q38>0,Q38,0) -> 0 | AN38: =IF(Q38<0,Q38,0) -> 0 | AO38: =IF(R38>0,R38,0) -> 0 | AP38: =IF(R38<0,R38,0) -> 0 | AQ38: =U38*G38*$U$7 -> 0 | AR38: =IF(L38>0,0,G38*$U$6) -> 0 | AS38: =P38 -> 0
D39: ='Data Copy'!C27 -> 0 | E39: ='Data Copy'!D27 -> 0 | F39: ='Data Copy'!E27 -> 0 | G39: ='Data Copy'!F27 -> 0 | H39: ='Data Copy'!G27 -> 0 | I39: ='Data Copy'!H27 -> 0 | J39: ='Data Copy'!I27 -> 0 | K39: ='Data Copy'!J27 -> 0 | L39: ='Data Copy'!K27 -> 0 | M39: =IF(L39>0,AL39,0) -> 0 | N39: ='Data Copy'!M27 -> 0 | O39: ='Data Copy'!N27 -> 0 | P39: ='Data Copy'!O27 -> 0 | Q39: =IF(L39>0,AG39,0) -> 0 | R39: =IF(L39>0, IF(I39>2,AF39*100,AF39*10000),0) -> 0 | S39: =IF(L39>0,0, IF(AH39>0,AH39,0)) -> 0 | T39: =IF(U39<=0,0,(G39*U39)/(G39*$U$6)) -> 0 | U39: =IF(L39>0,0,IF(AJ39<=0,0,IF(J39>2,(AJ39/100),AJ39))) -> 0 | V39: =IF(L39>0,0, IF(AK39<=0,0, IF(K39>2,(AK39/100),AK39))) -> 0 | AB39: =IF(Q39=0," ", IF(Q39 > 0,"Yes","No")) | AF39: =IF(F39="sell",I39-M39,M39-I39) -> 0 | AG39: ='Data Copy'!P27 -> 0 | AH39: =IF(K39=0,0,((K39-I39)/(I39-J39))) -> 0 | AJ39: =IF(J39=0,0,IF(F39="buy",I39-J39,J39-I39)*10000) -> 0 | AK39: =IF(K39=0,0, IF(F39="buy",K39-I39,I39-K39)*10000) -> 0 | AL39: ='Data Copy'!L27 -> 0 | AM39: =IF(Q39>0,Q39,0) -> 0 | AN39: =IF(Q39<0,Q39,0) -> 0 | AO39: =IF(R39>0,R39,0) -> 0 | AP39: =IF(R39<0,R39,0) -> 0 | AQ39: =U39*G39*$U$7 -> 0 | AR39: =IF(L39>0,0,G39*$U$6) -> 0 | AS39: =P39 -> 0
B40: 9 | D40: ='Data Copy'!C28 -> 0 | E40: ='Data Copy'!D28 -> 0 | F40: ='Data Copy'!E28 -> 0 | G40: ='Data Copy'!F28 -> 0 | H40: ='Data Copy'!G28 -> 0 | I40: ='Data Copy'!H28 -> 0 | J40: ='Data Copy'!I28 -> 0 | K40: ='Data Copy'!J28 -> 0 | L40: ='Data Copy'!K28 -> 0 | M40: =IF(L40>0,AL40,0) -> 0 | N40: ='Data Copy'!M28 -> 0 | O40: ='Data Copy'!N28 -> 0 | P40: ='Data Copy'!O28 -> 0 | Q40: =IF(L40>0,AG40,0) -> 0 | R40: =IF(L40>0, IF(I40>2,AF40*100,AF40*10000),0) -> 0 | S40: =IF(L40>0,0, IF(AH40>0,AH40,0)) -> 0 | T40: =IF(U40<=0,0,(G40*U40)/(G40*$U$6)) -> 0 | U40: =IF(L40>0,0,IF(AJ40<=0,0,IF(J40>2,(AJ40/100),AJ40))) -> 0 | V40: =IF(L40>0,0, IF(AK40<=0,0, IF(K40>2,(AK40/100),AK40))) -> 0 | AB40: =IF(Q40=0," ", IF(Q40 > 0,"Yes","No")) | AF40: =IF(F40="sell",I40-M40,M40-I40) -> 0 | AG40: ='Data Copy'!P28 -> 0 | AH40: =IF(K40=0,0,((K40-I40)/(I40-J40))) -> 0 | AJ40: =IF(J40=0,0,IF(F40="buy",I40-J40,J40-I40)*10000) -> 0 | AK40: =IF(K40=0,0, IF(F40="buy",K40-I40,I40-K40)*10000) -> 0 | AL40: ='Data Copy'!L28 -> 0 | AM40: =IF(Q40>0,Q40,0) -> 0 | AN40: =IF(Q40<0,Q40,0) -> 0 | AO40: =IF(R40>0,R40,0) -> 0 | AP40: =IF(R40<0,R40,0) -> 0 | AQ40: =U40*G40*$U$7 -> 0 | AR40: =IF(L40>0,0,G40*$U$6) -> 0 | AS40: =P40 -> 0
D41: ='Data Copy'!C29 -> 0 | E41: ='Data Copy'!D29 -> 0 | F41: ='Data Copy'!E29 -> 0 | G41: ='Data Copy'!F29 -> 0 | H41: ='Data Copy'!G29 -> 0 | I41: ='Data Copy'!H29 -> 0 | J41: ='Data Copy'!I29 -> 0 | K41: ='Data Copy'!J29 -> 0 | L41: ='Data Copy'!K29 -> 0 | M41: =IF(L41>0,AL41,0) -> 0 | N41: ='Data Copy'!M29 -> 0 | O41: ='Data Copy'!N29 -> 0 | P41: ='Data Copy'!O29 -> 0 | Q41: =IF(L41>0,AG41,0) -> 0 | R41: =IF(L41>0, IF(I41>2,AF41*100,AF41*10000),0) -> 0 | S41: =IF(L41>0,0, IF(AH41>0,AH41,0)) -> 0 | T41: =IF(U41<=0,0,(G41*U41)/(G41*$U$6)) -> 0 | U41: =IF(L41>0,0,IF(AJ41<=0,0,IF(J41>2,(AJ41/100),AJ41))) -> 0 | V41: =IF(L41>0,0, IF(AK41<=0,0, IF(K41>2,(AK41/100),AK41))) -> 0 | AB41: =IF(Q41=0," ", IF(Q41 > 0,"Yes","No")) | AF41: =IF(F41="sell",I41-M41,M41-I41) -> 0 | AG41: ='Data Copy'!P29 -> 0 | AH41: =IF(K41=0,0,((K41-I41)/(I41-J41))) -> 0 | AJ41: =IF(J41=0,0,IF(F41="buy",I41-J41,J41-I41)*10000) -> 0 | AK41: =IF(K41=0,0, IF(F41="buy",K41-I41,I41-K41)*10000) -> 0 | AL41: ='Data Copy'!L29 -> 0 | AM41: =IF(Q41>0,Q41,0) -> 0 | AN41: =IF(Q41<0,Q41,0) -> 0 | AO41: =IF(R41>0,R41,0) -> 0 | AP41: =IF(R41<0,R41,0) -> 0 | AQ41: =U41*G41*$U$7 -> 0 | AR41: =IF(L41>0,0,G41*$U$6) -> 0 | AS41: =P41 -> 0
D42: ='Data Copy'!C30 -> 0 | E42: ='Data Copy'!D30 -> 0 | F42: ='Data Copy'!E30 -> 0 | G42: ='Data Copy'!F30 -> 0 | H42: ='Data Copy'!G30 -> 0 | I42: ='Data Copy'!H30 -> 0 | J42: ='Data Copy'!I30 -> 0 | K42: ='Data Copy'!J30 -> 0 | L42: ='Data Copy'!K30 -> 0 | M42: =IF(L42>0,AL42,0) -> 0 | N42: ='Data Copy'!M30 -> 0 | O42: ='Data Copy'!N30 -> 0 | P42: ='Data Copy'!O30 -> 0 | Q42: =IF(L42>0,AG42,0) -> 0 | R42: =IF(L42>0, IF(I42>2,AF42*100,AF42*10000),0) -> 0 | S42: =IF(L42>0,0, IF(AH42>0,AH42,0)) -> 0 | T42: =IF(U42<=0,0,(G42*U42)/(G42*$U$6)) -> 0 | U42: =IF(L42>0,0,IF(AJ42<=0,0,IF(J42>2,(AJ42/100),AJ42))) -> 0 | V42: =IF(L42>0,0, IF(AK42<=0,0, IF(K42>2,(AK42/100),AK42))) -> 0 | AB42: =IF(Q42=0," ", IF(Q42 > 0,"Yes","No")) | AF42: =IF(F42="sell",I42-M42,M42-I42) -> 0 | AG42: ='Data Copy'!P30 -> 0 | AH42: =IF(K42=0,0,((K42-I42)/(I42-J42))) -> 0 | AJ42: =IF(J42=0,0,IF(F42="buy",I42-J42,J42-I42)*10000) -> 0 | AK42: =IF(K42=0,0, IF(F42="buy",K42-I42,I42-K42)*10000) -> 0 | AL42: ='Data Copy'!L30 -> 0 | AM42: =IF(Q42>0,Q42,0) -> 0 | AN42: =IF(Q42<0,Q42,0) -> 0 | AO42: =IF(R42>0,R42,0) -> 0 | AP42: =IF(R42<0,R42,0) -> 0 | AQ42: =U42*G42*$U$7 -> 0 | AR42: =IF(L42>0,0,G42*$U$6) -> 0 | AS42: =P42 -> 0
...

Sheet Summary
B3: Totals | C3: Net Pips | D3: Gain / Loss | E3: Avg Trade | F3: Avg Income | G3: Avg Expense | H3: % Income | I3: % Expense | J3: Reward Ratio
C4: =SUM(C8:C17) -> #VALUE! | D4: =SUM(D8:D47) -> 0 | H4: =SUM(H8:H17)/COUNTIF(H8:H17,"<>0") -> 0.75 | I4: =SUM(I8:I17)/COUNTIF(I8:I17,"<>0") -> #DIV/0! | J4: =SUM(J8:J17)/COUNTIF(J8:J17,"<>0") -> #DIV/0! | M4: =SUM(M8:M47) -> 0 | N4: =SUM(N8:N47) -> #VALUE! | O4: =SUM(O8:O47) -> #VALUE!
B7: Trades | C7: Pips | D7: Income | E7: Avg Trade | F7: Avg Income | G7: Avg Expense | H7: % Income | I7: % Expense | J7: Reward Ratio | K7: Equity | M7: Capital in Use | N7: % of Account at Risk | O7: $ At Risk | P7: % Income | Q7: % Expense | R7: Reward Ratio
B8: 1-25 | C8: =Journal!D11 -> #VALUE! | D8: =Journal!AM91+Journal!AN91+Journal!AS91 -> 0 | H8: =IF(ISNUMBER(P8),P8,) -> 0.75 | I8: =IF(ISNUMBER(Q8),Q8,) -> 0 | J8: =IF(ISNUMBER(R8),R8,) -> 0 | K8: =D8 -> 0 | M8: =Journal!AR91 -> 0 | N8: =Journal!AQ91/Journal!D5 -> #VALUE! | O8: =Journal!AQ91 -> #VALUE! | P8: =Journal!J11 -> 0.75 | Q8: =Journal!J12 -> 0 | R8: =Journal!D13 -> #VALUE!
B9: 26-50 | C9: =Journal!D95 -> 0 | D9: =Journal!AM175+Journal!AN175+Journal!AS175 -> 0 | H9: =IF(ISNUMBER(P9),P9,) -> 0 | I9: =IF(ISNUMBER(Q9),Q9,) -> 0 | J9: =IF(ISNUMBER(R9),R9,) -> 0 | K9: =K8+D9 -> 0 | P9: =Journal!J95 -> #DIV/0! | Q9: =Journal!J96 -> #DIV/0! | R9: =Journal!D97 -> #DIV/0!
B10: 51-75 | C10: =Journal!D179 -> 0 | D10: =Journal!AM259+Journal!AN259+Journal!AS259 -> 0 | H10: =IF(ISNUMBER(P10),P10,) -> 0 | I10: =IF(ISNUMBER(Q10),Q10,) -> 0 | J10: =IF(ISNUMBER(R10),R10,) -> 0 | K10: =K9+D10 -> 0 | P10: =Journal!J179 -> #DIV/0! | Q10: =Journal!J180 -> #DIV/0! | R10: =Journal!D181 -> #DIV/0!
B11: 76-100 | C11: =Journal!D263 -> 0 | D11: =Journal!AM343+Journal!AN343+Journal!AS343 -> 0 | H11: =IF(ISNUMBER(P11),P11,) -> 0 | I11: =IF(ISNUMBER(Q11),Q11,) -> 0 | J11: =IF(ISNUMBER(R11),R11,) -> 0 | K11: =K10+D11 -> 0 | P11: =Journal!J263 -> #DIV/0! | Q11: =Journal!J264 -> #DIV/0! | R11: =Journal!D265 -> #DIV/0!
B12: 101-125 | C12: =Journal!D347 -> 0 | D12: =Journal!AM427+Journal!AN427+Journal!AS427 -> 0 | H12: =IF(ISNUMBER(P12),P12,) -> 0 | I12: =IF(ISNUMBER(Q12),Q12,) -> 0 | J12: =IF(ISNUMBER(R12),R12,) -> 0 | K12: =K11+D12 -> 0 | P12: =Journal!J347 -> #DIV/0! | Q12: =Journal!J348 -> #DIV/0! | R12: =Journal!D349 -> #DIV/0!
B13: 126-150 | C13: =Journal!D431 -> 0 | D13: =Journal!AM511+Journal!AN511+Journal!AS511 -> 0 | H13: =IF(ISNUMBER(P13),P13,) -> 0 | I13: =IF(ISNUMBER(Q13),Q13,) -> 0 | J13: =IF(ISNUMBER(R13),R13,) -> 0 | K13: =K12+D13 -> 0 | P13: =Journal!J431 -> #DIV/0! | Q13: =Journal!J432 -> #DIV/0! | R13: =Journal!D433 -> #DIV/0!
B14: 151-175 | C14: =Journal!D515 -> 0 | D14: =Journal!AM595+Journal!AN595+Journal!AS595 -> 0 | H14: =IF(ISNUMBER(P14),P14,) -> 0 | I14: =IF(ISNUMBER(Q14),Q14,) -> 0 | J14: =IF(ISNUMBER(R14),R14,) -> 0 | K14: =K13+D14 -> 0 | P14: =Journal!J515 -> #DIV/0! | Q14: =Journal!J516 -> #DIV/0! | R14: =Journal!D517 -> #DIV/0!
B15: 176-200 | C15: =Journal!D599 -> 0 | D15: =Journal!AM679+Journal!AN679+Journal!AS679 -> 0 | H15: =IF(ISNUMBER(P15),P15,) -> 0 | I15: =IF(ISNUMBER(Q15),Q15,) -> 0 | J15: =IF(ISNUMBER(R15),R15,) -> 0 | K15: =K14+D15 -> 0 | P15: =Journal!J599 -> #DIV/0! | Q15: =Journal!J600 -> #DIV/0! | R15: =Journal!D601 -> #DIV/0!
B16: 201-225 | C16: =Journal!D683 -> 0 | D16: =Journal!AM763+Journal!AN763+Journal!AS763 -> 0 | H16: =IF(ISNUMBER(P16),P16,) -> 0 | I16: =IF(ISNUMBER(Q16),Q16,) -> 0 | J16: =IF(ISNUMBER(R16),R16,) -> 0 | K16: =K15+D16 -> 0 | P16: =Journal!J683 -> #DIV/0! | Q16: =Journal!J684 -> #DIV/0! | R16: =Journal!D685 -> #DIV/0!
B17: 226-250 | C17: =Journal!D767 -> 0 | D17: =Journal!AM847+Journal!AN847+Journal!AS847 -> 0 | H17: =IF(ISNUMBER(P17),P17,) -> 0 | I17: =IF(ISNUMBER(Q17),Q17,) -> 0 | J17: =IF(ISNUMBER(R17),R17,) -> 0 | K17: =K16+D17 -> 0 | P17: =Journal!J767 -> #DIV/0! | Q17: =Journal!J768 -> #DIV/0! | R17: =Journal!D769 -> #DIV/0!
B54: Account | D54: Return to
B55: Loss % | D55: Recover
B56: 2 | D56: 0.020408163
B57: 5 | D57: 0.052631579
B58: 10 | D58: 0.11111111
B59: 20 | D59: 0.25
B60: 30 | D60: 0.42857143
B61: 40 | D61: 0.66666667
B62: 50 | D62: 1

Sheet Watching
A1: Initial Date | B1: Time | C1: Symbol | D1: Setup TF | E1: Direction | F1: Entry TF | G1: Notes: | H1: Resolution | K1: Pairs | L1: TFs | M1: L/S
A2: 40231 | B2: 0.14097222 | C2: EURGBP | D2: H1 | E2: Long | G2: Testing daily resistance, play if develops strength (failed) now setting up the h4 | K2: AUDJPY | L2: W | M2: Long
A3: 40231 | B3: 0.14166667 | C3: EURJPY | D3: H4 | E3: Long | G3: No signs of reversal yet (missed 4 tradable areas on 5 the past few hours) | K3: AUDUSD | L3: D | M3: Short
A4: 40231 | B4: 0.14236111 | C4: EURUSD | D4: H1 | E4: Long | G4: Hourly is setup but the h4 looks lower. The PBB on the 60 went nowhere so went with the h4 and shorted it. | K4: CADJPY | L4: H4
A5: 40231 | B5: 0.14513889 | C5: GBPJPY | D5: M15 | E5: Short | G5: Looks weak on daily, possibly setting up for a kod short on 15 | H5: Didn't retrace enough, was playable for a couple of scalps on the one though | K5: CHFJPY | L5: H1
A6: 40231 | B6: 0.15069444 | C6: NZDJPY | D6: H4 | E6: Long | G6: PBB setup on h4. Testing resistance on daily, could run for 6 days if breaks. | K6: EURGBP | L6: M30
A7: 40231 | B7: 0.16111111 | C7: USDCAD | D7: H4 | E7: Short | G7: Looks weak to me, like it could break down for several days from here | K7: EURJPY | L7: M15
A8: 40231 | B8: 0.16319444 | C8: USDCHF | D8: H4 | G8: Extended on Weekly but daily says could go higher, although it could also do a flag breakdown from here, keep an eye on it | K8: EURUSD | L8: M5
A9: 40231 | B9: 0.16875 | C9: USDJPY | D9: H4 | E9: Long | G9: PBB on the 4, no sign of reversal yet | K9: GBPJPY
A10: 40231 | B10: 0.21388889 | C10: AUDJPY | D10: H4 | E10: Long | G10: fighting the daily, pick it up on a hsl reversal on 60. Daily won, scalp short the next few days | K10: GBPUSD
A11: 40231 | B11: 0.42916667 | C11: AUDJPY | D11: H4 | E11: Long | G11: Setting up for a buy over the next couple of hours | K11: NZDJPY
A12: 40231 | B12: 0.72361111 | C12: EURGBP | D12: H4 | E12: Long | G12: put a hunt on the h4 | K12: NZDUSD
A13: 40231 | B13: 0.75972222 | C13: AUDJPY | G13: Daily says lower, scalp short | K13: USDCAD
A14: 40231 | B14: 0.85625 | C14: GBPUSD | D14: M5 | E14: Long | G14: Potentially setting up for scalps long | K14: USDCHF
A15: 40231 | B15: 0.86111111 | C15: CHFJPY | D15: M5 | E15: Long | G15: Potentially setting up for scalps long | K15: USDJPY
G16: Note: +6 for screen time ie. 8:09 pm is 2:09 am (next day) screen time
A17: 40233 | B17: 0.71458333 | C17: EURUSD | D17: D | E17: Short
A18: 40233 | B18: 0.72638889 | C18: USDCAD | D18: H4 | E18: Long | G18: H4 is flagging for a potential move higher
A19: 40233 | B19: 0.72777778 | C19: USDCAD | D19: H4 | E19: Long | F19: M5 | G19: buy potential pullback to 1.0530 support area next half hour/hour
A21: 40234 | B21: 0.63541667 | C21: GBPUSD | D21: H1 | E21: Short | F21: H1 | G21: Pullback Short setup
A24: 40666 | B24: 0.27430556 | C24: USDCAD | D24: D | E24: Short | F24: H4 | G24: Setting up short for possible trade sometime in the next 3 days

Sheet Missed Trades
A1: Missed Trades: Screenshot | B1: Pair | C1: Date | D1: Time | E1: Why did I miss it? | F1: How could I have caught it?
A2: Trade Journal ScreenShots\audusd 011210 m15.png | B2: Audusd | C2: 40189 | D2: 0.60416667 | E2: Wasn't watching the market at this time | F2: Retail H4, Retail H1 with triple top beginning to show weakness, weak 15 min support with penetration and some resistance at lower trend line and 20ma. 30 Pips

Sheet Sheet1
