Workbook

Sheet Sheet1
B1: -4 | C1: -3.8 | D1: -3.6 | E1: -3.4 | F1: -3.2 | G1: -3 | H1: -2.8 | I1: -2.6 | J1: -2.4 | K1: -2.2 | L1: -2 | M1: -1.8 | N1: -1.6 | O1: -1.4 | P1: -1.2 | Q1: -1 | R1: -0.8 | S1: -0.6 | T1: -0.4 | U1: -0.2 | V1: 0 | W1: 0.2 | X1: 0.4 | Y1: 0.6 | Z1: 0.8 | AA1: 1 | AB1: 1.2 | AC1: 1.4 | AD1: 1.6 | AE1: 1.8 | AF1: 2 | AG1: 2.2 | AH1: 2.4 | AI1: 2.6 | AJ1: 2.8 | AK1: 3 | AL1: 3.2 | AM1: 3.4 | AN1: 3.6 | AO1: 3.8
A2: 7 | B2: 15.03627 | C2: 15.03627 | D2: 15.03627 | E2: 15.03626 | F2: 15.03626 | G2: 15.03626 | H2: 15.03626 | I2: 15.03626 | J2: 15.03625 | K2: 15.03625 | L2: 15.03625 | M2: 15.03624 | N2: 15.03622 | O2: 15.03515 | P2: 14.97949 | Q2: 12.8423 | R2: 7.34026 | S2: 6.95623 | T2: 6.98139 | U2: 7.01011 | V2: 6.99277 | W2: 6.96634 | X2: 6.9304 | Y2: 6.87782 | Z2: 6.4766 | AA2: 2.14766 | AB2: 10.85891 | AC2: 14.77291 | AD2: 15.03852 | AE2: 14.81824 | AF2: 11.76361 | AG2: -3.86921 | AH2: -9.22405 | AI2: -9.76012 | AJ2: -9.90455 | AK2: -9.82047 | AL2: -7.09823 | AM2: -0.43054 | AN2: 5.33432 | AO2: 2.80413 | AP2: Extremely above the mean
A3: 6.8 | B3: 15.03603 | C3: 15.036 | D3: 15.03597 | E3: 15.03594 | F3: 15.03591 | G3: 15.03588 | H3: 15.03584 | I3: 15.03579 | J3: 15.03575 | K3: 15.03569 | L3: 15.03564 | M3: 15.03558 | N3: 15.03549 | O3: 15.03427 | P3: 14.97439 | Q3: 12.7241 | R3: 7.31295 | S3: 6.95081 | T3: 6.93605 | U3: 6.96309 | V3: 6.9549 | W3: 6.92088 | X3: 6.87313 | Y3: 6.76687 | Z3: 4.81812 | AA3: -0.55428 | AB3: 3.48099 | AC3: 11.15647 | AD3: 14.65704 | AE3: 14.96143 | AF3: 12.4576 | AG3: -1.81334 | AH3: -4.22747 | AI3: -3.77461 | AJ3: -2.80915 | AK3: -0.25741 | AL3: 1.21339 | AM3: 1.9869 | AN3: 7.36381 | AO3: 5.18061
A4: 6.6 | B4: 15.03173 | C4: 15.03129 | D4: 15.03081 | E4: 15.03029 | F4: 15.02971 | G4: 15.02908 | H4: 15.02839 | I4: 15.02763 | J4: 15.0268 | K4: 15.02589 | L4: 15.02489 | M4: 15.0238 | N4: 15.02257 | O4: 15.02003 | P4: 14.95451 | Q4: 12.59088 | R4: 7.27691 | S4: 6.91383 | T4: 6.79011 | U4: 6.38778 | V4: 6.69451 | W4: 6.80931 | X4: 6.77685 | Y4: 6.31711 | Z4: 0.83593 | AA4: -0.47888 | AB4: 3.23487 | AC4: 7.168 | AD4: 11.13312 | AE4: 13.28867 | AF4: 8.26288 | AG4: 2.92869 | AH4: 2.89108 | AI4: 3.43576 | AJ4: 5.0562 | AK4: 5.52222 | AL4: 2.95669 | AM4: 3.55096 | AN4: 8.92507 | AO4: 7.18194
A5: 6.4 | B5: 14.95615 | C5: 14.94848 | D5: 14.94009 | E5: 14.9309 | F5: 14.92083 | G5: 14.90981 | H5: 14.89774 | I5: 14.88453 | J5: 14.87007 | K5: 14.85424 | L5: 14.83691 | M5: 14.81796 | N5: 14.7972 | O5: 14.77325 | P5: 14.68257 | Q5: 12.27247 | R5: 7.14437 | S5: 6.5909 | T5: 5.70273 | U5: 2.37173 | V5: 2.19372 | W5: 5.08707 | X5: 5.98539 | Y5: 3.53883 | Z5: -0.83503 | AA5: 0.37965 | AB5: 4.34174 | AC5: 7.83671 | AD5: 9.14047 | AE5: 3.10336 | AF5: -1.40376 | AG5: 2.93383 | AH5: 4.17238 | AI5: 5.66097 | AJ5: 10.23251 | AK5: 9.67143 | AL5: 5.46225 | AM5: 5.69166 | AN5: 9.96193 | AO5: 8.65718
A6: 6.2 | B6: 13.70258 | C6: 13.58294 | D6: 13.45339 | E6: 13.31326 | F6: 13.16186 | G6: 12.99848 | H6: 12.82243 | I6: 12.63299 | J6: 12.42947 | K6: 12.21118 | L6: 11.97749 | M6: 11.72779 | N6: 11.46153 | O6: 11.17761 | P6: 10.84644 | Q6: 9.41768 | R6: 6.13058 | S6: 4.2031 | T6: 0.57192 | U6: -2.92339 | V6: -1.84465 | W6: 0.3098 | X6: 1.73447 | Y6: 0.80321 | Z6: 0.712 | AA6: 1.99949 | AB6: 5.74155 | AC6: 8.86312 | AD6: 8.00449 | AE6: -0.35415 | AF6: -4.72222 | AG6: 0.09295 | AH6: 4.7533 | AI6: 9.25762 | AJ6: 16.23156 | AK6: 14.43184 | AL6: 9.21235 | AM6: 8.08444 | AN6: 10.56898 | AO6: 9.64638
A7: 6 | B7: 3.30074 | C7: 2.79878 | D7: 2.30151 | E7: 1.81121 | F7: 1.32972 | G7: 0.85878 | H7: 0.39995 | I7: -0.04537 | J7: -0.476 | K7: -0.89093 | L7: -1.28936 | M7: -1.67067 | N7: -2.03447 | O7: -2.38023 | P7: -2.69091 | Q7: -2.24628 | R7: 0.55488 | S7: -2.85121 | T7: -5.25538 | U7: -4.38522 | V7: -1.31223 | W7: 0.44572 | X7: 0.01022 | Y7: 0.75962 | Z7: 3.26349 | AA7: 4.79142 | AB7: 7.03745 | AC7: 8.99998 | AD7: 6.86433 | AE7: 0.29822 | AF7: -2.89627 | AG7: 2.25561 | AH7: 8.88585 | AI7: 11.90401 | AJ7: 15.42308 | AK7: 16.03048 | AL7: 12.84686 | AM7: 10.255 | AN7: 10.86949 | AO7: 10.25119
A8: 5.8 | B8: -2.86748 | C8: -5.72303 | D8: -6.13805 | E8: -6.23255 | F8: -6.30225 | G8: -6.36506 | H8: -6.4226 | I8: -6.47537 | J8: -6.52374 | K8: -6.56806 | L8: -6.60865 | M8: -6.64577 | N8: -6.67927 | O8: -6.70566 | P8: -6.69065 | Q8: -6.31921 | R8: -5.25677 | S8: -6.50338 | T8: -6.5882 | U8: -4.56125 | V8: -0.88971 | W8: -0.32846 | X8: -2.60345 | Y8: -0.91362 | Z8: 4.40814 | AA8: 6.23657 | AB8: 7.35237 | AC8: 8.28129 | AD8: 6.55951 | AE8: 1.95882 | AF8: 0.56126 | AG8: 5.87386 | AH8: 10.20757 | AI8: 9.53987 | AJ8: 9.04762 | AK8: 10.88768 | AL8: 11.79112 | AM8: 10.56059 | AN8: 9.62631 | AO8: 9.64593
A9: 5.6 | B9: -2.11652 | C9: -1.15275 | D9: 0.73284 | E9: -2.96628 | F9: -6.59933 | G9: -6.97138 | H9: -7.00249 | I9: -7.00772 | J9: -7.01074 | K9: -7.01336 | L9: -7.01562 | M9: -7.01675 | N9: -7.01001 | O9: -6.93934 | P9: -6.43147 | Q9: -4.87947 | R9: -4.09943 | S9: -5.58045 | T9: -5.9576 | U9: -4.69817 | V9: -1.8154 | W9: -2.51033 | X9: -4.49554 | Y9: -2.32664 | Z9: 3.33026 | AA9: 5.67195 | AB9: 6.61195 | AC9: 6.40276 | AD9: 4.41408 | AE9: 1.70216 | AF9: 1.35116 | AG9: 5.66008 | AH9: 9.58396 | AI9: 7.69715 | AJ9: 5.65721 | AK9: 7.49773 | AL9: 9.87428 | AM9: 7.99568 | AN9: 6.37018 | AO9: 6.08371
A10: 5.4 | B10: -2.42131 | C10: -2.09871 | D10: -1.0884 | E10: 1.43526 | F10: 5.20886 | G10: 6.32269 | H10: -1.85233 | I10: -6.49224 | J10: -6.99631 | K10: -7.03531 | L10: -7.03568 | M10: -7.0178 | N10: -6.89486 | O10: -6.2885 | P10: -5.13687 | Q10: -4.35262 | R10: -3.97528 | S10: -4.40201 | T10: -5.04086 | U10: -3.56574 | V10: 0.44793 | W10: -0.14825 | X10: -3.01035 | Y10: -0.75047 | Z10: 2.39752 | AA10: 4.01102 | AB10: 4.56684 | AC10: 2.8908 | AD10: 1.08429 | AE10: 0.13007 | AF10: 0.98335 | AG10: 5.47885 | AH10: 9.71277 | AI10: 7.38908 | AJ10: 3.41541 | AK10: 3.44359 | AL10: 6.78325 | AM10: 6.00351 | AN10: 5.3644 | AO10: 5.00078
A11: 5.2 | B11: -2.51502 | C11: -2.41581 | D11: -2.08047 | E11: -1.03468 | F11: 1.55068 | G11: 5.43241 | H11: 8.38161 | I11: 9.53773 | J11: 8.2255 | K11: -0.60592 | L11: -6.23041 | M11: -6.65509 | N11: -6.36403 | O11: -5.98306 | P11: -5.51267 | Q11: -4.91322 | R11: -4.20493 | S11: -3.94071 | T11: -4.12226 | U11: -0.51725 | V11: 5.46688 | W11: 6.0093 | X11: 2.49805 | Y11: 3.07791 | Z11: 3.49914 | AA11: 3.07983 | AB11: 2.91443 | AC11: 1.66204 | AD11: 0.3997 | AE11: 0.56977 | AF11: 2.98794 | AG11: 8.17142 | AH11: 10.54616 | AI11: 7.68043 | AJ11: 1.87153 | AK11: -1.94445 | AL11: 1.32305 | AM11: 4.49351 | AN11: 4.25249 | AO11: 3.90526
A12: 5 | B12: -2.54319 | C12: -2.51336 | D12: -2.41009 | E12: -2.06153 | F12: -0.97932 | G12: 1.66513 | H12: 5.5551 | I12: 8.45565 | J12: 9.70246 | K12: 9.97946 | L12: 7.72973 | M12: -2.49191 | N12: -5.58311 | O12: -6.02781 | P12: -5.79181 | Q12: -4.73394 | R12: -2.75689 | S12: -2.48004 | T12: -3.48506 | U12: -0.03998 | V12: 5.29825 | W12: 6.44024 | X12: 5.22374 | Y12: 4.94502 | Z12: 4.39528 | AA12: 2.76412 | AB12: 1.97053 | AC12: 1.68017 | AD12: 1.8785 | AE12: 3.41971 | AF12: 5.91713 | AG12: 9.13866 | AH12: 9.29 | AI12: 6.14421 | AJ12: 1.10676 | AK12: -3.02014 | AL12: -2.81225 | AM12: 2.72899 | AN12: 3.30616 | AO12: 3.20095 | AR12: -4.8 | AS12: -0.63471
A13: 4.8 | B13: -2.55159 | C13: -2.54269 | D13: -2.51163 | E13: -2.40414 | F13: -2.04186 | G13: -0.92223 | H13: 1.78117 | I13: 5.67605 | J13: 8.51766 | K13: 9.69971 | L13: 9.53861 | M13: 4.02863 | N13: -2.7687 | O13: -4.09432 | P13: -4.28578 | Q13: -1.87474 | R13: 0.37963 | S13: -1.01204 | T13: -2.68468 | U13: -2.36665 | V13: 0.63471 | W13: 3.18558 | X13: 3.80406 | Y13: 4.35123 | Z13: 4.23091 | AA13: 2.31688 | AB13: 1.15099 | AC13: 1.1642 | AD13: 2.23601 | AE13: 3.63251 | AF13: 5.18446 | AG13: 7.59454 | AH13: 7.66641 | AI13: 5.70114 | AJ13: 2.62806 | AK13: -1.15814 | AL13: -2.70503 | AM13: 0.20333 | AN13: 3.17318 | AO13: 5.3914 | AR13: -4.6 | AS13: -0.35336
A14: 4.6 | B14: -2.55377 | C14: -2.55142 | D14: -2.54217 | E14: -2.50983 | F14: -2.39795 | G14: -2.02144 | H14: -0.86339 | I14: 1.89874 | J14: 5.79547 | K14: 8.57311 | L14: 9.59686 | M14: 7.68991 | N14: -0.58138 | O14: -3.17998 | P14: -3.31863 | Q14: -1.13415 | R14: 1.07586 | S14: -0.33168 | T14: -1.13983 | U14: -0.84402 | V14: 0.35336 | W14: 2.17794 | X14: 3.00955 | Y14: 3.90882 | Z14: 4.54553 | AA14: 3.27911 | AB14: 2.01298 | AC14: 2.2445 | AD14: 3.34064 | AE14: 3.02702 | AF14: 2.7175 | AG14: 5.09031 | AH14: 7.02311 | AI14: 6.3995 | AJ14: 4.58495 | AK14: 2.01266 | AL14: 2.01791 | AM14: 4.48431 | AN14: 10.28149 | AO14: 16.11558 | AR14: -4.4 | AS14: -1.05986
A15: 4.4 | B15: -2.49894 | C15: -2.54895 | D15: -2.55083 | E15: -2.54159 | F15: -2.50796 | G15: -2.39151 | H15: -2.00025 | I15: -0.80276 | J15: 2.01777 | K15: 5.91256 | L15: 8.60315 | M15: 9.02424 | N15: 2.88421 | O15: -3.10317 | P15: -4.03938 | Q15: -3.33629 | R15: -0.93757 | S15: -0.59038 | T15: -0.49488 | U15: 0.34008 | V15: 1.05986 | W15: 1.8808 | X15: 2.57803 | Y15: 3.49218 | Z15: 4.22441 | AA15: 3.73498 | AB15: 3.19481 | AC15: 3.56671 | AD15: 4.07276 | AE15: 3.06216 | AF15: 1.51624 | AG15: 2.78148 | AH15: 6.17626 | AI15: 6.48562 | AJ15: 5.31023 | AK15: 4.88211 | AL15: 6.9381 | AM15: 9.46952 | AN15: 13.38395 | AO15: 15.81512 | AR15: -4.2 | AS15: -0.80115
A16: 4.2 | B16: 1.97779 | C16: -1.76877 | D16: -2.47626 | E16: -2.54402 | F16: -2.54043 | G16: -2.50595 | H16: -2.38481 | I16: -1.97827 | J16: -0.74045 | K16: 2.13691 | L16: 6.01684 | M16: 8.46327 | N16: 5.75251 | O16: -3.3744 | P16: -4.58844 | Q16: -3.33522 | R16: -1.13924 | S16: -0.92067 | T16: -1.29129 | U16: -0.03543 | V16: 0.80115 | W16: 1.06289 | X16: 1.8497 | Y16: 2.68808 | Z16: 2.98409 | AA16: 2.81625 | AB16: 3.03774 | AC16: 3.63358 | AD16: 4.46764 | AE16: 3.9826 | AF16: 2.39426 | AG16: 2.30303 | AH16: 4.597 | AI16: 5.92869 | AJ16: 5.92129 | AK16: 6.17786 | AL16: 7.12609 | AM16: 8.20061 | AN16: 10.62617 | AO16: 11.14968 | AR16: -4 | AS16: -0.83567
A17: 4 | B17: 6.04451 | C17: 5.60856 | D17: 2.68274 | E17: -1.49591 | F17: -2.44299 | G17: -2.5306 | H17: -2.5031 | I17: -2.37789 | J17: -1.95644 | K17: -0.68528 | L17: 2.17794 | M17: 5.60308 | N17: 4.10306 | O17: -4.55495 | P17: -4.55906 | Q17: -2.46441 | R17: -0.36853 | S17: -0.76751 | T17: -1.07673 | U17: 0.26123 | V17: 0.83567 | W17: 0.71222 | X17: 1.36128 | Y17: 2.04352 | Z17: 2.07765 | AA17: 2.03113 | AB17: 2.81117 | AC17: 3.56683 | AD17: 4.57399 | AE17: 4.82067 | AF17: 3.49669 | AG17: 2.42902 | AH17: 3.29452 | AI17: 4.76067 | AJ17: 5.6391 | AK17: 5.71115 | AL17: 5.11153 | AM17: 5.29638 | AN17: 7.89768 | AO17: 5.66404 | AR17: -3.8 | AS17: -0.56765
A18: 3.8 | B18: 6.09032 | C18: 6.08758 | D18: 6.0575 | E18: 5.73939 | F18: 3.34026 | G18: -1.14413 | H18: -2.39053 | I18: -2.48933 | J18: -2.37776 | K18: -1.99736 | L18: -1.14655 | M18: -0.74253 | N18: -2.71782 | O18: -5.14421 | P18: -3.67574 | Q18: -0.73622 | R18: 0.3541 | S18: -0.55698 | T18: -0.25581 | U18: 0.48286 | V18: 0.56765 | W18: 0.42065 | X18: 1.05037 | Y18: 1.63701 | Z18: 1.68999 | AA18: 1.77566 | AB18: 2.59492 | AC18: 2.52845 | AD18: 3.01494 | AE18: 3.96947 | AF18: 3.50173 | AG18: 2.43735 | AH18: 2.17814 | AI18: 3.50853 | AJ18: 4.89236 | AK18: 5.14159 | AL18: 4.53007 | AM18: 5.34552 | AN18: 7.58014 | AO18: 4.62802 | AR18: -3.6 | AS18: 0.1086
A19: 3.6 | B19: 6.09059 | C19: 6.09057 | D19: 6.0904 | E19: 6.08843 | F19: 6.06683 | G19: 5.8358 | H19: 3.92222 | I19: -0.71476 | J19: -2.37172 | K19: -2.79755 | L19: -3.6527 | M19: -4.37837 | N19: -4.59652 | O19: -4.26614 | P19: -1.95986 | Q19: 0.21039 | R19: -0.21851 | S19: -0.738 | T19: -0.38493 | U19: -0.12844 | V19: -0.1086 | W19: -0.08706 | X19: 0.4357 | Y19: 1.22533 | Z19: 2.07103 | AA19: 1.74912 | AB19: 1.60146 | AC19: 0.50608 | AD19: 0.33806 | AE19: 2.03899 | AF19: 2.77666 | AG19: 2.39096 | AH19: 2.08744 | AI19: 3.20194 | AJ19: 4.57703 | AK19: 5.06222 | AL19: 5.88176 | AM19: 7.94217 | AN19: 8.82297 | AO19: 7.97994 | AR19: -3.4 | AS19: 0.2144
A20: 3.4 | B20: 6.09059 | C20: 6.09059 | D20: 6.09059 | E20: 6.09058 | F20: 6.09045 | G20: 6.08904 | H20: 6.07339 | I20: 5.89609 | J20: 3.88558 | K20: -2.97063 | L20: -4.45969 | M20: -4.4472 | N20: -4.0055 | O20: -2.6983 | P20: -0.90243 | Q20: 0.23727 | R20: -0.02915 | S20: -0.32386 | T20: -0.29561 | U20: -0.09635 | V20: -0.2144 | W20: 0.17898 | X20: 0.47367 | Y20: 0.82135 | Z20: 1.83524 | AA20: 1.64504 | AB20: 1.39241 | AC20: 0.6983 | AD20: 0.19095 | AE20: 1.03044 | AF20: 2.7269 | AG20: 2.91057 | AH20: 2.63967 | AI20: 3.43999 | AJ20: 4.30257 | AK20: 4.85772 | AL20: 6.78449 | AM20: 8.54919 | AN20: 8.29292 | AO20: 7.69764 | AR20: -3.2 | AS20: -0.02728
A21: 3.2 | B21: 6.09059 | C21: 6.09059 | D21: 6.09059 | E21: 6.09059 | F21: 6.09058 | G21: 6.09055 | H21: 6.09034 | I21: 6.08805 | J21: 6.00248 | K21: 2.1872 | L21: -3.21545 | M21: -2.89928 | N21: -2.32397 | O21: -1.25605 | P21: 0.22247 | Q21: 0.97057 | R21: 0.57374 | S21: 0.11354 | T21: 0.03798 | U21: 0.07311 | V21: 0.02728 | W21: 0.8804 | X21: 1.3894 | Y21: 1.22894 | Z21: 0.42027 | AA21: 0.8522 | AB21: 1.4083 | AC21: 1.56772 | AD21: 1.50587 | AE21: 2.60305 | AF21: 2.97413 | AG21: 2.96345 | AH21: 2.87586 | AI21: 3.20483 | AJ21: 3.68541 | AK21: 4.25595 | AL21: 6.43636 | AM21: 7.33441 | AN21: 5.92765 | AO21: 5.73951 | AR21: -3 | AS21: 0.30283
A22: 3 | B22: 6.08502 | C22: 6.09057 | D22: 6.09059 | E22: 6.09058 | F22: 6.09053 | G22: 6.09035 | H22: 6.08958 | I22: 6.08612 | J22: 6.04135 | K22: 3.9939 | L22: -1.90854 | M22: -1.81173 | N22: -1.54286 | O22: -0.96639 | P22: 0.55128 | Q22: 1.29131 | R22: 0.79218 | S22: 0.06969 | T22: -0.07955 | U22: -0.23576 | V22: -0.30283 | W22: 0.67959 | X22: 1.92239 | Y22: 2.16498 | Z22: 0.61998 | AA22: 0.72444 | AB22: 1.38848 | AC22: 2.0997 | AD22: 2.51784 | AE22: 2.99546 | AF22: 2.42601 | AG22: 3.31215 | AH22: 3.25717 | AI22: 3.32214 | AJ22: 3.4766 | AK22: 4.25025 | AL22: 5.15561 | AM22: 3.87275 | AN22: 1.59361 | AO22: 4.11422 | AR22: -2.8 | AS22: 0.0661
A23: 2.8 | B23: 0.43223 | C23: 6.0547 | D23: 6.09045 | E23: 6.09049 | F23: 6.09015 | G23: 6.0888 | H23: 6.08331 | I23: 6.06235 | J23: 5.97582 | K23: 4.90975 | L23: -0.08918 | M23: -0.8763 | N23: -1.02158 | O23: -1.0187 | P23: 0.33055 | Q23: 1.02033 | R23: 0.37597 | S23: -0.6753 | T23: -0.52331 | U23: -0.66894 | V23: -0.0661 | W23: 0.41323 | X23: 0.95405 | Y23: 0.32823 | Z23: 0.762 | AA23: 1.16855 | AB23: 1.59554 | AC23: 1.83944 | AD23: 1.68452 | AE23: 1.68003 | AF23: 2.27471 | AG23: 3.30724 | AH23: 4.13528 | AI23: 3.33412 | AJ23: 3.6199 | AK23: 4.53489 | AL23: 4.64812 | AM23: 2.49785 | AN23: 0.16521 | AO23: 2.46889 | AR23: -2.6 | AS23: -0.1307
... A36: 0.2 | B36: 0.40337 | C36: -0.15963 | D36: -0.59665 | E36: -1.04142 | F36: -1.60006 | G36: -1.59215 | H36: -1.50495 | I36: -1.53468 | J36: -1.3666 | K36: -1.07574 | L36: -0.79681 | M36: -0.9612 | N36: -0.58424 | O36: -0.28705 | P36: -0.40332 | Q36: -0.74872 | R36: -0.44686 | S36: -0.33693 | T36: -0.55821 | U36: -0.07429 | V36: -0.48957 | W36: 0.90117 | X36: 0.15241 | Y36: 0.2586 | Z36: 0.0823 | AA36: 0.53176 | AB36: 0.3989 | AC36: -0.06432 | AD36: 0.70739 | AE36: 0.34624 | AF36: 0.33682 | AG36: 0.52637 | AH36: 1.08344 | AI36: 1.39884 | AJ36: 1.60456 | AK36: 1.55366 | AL36: 0.66851 | AM36: -0.90674 | AN36: -1.98785 | AO36: -2.755 | AR36: 0 | AS36: 0
A37: 0 | B37: 1.82237 | C37: 0.96882 | D37: 0.21018 | E37: -0.41434 | F37: -0.95721 | G37: -1.2241 | H37: -1.38595 | I37: -1.46822 | J37: -1.27286 | K37: -0.84023 | L37: -0.33331 | M37: -0.68892 | N37: 0.05721 | O37: 0.29716 | P37: -0.35286 | Q37: -0.08147 | R37: 0.33004 | S37: -0.2943 | T37: -0.34637 | U37: 0.62206 | V37: 0 | W37: -0.62206 | X37: 0.34637 | Y37: 0.2943 | Z37: -0.33004 | AA37: 0.08147 | AB37: 0.35286 | AC37: -0.29716 | AD37: -0.05721 | AE37: 0.68892 | AF37: 0.33331 | AG37: 0.84023 | AH37: 1.27286 | AI37: 1.46822 | AJ37: 1.38595 | AK37: 1.2241 | AL37: 0.95721 | AM37: 0.41434 | AN37: -0.21018 | AO37: -0.96882 | AP37: On the mean | AR37: 0.2 | AS37: -0.48957
A38: -0.2 | B38: 3.28698 | C38: 2.755 | D38: 1.98785 | E38: 0.90674 | F38: -0.66851 | G38: -1.55366 | H38: -1.60456 | I38: -1.39884 | J38: -1.08344 | K38: -0.52637 | L38: -0.33682 | M38: -0.34624 | N38: -0.70739 | O38: 0.06432 | P38: -0.3989 | Q38: -0.53176 | R38: -0.0823 | S38: -0.2586 | T38: -0.15241 | U38: -0.90117 | V38: 0.48957 | W38: 0.07429 | X38: 0.55821 | Y38: 0.33693 | Z38: 0.44686 | AA38: 0.74872 | AB38: 0.40332 | AC38: 0.28705 | AD38: 0.58424 | AE38: 0.9612 | AF38: 0.79681 | AG38: 1.07574 | AH38: 1.3666 | AI38: 1.53468 | AJ38: 1.50495 | AK38: 1.59215 | AL38: 1.60006 | AM38: 1.04142 | AN38: 0.59665 | AO38: 0.15963 | AR38: 0.4 | AS38: -0.19369
A39: -0.4 | B39: 3.93465 | C39: 3.82814 | D39: 3.46165 | E39: 2.16088 | F39: -0.70632 | G39: -2.17211 | H39: -1.96242 | I39: -1.63527 | J39: -1.58577 | K39: -0.97622 | L39: -0.49782 | M39: -0.50731 | N39: -0.22347 | O39: 0.84594 | P39: -0.15654 | Q39: -0.60444 | R39: 0.52002 | S39: -0.19838 | T39: 0.16047 | U39: 0.12166 | V39: 0.19369 | W39: 0.366 | X39: 0.53147 | Y39: 0.06425 | Z39: 0.11674 | AA39: 0.92986 | AB39: 1.36877 | AC39: 0.87003 | AD39: 1.08615 | AE39: 0.77471 | AF39: 0.72236 | AG39: 0.95462 | AH39: 0.94828 | AI39: 1.09095 | AJ39: 1.48314 | AK39: 2.00467 | AL39: 2.36004 | AM39: 1.79384 | AN39: 0.98247 | AO39: 0.59215 | AR39: 0.6 | AS39: -0.07871
A40: -0.6 | B40: 3.5594 | C40: 3.30261 | D40: 2.80744 | E40: 1.61433 | F40: -0.60366 | G40: -2.01984 | H40: -1.72296 | I40: -1.29746 | J40: -1.16554 | K40: -0.72038 | L40: -0.27159 | M40: -0.4146 | N40: -0.68288 | O40: -0.14009 | P40: -0.1391 | Q40: -0.03089 | R40: 0.74053 | S40: 0.08524 | T40: 0.66183 | U40: 0.13806 | V40: 0.07871 | W40: 0.18593 | X40: 0.12441 | Y40: 0.55987 | Z40: 0.32415 | AA40: 1.33141 | AB40: 1.22679 | AC40: 0.39444 | AD40: 1.3063 | AE40: 0.87153 | AF40: 0.84107 | AG40: 0.7328 | AH40: 0.18532 | AI40: 0.32635 | AJ40: 1.14936 | AK40: 2.14186 | AL40: 2.71868 | AM40: 2.78684 | AN40: 2.18195 | AO40: 3.54358 | AR40: 0.8 | AS40: 0.40594
A41: -0.8 | B41: 1.62407 | C41: 1.33498 | D41: 1.04847 | E41: 0.63481 | F41: -0.33706 | G41: -1.3498 | H41: -1.03514 | I41: -0.43551 | J41: -0.46468 | K41: 0.12301 | L41: -0.21365 | M41: -0.101 | N41: 0.56939 | O41: 0.61948 | P41: 0.59094 | Q41: 0.35535 | R41: -0.37406 | S41: 0.01322 | T41: -0.35788 | U41: 0.61715 | V41: -0.40594 | W41: 0.19218 | X41: -0.03202 | Y41: -0.05355 | Z41: 0.75705 | AA41: 1.12052 | AB41: 1.09634 | AC41: 0.91185 | AD41: 1.43403 | AE41: 1.17165 | AF41: 0.97773 | AG41: 0.51695 | AH41: -0.08871 | AI41: -0.01147 | AJ41: 1.18736 | AK41: 2.42679 | AL41: 3.12681 | AM41: 3.83322 | AN41: 5.53598 | AO41: 5.87054 | AR41: 1 | AS41: -0.30149
A42: -1 | B42: 0.52754 | C42: 0.60349 | D42: 0.401 | E42: 0.23044 | F42: -0.30441 | G42: -1.00805 | H42: -0.80508 | I42: -0.39091 | J42: -0.62944 | K42: -0.60816 | L42: -0.81618 | M42: -1.50689 | N42: -0.10577 | O42: -0.31612 | P42: 0.8335 | Q42: 0.06382 | R42: 0.54337 | S42: 0.15341 | T42: 0.6791 | U42: 0.38902 | V42: 0.30149 | W42: 0.02087 | X42: 0.90082 | Y42: 0.50688 | Z42: 0.97035 | AA42: 0.44274 | AB42: 0.46222 | AC42: 1.10883 | AD42: 1.96179 | AE42: 1.81682 | AF42: 1.1866 | AG42: 0.78138 | AH42: 0.12354 | AI42: 0.14089 | AJ42: 1.54052 | AK42: 3.13123 | AL42: 3.89085 | AM42: 4.63302 | AN42: 5.77758 | AO42: 5.87865 | AR42: 1.2 | AS42: -1.30463
A43: -1.2 | B43: -0.35552 | C43: 0.03473 | D43: -0.05997 | E43: -0.35119 | F43: -0.66275 | G43: -0.86807 | H43: -0.97721 | I43: -1.0204 | J43: -1.38782 | K43: -0.98183 | L43: -0.66026 | M43: 0.27748 | N43: -0.08694 | O43: 0.09768 | P43: -0.16909 | Q43: 0.65569 | R43: 0.41581 | S43: -0.60398 | T43: -0.45659 | U43: 0.88351 | V43: 1.30463 | W43: 0.4371 | X43: -0.11383 | Y43: 0.61265 | Z43: 0.90495 | AA43: 0.61209 | AB43: 0.74821 | AC43: 1.12845 | AD43: 1.79715 | AE43: 1.9642 | AF43: 1.53554 | AG43: 1.04548 | AH43: 0.47907 | AI43: 0.46848 | AJ43: 2.15476 | AK43: 3.76218 | AL43: 4.23825 | AM43: 5.1021 | AN43: 5.84193 | AO43: 5.88047 | AR43: 1.4 | AS43: -0.42975
A44: -1.4 | B44: -1.0836 | C44: -0.60835 | D44: -0.7143 | E44: -1.18291 | F44: -1.20708 | G44: -1.09855 | H44: -1.10752 | I44: -1.54932 | J44: -1.9228 | K44: -1.48168 | L44: -0.99563 | M44: -0.50048 | N44: 0.52419 | O44: 1.03605 | P44: 0.35867 | Q44: 0.10292 | R44: 0.66486 | S44: -0.20004 | T44: -0.22725 | U44: 0.21575 | V44: 0.42975 | W44: 0.45242 | X44: 0.29422 | Y44: 0.73709 | Z44: 1.262 | AA44: 1.08953 | AB44: 1.43257 | AC44: 1.52301 | AD44: 1.78094 | AE44: 2.06953 | AF44: 1.56091 | AG44: 1.05376 | AH44: 0.75645 | AI44: 1.29488 | AJ44: 3.06111 | AK44: 3.98091 | AL44: 4.33293 | AM44: 5.44764 | AN44: 5.866 | AO44: 5.88116 | AR44: 1.6 | AS44: -0.35362
A45: -1.6 | B45: -1.20667 | C45: -0.57332 | D45: -0.6643 | E45: -1.52435 | F45: -2.10195 | G45: -2.20688 | H45: -1.74977 | I45: -2.00271 | J45: -1.8461 | K45: -0.19406 | L45: -0.75223 | M45: -1.59039 | N45: 0.0493 | O45: -0.28626 | P45: 0.95196 | Q45: -0.08291 | R45: 0.05971 | S45: 0.32251 | T45: 0.51302 | U45: 0.38392 | V45: 0.35362 | W45: -0.59127 | X45: 0.33525 | Y45: 0.17595 | Z45: 0.43358 | AA45: 0.60329 | AB45: 1.53289 | AC45: 2.19171 | AD45: 1.87134 | AE45: 1.68077 | AF45: 1.39598 | AG45: 1.17184 | AH45: 1.12471 | AI45: 1.97655 | AJ45: 3.47454 | AK45: 3.96725 | AL45: 4.34899 | AM45: 5.65681 | AN45: 5.87531 | AO45: 5.88142 | AR45: 1.8 | AS45: -0.52976
A46: -1.8 | B46: -1.28257 | C46: -0.85722 | D46: -1.45654 | E46: -2.65202 | F46: -3.58313 | G46: -3.38196 | H46: -2.46992 | I46: -1.75653 | J46: -1.79891 | K46: -0.52903 | L46: 0.3955 | M46: -1.15417 | N46: -0.4537 | O46: -0.03003 | P46: -0.24446 | Q46: -0.54058 | R46: -0.14112 | S46: -0.07934 | T46: 0.25437 | U46: 0.51907 | V46: 0.52976 | W46: 0.19347 | X46: 0.18247 | Y46: 0.98871 | Z46: 0.2075 | AA46: 0.11593 | AB46: 1.0747 | AC46: 1.23401 | AD46: 1.36184 | AE46: 1.23402 | AF46: 1.32113 | AG46: 1.58993 | AH46: 1.70489 | AI46: 2.18135 | AJ46: 3.44784 | AK46: 3.8997 | AL46: 4.3182 | AM46: 5.75332 | AN46: 5.87887 | AO46: 5.88152 | AR46: 2 | AS46: -0.33017
A47: -2 | B47: -2.5954 | C47: -3.74354 | D47: -4.30582 | E47: -4.2118 | F47: -4.22541 | G47: -3.47525 | H47: -2.15448 | I47: -1.78331 | J47: -1.88952 | K47: -2.39786 | L47: -1.19347 | M47: -0.56108 | N47: -0.80534 | O47: -0.06559 | P47: 0.11445 | Q47: -0.73657 | R47: 0.10467 | S47: 0.07058 | T47: -0.27917 | U47: 0.11116 | V47: 0.33017 | W47: -0.16657 | X47: 0.46001 | Y47: 0.09458 | Z47: 0.40851 | AA47: 0.63316 | AB47: 0.67811 | AC47: 0.6851 | AD47: 0.68719 | AE47: 0.99855 | AF47: 1.07657 | AG47: 1.16941 | AH47: 1.38162 | AI47: 1.62912 | AJ47: 2.67107 | AK47: 3.73278 | AL47: 4.25031 | AM47: 5.78708 | AN47: 5.88018 | AO47: 5.88156 | AR47: 2.2 | AS47: -0.76067
A48: -2.2 | B48: -2.43796 | C48: -3.32084 | D48: -4.53638 | E48: -4.35865 | F48: -3.98198 | G48: -3.09842 | H48: -1.74502 | I48: -1.1773 | J48: -2.28259 | K48: -1.76185 | L48: -1.01389 | M48: -1.50196 | N48: -0.75501 | O48: -0.51171 | P48: -0.36992 | Q48: -1.29352 | R48: 0.26662 | S48: -0.00309 | T48: 0.12862 | U48: -0.03223 | V48: 0.76067 | W48: -0.07648 | X48: 0.73336 | Y48: 1.042 | Z48: 1.51153 | AA48: 1.40435 | AB48: 1.11701 | AC48: 0.83153 | AD48: 0.59438 | AE48: 0.58306 | AF48: -0.24056 | AG48: -1.26905 | AH48: -2.0035 | AI48: -2.96691 | AJ48: -3.79685 | AK48: -2.54957 | AL48: 1.61647 | AM48: 5.7355 | AN48: 5.88044 | AO48: 5.88157 | AR48: 2.4 | AS48: -0.28033
A49: -2.4 | B49: -2.55965 | C49: -2.45113 | D49: -3.93441 | E49: -4.53216 | F49: -4.12271 | G49: -3.17976 | H49: -1.86262 | I49: -1.52566 | J49: -2.08637 | K49: -2.05991 | L49: -2.55734 | M49: -2.13987 | N49: -1.87611 | O49: -0.66166 | P49: -1.5751 | Q49: -1.48607 | R49: -1.21211 | S49: -0.47579 | T49: -0.20216 | U49: 0.61796 | V49: 0.28033 | W49: 0.53337 | X49: 0.61338 | Y49: 1.44551 | Z49: 1.6046 | AA49: 0.99025 | AB49: 0.94926 | AC49: 0.92412 | AD49: 0.56711 | AE49: -0.16078 | AF49: -1.88984 | AG49: -3.87425 | AH49: -5.0259 | AI49: -5.58744 | AJ49: -5.85734 | AK49: -5.99674 | AL49: -6.03718 | AM49: -4.73551 | AN49: 5.56637 | AO49: 5.8805 | AR49: 2.6 | AS49: 0.1307
... A60: -4.6 | B60: -17.19249 | C60: -16.11558 | D60: -10.28149 | E60: -4.48431 | F60: -2.01791 | G60: -2.01266 | H60: -4.58495 | I60: -6.3995 | J60: -7.02311 | K60: -5.09031 | L60: -2.7175 | M60: -3.02702 | N60: -3.34064 | O60: -2.2445 | P60: -2.01298 | Q60: -3.27911 | R60: -4.54553 | S60: -3.90882 | T60: -3.00955 | U60: -2.17794 | V60: -0.35336 | W60: 0.84402 | X60: 1.13983 | Y60: 0.33168 | Z60: -1.07586 | AA60: 1.13415 | AB60: 3.31863 | AC60: 3.17998 | AD60: 0.58138 | AE60: -7.68991 | AF60: -9.59686 | AG60: -8.57311 | AH60: -5.79547 | AI60: -1.89874 | AJ60: 0.86339 | AK60: 2.02144 | AL60: 2.39795 | AM60: 2.50983 | AN60: 2.54217 | AO60: 2.55142 | AR60: 4.8 | AS60: 0.63471
A61: -4.8 | B61: -10.05557 | C61: -5.3914 | D61: -3.17318 | E61: -0.20333 | F61: 2.70503 | G61: 1.15814 | H61: -2.62806 | I61: -5.70114 | J61: -7.66641 | K61: -7.59454 | L61: -5.18446 | M61: -3.63251 | N61: -2.23601 | O61: -1.1642 | P61: -1.15099 | Q61: -2.31688 | R61: -4.23091 | S61: -4.35123 | T61: -3.80406 | U61: -3.18558 | V61: -0.63471 | W61: 2.36665 | X61: 2.68468 | Y61: 1.01204 | Z61: -0.37963 | AA61: 1.87474 | AB61: 4.28578 | AC61: 4.09432 | AD61: 2.7687 | AE61: -4.02863 | AF61: -9.53861 | AG61: -9.69971 | AH61: -8.51766 | AI61: -5.67605 | AJ61: -1.78117 | AK61: 0.92223 | AL61: 2.04186 | AM61: 2.40414 | AN61: 2.51163 | AO61: 2.54269
A62: -5 | B62: -3.24222 | C62: -3.20095 | D62: -3.30616 | E62: -2.72899 | F62: 2.81225 | G62: 3.02014 | H62: -1.10676 | I62: -6.14421 | J62: -9.29 | K62: -9.13866 | L62: -5.91713 | M62: -3.41971 | N62: -1.8785 | O62: -1.68017 | P62: -1.97053 | Q62: -2.76412 | R62: -4.39528 | S62: -4.94502 | T62: -5.22374 | U62: -6.44024 | V62: -5.29825 | W62: 0.03998 | X62: 3.48506 | Y62: 2.48004 | Z62: 2.75689 | AA62: 4.73394 | AB62: 5.79181 | AC62: 6.02781 | AD62: 5.58311 | AE62: 2.49191 | AF62: -7.72973 | AG62: -9.97946 | AH62: -9.70246 | AI62: -8.45565 | AJ62: -5.5551 | AK62: -1.66513 | AL62: 0.97932 | AM62: 2.06153 | AN62: 2.41009 | AO62: 2.51336
A63: -5.2 | B63: -3.60376 | C63: -3.90526 | D63: -4.25249 | E63: -4.49351 | F63: -1.32305 | G63: 1.94445 | H63: -1.87153 | I63: -7.68043 | J63: -10.54616 | K63: -8.17142 | L63: -2.98794 | M63: -0.56977 | N63: -0.3997 | O63: -1.66204 | P63: -2.91443 | Q63: -3.07983 | R63: -3.49914 | S63: -3.07791 | T63: -2.49805 | U63: -6.0093 | V63: -5.46688 | W63: 0.51725 | X63: 4.12226 | Y63: 3.94071 | Z63: 4.20493 | AA63: 4.91322 | AB63: 5.51267 | AC63: 5.98306 | AD63: 6.36403 | AE63: 6.65509 | AF63: 6.23041 | AG63: 0.60592 | AH63: -8.2255 | AI63: -9.53773 | AJ63: -8.38161 | AK63: -5.43241 | AL63: -1.55068 | AM63: 1.03468 | AN63: 2.08047 | AO63: 2.41581
A64: -5.4 | B64: -4.63724 | C64: -5.00078 | D64: -5.3644 | E64: -6.00351 | F64: -6.78325 | G64: -3.44359 | H64: -3.41541 | I64: -7.38908 | J64: -9.71277 | K64: -5.47885 | L64: -0.98335 | M64: -0.13007 | N64: -1.08429 | O64: -2.8908 | P64: -4.56684 | Q64: -4.01102 | R64: -2.39752 | S64: 0.75047 | T64: 3.01035 | U64: 0.14825 | V64: -0.44793 | W64: 3.56574 | X64: 5.04086 | Y64: 4.40201 | Z64: 3.97528 | AA64: 4.35262 | AB64: 5.13687 | AC64: 6.2885 | AD64: 6.89486 | AE64: 7.0178 | AF64: 7.03568 | AG64: 7.03531 | AH64: 6.99631 | AI64: 6.49224 | AJ64: 1.85233 | AK64: -6.32269 | AL64: -5.20886 | AM64: -1.43526 | AN64: 1.0884 | AO64: 2.09871
A65: -5.6 | B65: -5.66534 | C65: -6.08371 | D65: -6.37018 | E65: -7.99568 | F65: -9.87428 | G65: -7.49773 | H65: -5.65721 | I65: -7.69715 | J65: -9.58396 | K65: -5.66008 | L65: -1.35116 | M65: -1.70216 | N65: -4.41408 | O65: -6.40276 | P65: -6.61195 | Q65: -5.67195 | R65: -3.33026 | S65: 2.32664 | T65: 4.49554 | U65: 2.51033 | V65: 1.8154 | W65: 4.69817 | X65: 5.9576 | Y65: 5.58045 | Z65: 4.09943 | AA65: 4.87947 | AB65: 6.43147 | AC65: 6.93934 | AD65: 7.01001 | AE65: 7.01675 | AF65: 7.01562 | AG65: 7.01336 | AH65: 7.01074 | AI65: 7.00772 | AJ65: 7.00249 | AK65: 6.97138 | AL65: 6.59933 | AM65: 2.96628 | AN65: -0.73284 | AO65: 1.15275
A66: -5.8 | B66: -4.2205 | C66: -9.64593 | D66: -9.62631 | E66: -10.56059 | F66: -11.79112 | G66: -10.88768 | H66: -9.04762 | I66: -9.53987 | J66: -10.20757 | K66: -5.87386 | L66: -0.56126 | M66: -1.95882 | N66: -6.55951 | O66: -8.28129 | P66: -7.35237 | Q66: -6.23657 | R66: -4.40814 | S66: 0.91362 | T66: 2.60345 | U66: 0.32846 | V66: 0.88971 | W66: 4.56125 | X66: 6.5882 | Y66: 6.50338 | Z66: 5.25677 | AA66: 6.31921 | AB66: 6.69065 | AC66: 6.70566 | AD66: 6.67927 | AE66: 6.64577 | AF66: 6.60865 | AG66: 6.56806 | AH66: 6.52374 | AI66: 6.47537 | AJ66: 6.4226 | AK66: 6.36506 | AL66: 6.30225 | AM66: 6.23255 | AN66: 6.13805 | AO66: 5.72303
A67: -6 | B67: -1.50037 | C67: -10.25119 | D67: -10.86949 | E67: -10.255 | F67: -12.84686 | G67: -16.03048 | H67: -15.42308 | I67: -11.90401 | J67: -8.88585 | K67: -2.25561 | L67: 2.89627 | M67: -0.29822 | N67: -6.86433 | O67: -8.99998 | P67: -7.03745 | Q67: -4.79142 | R67: -3.26349 | S67: -0.75962 | T67: -0.01022 | U67: -0.44572 | V67: 1.31223 | W67: 4.38522 | X67: 5.25538 | Y67: 2.85121 | Z67: -0.55488 | AA67: 2.24628 | AB67: 2.69091 | AC67: 2.38023 | AD67: 2.03447 | AE67: 1.67067 | AF67: 1.28936 | AG67: 0.89093 | AH67: 0.476 | AI67: 0.04537 | AJ67: -0.39995 | AK67: -0.85878 | AL67: -1.32972 | AM67: -1.81121 | AN67: -2.30151 | AO67: -2.79878
A68: -6.2 | B68: 0.95808 | C68: -9.64638 | D68: -10.56898 | E68: -8.08444 | F68: -9.21235 | G68: -14.43184 | H68: -16.23156 | I68: -9.25762 | J68: -4.7533 | K68: -0.09295 | L68: 4.72222 | M68: 0.35415 | N68: -8.00449 | O68: -8.86312 | P68: -5.74155 | Q68: -1.99949 | R68: -0.712 | S68: -0.80321 | T68: -1.73447 | U68: -0.3098 | V68: 1.84465 | W68: 2.92339 | X68: -0.57192 | Y68: -4.2031 | Z68: -6.13058 | AA68: -9.41768 | AB68: -10.84644 | AC68: -11.17761 | AD68: -11.46153 | AE68: -11.72779 | AF68: -11.97749 | AG68: -12.21118 | AH68: -12.42947 | AI68: -12.63299 | AJ68: -12.82243 | AK68: -12.99848 | AL68: -13.16186 | AM68: -13.31326 | AN68: -13.45339 | AO68: -13.58294
A69: -6.4 | B69: 3.01799 | C69: -8.65718 | D69: -9.96193 | E69: -5.69166 | F69: -5.46225 | G69: -9.67143 | H69: -10.23251 | I69: -5.66097 | J69: -4.17238 | K69: -2.93383 | L69: 1.40376 | M69: -3.10336 | N69: -9.14047 | O69: -7.83671 | P69: -4.34174 | Q69: -0.37965 | R69: 0.83503 | S69: -3.53883 | T69: -5.98539 | U69: -5.08707 | V69: -2.19372 | W69: -2.37173 | X69: -5.70273 | Y69: -6.5909 | Z69: -7.14437 | AA69: -12.27247 | AB69: -14.68257 | AC69: -14.77325 | AD69: -14.7972 | AE69: -14.81796 | AF69: -14.83691 | AG69: -14.85424 | AH69: -14.87007 | AI69: -14.88453 | AJ69: -14.89774 | AK69: -14.90981 | AL69: -14.92083 | AM69: -14.9309 | AN69: -14.94009 | AO69: -14.94848
A70: -6.6 | B70: 4.54737 | C70: -7.18194 | D70: -8.92507 | E70: -3.55096 | F70: -2.95669 | G70: -5.52222 | H70: -5.0562 | I70: -3.43576 | J70: -2.89108 | K70: -2.92869 | L70: -8.26288 | M70: -13.28867 | N70: -11.13312 | O70: -7.168 | P70: -3.23487 | Q70: 0.47888 | R70: -0.83593 | S70: -6.31711 | T70: -6.77685 | U70: -6.80931 | V70: -6.69451 | W70: -6.38778 | X70: -6.79011 | Y70: -6.91383 | Z70: -7.27691 | AA70: -12.59088 | AB70: -14.95451 | AC70: -15.02003 | AD70: -15.02257 | AE70: -15.0238 | AF70: -15.02489 | AG70: -15.02589 | AH70: -15.0268 | AI70: -15.02763 | AJ70: -15.02839 | AK70: -15.02908 | AL70: -15.02971 | AM70: -15.03029 | AN70: -15.03081 | AO70: -15.03129 | AP70: Extremely below the mean
A71: -6.8 | B71: 5.58173 | C71: -5.18061 | D71: -7.36381 | E71: -1.9869 | F71: -1.21339 | G71: 0.25741 | H71: 2.80915 | I71: 3.77461 | J71: 4.22747 | K71: 1.81334 | L71: -12.4576 | M71: -14.96143 | N71: -14.65704 | O71: -11.15647 | P71: -3.48099 | Q71: 0.55428 | R71: -4.81812 | S71: -6.76687 | T71: -6.87313 | U71: -6.92088 | V71: -6.9549 | W71: -6.96309 | X71: -6.93605 | Y71: -6.95081 | Z71: -7.31295 | AA71: -12.7241 | AB71: -14.97439 | AC71: -15.03427 | AD71: -15.03549 | AE71: -15.03558 | AF71: -15.03564 | AG71: -15.03569 | AH71: -15.03575 | AI71: -15.03579 | AJ71: -15.03584 | AK71: -15.03588 | AL71: -15.03591 | AM71: -15.03594 | AN71: -15.03597 | AO71: -15.036
B72: extremely bearish trend | V72: neutral trend | AO72: extremely bullish trend
B76: -4 | C76: -3.8 | D76: -3.6 | E76: -3.4 | F76: -3.2 | G76: -3 | H76: -2.8 | I76: -2.6 | J76: -2.4 | K76: -2.2 | L76: -2 | M76: -1.8 | N76: -1.6 | O76: -1.4 | P76: -1.2 | Q76: -1 | R76: -0.8 | S76: -0.6 | T76: -0.4 | U76: -0.2 | V76: 0 | W76: 0.2 | X76: 0.4 | Y76: 0.6 | Z76: 0.8 | AA76: 1 | AB76: 1.2 | AC76: 1.4 | AD76: 1.6 | AE76: 1.8 | AF76: 2 | AG76: 2.2 | AH76: 2.4 | AI76: 2.6 | AJ76: 2.8 | AK76: 3 | AL76: 3.2 | AM76: 3.4 | AN76: 3.6 | AO76: 3.8
B77: 1.82237 | C77: 0.96882 | D77: 0.21018 | E77: -0.41434 | F77: -0.95721 | G77: -1.2241 | H77: -1.38595 | I77: -1.46822 | J77: -1.27286 | K77: -0.84023 | L77: -0.33331 | M77: -0.68892 | N77: 0.05721 | O77: 0.29716 | P77: -0.35286 | Q77: -0.08147 | R77: 0.33004 | S77: -0.2943 | T77: -0.34637 | U77: 0.62206 | V77: 0 | W77: -0.62206 | X77: 0.34637 | Y77: 0.2943 | Z77: -0.33004 | AA77: 0.08147 | AB77: 0.35286 | AC77: -0.29716 | AD77: -0.05721 | AE77: 0.68892 | AF77: 0.33331 | AG77: 0.84023 | AH77: 1.27286 | AI77: 1.46822 | AJ77: 1.38595 | AK77: 1.2241 | AL77: 0.95721 | AM77: 0.41434 | AN77: -0.21018 | AO77: -0.96882

Sheet Sheet2
B1: -4 | C1: -3.8 | D1: -3.6 | E1: -3.4 | F1: -3.2 | G1: -3 | H1: -2.8 | I1: -2.6 | J1: -2.4 | K1: -2.2 | L1: -2 | M1: -1.8 | N1: -1.6 | O1: -1.4 | P1: -1.2 | Q1: -1 | R1: -0.8 | S1: -0.6 | T1: -0.4 | U1: -0.2 | V1: 0 | W1: 0.2 | X1: 0.4 | Y1: 0.6 | Z1: 0.8 | AA1: 1 | AB1: 1.2 | AC1: 1.4 | AD1: 1.6 | AE1: 1.8 | AF1: 2 | AG1: 2.2 | AH1: 2.4 | AI1: 2.6 | AJ1: 2.8 | AK1: 3 | AL1: 3.2 | AM1: 3.4 | AN1: 3.6 | AO1: 3.8
A2: 7 | B2: 0 | C2: 0 | D2: 0 | E2: 0 | F2: 0 | G2: 0 | H2: 0 | I2: 0 | J2: 0 | K2: 0 | L2: 5e-05 | M2: 0.00072 | N2: 0.00397 | O2: 0.00808 | P2: 0.00609 | Q2: 0.00228 | R2: 0.00347 | S2: 0.00657 | T2: 0.00857 | U2: 0.07181 | V2: 0.47772 | W2: 1.21185 | X2: 1.16103 | Y2: 0.42367 | Z2: 0.06132 | AA2: 0.01086 | AB2: 0.03175 | AC2: 0.21486 | AD2: 0.73811 | AE2: 0.97515 | AF2: 0.56959 | AG2: 0.53052 | AH2: 1.12494 | AI2: 1.23223 | AJ2: 0.54453 | AK2: 0.09802 | AL2: 0.00949 | AM2: 0.00146 | AN2: 0.00039 | AO2: 0.00027 | AP2: Extremely above the mean
A3: 6.8 | B3: 0 | C3: 0 | D3: 0 | E3: 0 | F3: 0 | G3: 0 | H3: 0 | I3: 0 | J3: 0 | K3: 2e-05 | L3: 0.00064 | M3: 0.00964 | N3: 0.05333 | O3: 0.10849 | P3: 0.08179 | Q3: 0.03129 | R3: 0.04997 | S3: 0.09388 | T3: 0.07499 | U3: 0.15288 | V3: 0.9353 | W3: 2.44547 | X3: 2.44314 | Y3: 0.94197 | Z3: 0.17176 | AA3: 0.11581 | AB3: 0.17723 | AC3: 0.26772 | AD3: 0.58019 | AE3: 0.71492 | AF3: 0.39164 | AG3: 0.43551 | AH3: 1.05663 | AI3: 1.13938 | AJ3: 0.48863 | AK3: 0.12348 | AL3: 0.05831 | AM3: 0.02592 | AN3: 0.01083 | AO3: 0.0081
A4: 6.6 | B4: 0 | C4: 0 | D4: 0 | E4: 0 | F4: 0 | G4: 0 | H4: 0 | I4: 0 | J4: 0 | K4: 8e-05 | L4: 0.00317 | M4: 0.04766 | N4: 0.26356 | O4: 0.53623 | P4: 0.4045 | Q4: 0.15794 | R4: 0.26466 | S4: 0.49901 | T4: 0.36833 | U4: 0.20207 | V4: 0.72214 | W4: 1.92241 | X4: 2.01942 | Y4: 0.85815 | Z4: 0.34158 | AA4: 0.6502 | AB4: 0.99074 | AC4: 0.77622 | AD4: 0.3965 | AE4: 0.24087 | AF4: 0.18573 | AG4: 0.56141 | AH4: 1.4427 | AI4: 1.55647 | AJ4: 0.8012 | AK4: 0.48622 | AL4: 0.40092 | AM4: 0.20546 | AN4: 0.12545 | AO4: 0.09659
A5: 6.4 | B5: 0 | C5: 0 | D5: 0 | E5: 0 | F5: 0 | G5: 0 | H5: 0 | I5: 0 | J5: 0 | K5: 0.00014 | L5: 0.00581 | M5: 0.08743 | N5: 0.48386 | O5: 0.98541 | P5: 0.7445 | Q5: 0.29641 | R5: 0.51934 | S5: 0.99711 | T5: 0.77271 | U5: 0.34581 | V5: 0.42039 | W5: 0.74319 | X5: 0.73599 | Y5: 0.48822 | Z5: 0.72187 | AA5: 1.57697 | AB5: 2.36667 | AC5: 1.89608 | AD5: 0.75482 | AE5: 0.25968 | AF5: 0.26301 | AG5: 0.72093 | AH5: 1.61585 | AI5: 1.68806 | AJ5: 1.2177 | AK5: 1.31459 | AL5: 1.14162 | AM5: 0.66566 | AN5: 0.57901 | AO5: 0.44789
A6: 6.2 | B6: 0 | C6: 0 | D6: 0 | E6: 0 | F6: 0 | G6: 0 | H6: 0 | I6: 0 | J6: 0 | K6: 0.00011 | L6: 0.00447 | M6: 0.06806 | N6: 0.38176 | O6: 0.78873 | P6: 0.60466 | Q6: 0.23643 | R6: 0.39961 | S6: 0.86512 | T6: 0.9394 | U6: 0.85366 | V6: 1.05251 | W6: 0.90505 | X6: 0.48897 | Y6: 0.63644 | Z6: 1.35742 | AA6: 2.01171 | AB6: 2.46969 | AC6: 2.17058 | AD6: 1.25247 | AE6: 0.83839 | AF6: 0.75943 | AG6: 0.71454 | AH6: 0.96143 | AI6: 1.05761 | AJ6: 1.30365 | AK6: 1.72999 | AL6: 1.36365 | AM6: 0.90729 | AN6: 1.03384 | AO6: 0.79453
A7: 6 | B7: 0 | C7: 0 | D7: 0 | E7: 0 | F7: 0 | G7: 0 | H7: 0 | I7: 0 | J7: 0 | K7: 8e-05 | L7: 0.00363 | M7: 0.0585 | N7: 0.34697 | O7: 0.75828 | P7: 0.61216 | Q7: 0.20397 | R7: 0.1806 | S7: 0.59119 | T7: 1.15175 | U7: 1.53046 | V7: 2.0127 | W7: 1.82378 | X7: 1.06543 | Y7: 1.11578 | Z7: 2.12837 | AA7: 2.50973 | AB7: 1.94744 | AC7: 1.81289 | AD7: 1.83182 | AE7: 1.70507 | AF7: 1.5593 | AG7: 1.19726 | AH7: 1.05303 | AI7: 1.15927 | AJ7: 1.35997 | AK7: 1.39883 | AL7: 0.91476 | AM7: 0.58085 | AN7: 0.71046 | AO7: 0.53445
A8: 5.8 | B8: 0 | C8: 0 | D8: 0 | E8: 0 | F8: 0 | G8: 0 | H8: 0 | I8: 0 | J8: 0 | K8: 0.0001 | L8: 0.00438 | M8: 0.07197 | N8: 0.43559 | O8: 0.97132 | P8: 0.80677 | Q8: 0.27688 | R8: 0.12738 | S8: 0.41139 | T8: 0.9753 | U8: 1.30831 | V8: 1.66789 | W8: 1.95084 | X8: 1.90905 | Y8: 1.96607 | Z8: 3.18912 | AA8: 4.00165 | AB8: 2.71754 | AC8: 2.35633 | AD8: 2.76486 | AE8: 2.60523 | AF8: 2.56792 | AG8: 2.49795 | AH8: 2.64705 | AI8: 2.8435 | AJ8: 2.3967 | AK8: 1.65912 | AL8: 0.92305 | AM8: 0.39935 | AN8: 0.28698 | AO8: 0.17259
A9: 5.6 | B9: 0 | C9: 0 | D9: 0 | E9: 0 | F9: 0 | G9: 0 | H9: 0 | I9: 0 | J9: 0 | K9: 6e-05 | L9: 0.00252 | M9: 0.04159 | N9: 0.25305 | O9: 0.58002 | P9: 0.57576 | Q9: 0.42145 | R9: 0.3068 | S9: 0.30899 | T9: 0.68545 | U9: 0.95984 | V9: 0.96948 | W9: 1.47034 | X9: 2.44784 | Y9: 2.97574 | Z9: 4.08091 | AA9: 5.08561 | AB9: 3.71161 | AC9: 3.49831 | AD9: 4.50146 | AE9: 4.43448 | AF9: 4.22719 | AG9: 3.95401 | AH9: 4.27369 | AI9: 4.47597 | AJ9: 3.30615 | AK9: 1.86129 | AL9: 0.99733 | AM9: 0.66231 | AN9: 0.55794 | AO9: 0.24771
A10: 5.4 | B10: 0 | C10: 0 | D10: 0 | E10: 0 | F10: 0 | G10: 0 | H10: 0 | I10: 0 | J10: 0 | K10: 1e-05 | L10: 0.00055 | M10: 0.00918 | N10: 0.06105 | O10: 0.2083 | P10: 0.56327 | Q10: 1.03722 | R10: 0.89823 | S10: 0.49276 | T10: 0.7775 | U10: 1.18559 | V10: 1.0708 | W10: 1.24949 | X10: 2.39664 | Y10: 3.79175 | Z10: 4.64077 | AA10: 4.618 | AB10: 3.5799 | AC10: 4.25818 | AD10: 6.08208 | AE10: 6.27172 | AF10: 5.48047 | AG10: 4.64757 | AH10: 4.77549 | AI10: 4.45928 | AJ10: 2.79486 | AK10: 1.25248 | AL10: 0.71275 | AM10: 1.09051 | AN10: 1.298 | AO10: 0.63449
A11: 5.2 | B11: 0 | C11: 0 | D11: 0 | E11: 0 | F11: 0 | G11: 0 | H11: 0 | I11: 0 | J11: 0 | K11: 0 | L11: 5e-05 | M11: 0.00131 | N11: 0.02143 | O11: 0.20458 | P11: 0.89454 | Q11: 1.65562 | R11: 1.34404 | S11: 0.70031 | T11: 0.71788 | U11: 1.05431 | V11: 1.35836 | W11: 1.55847 | X11: 2.57029 | Y11: 5.17434 | Z11: 6.34713 | AA11: 4.92948 | AB11: 4.60774 | AC11: 5.99453 | AD11: 6.88596 | AE11: 6.77487 | AF11: 6.29769 | AG11: 6.05841 | AH11: 6.40976 | AI11: 5.37344 | AJ11: 3.16747 | AK11: 1.33136 | AL11: 0.5927 | AM11: 1.134 | AN11: 1.59399 | AO11: 0.8842
A12: 5 | B12: 0 | C12: 0 | D12: 0 | E12: 0 | F12: 0 | G12: 0 | H12: 0 | I12: 0 | J12: 1e-05 | K12: 6e-05 | L12: 0.00024 | M12: 0.00161 | N12: 0.02392 | O12: 0.21042 | P12: 0.82672 | Q12: 1.4332 | R12: 1.39052 | S12: 1.24172 | T12: 1.04922 | U12: 0.95511 | V12: 1.54608 | W12: 2.27145 | X12: 3.57222 | Y12: 6.78048 | Z12: 8.44077 | AA12: 7.61669 | AB12: 9.349 | AC12: 10.91906 | AD12: 9.22148 | AE12: 8.03965 | AF12: 8.41909 | AG12: 9.06396 | AH12: 9.85247 | AI12: 8.54303 | AJ12: 5.18871 | AK12: 2.13956 | AL12: 0.65632 | AM12: 0.71003 | AN12: 1.03758 | AO12: 0.63013
A13: 4.8 | B13: 0 | C13: 0 | D13: 0 | E13: 0 | F13: 0 | G13: 0 | H13: 0 | I13: 1e-05 | J13: 0.00026 | K13: 0.00214 | L13: 0.00734 | M13: 0.01602 | N13: 0.06906 | O13: 0.25375 | P13: 0.54765 | Q13: 0.91572 | R13: 1.5018 | S13: 2.05553 | T13: 1.90802 | U13: 1.6213 | V13: 2.52638 | W13: 4.24892 | X13: 6.11584 | Y13: 8.10397 | Z13: 9.30065 | AA13: 10.63648 | AB13: 14.3354 | AC13: 15.98652 | AD13: 13.26199 | AE13: 11.43506 | AF13: 10.94673 | AG13: 10.61801 | AH13: 12.22273 | AI13: 11.87705 | AJ13: 7.1185 | AK13: 2.77521 | AL13: 0.96249 | AM13: 0.44387 | AN13: 0.36133 | AO13: 0.23886
A14: 4.6 | B14: 0 | C14: 0 | D14: 0 | E14: 0 | F14: 0 | G14: 0 | H14: 1e-05 | I14: 0.00033 | J14: 0.00445 | K14: 0.03078 | L14: 0.09557 | M14: 0.13995 | N14: 0.2635 | O14: 0.67407 | P14: 0.89691 | Q14: 0.87651 | R14: 1.34779 | S14: 2.15532 | T14: 2.62473 | U14: 2.94173 | V14: 4.61878 | W14: 7.77898 | X14: 10.64092 | Y14: 11.45486 | Z14: 12.29132 | AA14: 14.69746 | AB14: 17.86215 | AC14: 19.37385 | AD14: 17.64908 | AE14: 15.38812 | AF14: 12.5029 | AG14: 10.15469 | AH14: 12.436 | AI14: 13.80802 | AJ14: 8.9411 | AK14: 3.99286 | AL14: 1.9505 | AM14: 0.78199 | AN14: 0.27841 | AO14: 0.33539
... A36: 0.2 | B36: 0.00222 | C36: 0.03762 | D36: 0.25015 | E36: 0.68983 | F36: 1.3306 | G36: 3.99413 | H36: 11.55916 | I36: 25.83012 | J36: 42.7848 | K36: 54.53692 | L36: 67.55406 | M36: 81.22298 | N36: 88.26706 | O36: 91.60523 | P36: 94.00277 | Q36: 96.27199 | R36: 96.05044 | S36: 96.42312 | T36: 97.27018 | U36: 96.76938 | V36: 96.83506 | W36: 97.22928 | X36: 96.9339 | Y36: 96.61886 | Z36: 96.66252 | AA36: 95.54853 | AB36: 94.53262 | AC36: 94.19376 | AD36: 89.21324 | AE36: 87.54514 | AF36: 77.00056 | AG36: 63.03883 | AH36: 50.58481 | AI36: 31.97734 | AJ36: 16.06812 | AK36: 7.69506 | AL36: 4.23105 | AM36: 2.95577 | AN36: 1.36563 | AO36: 0.28772
A37: 0 | B37: 0.00963 | C37: 0.135 | D37: 0.7885 | E37: 1.9291 | F37: 2.59687 | G37: 4.86937 | H37: 12.89454 | I37: 28.9389 | J37: 47.66226 | K37: 58.75939 | L37: 72.76546 | M37: 82.76493 | N37: 90.12186 | O37: 92.86641 | P37: 93.94359 | Q37: 95.73528 | R37: 97.13485 | S37: 97.32086 | T37: 96.96181 | U37: 96.93976 | V37: 97.62953 | W37: 96.93976 | X37: 96.96181 | Y37: 97.32086 | Z37: 97.13485 | AA37: 95.73528 | AB37: 93.94359 | AC37: 92.86641 | AD37: 90.12186 | AE37: 82.76493 | AF37: 72.76546 | AG37: 58.75939 | AH37: 47.66226 | AI37: 28.9389 | AJ37: 12.89454 | AK37: 4.86937 | AL37: 2.59687 | AM37: 1.9291 | AN37: 0.7885 | AO37: 0.135 | AP37: On the mean
A38: -0.2 | B38: 0.02556 | C38: 0.28772 | D38: 1.36563 | E38: 2.95577 | F38: 4.23105 | G38: 7.69506 | H38: 16.06812 | I38: 31.97734 | J38: 50.58481 | K38: 63.03883 | L38: 77.00056 | M38: 87.54514 | N38: 89.21324 | O38: 94.19376 | P38: 94.53262 | Q38: 95.54853 | R38: 96.66252 | S38: 96.61886 | T38: 96.9339 | U38: 97.22928 | V38: 96.83506 | W38: 96.76938 | X38: 97.27018 | Y38: 96.42312 | Z38: 96.05044 | AA38: 96.27199 | AB38: 94.00277 | AC38: 91.60523 | AD38: 88.26706 | AE38: 81.22298 | AF38: 67.55406 | AG38: 54.53692 | AH38: 42.7848 | AI38: 25.83012 | AJ38: 11.55916 | AK38: 3.99413 | AL38: 1.3306 | AM38: 0.68983 | AN38: 0.25015 | AO38: 0.03762
A39: -0.4 | B39: 0.03707 | C39: 0.39468 | D39: 1.74968 | E39: 3.74836 | F39: 6.18258 | G39: 11.49118 | H39: 20.79107 | I39: 36.84538 | J39: 56.15156 | K39: 66.11028 | L39: 80.3244 | M39: 88.37285 | N39: 91.22298 | O39: 94.7831 | P39: 94.89171 | Q39: 96.00377 | R39: 96.66983 | S39: 97.27347 | T39: 96.17884 | U39: 96.63763 | V39: 96.10635 | W39: 96.40081 | X39: 96.2038 | Y39: 96.61941 | Z39: 96.08603 | AA39: 94.45351 | AB39: 92.96066 | AC39: 89.77317 | AD39: 85.31063 | AE39: 78.87282 | AF39: 66.2671 | AG39: 51.88515 | AH39: 37.42112 | AI39: 20.38526 | AJ39: 8.55687 | AK39: 2.85424 | AL39: 0.65463 | AM39: 0.13919 | AN39: 0.03484 | AO39: 0.00479
A40: -0.6 | B40: 0.02797 | C40: 0.34431 | D40: 1.84987 | E40: 4.98311 | F40: 9.24904 | G40: 15.89698 | H40: 26.32281 | I40: 42.61988 | J40: 62.2067 | K40: 73.43043 | L40: 81.54522 | M40: 89.26921 | N40: 93.34852 | O40: 94.58686 | P40: 95.24932 | Q40: 96.98685 | R40: 97.26121 | S40: 96.90426 | T40: 96.85413 | U40: 96.52654 | V40: 96.30412 | W40: 95.69839 | X40: 96.83852 | Y40: 96.32334 | Z40: 95.18491 | AA40: 92.70352 | AB40: 92.94429 | AC40: 87.84076 | AD40: 81.55975 | AE40: 70.9046 | AF40: 59.92663 | AG40: 46.12035 | AH40: 29.88377 | AI40: 14.28702 | AJ40: 4.89388 | AK40: 1.34992 | AL40: 0.25774 | AM40: 0.02836 | AN40: 0.00287 | AO40: 0.00054
A41: -0.8 | B41: 0.0194 | C41: 0.27324 | D41: 1.83513 | E41: 6.08461 | F41: 11.9654 | G41: 19.23724 | H41: 30.87192 | I41: 46.12428 | J41: 61.21513 | K41: 76.0737 | L41: 84.63495 | M41: 89.60244 | N41: 92.63428 | O41: 94.87222 | P41: 96.18788 | Q41: 95.46853 | R41: 96.48511 | S41: 96.75624 | T41: 96.94454 | U41: 96.72454 | V41: 96.42858 | W41: 96.33417 | X41: 96.72401 | Y41: 95.89244 | Z41: 94.72579 | AA41: 92.41524 | AB41: 87.88155 | AC41: 85.34764 | AD41: 76.82458 | AE41: 64.72855 | AF41: 53.23898 | AG41: 37.56267 | AH41: 21.06157 | AI41: 9.18176 | AJ41: 3.19526 | AK41: 0.99548 | AL41: 0.22628 | AM41: 0.03179 | AN41: 0.01034 | AO41: 0.00969
A42: -1 | B42: 0.05306 | C42: 0.40743 | D42: 2.03457 | E42: 6.4028 | F42: 12.5653 | G42: 19.93505 | H42: 33.41887 | I42: 50.14858 | J42: 62.0784 | K42: 79.1342 | L42: 84.66406 | M42: 91.87477 | N42: 92.49531 | O42: 95.06333 | P42: 95.37504 | Q42: 95.96929 | R42: 97.09726 | S42: 96.24 | T42: 96.36796 | U42: 96.82591 | V42: 96.04558 | W42: 96.12508 | X42: 96.21548 | Y42: 95.29325 | Z42: 93.00035 | AA42: 92.48945 | AB42: 89.83527 | AC42: 82.65574 | AD42: 70.48276 | AE42: 58.72854 | AF42: 44.93129 | AG42: 28.44146 | AH42: 14.63861 | AI42: 6.32462 | AJ42: 2.6126 | AK42: 1.2474 | AL42: 0.4778 | AM42: 0.12568 | AN42: 0.11313 | AO42: 0.12046
A43: -1.2 | B43: 0.19537 | C43: 1.07336 | D43: 3.28517 | E43: 7.30164 | F43: 13.08976 | G43: 21.69728 | H43: 37.58968 | I43: 56.14243 | J43: 67.47217 | K43: 76.90873 | L43: 86.16233 | M43: 93.38767 | N43: 91.77478 | O43: 94.96084 | P43: 95.39026 | Q43: 95.52966 | R43: 96.0841 | S43: 96.32592 | T43: 96.11118 | U43: 95.60867 | V43: 96.12729 | W43: 95.21968 | X43: 95.07483 | Y43: 94.40367 | Z43: 90.7847 | AA43: 90.14754 | AB43: 85.57158 | AC43: 79.5968 | AD43: 64.04437 | AE43: 45.97661 | AF43: 31.40074 | AG43: 19.94534 | AH43: 10.57896 | AI43: 4.59751 | AJ43: 2.21287 | AK43: 1.4734 | AL43: 0.72515 | AM43: 0.30904 | AN43: 0.49857 | AO43: 0.55255
A44: -1.4 | B44: 0.33086 | C44: 1.68431 | D44: 4.34709 | E44: 7.97166 | F44: 13.73457 | G44: 24.00713 | H44: 41.03541 | I44: 58.05557 | J44: 69.72943 | K44: 76.66534 | L44: 89.55054 | M44: 91.84497 | N44: 92.06839 | O44: 95.34049 | P44: 95.41706 | Q44: 95.33735 | R44: 96.59705 | S44: 95.92867 | T44: 96.10321 | U44: 95.52284 | V44: 95.77562 | W44: 96.01354 | X44: 95.34424 | Y44: 92.93783 | Z44: 90.50233 | AA44: 86.27688 | AB44: 80.74967 | AC44: 74.04433 | AD44: 58.83852 | AE44: 36.236 | AF44: 21.17207 | AG44: 13.31715 | AH44: 7.10182 | AI44: 3.06057 | AJ44: 1.76488 | AK44: 1.15863 | AL44: 0.52698 | AM44: 0.36675 | AN44: 0.82918 | AO44: 0.93308
A45: -1.6 | B45: 0.24191 | C45: 1.26726 | D45: 3.38021 | E45: 6.67773 | F45: 12.81687 | G45: 24.21177 | H45: 42.615 | I45: 59.26373 | J45: 73.37841 | K45: 81.65591 | L45: 86.91639 | M45: 92.37697 | N45: 91.05893 | O45: 93.87434 | P45: 94.05843 | Q45: 95.51624 | R45: 95.46221 | S45: 95.48851 | T45: 95.79865 | U45: 95.43505 | V45: 95.70379 | W45: 94.244 | X45: 94.12238 | Y45: 90.74844 | Z45: 87.05762 | AA45: 80.96243 | AB45: 70.71655 | AC45: 62.77195 | AD45: 51.48311 | AE45: 30.04443 | AF45: 15.8245 | AG45: 9.34926 | AH45: 4.46043 | AI45: 1.68701 | AJ45: 0.95096 | AK45: 0.50624 | AL45: 0.17808 | AM45: 0.19193 | AN45: 0.51222 | AO45: 0.57981
A46: -1.8 | B46: 0.11068 | C46: 0.59044 | D46: 2.01598 | E46: 5.23703 | F46: 11.79616 | G46: 23.51491 | H46: 43.31433 | I46: 62.28517 | J46: 72.92717 | K46: 80.96644 | L46: 84.97809 | M46: 91.41569 | N46: 91.46705 | O46: 94.1623 | P46: 94.51213 | Q46: 94.46049 | R46: 94.34793 | S46: 94.0956 | T46: 94.2233 | U46: 94.16417 | V46: 94.7475 | W46: 93.06705 | X46: 90.8063 | Y46: 89.17514 | Z46: 85.53496 | AA46: 77.40604 | AB46: 65.06992 | AC46: 51.82094 | AD46: 37.96603 | AE46: 21.29141 | AF46: 11.45074 | AG46: 6.69376 | AH46: 2.72629 | AI46: 0.71378 | AJ46: 0.2614 | AK46: 0.11045 | AL46: 0.02969 | AM46: 0.04084 | AN46: 0.11684 | AO46: 0.13256
A47: -2 | B47: 0.25204 | C47: 0.55152 | D47: 2.12025 | E47: 6.24486 | F47: 13.44816 | G47: 24.79162 | H47: 42.46461 | I47: 62.12719 | J47: 72.6712 | K47: 78.36199 | L47: 85.7909 | M47: 87.52332 | N47: 92.01475 | O47: 93.66861 | P47: 94.50482 | Q47: 94.0978 | R47: 93.28048 | S47: 93.52628 | T47: 94.08197 | U47: 94.02777 | V47: 92.40864 | W47: 91.7483 | X47: 87.0671 | Y47: 85.38556 | Z47: 80.60789 | AA47: 70.16444 | AB47: 56.01696 | AC47: 37.77931 | AD47: 22.72888 | AE47: 12.59636 | AF47: 7.39109 | AG47: 4.29115 | AH47: 1.51578 | AI47: 0.27043 | AJ47: 0.04036 | AK47: 0.01076 | AL47: 0.00235 | AM47: 0.00335 | AN47: 0.00982 | AO47: 0.01115
A48: -2.2 | B48: 0.83001 | C48: 1.17253 | D48: 3.33019 | E48: 9.28542 | F48: 18.558 | G48: 29.84701 | H48: 46.33374 | I48: 63.94883 | J48: 71.72384 | K48: 83.31383 | L48: 86.52284 | M48: 87.14289 | N48: 89.40689 | O48: 92.32365 | P48: 91.88178 | Q48: 93.10164 | R48: 92.58867 | S48: 93.80828 | T48: 90.67252 | U48: 92.61155 | V48: 89.777 | W48: 86.15955 | X48: 85.53232 | Y48: 79.16126 | Z48: 74.46628 | AA48: 62.78747 | AB48: 48.95926 | AC48: 29.16094 | AD48: 14.20079 | AE48: 7.32215 | AF48: 4.7402 | AG48: 2.80574 | AH48: 1.00467 | AI48: 0.19227 | AJ48: 0.01974 | AK48: 0.00133 | AL48: 0.00011 | AM48: 0.0001 | AN48: 0.0003 | AO48: 0.00034
A49: -2.4 | B49: 1.22445 | C49: 2.06814 | D49: 4.94542 | E49: 11.4621 | F49: 22.04041 | G49: 32.92106 | H49: 46.06205 | I49: 63.32909 | J49: 72.93433 | K49: 82.87999 | L49: 84.17743 | M49: 86.1431 | N49: 88.97261 | O49: 89.851 | P49: 91.42943 | Q49: 90.77962 | R49: 91.05227 | S49: 91.97415 | T49: 92.17243 | U49: 90.08154 | V49: 87.07777 | W49: 85.3447 | X49: 80.61781 | Y49: 76.55052 | Z49: 64.95945 | AA49: 51.99612 | AB49: 38.19281 | AC49: 22.28752 | AD49: 10.58744 | AE49: 4.56389 | AF49: 2.55914 | AG49: 1.8942 | AH49: 1.07786 | AI49: 0.34765 | AJ49: 0.05959 | AK49: 0.0061 | AL49: 0.00035 | AM49: 1e-05 | AN49: 0 | AO49: 0
... A69: -6.4 | B69: 0.46671 | C69: 0.44789 | D69: 0.57901 | E69: 0.66566 | F69: 1.14162 | G69: 1.31459 | H69: 1.2177 | I69: 1.68806 | J69: 1.61585 | K69: 0.72093 | L69: 0.26301 | M69: 0.25968 | N69: 0.75482 | O69: 1.89608 | P69: 2.36667 | Q69: 1.57697 | R69: 0.72187 | S69: 0.48822 | T69: 0.73599 | U69: 0.74319 | V69: 0.42039 | W69: 0.34581 | X69: 0.77271 | Y69: 0.99711 | Z69: 0.51934 | AA69: 0.29641 | AB69: 0.7445 | AC69: 0.98541 | AD69: 0.48386 | AE69: 0.08743 | AF69: 0.00581 | AG69: 0.00014 | AH69: 0 | AI69: 0 | AJ69: 0 | AK69: 0 | AL69: 0 | AM69: 0 | AN69: 0 | AO69: 0
A70: -6.6 | B70: 0.14329 | C70: 0.09659 | D70: 0.12545 | E70: 0.20546 | F70: 0.40092 | G70: 0.48622 | H70: 0.8012 | I70: 1.55647 | J70: 1.4427 | K70: 0.56141 | L70: 0.18573 | M70: 0.24087 | N70: 0.3965 | O70: 0.77622 | P70: 0.99074 | Q70: 0.6502 | R70: 0.34158 | S70: 0.85815 | T70: 2.01942 | U70: 1.92241 | V70: 0.72214 | W70: 0.20207 | X70: 0.36833 | Y70: 0.49901 | Z70: 0.26466 | AA70: 0.15794 | AB70: 0.4045 | AC70: 0.53623 | AD70: 0.26356 | AE70: 0.04766 | AF70: 0.00317 | AG70: 8e-05 | AH70: 0 | AI70: 0 | AJ70: 0 | AK70: 0 | AL70: 0 | AM70: 0 | AN70: 0 | AO70: 0 | AP70: Extremely below the mean
A71: -6.8 | B71: 0.01682 | C71: 0.0081 | D71: 0.01083 | E71: 0.02592 | F71: 0.05831 | G71: 0.12348 | H71: 0.48863 | I71: 1.13938 | J71: 1.05663 | K71: 0.43551 | L71: 0.39164 | M71: 0.71492 | N71: 0.58019 | O71: 0.26772 | P71: 0.17723 | Q71: 0.11581 | R71: 0.17176 | S71: 0.94197 | T71: 2.44314 | U71: 2.44547 | V71: 0.9353 | W71: 0.15288 | X71: 0.07499 | Y71: 0.09388 | Z71: 0.04997 | AA71: 0.03129 | AB71: 0.08179 | AC71: 0.10849 | AD71: 0.05333 | AE71: 0.00964 | AF71: 0.00064 | AG71: 2e-05 | AH71: 0 | AI71: 0 | AJ71: 0 | AK71: 0 | AL71: 0 | AM71: 0 | AN71: 0 | AO71: 0
B72: extremely bearish trend | V72: neutral trend | AO72: extremely bullish trend

Sheet Sheet3
B1: -4 | C1: -3.8 | D1: -3.6 | E1: -3.4 | F1: -3.2 | G1: -3 | H1: -2.8 | I1: -2.6 | J1: -2.4 | K1: -2.2 | L1: -2 | M1: -1.8 | N1: -1.6 | O1: -1.4 | P1: -1.2 | Q1: -1 | R1: -0.8 | S1: -0.6 | T1: -0.4 | U1: -0.2 | V1: 0 | W1: 0.2 | X1: 0.4 | Y1: 0.6 | Z1: 0.8 | AA1: 1 | AB1: 1.2 | AC1: 1.4 | AD1: 1.6 | AE1: 1.8 | AF1: 2 | AG1: 2.2 | AH1: 2.4 | AI1: 2.6 | AJ1: 2.8 | AK1: 3 | AL1: 3.2 | AM1: 3.4 | AN1: 3.6 | AO1: 3.8
A2: 7 | B2: =IF(Sheet2!B2>0.1,Sheet1!B2,"") | C2: =IF(Sheet2!C2>0.1,Sheet1!C2,"") | D2: =IF(Sheet2!D2>0.1,Sheet1!D2,"") | E2: =IF(Sheet2!E2>0.1,Sheet1!E2,"") | F2: =IF(Sheet2!F2>0.1,Sheet1!F2,"") | G2: =IF(Sheet2!G2>0.1,Sheet1!G2,"") | H2: =IF(Sheet2!H2>0.1,Sheet1!H2,"") | I2: =IF(Sheet2!I2>0.1,Sheet1!I2,"") | ... AO2: =IF(Sheet2!AO2>0.1,Sheet1!AO2,"") | AP2: Extremely above the mean
A3: 6.8 | B3: =IF(Sheet2!B3>0.1,Sheet1!B3,"") | C3: =IF(Sheet2!C3>0.1,Sheet1!C3,"") | D3: =IF(Sheet2!D3>0.1,Sheet1!D3,"") | E3: =IF(Sheet2!E3>0.1,Sheet1!E3,"") | F3: =IF(Sheet2!F3>0.1,Sheet1!F3,"") | G3: =IF(Sheet2!G3>0.1,Sheet1!G3,"") | H3: =IF(Sheet2!H3>0.1,Sheet1!H3,"") | I3: =IF(Sheet2!I3>0.1,Sheet1!I3,"") | ... AO3: =IF(Sheet2!AO3>0.1,Sheet1!AO3,"")
A4: 6.6 | B4: =IF(Sheet2!B4>0.1,Sheet1!B4,"") | C4: =IF(Sheet2!C4>0.1,Sheet1!C4,"") | D4: =IF(Sheet2!D4>0.1,Sheet1!D4,"") | E4: =IF(Sheet2!E4>0.1,Sheet1!E4,"") | F4: =IF(Sheet2!F4>0.1,Sheet1!F4,"") | G4: =IF(Sheet2!G4>0.1,Sheet1!G4,"") | H4: =IF(Sheet2!H4>0.1,Sheet1!H4,"") | I4: =IF(Sheet2!I4>0.1,Sheet1!I4,"") | ... AO4: =IF(Sheet2!AO4>0.1,Sheet1!AO4,"")
A5: 6.4 | B5: =IF(Sheet2!B5>0.1,Sheet1!B5,"") | C5: =IF(Sheet2!C5>0.1,Sheet1!C5,"") | D5: =IF(Sheet2!D5>0.1,Sheet1!D5,"") | E5: =IF(Sheet2!E5>0.1,Sheet1!E5,"") | F5: =IF(Sheet2!F5>0.1,Sheet1!F5,"") | G5: =IF(Sheet2!G5>0.1,Sheet1!G5,"") | H5: =IF(Sheet2!H5>0.1,Sheet1!H5,"") | I5: =IF(Sheet2!I5>0.1,Sheet1!I5,"") | ... AO5: =IF(Sheet2!AO5>0.1,Sheet1!AO5,"") -> 8.65718
A6: 6.2 | B6: =IF(Sheet2!B6>0.1,Sheet1!B6,"") | C6: =IF(Sheet2!C6>0.1,Sheet1!C6,"") | D6: =IF(Sheet2!D6>0.1,Sheet1!D6,"") | E6: =IF(Sheet2!E6>0.1,Sheet1!E6,"") | F6: =IF(Sheet2!F6>0.1,Sheet1!F6,"") | G6: =IF(Sheet2!G6>0.1,Sheet1!G6,"") | H6: =IF(Sheet2!H6>0.1,Sheet1!H6,"") | I6: =IF(Sheet2!I6>0.1,Sheet1!I6,"") | ... AO6: =IF(Sheet2!AO6>0.1,Sheet1!AO6,"") -> 9.64638
A7: 6 | B7: =IF(Sheet2!B7>0.1,Sheet1!B7,"") | C7: =IF(Sheet2!C7>0.1,Sheet1!C7,"") | D7: =IF(Sheet2!D7>0.1,Sheet1!D7,"") | E7: =IF(Sheet2!E7>0.1,Sheet1!E7,"") | F7: =IF(Sheet2!F7>0.1,Sheet1!F7,"") | G7: =IF(Sheet2!G7>0.1,Sheet1!G7,"") | H7: =IF(Sheet2!H7>0.1,Sheet1!H7,"") | I7: =IF(Sheet2!I7>0.1,Sheet1!I7,"") | ... AO7: =IF(Sheet2!AO7>0.1,Sheet1!AO7,"") -> 10.25119
A8: 5.8 | B8: =IF(Sheet2!B8>0.1,Sheet1!B8,"") | C8: =IF(Sheet2!C8>0.1,Sheet1!C8,"") | D8: =IF(Sheet2!D8>0.1,Sheet1!D8,"") | E8: =IF(Sheet2!E8>0.1,Sheet1!E8,"") | F8: =IF(Sheet2!F8>0.1,Sheet1!F8,"") | G8: =IF(Sheet2!G8>0.1,Sheet1!G8,"") | H8: =IF(Sheet2!H8>0.1,Sheet1!H8,"") | I8: =IF(Sheet2!I8>0.1,Sheet1!I8,"") | ... AO8: =IF(Sheet2!AO8>0.1,Sheet1!AO8,"") -> 9.64593
A9: 5.6 | B9: =IF(Sheet2!B9>0.1,Sheet1!B9,"") | C9: =IF(Sheet2!C9>0.1,Sheet1!C9,"") | D9: =IF(Sheet2!D9>0.1,Sheet1!D9,"") | E9: =IF(Sheet2!E9>0.1,Sheet1!E9,"") | F9: =IF(Sheet2!F9>0.1,Sheet1!F9,"") | G9: =IF(Sheet2!G9>0.1,Sheet1!G9,"") | H9: =IF(Sheet2!H9>0.1,Sheet1!H9,"") | I9: =IF(Sheet2!I9>0.1,Sheet1!I9,"") | ... AO9: =IF(Sheet2!AO9>0.1,Sheet1!AO9,"") -> 6.08371
A10: 5.4 | B10: =IF(Sheet2!B10>0.1,Sheet1!B10,"") | C10: =IF(Sheet2!C10>0.1,Sheet1!C10,"") | D10: =IF(Sheet2!D10>0.1,Sheet1!D10,"") | E10: =IF(Sheet2!E10>0.1,Sheet1!E10,"") | F10: =IF(Sheet2!F10>0.1,Sheet1!F10,"") | G10: =IF(Sheet2!G10>0.1,Sheet1!G10,"") | H10: =IF(Sheet2!H10>0.1,Sheet1!H10,"") | I10: =IF(Sheet2!I10>0.1,Sheet1!I10,"") | ... AO10: =IF(Sheet2!AO10>0.1,Sheet1!AO10,"") -> 5.00078 | AP10: From very below to very above the mean in a neutral trend (aka sideway)
A11: 5.2 | B11: =IF(Sheet2!B11>0.1,Sheet1!B11,"") | C11: =IF(Sheet2!C11>0.1,Sheet1!C11,"") | D11: =IF(Sheet2!D11>0.1,Sheet1!D11,"") | E11: =IF(Sheet2!E11>0.1,Sheet1!E11,"") | F11: =IF(Sheet2!F11>0.1,Sheet1!F11,"") | G11: =IF(Sheet2!G11>0.1,Sheet1!G11,"") | H11: =IF(Sheet2!H11>0.1,Sheet1!H11,"") | I11: =IF(Sheet2!I11>0.1,Sheet1!I11,"") | ... AO11: =IF(Sheet2!AO11>0.1,Sheet1!AO11,"") -> 3.90526
A12: 5 | B12: =IF(Sheet2!B12>0.1,Sheet1!B12,"") | C12: =IF(Sheet2!C12>0.1,Sheet1!C12,"") | D12: =IF(Sheet2!D12>0.1,Sheet1!D12,"") | E12: =IF(Sheet2!E12>0.1,Sheet1!E12,"") | F12: =IF(Sheet2!F12>0.1,Sheet1!F12,"") | G12: =IF(Sheet2!G12>0.1,Sheet1!G12,"") | H12: =IF(Sheet2!H12>0.1,Sheet1!H12,"") | I12: =IF(Sheet2!I12>0.1,Sheet1!I12,"") | ... AO12: =IF(Sheet2!AO12>0.1,Sheet1!AO12,"") -> 3.20095
A13: 4.8 | B13: =IF(Sheet2!B13>0.1,Sheet1!B13,"") | C13: =IF(Sheet2!C13>0.1,Sheet1!C13,"") | D13: =IF(Sheet2!D13>0.1,Sheet1!D13,"") | E13: =IF(Sheet2!E13>0.1,Sheet1!E13,"") | F13: =IF(Sheet2!F13>0.1,Sheet1!F13,"") | G13: =IF(Sheet2!G13>0.1,Sheet1!G13,"") | H13: =IF(Sheet2!H13>0.1,Sheet1!H13,"") | I13: =IF(Sheet2!I13>0.1,Sheet1!I13,"") | ... AO13: =IF(Sheet2!AO13>0.1,Sheet1!AO13,"") -> 5.3914
A14: 4.6 | B14: =IF(Sheet2!B14>0.1,Sheet1!B14,"") | C14: =IF(Sheet2!C14>0.1,Sheet1!C14,"") | D14: =IF(Sheet2!D14>0.1,Sheet1!D14,"") | E14: =IF(Sheet2!E14>0.1,Sheet1!E14,"") | F14: =IF(Sheet2!F14>0.1,Sheet1!F14,"") | G14: =IF(Sheet2!G14>0.1,Sheet1!G14,"") | H14: =IF(Sheet2!H14>0.1,Sheet1!H14,"") | I14: =IF(Sheet2!I14>0.1,Sheet1!I14,"") | ... AO14: =IF(Sheet2!AO14>0.1,Sheet1!AO14,"") -> 16.11558
A15: 4.4 | B15: =IF(Sheet2!B15>0.1,Sheet1!B15,"") | C15: =IF(Sheet2!C15>0.1,Sheet1!C15,"") | D15: =IF(Sheet2!D15>0.1,Sheet1!D15,"") | E15: =IF(Sheet2!E15>0.1,Sheet1!E15,"") | F15: =IF(Sheet2!F15>0.1,Sheet1!F15,"") | G15: =IF(Sheet2!G15>0.1,Sheet1!G15,"") | H15: =IF(Sheet2!H15>0.1,Sheet1!H15,"") | I15: =IF(Sheet2!I15>0.1,Sheet1!I15,"") | ... AO15: =IF(Sheet2!AO15>0.1,Sheet1!AO15,"") -> 15.81512
A16: 4.2 | B16: =IF(Sheet2!B16>0.1,Sheet1!B16,"") | C16: =IF(Sheet2!C16>0.1,Sheet1!C16,"") | D16: =IF(Sheet2!D16>0.1,Sheet1!D16,"") | E16: =IF(Sheet2!E16>0.1,Sheet1!E16,"") | F16: =IF(Sheet2!F16>0.1,Sheet1!F16,"") | G16: =IF(Sheet2!G16>0.1,Sheet1!G16,"") | H16: =IF(Sheet2!H16>0.1,Sheet1!H16,"") | I16: =IF(Sheet2!I16>0.1,Sheet1!I16,"") | ... AO16: =IF(Sheet2!AO16>0.1,Sheet1!AO16,"") -> 11.14968
A17: 4 | B17: =IF(Sheet2!B17>0.1,Sheet1!B17,"") | C17: =IF(Sheet2!C17>0.1,Sheet1!C17,"") | D17: =IF(Sheet2!D17>0.1,Sheet1!D17,"") | E17: =IF(Sheet2!E17>0.1,Sheet1!E17,"") | F17: =IF(Sheet2!F17>0.1,Sheet1!F17,"") | G17: =IF(Sheet2!G17>0.1,Sheet1!G17,"") | H17: =IF(Sheet2!H17>0.1,Sheet1!H17,"") | I17: =IF(Sheet2!I17>0.1,Sheet1!I17,"") | ... AO17: =IF(Sheet2!AO17>0.1,Sheet1!AO17,"") -> 5.66404
A18: 3.8 | B18: =IF(Sheet2!B18>0.1,Sheet1!B18,"") | C18: =IF(Sheet2!C18>0.1,Sheet1!C18,"") | D18: =IF(Sheet2!D18>0.1,Sheet1!D18,"") | E18: =IF(Sheet2!E18>0.1,Sheet1!E18,"") | F18: =IF(Sheet2!F18>0.1,Sheet1!F18,"") | G18: =IF(Sheet2!G18>0.1,Sheet1!G18,"") | H18: =IF(Sheet2!H18>0.1,Sheet1!H18,"") | I18: =IF(Sheet2!I18>0.1,Sheet1!I18,"") | ... AO18: =IF(Sheet2!AO18>0.1,Sheet1!AO18,"") -> 4.62802
A19: 3.6 | B19: =IF(Sheet2!B19>0.1,Sheet1!B19,"") | C19: =IF(Sheet2!C19>0.1,Sheet1!C19,"") | D19: =IF(Sheet2!D19>0.1,Sheet1!D19,"") | E19: =IF(Sheet2!E19>0.1,Sheet1!E19,"") | F19: =IF(Sheet2!F19>0.1,Sheet1!F19,"") | G19: =IF(Sheet2!G19>0.1,Sheet1!G19,"") | H19: =IF(Sheet2!H19>0.1,Sheet1!H19,"") | I19: =IF(Sheet2!I19>0.1,Sheet1!I19,"") | ... AO19: =IF(Sheet2!AO19>0.1,Sheet1!AO19,"") -> 7.97994
A20: 3.4 | B20: =IF(Sheet2!B20>0.1,Sheet1!B20,"") | C20: =IF(Sheet2!C20>0.1,Sheet1!C20,"") | D20: =IF(Sheet2!D20>0.1,Sheet1!D20,"") | E20: =IF(Sheet2!E20>0.1,Sheet1!E20,"") | F20: =IF(Sheet2!F20>0.1,Sheet1!F20,"") | G20: =IF(Sheet2!G20>0.1,Sheet1!G20,"") | H20: =IF(Sheet2!H20>0.1,Sheet1!H20,"") | I20: =IF(Sheet2!I20>0.1,Sheet1!I20,"") | ... AO20: =IF(Sheet2!AO20>0.1,Sheet1!AO20,"") -> 7.69764
A21: 3.2 | B21: =IF(Sheet2!B21>0.1,Sheet1!B21,"") | C21: =IF(Sheet2!C21>0.1,Sheet1!C21,"") | D21: =IF(Sheet2!D21>0.1,Sheet1!D21,"") | E21: =IF(Sheet2!E21>0.1,Sheet1!E21,"") | F21: =IF(Sheet2!F21>0.1,Sheet1!F21,"") | G21: =IF(Sheet2!G21>0.1,Sheet1!G21,"") | H21: =IF(Sheet2!H21>0.1,Sheet1!H21,"") -> 6.09034 | I21: =IF(Sheet2!I21>0.1,Sheet1!I21,"") -> 6.08805 | ... AO21: =IF(Sheet2!AO21>0.1,Sheet1!AO21,"") -> 5.73951
A22: 3 | B22: =IF(Sheet2!B22>0.1,Sheet1!B22,"") | C22: =IF(Sheet2!C22>0.1,Sheet1!C22,"") | D22: =IF(Sheet2!D22>0.1,Sheet1!D22,"") | E22: =IF(Sheet2!E22>0.1,Sheet1!E22,"") | F22: =IF(Sheet2!F22>0.1,Sheet1!F22,"") | G22: =IF(Sheet2!G22>0.1,Sheet1!G22,"") -> 6.09035 | H22: =IF(Sheet2!H22>0.1,Sheet1!H22,"") -> 6.08958 | I22: =IF(Sheet2!I22>0.1,Sheet1!I22,"") -> 6.08612 | ... AO22: =IF(Sheet2!AO22>0.1,Sheet1!AO22,"") -> 4.11422
... A36: 0.2 | B36: =IF(Sheet2!B36>0.1,Sheet1!B36,"") | C36: =IF(Sheet2!C36>0.1,Sheet1!C36,"") | D36: =IF(Sheet2!D36>0.1,Sheet1!D36,"") -> -0.59665 | E36: =IF(Sheet2!E36>0.1,Sheet1!E36,"") -> -1.04142 | F36: =IF(Sheet2!F36>0.1,Sheet1!F36,"") -> -1.60006 | G36: =IF(Sheet2!G36>0.1,Sheet1!G36,"") -> -1.59215 | H36: =IF(Sheet2!H36>0.1,Sheet1!H36,"") -> -1.50495 | I36: =IF(Sheet2!I36>0.1,Sheet1!I36,"") -> -1.53468 | ... AO36: =IF(Sheet2!AO36>0.1,Sheet1!AO36,"") -> -2.755
A37: 0 | B37: =IF(Sheet2!B37>0.1,Sheet1!B37,"") | C37: =IF(Sheet2!C37>0.1,Sheet1!C37,"") -> 0.96882 | D37: =IF(Sheet2!D37>0.1,Sheet1!D37,"") -> 0.21018 | E37: =IF(Sheet2!E37>0.1,Sheet1!E37,"") -> -0.41434 | F37: =IF(Sheet2!F37>0.1,Sheet1!F37,"") -> -0.95721 | G37: =IF(Sheet2!G37>0.1,Sheet1!G37,"") -> -1.2241 | H37: =IF(Sheet2!H37>0.1,Sheet1!H37,"") -> -1.38595 | I37: =IF(Sheet2!I37>0.1,Sheet1!I37,"") -> -1.46822 | ... AO37: =IF(Sheet2!AO37>0.1,Sheet1!AO37,"") -> -0.96882 | AP37: On the mean
A38: -0.2 | B38: =IF(Sheet2!B38>0.1,Sheet1!B38,"") | C38: =IF(Sheet2!C38>0.1,Sheet1!C38,"") -> 2.755 | D38: =IF(Sheet2!D38>0.1,Sheet1!D38,"") -> 1.98785 | E38: =IF(Sheet2!E38>0.1,Sheet1!E38,"") -> 0.90674 | F38: =IF(Sheet2!F38>0.1,Sheet1!F38,"") -> -0.66851 | G38: =IF(Sheet2!G38>0.1,Sheet1!G38,"") -> -1.55366 | H38: =IF(Sheet2!H38>0.1,Sheet1!H38,"") -> -1.60456 | I38: =IF(Sheet2!I38>0.1,Sheet1!I38,"") -> -1.39884 | ... AO38: =IF(Sheet2!AO38>0.1,Sheet1!AO38,"")
A39: -0.4 | B39: =IF(Sheet2!B39>0.1,Sheet1!B39,"") | C39: =IF(Sheet2!C39>0.1,Sheet1!C39,"") -> 3.82814 | D39: =IF(Sheet2!D39>0.1,Sheet1!D39,"") -> 3.46165 | E39: =IF(Sheet2!E39>0.1,Sheet1!E39,"") -> 2.16088 | F39: =IF(Sheet2!F39>0.1,Sheet1!F39,"") -> -0.70632 | G39: =IF(Sheet2!G39>0.1,Sheet1!G39,"") -> -2.17211 | H39: =IF(Sheet2!H39>0.1,Sheet1!H39,"") -> -1.96242 | I39: =IF(Sheet2!I39>0.1,Sheet1!I39,"") -> -1.63527 | ... AO39: =IF(Sheet2!AO39>0.1,Sheet1!AO39,"")
A40: -0.6 | B40: =IF(Sheet2!B40>0.1,Sheet1!B40,"") | C40: =IF(Sheet2!C40>0.1,Sheet1!C40,"") -> 3.30261 | D40: =IF(Sheet2!D40>0.1,Sheet1!D40,"") -> 2.80744 | E40: =IF(Sheet2!E40>0.1,Sheet1!E40,"") -> 1.61433 | F40: =IF(Sheet2!F40>0.1,Sheet1!F40,"") -> -0.60366 | G40: =IF(Sheet2!G40>0.1,Sheet1!G40,"") -> -2.01984 | H40: =IF(Sheet2!H40>0.1,Sheet1!H40,"") -> -1.72296 | I40: =IF(Sheet2!I40>0.1,Sheet1!I40,"") -> -1.29746 | ... AO40: =IF(Sheet2!AO40>0.1,Sheet1!AO40,"")
A41: -0.8 | B41: =IF(Sheet2!B41>0.1,Sheet1!B41,"") | C41: =IF(Sheet2!C41>0.1,Sheet1!C41,"") -> 1.33498 | D41: =IF(Sheet2!D41>0.1,Sheet1!D41,"") -> 1.04847 | E41: =IF(Sheet2!E41>0.1,Sheet1!E41,"") -> 0.63481 | F41: =IF(Sheet2!F41>0.1,Sheet1!F41,"") -> -0.33706 | G41: =IF(Sheet2!G41>0.1,Sheet1!G41,"") -> -1.3498 | H41: =IF(Sheet2!H41>0.1,Sheet1!H41,"") -> -1.03514 | I41: =IF(Sheet2!I41>0.1,Sheet1!I41,"") -> -0.43551 | ... AO41: =IF(Sheet2!AO41>0.1,Sheet1!AO41,"")
A42: -1 | B42: =IF(Sheet2!B42>0.1,Sheet1!B42,"") | C42: =IF(Sheet2!C42>0.1,Sheet1!C42,"") -> 0.60349 | D42: =IF(Sheet2!D42>0.1,Sheet1!D42,"") -> 0.401 | E42: =IF(Sheet2!E42>0.1,Sheet1!E42,"") -> 0.23044 | F42: =IF(Sheet2!F42>0.1,Sheet1!F42,"") -> -0.30441 | G42: =IF(Sheet2!G42>0.1,Sheet1!G42,"") -> -1.00805 | H42: =IF(Sheet2!H42>0.1,Sheet1!H42,"") -> -0.80508 | I42: =IF(Sheet2!I42>0.1,Sheet1!I42,"") -> -0.39091 | ... AO42: =IF(Sheet2!AO42>0.1,Sheet1!AO42,"") -> 5.87865
A43: -1.2 | B43: =IF(Sheet2!B43>0.1,Sheet1!B43,"") -> -0.35552 | C43: =IF(Sheet2!C43>0.1,Sheet1!C43,"") -> 0.03473 | D43: =IF(Sheet2!D43>0.1,Sheet1!D43,"") -> -0.05997 | E43: =IF(Sheet2!E43>0.1,Sheet1!E43,"") -> -0.35119 | F43: =IF(Sheet2!F43>0.1,Sheet1!F43,"") -> -0.66275 | G43: =IF(Sheet2!G43>0.1,Sheet1!G43,"") -> -0.86807 | H43: =IF(Sheet2!H43>0.1,Sheet1!H43,"") -> -0.97721 | I43: =IF(Sheet2!I43>0.1,Sheet1!I43,"") -> -1.0204 | ... AO43: =IF(Sheet2!AO43>0.1,Sheet1!AO43,"") -> 5.88047 | AP43: Price on the mean varying the trend from extreme bearish to extreme bullish
A44: -1.4 | B44: =IF(Sheet2!B44>0.1,Sheet1!B44,"") -> -1.0836 | C44: =IF(Sheet2!C44>0.1,Sheet1!C44,"") -> -0.60835 | D44: =IF(Sheet2!D44>0.1,Sheet1!D44,"") -> -0.7143 | E44: =IF(Sheet2!E44>0.1,Sheet1!E44,"") -> -1.18291 | F44: =IF(Sheet2!F44>0.1,Sheet1!F44,"") -> -1.20708 | G44: =IF(Sheet2!G44>0.1,Sheet1!G44,"") -> -1.09855 | H44: =IF(Sheet2!H44>0.1,Sheet1!H44,"") -> -1.10752 | I44: =IF(Sheet2!I44>0.1,Sheet1!I44,"") -> -1.54932 | ... AO44: =IF(Sheet2!AO44>0.1,Sheet1!AO44,"") -> 5.88116
A45: -1.6 | B45: =IF(Sheet2!B45>0.1,Sheet1!B45,"") -> -1.20667 | C45: =IF(Sheet2!C45>0.1,Sheet1!C45,"") -> -0.57332 | D45: =IF(Sheet2!D45>0.1,Sheet1!D45,"") -> -0.6643 | E45: =IF(Sheet2!E45>0.1,Sheet1!E45,"") -> -1.52435 | F45: =IF(Sheet2!F45>0.1,Sheet1!F45,"") -> -2.10195 | G45: =IF(Sheet2!G45>0.1,Sheet1!G45,"") -> -2.20688 | H45: =IF(Sheet2!H45>0.1,Sheet1!H45,"") -> -1.74977 | I45: =IF(Sheet2!I45>0.1,Sheet1!I45,"") -> -2.00271 | ... AO45: =IF(Sheet2!AO45>0.1,Sheet1!AO45,"") -> 5.88142
A46: -1.8 | B46: =IF(Sheet2!B46>0.1,Sheet1!B46,"") -> -1.28257 | C46: =IF(Sheet2!C46>0.1,Sheet1!C46,"") -> -0.85722 | D46: =IF(Sheet2!D46>0.1,Sheet1!D46,"") -> -1.45654 | E46: =IF(Sheet2!E46>0.1,Sheet1!E46,"") -> -2.65202 | F46: =IF(Sheet2!F46>0.1,Sheet1!F46,"") -> -3.58313 | G46: =IF(Sheet2!G46>0.1,Sheet1!G46,"") -> -3.38196 | H46: =IF(Sheet2!H46>0.1,Sheet1!H46,"") -> -2.46992 | I46: =IF(Sheet2!I46>0.1,Sheet1!I46,"") -> -1.75653 | ... AO46: =IF(Sheet2!AO46>0.1,Sheet1!AO46,"") -> 5.88152
A47: -2 | B47: =IF(Sheet2!B47>0.1,Sheet1!B47,"") -> -2.5954 | C47: =IF(Sheet2!C47>0.1,Sheet1!C47,"") -> -3.74354 | D47: =IF(Sheet2!D47>0.1,Sheet1!D47,"") -> -4.30582 | E47: =IF(Sheet2!E47>0.1,Sheet1!E47,"") -> -4.2118 | F47: =IF(Sheet2!F47>0.1,Sheet1!F47,"") -> -4.22541 | G47: =IF(Sheet2!G47>0.1,Sheet1!G47,"") -> -3.47525 | H47: =IF(Sheet2!H47>0.1,Sheet1!H47,"") -> -2.15448 | I47: =IF(Sheet2!I47>0.1,Sheet1!I47,"") -> -1.78331 | ... AO47: =IF(Sheet2!AO47>0.1,Sheet1!AO47,"")
A48: -2.2 | B48: =IF(Sheet2!B48>0.1,Sheet1!B48,"") -> -2.43796 | C48: =IF(Sheet2!C48>0.1,Sheet1!C48,"") -> -3.32084 | D48: =IF(Sheet2!D48>0.1,Sheet1!D48,"") -> -4.53638 | E48: =IF(Sheet2!E48>0.1,Sheet1!E48,"") -> -4.35865 | F48: =IF(Sheet2!F48>0.1,Sheet1!F48,"") -> -3.98198 | G48: =IF(Sheet2!G48>0.1,Sheet1!G48,"") -> -3.09842 | H48: =IF(Sheet2!H48>0.1,Sheet1!H48,"") -> -1.74502 | I48: =IF(Sheet2!I48>0.1,Sheet1!I48,"") -> -1.1773 | ... AO48: =IF(Sheet2!AO48>0.1,Sheet1!AO48,"")
A49: -2.4 | B49: =IF(Sheet2!B49>0.1,Sheet1!B49,"") -> -2.55965 | C49: =IF(Sheet2!C49>0.1,Sheet1!C49,"") -> -2.45113 | D49: =IF(Sheet2!D49>0.1,Sheet1!D49,"") -> -3.93441 | E49: =IF(Sheet2!E49>0.1,Sheet1!E49,"") -> -4.53216 | F49: =IF(Sheet2!F49>0.1,Sheet1!F49,"") -> -4.12271 | G49: =IF(Sheet2!G49>0.1,Sheet1!G49,"") -> -3.17976 | H49: =IF(Sheet2!H49>0.1,Sheet1!H49,"") -> -1.86262 | I49: =IF(Sheet2!I49>0.1,Sheet1!I49,"") -> -1.52566 | ... AO49: =IF(Sheet2!AO49>0.1,Sheet1!AO49,"")
A50: -2.6 | B50: =IF(Sheet2!B50>0.1,Sheet1!B50,"") -> -5.98009 | C50: =IF(Sheet2!C50>0.1,Sheet1!C50,"") -> -1.87844 | D50: =IF(Sheet2!D50>0.1,Sheet1!D50,"") -> -2.4116 | E50: =IF(Sheet2!E50>0.1,Sheet1!E50,"") -> -4.09284 | F50: =IF(Sheet2!F50>0.1,Sheet1!F50,"") -> -4.45972 | G50: =IF(Sheet2!G50>0.1,Sheet1!G50,"") -> -3.87184 | H50: =IF(Sheet2!H50>0.1,Sheet1!H50,"") -> -2.85988 | I50: =IF(Sheet2!I50>0.1,Sheet1!I50,"") -> -2.38479 | ... AO50: =IF(Sheet2!AO50>0.1,Sheet1!AO50,"")
A51: -2.8 | B51: =IF(Sheet2!B51>0.1,Sheet1!B51,"") -> -11.04279 | C51: =IF(Sheet2!C51>0.1,Sheet1!C51,"") -> -2.46889 | D51: =IF(Sheet2!D51>0.1,Sheet1!D51,"") -> -0.16521 | E51: =IF(Sheet2!E51>0.1,Sheet1!E51,"") -> -2.49785 | F51: =IF(Sheet2!F51>0.1,Sheet1!F51,"") -> -4.64812 | G51: =IF(Sheet2!G51>0.1,Sheet1!G51,"") -> -4.53489 | H51: =IF(Sheet2!H51>0.1,Sheet1!H51,"") -> -3.6199 | I51: =IF(Sheet2!I51>0.1,Sheet1!I51,"") -> -3.33412 | ... AO51: =IF(Sheet2!AO51>0.1,Sheet1!AO51,"")
A52: -3 | B52: =IF(Sheet2!B52>0.1,Sheet1!B52,"") -> -9.29249 | C52: =IF(Sheet2!C52>0.1,Sheet1!C52,"") -> -4.11422 | D52: =IF(Sheet2!D52>0.1,Sheet1!D52,"") -> -1.59361 | E52: =IF(Sheet2!E52>0.1,Sheet1!E52,"") -> -3.87275 | F52: =IF(Sheet2!F52>0.1,Sheet1!F52,"") -> -5.15561 | G52: =IF(Sheet2!G52>0.1,Sheet1!G52,"") -> -4.25025 | H52: =IF(Sheet2!H52>0.1,Sheet1!H52,"") -> -3.4766 | I52: =IF(Sheet2!I52>0.1,Sheet1!I52,"") -> -3.32214 | ... AO52: =IF(Sheet2!AO52>0.1,Sheet1!AO52,"")
A53: -3.2 | B53: =IF(Sheet2!B53>0.1,Sheet1!B53,"") -> -7.34002 | C53: =IF(Sheet2!C53>0.1,Sheet1!C53,"") -> -5.73951 | D53: =IF(Sheet2!D53>0.1,Sheet1!D53,"") -> -5.92765 | E53: =IF(Sheet2!E53>0.1,Sheet1!E53,"") -> -7.33441 | F53: =IF(Sheet2!F53>0.1,Sheet1!F53,"") -> -6.43636 | G53: =IF(Sheet2!G53>0.1,Sheet1!G53,"") -> -4.25595 | H53: =IF(Sheet2!H53>0.1,Sheet1!H53,"") -> -3.68541 | I53: =IF(Sheet2!I53>0.1,Sheet1!I53,"") -> -3.20483 | ... AO53: =IF(Sheet2!AO53>0.1,Sheet1!AO53,"")
A54: -3.4 | B54: =IF(Sheet2!B54>0.1,Sheet1!B54,"") -> -8.22446 | C54: =IF(Sheet2!C54>0.1,Sheet1!C54,"") -> -7.69764 | D54: =IF(Sheet2!D54>0.1,Sheet1!D54,"") -> -8.29292 | E54: =IF(Sheet2!E54>0.1,Sheet1!E54,"") -> -8.54919 | F54: =IF(Sheet2!F54>0.1,Sheet1!F54,"") -> -6.78449 | G54: =IF(Sheet2!G54>0.1,Sheet1!G54,"") -> -4.85772 | H54: =IF(Sheet2!H54>0.1,Sheet1!H54,"") -> -4.30257 | I54: =IF(Sheet2!I54>0.1,Sheet1!I54,"") -> -3.43999 | ... AO54: =IF(Sheet2!AO54>0.1,Sheet1!AO54,"")
A55: -3.6 | B55: =IF(Sheet2!B55>0.1,Sheet1!B55,"") -> -7.8666 | C55: =IF(Sheet2!C55>0.1,Sheet1!C55,"") -> -7.97994 | D55: =IF(Sheet2!D55>0.1,Sheet1!D55,"") -> -8.82297 | E55: =IF(Sheet2!E55>0.1,Sheet1!E55,"") -> -7.94217 | F55: =IF(Sheet2!F55>0.1,Sheet1!F55,"") -> -5.88176 | G55: =IF(Sheet2!G55>0.1,Sheet1!G55,"") -> -5.06222 | H55: =IF(Sheet2!H55>0.1,Sheet1!H55,"") -> -4.57703 | I55: =IF(Sheet2!I55>0.1,Sheet1!I55,"") -> -3.20194 | ... AO55: =IF(Sheet2!AO55>0.1,Sheet1!AO55,"")
A56: -3.8 | B56: =IF(Sheet2!B56>0.1,Sheet1!B56,"") -> -2.60162 | C56: =IF(Sheet2!C56>0.1,Sheet1!C56,"") -> -4.62802 | D56: =IF(Sheet2!D56>0.1,Sheet1!D56,"") -> -7.58014 | E56: =IF(Sheet2!E56>0.1,Sheet1!E56,"") -> -5.34552 | F56: =IF(Sheet2!F56>0.1,Sheet1!F56,"") -> -4.53007 | G56: =IF(Sheet2!G56>0.1,Sheet1!G56,"") -> -5.14159 | H56: =IF(Sheet2!H56>0.1,Sheet1!H56,"") -> -4.89236 | I56: =IF(Sheet2!I56>0.1,Sheet1!I56,"") -> -3.50853 | ... AO56: =IF(Sheet2!AO56>0.1,Sheet1!AO56,"")
A57: -4 | B57: =IF(Sheet2!B57>0.1,Sheet1!B57,"") -> -2.48643 | C57: =IF(Sheet2!C57>0.1,Sheet1!C57,"") -> -5.66404 | D57: =IF(Sheet2!D57>0.1,Sheet1!D57,"") -> -7.89768 | E57: =IF(Sheet2!E57>0.1,Sheet1!E57,"") -> -5.29638 | F57: =IF(Sheet2!F57>0.1,Sheet1!F57,"") -> -5.11153 | G57: =IF(Sheet2!G57>0.1,Sheet1!G57,"") -> -5.71115 | H57: =IF(Sheet2!H57>0.1,Sheet1!H57,"") -> -5.6391 | I57: =IF(Sheet2!I57>0.1,Sheet1!I57,"") -> -4.76067 | ... AJ57: =IF(Sheet2!AJ57>0.1,Sheet1!AJ57,"") | AK57: =Take profit for the swing trades
A58: -4.2 | B58: =IF(Sheet2!B58>0.1,Sheet1!B58,"") -> -10.40278 | C58: =IF(Sheet2!C58>0.1,Sheet1!C58,"") -> -11.14968 | D58: =IF(Sheet2!D58>0.1,Sheet1!D58,"") -> -10.62617 | E58: =IF(Sheet2!E58>0.1,Sheet1!E58,"") -> -8.20061 | F58: =IF(Sheet2!F58>0.1,Sheet1!F58,"") -> -7.12609 | G58: =IF(Sheet2!G58>0.1,Sheet1!G58,"") -> -6.17786 | H58: =IF(Sheet2!H58>0.1,Sheet1!H58,"") -> -5.92129 | I58: =IF(Sheet2!I58>0.1,Sheet1!I58,"") -> -5.92869 | ... AJ58: =IF(Sheet2!AJ58>0.1,Sheet1!AJ58,"")
A59: -4.4 | B59: =IF(Sheet2!B59>0.1,Sheet1!B59,"") -> -16.07256 | C59: =IF(Sheet2!C59>0.1,Sheet1!C59,"") -> -15.81512 | D59: =IF(Sheet2!D59>0.1,Sheet1!D59,"") -> -13.38395 | E59: =IF(Sheet2!E59>0.1,Sheet1!E59,"") -> -9.46952 | F59: =IF(Sheet2!F59>0.1,Sheet1!F59,"") -> -6.9381 | G59: =IF(Sheet2!G59>0.1,Sheet1!G59,"") -> -4.88211 | H59: =IF(Sheet2!H59>0.1,Sheet1!H59,"") -> -5.31023 | I59: =IF(Sheet2!I59>0.1,Sheet1!I59,"") -> -6.48562 | ... AJ59: =IF(Sheet2!AJ59>0.1,Sheet1!AJ59,"")
A60: -4.6 | B60: =IF(Sheet2!B60>0.1,Sheet1!B60,"") -> -17.19249 | C60: =IF(Sheet2!C60>0.1,Sheet1!C60,"") -> -16.11558 | D60: =IF(Sheet2!D60>0.1,Sheet1!D60,"") -> -10.28149 | E60: =IF(Sheet2!E60>0.1,Sheet1!E60,"") -> -4.48431 | F60: =IF(Sheet2!F60>0.1,Sheet1!F60,"") -> -2.01791 | G60: =IF(Sheet2!G60>0.1,Sheet1!G60,"") -> -2.01266 | H60: =IF(Sheet2!H60>0.1,Sheet1!H60,"") -> -4.58495 | I60: =IF(Sheet2!I60>0.1,Sheet1!I60,"") -> -6.3995 | ... AJ60: =IF(Sheet2!AJ60>0.1,Sheet1!AJ60,"")
A61: -4.8 | B61: =IF(Sheet2!B61>0.1,Sheet1!B61,"") | C61: =IF(Sheet2!C61>0.1,Sheet1!C61,"") -> -5.3914 | D61: =IF(Sheet2!D61>0.1,Sheet1!D61,"") -> -3.17318 | E61: =IF(Sheet2!E61>0.1,Sheet1!E61,"") -> -0.20333 | F61: =IF(Sheet2!F61>0.1,Sheet1!F61,"") -> 2.70503 | G61: =IF(Sheet2!G61>0.1,Sheet1!G61,"") -> 1.15814 | H61: =IF(Sheet2!H61>0.1,Sheet1!H61,"") -> -2.62806 | I61: =IF(Sheet2!I61>0.1,Sheet1!I61,"") -> -5.70114 | ... AO61: =IF(Sheet2!AO61>0.1,Sheet1!AO61,"")
A62: -5 | B62: =IF(Sheet2!B62>0.1,Sheet1!B62,"") -> -3.24222 | C62: =IF(Sheet2!C62>0.1,Sheet1!C62,"") -> -3.20095 | D62: =IF(Sheet2!D62>0.1,Sheet1!D62,"") -> -3.30616 | E62: =IF(Sheet2!E62>0.1,Sheet1!E62,"") -> -2.72899 | F62: =IF(Sheet2!F62>0.1,Sheet1!F62,"") -> 2.81225 | G62: =IF(Sheet2!G62>0.1,Sheet1!G62,"") -> 3.02014 | H62: =IF(Sheet2!H62>0.1,Sheet1!H62,"") -> -1.10676 | I62: =IF(Sheet2!I62>0.1,Sheet1!I62,"") -> -6.14421 | ... AH62: =IF(Sheet2!AH62>0.1,Sheet1!AH62,"") | AI62: = Buy the dips in a uptrend
A63: -5.2 | B63: =IF(Sheet2!B63>0.1,Sheet1!B63,"") -> -3.60376 | C63: =IF(Sheet2!C63>0.1,Sheet1!C63,"") -> -3.90526 | D63: =IF(Sheet2!D63>0.1,Sheet1!D63,"") -> -4.25249 | E63: =IF(Sheet2!E63>0.1,Sheet1!E63,"") -> -4.49351 | F63: =IF(Sheet2!F63>0.1,Sheet1!F63,"") -> -1.32305 | G63: =IF(Sheet2!G63>0.1,Sheet1!G63,"") -> 1.94445 | H63: =IF(Sheet2!H63>0.1,Sheet1!H63,"") -> -1.87153 | I63: =IF(Sheet2!I63>0.1,Sheet1!I63,"") -> -7.68043 | ... AH63: =IF(Sheet2!AH63>0.1,Sheet1!AH63,"")
A64: -5.4 | B64: =IF(Sheet2!B64>0.1,Sheet1!B64,"") -> -4.63724 | C64: =IF(Sheet2!C64>0.1,Sheet1!C64,"") -> -5.00078 | D64: =IF(Sheet2!D64>0.1,Sheet1!D64,"") -> -5.3644 | E64: =IF(Sheet2!E64>0.1,Sheet1!E64,"") -> -6.00351 | F64: =IF(Sheet2!F64>0.1,Sheet1!F64,"") -> -6.78325 | G64: =IF(Sheet2!G64>0.1,Sheet1!G64,"") -> -3.44359 | H64: =IF(Sheet2!H64>0.1,Sheet1!H64,"") -> -3.41541 | I64: =IF(Sheet2!I64>0.1,Sheet1!I64,"") -> -7.38908 | ... AO64: =IF(Sheet2!AO64>0.1,Sheet1!AO64,"")
A65: -5.6 | B65: =IF(Sheet2!B65>0.1,Sheet1!B65,"") | C65: =IF(Sheet2!C65>0.1,Sheet1!C65,"") -> -6.08371 | D65: =IF(Sheet2!D65>0.1,Sheet1!D65,"") -> -6.37018 | E65: =IF(Sheet2!E65>0.1,Sheet1!E65,"") -> -7.99568 | F65: =IF(Sheet2!F65>0.1,Sheet1!F65,"") -> -9.87428 | G65: =IF(Sheet2!G65>0.1,Sheet1!G65,"") -> -7.49773 | H65: =IF(Sheet2!H65>0.1,Sheet1!H65,"") -> -5.65721 | I65: =IF(Sheet2!I65>0.1,Sheet1!I65,"") -> -7.69715 | ... AO65: =IF(Sheet2!AO65>0.1,Sheet1!AO65,"")
A66: -5.8 | B66: =IF(Sheet2!B66>0.1,Sheet1!B66,"") | C66: =IF(Sheet2!C66>0.1,Sheet1!C66,"") -> -9.64593 | D66: =IF(Sheet2!D66>0.1,Sheet1!D66,"") -> -9.62631 | E66: =IF(Sheet2!E66>0.1,Sheet1!E66,"") -> -10.56059 | F66: =IF(Sheet2!F66>0.1,Sheet1!F66,"") -> -11.79112 | G66: =IF(Sheet2!G66>0.1,Sheet1!G66,"") -> -10.88768 | H66: =IF(Sheet2!H66>0.1,Sheet1!H66,"") -> -9.04762 | I66: =IF(Sheet2!I66>0.1,Sheet1!I66,"") -> -9.53987 | ... AH66: =IF(Sheet2!AH66>0.1,Sheet1!AH66,"") | AI66: = collapse of a too excessive up trend
A67: -6 | B67: =IF(Sheet2!B67>0.1,Sheet1!B67,"") -> -1.50037 | C67: =IF(Sheet2!C67>0.1,Sheet1!C67,"") -> -10.25119 | D67: =IF(Sheet2!D67>0.1,Sheet1!D67,"") -> -10.86949 | E67: =IF(Sheet2!E67>0.1,Sheet1!E67,"") -> -10.255 | F67: =IF(Sheet2!F67>0.1,Sheet1!F67,"") -> -12.84686 | G67: =IF(Sheet2!G67>0.1,Sheet1!G67,"") -> -16.03048 | H67: =IF(Sheet2!H67>0.1,Sheet1!H67,"") -> -15.42308 | I67: =IF(Sheet2!I67>0.1,Sheet1!I67,"") -> -11.90401 | ... AH67: =IF(Sheet2!AH67>0.1,Sheet1!AH67,"")
A68: -6.2 | B68: =IF(Sheet2!B68>0.1,Sheet1!B68,"") -> 0.95808 | C68: =IF(Sheet2!C68>0.1,Sheet1!C68,"") -> -9.64638 | D68: =IF(Sheet2!D68>0.1,Sheet1!D68,"") -> -10.56898 | E68: =IF(Sheet2!E68>0.1,Sheet1!E68,"") -> -8.08444 | F68: =IF(Sheet2!F68>0.1,Sheet1!F68,"") -> -9.21235 | G68: =IF(Sheet2!G68>0.1,Sheet1!G68,"") -> -14.43184 | H68: =IF(Sheet2!H68>0.1,Sheet1!H68,"") -> -16.23156 | I68: =IF(Sheet2!I68>0.1,Sheet1!I68,"") -> -9.25762 | ... AH68: =IF(Sheet2!AH68>0.1,Sheet1!AH68,"")
A69: -6.4 | B69: =IF(Sheet2!B69>0.1,Sheet1!B69,"") -> 3.01799 | C69: =IF(Sheet2!C69>0.1,Sheet1!C69,"") -> -8.65718 | D69: =IF(Sheet2!D69>0.1,Sheet1!D69,"") -> -9.96193 | E69: =IF(Sheet2!E69>0.1,Sheet1!E69,"") -> -5.69166 | F69: =IF(Sheet2!F69>0.1,Sheet1!F69,"") -> -5.46225 | G69: =IF(Sheet2!G69>0.1,Sheet1!G69,"") -> -9.67143 | H69: =IF(Sheet2!H69>0.1,Sheet1!H69,"") -> -10.23251 | I69: =IF(Sheet2!I69>0.1,Sheet1!I69,"") -> -5.66097 | ... AO69: =IF(Sheet2!AO69>0.1,Sheet1!AO69,"")
A70: -6.6 | B70: =IF(Sheet2!B70>0.1,Sheet1!B70,"") -> 4.54737 | C70: =IF(Sheet2!C70>0.1,Sheet1!C70,"") | D70: =IF(Sheet2!D70>0.1,Sheet1!D70,"") -> -8.92507 | E70: =IF(Sheet2!E70>0.1,Sheet1!E70,"") -> -3.55096 | F70: =IF(Sheet2!F70>0.1,Sheet1!F70,"") -> -2.95669 | G70: =IF(Sheet2!G70>0.1,Sheet1!G70,"") -> -5.52222 | H70: =IF(Sheet2!H70>0.1,Sheet1!H70,"") -> -5.0562 | I70: =IF(Sheet2!I70>0.1,Sheet1!I70,"") -> -3.43576 | ... AO70: =IF(Sheet2!AO70>0.1,Sheet1!AO70,"") | AP70: Extremely below the mean
A71: -6.8 | B71: =IF(Sheet2!B71>0.1,Sheet1!B71,"") | C71: =IF(Sheet2!C71>0.1,Sheet1!C71,"") | D71: =IF(Sheet2!D71>0.1,Sheet1!D71,"") | E71: =IF(Sheet2!E71>0.1,Sheet1!E71,"") | F71: =IF(Sheet2!F71>0.1,Sheet1!F71,"") | G71: =IF(Sheet2!G71>0.1,Sheet1!G71,"") -> 0.25741 | H71: =IF(Sheet2!H71>0.1,Sheet1!H71,"") -> 2.80915 | I71: =IF(Sheet2!I71>0.1,Sheet1!I71,"") -> 3.77461 | ... AO71: =IF(Sheet2!AO71>0.1,Sheet1!AO71,"")
B72: extremely bearish trend | V72: neutral trend | AO72: extremely bullish trend
