Workbook

Sheet Daily
A1: Open | B1: =Data!C2 -> 1.3183 | C1: 0.95992 | D1: 0.95992 | E1: 0.95962 | F1: 0.95998 | G1: 0.95933 | H1: 0.95858 | I1: 0.95761 | J1: 0.95782 | K1: 0.95934 | L1: 0.95816 | M1: 0.95994 | N1: 0.96141 | O1: 0.96198 | P1: 0.96302 | Q1: 0.96129 | R1: 0.96113 | S1: 0.96082 | T1: 0.96184 | U1: 0.9613 | V1: 0.96176 | W1: 0.96045 | X1: 0.9605 | Y1: 0.95966 | Z1: 0.9589 | AA1: 0.95893 | AB1: 0.95987 | AC1: 0.95943 | AD1: 0.95898 | AE1: 0.9607 | AF1: 0.96091 | AG1: 0.96074 | AH1: 0.96081 | AI1: 0.961 | AJ1: 0.96234 | AK1: 0.9616 | AL1: 0.96214 | AM1: 0.96164 | AN1: 0.96148 | AO1: 0.96049 | AP1: 0.9605 | AQ1: 0.96053 | AR1: 0.96079 | AS1: 0.95992 | AT1: 0.95913 | AU1: 0.95894 | AV1: 0.95828 | AW1: 0.95775
A2: High | B2: =Data!D2 -> 1.31852 | C2: =Data!D3 -> 1.31824 | D2: =Data!D4 -> 1.31802 | E2: =Data!D5 -> 1.3183 | F2: =Data!D6 -> 1.31825 | G2: =Data!D7 -> 1.31811 | H2: =Data!D8 -> 1.31821 | I2: =Data!D9 -> 1.31818 | J2: =Data!D10 -> 1.31801 | K2: =Data!D11 -> 1.31769 | L2: =Data!D12 -> 1.3176 | M2: =Data!D13 -> 1.31783 | N2: =Data!D14 -> 1.31744 | O2: =Data!D15 -> 1.31687 | P2: =Data!D16 -> 1.31717 | Q2: =Data!D17 -> 1.31751 | R2: =Data!D18 -> 1.31722 | S2: =Data!D19 -> 1.31824 | T2: =Data!D20 -> 1.31939 | U2: =Data!D21 -> 1.31825 | V2: =Data!D22 -> 1.31897 | W2: =Data!D23 -> 1.31943 | X2: =Data!D24 -> 1.31873 | Y2: =Data!D25 -> 1.3195 | Z2: =Data!D26 -> 1.31925 | AA2: =Data!D27 -> 1.31921 | AB2: =Data!D28 -> 1.31852 | AC2: =Data!D29 -> 1.31791 | AD2: =Data!D30 -> 1.31885 | AE2: =Data!D31 -> 1.31874 | AF2: =Data!D32 -> 1.31732 | AG2: =Data!D33 -> 1.31551 | AH2: =Data!D34 -> 1.31529 | AI2: =Data!D35 -> 1.31441 | AJ2: =Data!D36 -> 1.31459 | AK2: =Data!D37 -> 1.31424 | AL2: =Data!D38 -> 1.31424 | AM2: =Data!D39 -> 1.31375 | AN2: =Data!D40 -> 1.31374 | AO2: =Data!D41 -> 1.31392 | AP2: =Data!D42 -> 1.31421 | AQ2: =Data!D43 -> 1.31394 | AR2: =Data!D44 -> 1.31314 | AS2: =Data!D45 -> 1.31285 | AT2: =Data!D46 -> 1.31325 | AU2: =Data!D47 -> 1.31337 | AV2: =Data!D48 -> 1.31334 | AW2: =Data!D49 -> 1.31281
A3: Low | B3: =Data!E2 -> 1.31801 | C3: =Data!E3 -> 1.31799 | D3: =Data!E4 -> 1.31784 | E3: =Data!E5 -> 1.31789 | F3: =Data!E6 -> 1.31797 | G3: =Data!E7 -> 1.31796 | H3: =Data!E8 -> 1.31789 | I3: =Data!E9 -> 1.31788 | J3: =Data!E10 -> 1.31729 | K3: =Data!E11 -> 1.31731 | L3: =Data!E12 -> 1.31728 | M3: =Data!E13 -> 1.31738 | N3: =Data!E14 -> 1.31643 | O3: =Data!E15 -> 1.31591 | P3: =Data!E16 -> 1.31607 | Q3: =Data!E17 -> 1.31678 | R3: =Data!E18 -> 1.31664 | S3: =Data!E19 -> 1.31666 | T3: =Data!E20 -> 1.31763 | U3: =Data!E21 -> 1.31742 | V3: =Data!E22 -> 1.31758 | W3: =Data!E23 -> 1.31834 | X3: =Data!E24 -> 1.31813 | Y3: =Data!E25 -> 1.31836 | Z3: =Data!E26 -> 1.31834 | AA3: =Data!E27 -> 1.31789 | AB3: =Data!E28 -> 1.31729 | AC3: =Data!E29 -> 1.31703 | AD3: =Data!E30 -> 1.31745 | AE3: =Data!E31 -> 1.31687 | AF3: =Data!E32 -> 1.31413 | AG3: =Data!E33 -> 1.31411 | AH3: =Data!E34 -> 1.31403 | AI3: =Data!E35 -> 1.31387 | AJ3: =Data!E36 -> 1.31353 | AK3: =Data!E37 -> 1.31401 | AL3: =Data!E38 -> 1.31361 | AM3: =Data!E39 -> 1.31327 | AN3: =Data!E40 -> 1.31334 | AO3: =Data!E41 -> 1.31346 | AP3: =Data!E42 -> 1.31364 | AQ3: =Data!E43 -> 1.3134 | AR3: =Data!E44 -> 1.31239 | AS3: =Data!E45 -> 1.31259 | AT3: =Data!E46 -> 1.31275 | AU3: =Data!E47 -> 1.31301 | AV3: =Data!E48 -> 1.31275 | AW3: =Data!E49 -> 1.31235
B4: 0 | C4: 0.020833333 | D4: 0.041666667 | E4: 0.0625 | F4: 0.083333333 | G4: 0.10416667 | H4: 0.125 | I4: 0.14583333 | J4: 0.16666667 | K4: 0.1875 | L4: 0.20833333 | M4: 0.22916667 | N4: 0.25 | O4: 0.27083333 | P4: 0.29166667 | Q4: 0.3125 | R4: 0.33333333 | S4: 0.35416667 | T4: 0.375 | U4: 0.39583333 | V4: 0.41666667 | W4: 0.4375 | X4: 0.45833333 | Y4: 0.47916667 | Z4: 0.5 | AA4: 0.52083333 | AB4: 0.54166667 | AC4: 0.5625 | AD4: 0.58333333 | AE4: 0.60416667 | AF4: 0.625 | AG4: 0.64583333 | AH4: 0.66666667 | AI4: 0.6875 | AJ4: 0.70833333 | AK4: 0.72916667 | AL4: 0.75 | AM4: 0.77083333 | AN4: 0.79166667 | AO4: 0.8125 | AP4: 0.83333333 | AQ4: 0.85416667 | AR4: 0.875 | AS4: 0.89583333 | AT4: 0.91666667 | AU4: 0.9375 | AV4: 0.95833333 | AW4: 0.97916667
B5: + | C5: + | D5: + | E5: + | F5: + | G5: + | H5: + | I5: + | J5: + | K5: + | L5: + | M5: + | N5: + | O5: + | P5: + | Q5: + | R5: + | S5: + | T5: + | U5: + | V5: + | W5: + | X5: + | Y5: + | Z5: + | AA5: + | AB5: + | AC5: + | AD5: + | AE5: + | AF5: + | AG5: + | AH5: + | AI5: + | AJ5: + | AK5: + | AL5: + | AM5: + | AN5: + | AO5: + | AP5: + | AQ5: + | AR5: + | AS5: + | AT5: + | AU5: + | AV5: + | AW5: +
A6: =MAX(Data!D2:F49) -> 1.3195 | B6: =IF(AND($A6<=B$2,$A6>=B$3),B$5,"") | C6: =IF(AND($A6<=C$2,$A6>=C$3),C$5,"") | D6: =IF(AND($A6<=D$2,$A6>=D$3),D$5,"") | E6: =IF(AND($A6<=E$2,$A6>=E$3),E$5,"") | F6: =IF(AND($A6<=F$2,$A6>=F$3),F$5,"") | G6: =IF(AND($A6<=G$2,$A6>=G$3),G$5,"") | H6: =IF(AND($A6<=H$2,$A6>=H$3),H$5,"") | I6: =IF(AND($A6<=I$2,$A6>=I$3),I$5,"") | ... AW6: =IF(AND($A6<=AW$2,$A6>=AW$3),AW$5,"") | AX6: =MAX(Data!D2:F49) -> 1.3195 | AY6: =LEN(AZ6) -> 1 | AZ6: =CONCATENATE(B6,C6,D6,E6,F6,G6,H6,I6,J6,K6,L6,M6,N6,O6,P6,Q6,R6,S6,T6,U6,V6,W6,X6,Y6,Z6,AA6,AB6,AC6,AD6,AE6,AF6,AG6,AH6,AI6,AJ6,AK6,AL6,AM6,AN6,AO6,AP6,AQ6,AR6,AS6,AT6,AU6,AV6,AW6) -> + | BA6: =LEN(AZ6) -> 1
A7: =A6-0.0002 -> 1.3193 | B7: =IF(AND($A7<=B$2,$A7>=B$3),B$5,"") | C7: =IF(AND($A7<=C$2,$A7>=C$3),C$5,"") | D7: =IF(AND($A7<=D$2,$A7>=D$3),D$5,"") | E7: =IF(AND($A7<=E$2,$A7>=E$3),E$5,"") | F7: =IF(AND($A7<=F$2,$A7>=F$3),F$5,"") | G7: =IF(AND($A7<=G$2,$A7>=G$3),G$5,"") | H7: =IF(AND($A7<=H$2,$A7>=H$3),H$5,"") | I7: =IF(AND($A7<=I$2,$A7>=I$3),I$5,"") | ... AW7: =IF(AND($A7<=AW$2,$A7>=AW$3),AW$5,"") | AX7: =A6-0.0002 -> 1.3193 | AY7: =LEN(AZ7) -> 3 | AZ7: =CONCATENATE(B7,C7,D7,E7,F7,G7,H7,I7,J7,K7,L7,M7,N7,O7,P7,Q7,R7,S7,T7,U7,V7,W7,X7,Y7,Z7,AA7,AB7,AC7,AD7,AE7,AF7,AG7,AH7,AI7,AJ7,AK7,AL7,AM7,AN7,AO7,AP7,AQ7,AR7,AS7,AT7,AU7,AV7,AW7) -> +++ | BA7: =LEN(AZ7) -> 3
A8: =A7-0.0002 -> 1.3191 | B8: =IF(AND($A8<=B$2,$A8>=B$3),B$5,"") | C8: =IF(AND($A8<=C$2,$A8>=C$3),C$5,"") | D8: =IF(AND($A8<=D$2,$A8>=D$3),D$5,"") | E8: =IF(AND($A8<=E$2,$A8>=E$3),E$5,"") | F8: =IF(AND($A8<=F$2,$A8>=F$3),F$5,"") | G8: =IF(AND($A8<=G$2,$A8>=G$3),G$5,"") | H8: =IF(AND($A8<=H$2,$A8>=H$3),H$5,"") | I8: =IF(AND($A8<=I$2,$A8>=I$3),I$5,"") | ... AW8: =IF(AND($A8<=AW$2,$A8>=AW$3),AW$5,"") | AX8: =A7-0.0002 -> 1.3191 | AY8: =LEN(AZ8) -> 5 | AZ8: =CONCATENATE(B8,C8,D8,E8,F8,G8,H8,I8,J8,K8,L8,M8,N8,O8,P8,Q8,R8,S8,T8,U8,V8,W8,X8,Y8,Z8,AA8,AB8,AC8,AD8,AE8,AF8,AG8,AH8,AI8,AJ8,AK8,AL8,AM8,AN8,AO8,AP8,AQ8,AR8,AS8,AT8,AU8,AV8,AW8) -> +++++ | BA8: =LEN(AZ8) -> 5
A9: =A8-0.0002 -> 1.3189 | B9: =IF(AND($A9<=B$2,$A9>=B$3),B$5,"") | C9: =IF(AND($A9<=C$2,$A9>=C$3),C$5,"") | D9: =IF(AND($A9<=D$2,$A9>=D$3),D$5,"") | E9: =IF(AND($A9<=E$2,$A9>=E$3),E$5,"") | F9: =IF(AND($A9<=F$2,$A9>=F$3),F$5,"") | G9: =IF(AND($A9<=G$2,$A9>=G$3),G$5,"") | H9: =IF(AND($A9<=H$2,$A9>=H$3),H$5,"") | I9: =IF(AND($A9<=I$2,$A9>=I$3),I$5,"") | ... AW9: =IF(AND($A9<=AW$2,$A9>=AW$3),AW$5,"") | AX9: =A8-0.0002 -> 1.3189 | AY9: =LEN(AZ9) -> 6 | AZ9: =CONCATENATE(B9,C9,D9,E9,F9,G9,H9,I9,J9,K9,L9,M9,N9,O9,P9,Q9,R9,S9,T9,U9,V9,W9,X9,Y9,Z9,AA9,AB9,AC9,AD9,AE9,AF9,AG9,AH9,AI9,AJ9,AK9,AL9,AM9,AN9,AO9,AP9,AQ9,AR9,AS9,AT9,AU9,AV9,AW9) -> ++++++ | BA9: =LEN(AZ9) -> 6
A10: =A9-0.0002 -> 1.3187 | B10: =IF(AND($A10<=B$2,$A10>=B$3),B$5,"") | C10: =IF(AND($A10<=C$2,$A10>=C$3),C$5,"") | D10: =IF(AND($A10<=D$2,$A10>=D$3),D$5,"") | E10: =IF(AND($A10<=E$2,$A10>=E$3),E$5,"") | F10: =IF(AND($A10<=F$2,$A10>=F$3),F$5,"") | G10: =IF(AND($A10<=G$2,$A10>=G$3),G$5,"") | H10: =IF(AND($A10<=H$2,$A10>=H$3),H$5,"") | I10: =IF(AND($A10<=I$2,$A10>=I$3),I$5,"") | ... AW10: =IF(AND($A10<=AW$2,$A10>=AW$3),AW$5,"") | AX10: =A9-0.0002 -> 1.3187 | AY10: =LEN(AZ10) -> 9 | AZ10: =CONCATENATE(B10,C10,D10,E10,F10,G10,H10,I10,J10,K10,L10,M10,N10,O10,P10,Q10,R10,S10,T10,U10,V10,W10,X10,Y10,Z10,AA10,AB10,AC10,AD10,AE10,AF10,AG10,AH10,AI10,AJ10,AK10,AL10,AM10,AN10,AO10,AP10,AQ10,AR10,AS10,AT10,AU10,AV10,AW10) -> +++++++++ | BA10: =LEN(AZ10) -> 9
A11: =A10-0.0002 -> 1.3185 | B11: =IF(AND($A11<=B$2,$A11>=B$3),B$5,"") -> + | C11: =IF(AND($A11<=C$2,$A11>=C$3),C$5,"") | D11: =IF(AND($A11<=D$2,$A11>=D$3),D$5,"") | E11: =IF(AND($A11<=E$2,$A11>=E$3),E$5,"") | F11: =IF(AND($A11<=F$2,$A11>=F$3),F$5,"") | G11: =IF(AND($A11<=G$2,$A11>=G$3),G$5,"") | H11: =IF(AND($A11<=H$2,$A11>=H$3),H$5,"") | I11: =IF(AND($A11<=I$2,$A11>=I$3),I$5,"") | ... AW11: =IF(AND($A11<=AW$2,$A11>=AW$3),AW$5,"") | AX11: =A10-0.0002 -> 1.3185 | AY11: =LEN(AZ11) -> 11 | AZ11: =CONCATENATE(B11,C11,D11,E11,F11,G11,H11,I11,J11,K11,L11,M11,N11,O11,P11,Q11,R11,S11,T11,U11,V11,W11,X11,Y11,Z11,AA11,AB11,AC11,AD11,AE11,AF11,AG11,AH11,AI11,AJ11,AK11,AL11,AM11,AN11,AO11,AP11,AQ11,AR11,AS11,AT11,AU11,AV11,AW11) -> +++++++++++ | BA11: =LEN(AZ11) -> 11
A12: =A11-0.0002 -> 1.3183 | B12: =IF(AND($A12<=B$2,$A12>=B$3),B$5,"") -> + | C12: =IF(AND($A12<=C$2,$A12>=C$3),C$5,"") | D12: =IF(AND($A12<=D$2,$A12>=D$3),D$5,"") | E12: =IF(AND($A12<=E$2,$A12>=E$3),E$5,"") -> + | F12: =IF(AND($A12<=F$2,$A12>=F$3),F$5,"") | G12: =IF(AND($A12<=G$2,$A12>=G$3),G$5,"") | H12: =IF(AND($A12<=H$2,$A12>=H$3),H$5,"") | I12: =IF(AND($A12<=I$2,$A12>=I$3),I$5,"") | ... AW12: =IF(AND($A12<=AW$2,$A12>=AW$3),AW$5,"") | AX12: =A11-0.0002 -> 1.3183 | AY12: =LEN(AZ12) -> 9 | AZ12: =CONCATENATE(B12,C12,D12,E12,F12,G12,H12,I12,J12,K12,L12,M12,N12,O12,P12,Q12,R12,S12,T12,U12,V12,W12,X12,Y12,Z12,AA12,AB12,AC12,AD12,AE12,AF12,AG12,AH12,AI12,AJ12,AK12,AL12,AM12,AN12,AO12,AP12,AQ12,AR12,AS12,AT12,AU12,AV12,AW12) -> +++++++++ | BA12: =LEN(AZ12) -> 9
A13: =A12-0.0002 -> 1.3181 | B13: =IF(AND($A13<=B$2,$A13>=B$3),B$5,"") -> + | C13: =IF(AND($A13<=C$2,$A13>=C$3),C$5,"") -> + | D13: =IF(AND($A13<=D$2,$A13>=D$3),D$5,"") | E13: =IF(AND($A13<=E$2,$A13>=E$3),E$5,"") -> + | F13: =IF(AND($A13<=F$2,$A13>=F$3),F$5,"") -> + | G13: =IF(AND($A13<=G$2,$A13>=G$3),G$5,"") -> + | H13: =IF(AND($A13<=H$2,$A13>=H$3),H$5,"") -> + | I13: =IF(AND($A13<=I$2,$A13>=I$3),I$5,"") -> + | ... AW13: =IF(AND($A13<=AW$2,$A13>=AW$3),AW$5,"") | AX13: =A12-0.0002 -> 1.3181 | AY13: =LEN(AZ13) -> 15 | AZ13: =CONCATENATE(B13,C13,D13,E13,F13,G13,H13,I13,J13,K13,L13,M13,N13,O13,P13,Q13,R13,S13,T13,U13,V13,W13,X13,Y13,Z13,AA13,AB13,AC13,AD13,AE13,AF13,AG13,AH13,AI13,AJ13,AK13,AL13,AM13,AN13,AO13,AP13,AQ13,AR13,AS13,AT13,AU13,AV13,AW13) -> +++++++++++++++ | BA13: =LEN(AZ13) -> 15
A14: =A13-0.0002 -> 1.3179 | B14: =IF(AND($A14<=B$2,$A14>=B$3),B$5,"") | C14: =IF(AND($A14<=C$2,$A14>=C$3),C$5,"") | D14: =IF(AND($A14<=D$2,$A14>=D$3),D$5,"") -> + | E14: =IF(AND($A14<=E$2,$A14>=E$3),E$5,"") -> + | F14: =IF(AND($A14<=F$2,$A14>=F$3),F$5,"") | G14: =IF(AND($A14<=G$2,$A14>=G$3),G$5,"") | H14: =IF(AND($A14<=H$2,$A14>=H$3),H$5,"") -> + | I14: =IF(AND($A14<=I$2,$A14>=I$3),I$5,"") -> + | ... AW14: =IF(AND($A14<=AW$2,$A14>=AW$3),AW$5,"") | AX14: =A13-0.0002 -> 1.3179 | AY14: =LEN(AZ14) -> 14 | AZ14: =CONCATENATE(B14,C14,D14,E14,F14,G14,H14,I14,J14,K14,L14,M14,N14,O14,P14,Q14,R14,S14,T14,U14,V14,W14,X14,Y14,Z14,AA14,AB14,AC14,AD14,AE14,AF14,AG14,AH14,AI14,AJ14,AK14,AL14,AM14,AN14,AO14,AP14,AQ14,AR14,AS14,AT14,AU14,AV14,AW14) -> ++++++++++++++ | BA14: =LEN(AZ14) -> 14
A15: =A14-0.0002 -> 1.3177 | B15: =IF(AND($A15<=B$2,$A15>=B$3),B$5,"") | C15: =IF(AND($A15<=C$2,$A15>=C$3),C$5,"") | D15: =IF(AND($A15<=D$2,$A15>=D$3),D$5,"") | E15: =IF(AND($A15<=E$2,$A15>=E$3),E$5,"") | F15: =IF(AND($A15<=F$2,$A15>=F$3),F$5,"") | G15: =IF(AND($A15<=G$2,$A15>=G$3),G$5,"") | H15: =IF(AND($A15<=H$2,$A15>=H$3),H$5,"") | I15: =IF(AND($A15<=I$2,$A15>=I$3),I$5,"") | ... AW15: =IF(AND($A15<=AW$2,$A15>=AW$3),AW$5,"") | AX15: =A14-0.0002 -> 1.3177 | AY15: =LEN(AZ15) -> 10 | AZ15: =CONCATENATE(B15,C15,D15,E15,F15,G15,H15,I15,J15,K15,L15,M15,N15,O15,P15,Q15,R15,S15,T15,U15,V15,W15,X15,Y15,Z15,AA15,AB15,AC15,AD15,AE15,AF15,AG15,AH15,AI15,AJ15,AK15,AL15,AM15,AN15,AO15,AP15,AQ15,AR15,AS15,AT15,AU15,AV15,AW15) -> ++++++++++ | BA15: =LEN(AZ15) -> 10
A16: =A15-0.0002 -> 1.3175 | B16: =IF(AND($A16<=B$2,$A16>=B$3),B$5,"") | C16: =IF(AND($A16<=C$2,$A16>=C$3),C$5,"") | D16: =IF(AND($A16<=D$2,$A16>=D$3),D$5,"") | E16: =IF(AND($A16<=E$2,$A16>=E$3),E$5,"") | F16: =IF(AND($A16<=F$2,$A16>=F$3),F$5,"") | G16: =IF(AND($A16<=G$2,$A16>=G$3),G$5,"") | H16: =IF(AND($A16<=H$2,$A16>=H$3),H$5,"") | I16: =IF(AND($A16<=I$2,$A16>=I$3),I$5,"") | ... AW16: =IF(AND($A16<=AW$2,$A16>=AW$3),AW$5,"") | AX16: =A15-0.0002 -> 1.3175 | AY16: =LEN(AZ16) -> 11 | AZ16: =CONCATENATE(B16,C16,D16,E16,F16,G16,H16,I16,J16,K16,L16,M16,N16,O16,P16,Q16,R16,S16,T16,U16,V16,W16,X16,Y16,Z16,AA16,AB16,AC16,AD16,AE16,AF16,AG16,AH16,AI16,AJ16,AK16,AL16,AM16,AN16,AO16,AP16,AQ16,AR16,AS16,AT16,AU16,AV16,AW16) -> +++++++++++ | BA16: =LEN(AZ16) -> 11
A17: =A16-0.0002 -> 1.3173 | B17: =IF(AND($A17<=B$2,$A17>=B$3),B$5,"") | C17: =IF(AND($A17<=C$2,$A17>=C$3),C$5,"") | D17: =IF(AND($A17<=D$2,$A17>=D$3),D$5,"") | E17: =IF(AND($A17<=E$2,$A17>=E$3),E$5,"") | F17: =IF(AND($A17<=F$2,$A17>=F$3),F$5,"") | G17: =IF(AND($A17<=G$2,$A17>=G$3),G$5,"") | H17: =IF(AND($A17<=H$2,$A17>=H$3),H$5,"") | I17: =IF(AND($A17<=I$2,$A17>=I$3),I$5,"") | ... AW17: =IF(AND($A17<=AW$2,$A17>=AW$3),AW$5,"") | AX17: =A16-0.0002 -> 1.3173 | AY17: =LEN(AZ17) -> 9 | AZ17: =CONCATENATE(B17,C17,D17,E17,F17,G17,H17,I17,J17,K17,L17,M17,N17,O17,P17,Q17,R17,S17,T17,U17,V17,W17,X17,Y17,Z17,AA17,AB17,AC17,AD17,AE17,AF17,AG17,AH17,AI17,AJ17,AK17,AL17,AM17,AN17,AO17,AP17,AQ17,AR17,AS17,AT17,AU17,AV17,AW17) -> +++++++++ | BA17: =LEN(AZ17) -> 9
A18: =A17-0.0002 -> 1.3171 | B18: =IF(AND($A18<=B$2,$A18>=B$3),B$5,"") | C18: =IF(AND($A18<=C$2,$A18>=C$3),C$5,"") | D18: =IF(AND($A18<=D$2,$A18>=D$3),D$5,"") | E18: =IF(AND($A18<=E$2,$A18>=E$3),E$5,"") | F18: =IF(AND($A18<=F$2,$A18>=F$3),F$5,"") | G18: =IF(AND($A18<=G$2,$A18>=G$3),G$5,"") | H18: =IF(AND($A18<=H$2,$A18>=H$3),H$5,"") | I18: =IF(AND($A18<=I$2,$A18>=I$3),I$5,"") | ... AW18: =IF(AND($A18<=AW$2,$A18>=AW$3),AW$5,"") | AX18: =A17-0.0002 -> 1.3171 | AY18: =LEN(AZ18) -> 8 | AZ18: =CONCATENATE(B18,C18,D18,E18,F18,G18,H18,I18,J18,K18,L18,M18,N18,O18,P18,Q18,R18,S18,T18,U18,V18,W18,X18,Y18,Z18,AA18,AB18,AC18,AD18,AE18,AF18,AG18,AH18,AI18,AJ18,AK18,AL18,AM18,AN18,AO18,AP18,AQ18,AR18,AS18,AT18,AU18,AV18,AW18) -> ++++++++ | BA18: =LEN(AZ18) -> 8
... A1201: =A1200-0.0002 -> 1.0805 | B1201: =IF(AND($A1201<=B$2,$A1201>=B$3),B$5,"") | C1201: =IF(AND($A1201<=C$2,$A1201>=C$3),C$5,"") | D1201: =IF(AND($A1201<=D$2,$A1201>=D$3),D$5,"") | E1201: =IF(AND($A1201<=E$2,$A1201>=E$3),E$5,"") | F1201: =IF(AND($A1201<=F$2,$A1201>=F$3),F$5,"") | G1201: =IF(AND($A1201<=G$2,$A1201>=G$3),G$5,"") | H1201: =IF(AND($A1201<=H$2,$A1201>=H$3),H$5,"") | I1201: =IF(AND($A1201<=I$2,$A1201>=I$3),I$5,"") | ... AW1201: =IF(AND($A1201<=AW$2,$A1201>=AW$3),AW$5,"") | AX1201: =A1200-0.0002 -> 1.0805 | AY1201: =LEN(AZ1201) -> 0 | AZ1201: =CONCATENATE(B1201,C1201,D1201,E1201,F1201,G1201,H1201,I1201,J1201,K1201,L1201,M1201,N1201,O1201,P1201,Q1201,R1201,S1201,T1201,U1201,V1201,W1201,X1201,Y1201,Z1201,AA1201,AB1201,AC1201,AD1201,AE1201,AF1201,AG1201,AH1201,AI1201,AJ1201,AK1201,AL1201,AM1201,AN1201,AO1201,AP1201,AQ1201,AR1201,AS1201,AT1201,AU1201,AV1201,AW1201) | BA1201: =LEN(AZ1201) -> 0

Sheet Daily (hidden)
A1: Open | B1: =Data!C2 -> 1.3183 | C1: 0.95992 | D1: 0.95992 | E1: 0.95962 | F1: 0.95998 | G1: 0.95933 | H1: 0.95858 | I1: 0.95761 | J1: 0.95782 | K1: 0.95934 | L1: 0.95816 | M1: 0.95994 | N1: 0.96141 | O1: 0.96198 | P1: 0.96302 | Q1: 0.96129 | R1: 0.96113 | S1: 0.96082 | T1: 0.96184 | U1: 0.9613 | V1: 0.96176 | W1: 0.96045 | X1: 0.9605 | Y1: 0.95966 | Z1: 0.9589 | AA1: 0.95893 | AB1: 0.95987 | AC1: 0.95943 | AD1: 0.95898 | AE1: 0.9607 | AF1: 0.96091 | AG1: 0.96074 | AH1: 0.96081 | AI1: 0.961 | AJ1: 0.96234 | AK1: 0.9616 | AL1: 0.96214 | AM1: 0.96164 | AN1: 0.96148 | AO1: 0.96049 | AP1: 0.9605 | AQ1: 0.96053 | AR1: 0.96079 | AS1: 0.95992 | AT1: 0.95913 | AU1: 0.95894 | AV1: 0.95828 | AW1: 0.95775
A2: High | B2: =Data!D2 -> 1.31852 | C2: =Data!D3 -> 1.31824 | D2: =Data!D4 -> 1.31802 | E2: =Data!D5 -> 1.3183 | F2: =Data!D6 -> 1.31825 | G2: =Data!D7 -> 1.31811 | H2: =Data!D8 -> 1.31821 | I2: =Data!D9 -> 1.31818 | J2: =Data!D10 -> 1.31801 | K2: =Data!D11 -> 1.31769 | L2: =Data!D12 -> 1.3176 | M2: =Data!D13 -> 1.31783 | N2: =Data!D14 -> 1.31744 | O2: =Data!D15 -> 1.31687 | P2: =Data!D16 -> 1.31717 | Q2: =Data!D17 -> 1.31751 | R2: =Data!D18 -> 1.31722 | S2: =Data!D19 -> 1.31824 | T2: =Data!D20 -> 1.31939 | U2: =Data!D21 -> 1.31825 | V2: =Data!D22 -> 1.31897 | W2: =Data!D23 -> 1.31943 | X2: =Data!D24 -> 1.31873 | Y2: =Data!D25 -> 1.3195 | Z2: =Data!D26 -> 1.31925 | AA2: =Data!D27 -> 1.31921 | AB2: =Data!D28 -> 1.31852 | AC2: =Data!D29 -> 1.31791 | AD2: =Data!D30 -> 1.31885 | AE2: =Data!D31 -> 1.31874 | AF2: =Data!D32 -> 1.31732 | AG2: =Data!D33 -> 1.31551 | AH2: =Data!D34 -> 1.31529 | AI2: =Data!D35 -> 1.31441 | AJ2: =Data!D36 -> 1.31459 | AK2: =Data!D37 -> 1.31424 | AL2: =Data!D38 -> 1.31424 | AM2: =Data!D39 -> 1.31375 | AN2: =Data!D40 -> 1.31374 | AO2: =Data!D41 -> 1.31392 | AP2: =Data!D42 -> 1.31421 | AQ2: =Data!D43 -> 1.31394 | AR2: =Data!D44 -> 1.31314 | AS2: =Data!D45 -> 1.31285 | AT2: =Data!D46 -> 1.31325 | AU2: =Data!D47 -> 1.31337 | AV2: =Data!D48 -> 1.31334 | AW2: =Data!D49 -> 1.31281
A3: Low | B3: =Data!E2 -> 1.31801 | C3: =Data!E3 -> 1.31799 | D3: =Data!E4 -> 1.31784 | E3: =Data!E5 -> 1.31789 | F3: =Data!E6 -> 1.31797 | G3: =Data!E7 -> 1.31796 | H3: =Data!E8 -> 1.31789 | I3: =Data!E9 -> 1.31788 | J3: =Data!E10 -> 1.31729 | K3: =Data!E11 -> 1.31731 | L3: =Data!E12 -> 1.31728 | M3: =Data!E13 -> 1.31738 | N3: =Data!E14 -> 1.31643 | O3: =Data!E15 -> 1.31591 | P3: =Data!E16 -> 1.31607 | Q3: =Data!E17 -> 1.31678 | R3: =Data!E18 -> 1.31664 | S3: =Data!E19 -> 1.31666 | T3: =Data!E20 -> 1.31763 | U3: =Data!E21 -> 1.31742 | V3: =Data!E22 -> 1.31758 | W3: =Data!E23 -> 1.31834 | X3: =Data!E24 -> 1.31813 | Y3: =Data!E25 -> 1.31836 | Z3: =Data!E26 -> 1.31834 | AA3: =Data!E27 -> 1.31789 | AB3: =Data!E28 -> 1.31729 | AC3: =Data!E29 -> 1.31703 | AD3: =Data!E30 -> 1.31745 | AE3: =Data!E31 -> 1.31687 | AF3: =Data!E32 -> 1.31413 | AG3: =Data!E33 -> 1.31411 | AH3: =Data!E34 -> 1.31403 | AI3: =Data!E35 -> 1.31387 | AJ3: =Data!E36 -> 1.31353 | AK3: =Data!E37 -> 1.31401 | AL3: =Data!E38 -> 1.31361 | AM3: =Data!E39 -> 1.31327 | AN3: =Data!E40 -> 1.31334 | AO3: =Data!E41 -> 1.31346 | AP3: =Data!E42 -> 1.31364 | AQ3: =Data!E43 -> 1.3134 | AR3: =Data!E44 -> 1.31239 | AS3: =Data!E45 -> 1.31259 | AT3: =Data!E46 -> 1.31275 | AU3: =Data!E47 -> 1.31301 | AV3: =Data!E48 -> 1.31275 | AW3: =Data!E49 -> 1.31235
B4: 0 | C4: 0.020833333 | D4: 0.041666667 | E4: 0.0625 | F4: 0.083333333 | G4: 0.10416667 | H4: 0.125 | I4: 0.14583333 | J4: 0.16666667 | K4: 0.1875 | L4: 0.20833333 | M4: 0.22916667 | N4: 0.25 | O4: 0.27083333 | P4: 0.29166667 | Q4: 0.3125 | R4: 0.33333333 | S4: 0.35416667 | T4: 0.375 | U4: 0.39583333 | V4: 0.41666667 | W4: 0.4375 | X4: 0.45833333 | Y4: 0.47916667 | Z4: 0.5 | AA4: 0.52083333 | AB4: 0.54166667 | AC4: 0.5625 | AD4: 0.58333333 | AE4: 0.60416667 | AF4: 0.625 | AG4: 0.64583333 | AH4: 0.66666667 | AI4: 0.6875 | AJ4: 0.70833333 | AK4: 0.72916667 | AL4: 0.75 | AM4: 0.77083333 | AN4: 0.79166667 | AO4: 0.8125 | AP4: 0.83333333 | AQ4: 0.85416667 | AR4: 0.875 | AS4: 0.89583333 | AT4: 0.91666667 | AU4: 0.9375 | AV4: 0.95833333 | AW4: 0.97916667
B5: + | C5: + | D5: + | E5: + | F5: + | G5: + | H5: + | I5: + | J5: + | K5: + | L5: + | M5: + | N5: + | O5: + | P5: + | Q5: + | R5: + | S5: + | T5: + | U5: + | V5: + | W5: + | X5: + | Y5: + | Z5: + | AA5: + | AB5: + | AC5: + | AD5: + | AE5: + | AF5: + | AG5: + | AH5: + | AI5: + | AJ5: + | AK5: + | AL5: + | AM5: + | AN5: + | AO5: + | AP5: + | AQ5: + | AR5: + | AS5: + | AT5: + | AU5: + | AV5: + | AW5: +
A6: =MAX(Data!D2:F49) -> 1.3195 | B6: =IF(AND($A6<=B$2,$A6>=B$3),B$5,"") | C6: =IF(AND($A6<=C$2,$A6>=C$3),C$5,"") | D6: =IF(AND($A6<=D$2,$A6>=D$3),D$5,"") | E6: =IF(AND($A6<=E$2,$A6>=E$3),E$5,"") | F6: =IF(AND($A6<=F$2,$A6>=F$3),F$5,"") | G6: =IF(AND($A6<=G$2,$A6>=G$3),G$5,"") | H6: =IF(AND($A6<=H$2,$A6>=H$3),H$5,"") | I6: =IF(AND($A6<=I$2,$A6>=I$3),I$5,"") | ... AW6: =IF(AND($A6<=AW$2,$A6>=AW$3),AW$5,"") | AX6: =MAX(Data!D2:F49) -> 1.3195 | AY6: =LEN(AZ6) -> 1 | AZ6: =CONCATENATE(B6,C6,D6,E6,F6,G6,H6,I6,J6,K6,L6,M6,N6,O6,P6,Q6,R6,S6,T6,U6,V6,W6,X6,Y6,Z6,AA6,AB6,AC6,AD6,AE6,AF6,AG6,AH6,AI6,AJ6,AK6,AL6,AM6,AN6,AO6,AP6,AQ6,AR6,AS6,AT6,AU6,AV6,AW6) -> + | BA6: =LEN(AZ6) -> 1
A7: =A6-0.0002 -> 1.3193 | B7: =IF(AND($A7<=B$2,$A7>=B$3),B$5,"") | C7: =IF(AND($A7<=C$2,$A7>=C$3),C$5,"") | D7: =IF(AND($A7<=D$2,$A7>=D$3),D$5,"") | E7: =IF(AND($A7<=E$2,$A7>=E$3),E$5,"") | F7: =IF(AND($A7<=F$2,$A7>=F$3),F$5,"") | G7: =IF(AND($A7<=G$2,$A7>=G$3),G$5,"") | H7: =IF(AND($A7<=H$2,$A7>=H$3),H$5,"") | I7: =IF(AND($A7<=I$2,$A7>=I$3),I$5,"") | ... AW7: =IF(AND($A7<=AW$2,$A7>=AW$3),AW$5,"") | AX7: =A6-0.0002 -> 1.3193 | AY7: =LEN(AZ7) -> 3 | AZ7: =CONCATENATE(B7,C7,D7,E7,F7,G7,H7,I7,J7,K7,L7,M7,N7,O7,P7,Q7,R7,S7,T7,U7,V7,W7,X7,Y7,Z7,AA7,AB7,AC7,AD7,AE7,AF7,AG7,AH7,AI7,AJ7,AK7,AL7,AM7,AN7,AO7,AP7,AQ7,AR7,AS7,AT7,AU7,AV7,AW7) -> +++ | BA7: =LEN(AZ7) -> 3
A8: =A7-0.0002 -> 1.3191 | B8: =IF(AND($A8<=B$2,$A8>=B$3),B$5,"") | C8: =IF(AND($A8<=C$2,$A8>=C$3),C$5,"") | D8: =IF(AND($A8<=D$2,$A8>=D$3),D$5,"") | E8: =IF(AND($A8<=E$2,$A8>=E$3),E$5,"") | F8: =IF(AND($A8<=F$2,$A8>=F$3),F$5,"") | G8: =IF(AND($A8<=G$2,$A8>=G$3),G$5,"") | H8: =IF(AND($A8<=H$2,$A8>=H$3),H$5,"") | I8: =IF(AND($A8<=I$2,$A8>=I$3),I$5,"") | ... AW8: =IF(AND($A8<=AW$2,$A8>=AW$3),AW$5,"") | AX8: =A7-0.0002 -> 1.3191 | AY8: =LEN(AZ8) -> 5 | AZ8: =CONCATENATE(B8,C8,D8,E8,F8,G8,H8,I8,J8,K8,L8,M8,N8,O8,P8,Q8,R8,S8,T8,U8,V8,W8,X8,Y8,Z8,AA8,AB8,AC8,AD8,AE8,AF8,AG8,AH8,AI8,AJ8,AK8,AL8,AM8,AN8,AO8,AP8,AQ8,AR8,AS8,AT8,AU8,AV8,AW8) -> +++++ | BA8: =LEN(AZ8) -> 5
A9: =A8-0.0002 -> 1.3189 | B9: =IF(AND($A9<=B$2,$A9>=B$3),B$5,"") | C9: =IF(AND($A9<=C$2,$A9>=C$3),C$5,"") | D9: =IF(AND($A9<=D$2,$A9>=D$3),D$5,"") | E9: =IF(AND($A9<=E$2,$A9>=E$3),E$5,"") | F9: =IF(AND($A9<=F$2,$A9>=F$3),F$5,"") | G9: =IF(AND($A9<=G$2,$A9>=G$3),G$5,"") | H9: =IF(AND($A9<=H$2,$A9>=H$3),H$5,"") | I9: =IF(AND($A9<=I$2,$A9>=I$3),I$5,"") | ... AW9: =IF(AND($A9<=AW$2,$A9>=AW$3),AW$5,"") | AX9: =A8-0.0002 -> 1.3189 | AY9: =LEN(AZ9) -> 6 | AZ9: =CONCATENATE(B9,C9,D9,E9,F9,G9,H9,I9,J9,K9,L9,M9,N9,O9,P9,Q9,R9,S9,T9,U9,V9,W9,X9,Y9,Z9,AA9,AB9,AC9,AD9,AE9,AF9,AG9,AH9,AI9,AJ9,AK9,AL9,AM9,AN9,AO9,AP9,AQ9,AR9,AS9,AT9,AU9,AV9,AW9) -> ++++++ | BA9: =LEN(AZ9) -> 6
A10: =A9-0.0002 -> 1.3187 | B10: =IF(AND($A10<=B$2,$A10>=B$3),B$5,"") | C10: =IF(AND($A10<=C$2,$A10>=C$3),C$5,"") | D10: =IF(AND($A10<=D$2,$A10>=D$3),D$5,"") | E10: =IF(AND($A10<=E$2,$A10>=E$3),E$5,"") | F10: =IF(AND($A10<=F$2,$A10>=F$3),F$5,"") | G10: =IF(AND($A10<=G$2,$A10>=G$3),G$5,"") | H10: =IF(AND($A10<=H$2,$A10>=H$3),H$5,"") | I10: =IF(AND($A10<=I$2,$A10>=I$3),I$5,"") | ... AW10: =IF(AND($A10<=AW$2,$A10>=AW$3),AW$5,"") | AX10: =A9-0.0002 -> 1.3187 | AY10: =LEN(AZ10) -> 9 | AZ10: =CONCATENATE(B10,C10,D10,E10,F10,G10,H10,I10,J10,K10,L10,M10,N10,O10,P10,Q10,R10,S10,T10,U10,V10,W10,X10,Y10,Z10,AA10,AB10,AC10,AD10,AE10,AF10,AG10,AH10,AI10,AJ10,AK10,AL10,AM10,AN10,AO10,AP10,AQ10,AR10,AS10,AT10,AU10,AV10,AW10) -> +++++++++ | BA10: =LEN(AZ10) -> 9
A11: =A10-0.0002 -> 1.3185 | B11: =IF(AND($A11<=B$2,$A11>=B$3),B$5,"") -> + | C11: =IF(AND($A11<=C$2,$A11>=C$3),C$5,"") | D11: =IF(AND($A11<=D$2,$A11>=D$3),D$5,"") | E11: =IF(AND($A11<=E$2,$A11>=E$3),E$5,"") | F11: =IF(AND($A11<=F$2,$A11>=F$3),F$5,"") | G11: =IF(AND($A11<=G$2,$A11>=G$3),G$5,"") | H11: =IF(AND($A11<=H$2,$A11>=H$3),H$5,"") | I11: =IF(AND($A11<=I$2,$A11>=I$3),I$5,"") | ... AW11: =IF(AND($A11<=AW$2,$A11>=AW$3),AW$5,"") | AX11: =A10-0.0002 -> 1.3185 | AY11: =LEN(AZ11) -> 11 | AZ11: =CONCATENATE(B11,C11,D11,E11,F11,G11,H11,I11,J11,K11,L11,M11,N11,O11,P11,Q11,R11,S11,T11,U11,V11,W11,X11,Y11,Z11,AA11,AB11,AC11,AD11,AE11,AF11,AG11,AH11,AI11,AJ11,AK11,AL11,AM11,AN11,AO11,AP11,AQ11,AR11,AS11,AT11,AU11,AV11,AW11) -> +++++++++++ | BA11: =LEN(AZ11) -> 11
A12: =A11-0.0002 -> 1.3183 | B12: =IF(AND($A12<=B$2,$A12>=B$3),B$5,"") -> + | C12: =IF(AND($A12<=C$2,$A12>=C$3),C$5,"") | D12: =IF(AND($A12<=D$2,$A12>=D$3),D$5,"") | E12: =IF(AND($A12<=E$2,$A12>=E$3),E$5,"") -> + | F12: =IF(AND($A12<=F$2,$A12>=F$3),F$5,"") | G12: =IF(AND($A12<=G$2,$A12>=G$3),G$5,"") | H12: =IF(AND($A12<=H$2,$A12>=H$3),H$5,"") | I12: =IF(AND($A12<=I$2,$A12>=I$3),I$5,"") | ... AW12: =IF(AND($A12<=AW$2,$A12>=AW$3),AW$5,"") | AX12: =A11-0.0002 -> 1.3183 | AY12: =LEN(AZ12) -> 9 | AZ12: =CONCATENATE(B12,C12,D12,E12,F12,G12,H12,I12,J12,K12,L12,M12,N12,O12,P12,Q12,R12,S12,T12,U12,V12,W12,X12,Y12,Z12,AA12,AB12,AC12,AD12,AE12,AF12,AG12,AH12,AI12,AJ12,AK12,AL12,AM12,AN12,AO12,AP12,AQ12,AR12,AS12,AT12,AU12,AV12,AW12) -> +++++++++ | BA12: =LEN(AZ12) -> 9
A13: =A12-0.0002 -> 1.3181 | B13: =IF(AND($A13<=B$2,$A13>=B$3),B$5,"") -> + | C13: =IF(AND($A13<=C$2,$A13>=C$3),C$5,"") -> + | D13: =IF(AND($A13<=D$2,$A13>=D$3),D$5,"") | E13: =IF(AND($A13<=E$2,$A13>=E$3),E$5,"") -> + | F13: =IF(AND($A13<=F$2,$A13>=F$3),F$5,"") -> + | G13: =IF(AND($A13<=G$2,$A13>=G$3),G$5,"") -> + | H13: =IF(AND($A13<=H$2,$A13>=H$3),H$5,"") -> + | I13: =IF(AND($A13<=I$2,$A13>=I$3),I$5,"") -> + | ... AW13: =IF(AND($A13<=AW$2,$A13>=AW$3),AW$5,"") | AX13: =A12-0.0002 -> 1.3181 | AY13: =LEN(AZ13) -> 15 | AZ13: =CONCATENATE(B13,C13,D13,E13,F13,G13,H13,I13,J13,K13,L13,M13,N13,O13,P13,Q13,R13,S13,T13,U13,V13,W13,X13,Y13,Z13,AA13,AB13,AC13,AD13,AE13,AF13,AG13,AH13,AI13,AJ13,AK13,AL13,AM13,AN13,AO13,AP13,AQ13,AR13,AS13,AT13,AU13,AV13,AW13) -> +++++++++++++++ | BA13: =LEN(AZ13) -> 15
A14: =A13-0.0002 -> 1.3179 | B14: =IF(AND($A14<=B$2,$A14>=B$3),B$5,"") | C14: =IF(AND($A14<=C$2,$A14>=C$3),C$5,"") | D14: =IF(AND($A14<=D$2,$A14>=D$3),D$5,"") -> + | E14: =IF(AND($A14<=E$2,$A14>=E$3),E$5,"") -> + | F14: =IF(AND($A14<=F$2,$A14>=F$3),F$5,"") | G14: =IF(AND($A14<=G$2,$A14>=G$3),G$5,"") | H14: =IF(AND($A14<=H$2,$A14>=H$3),H$5,"") -> + | I14: =IF(AND($A14<=I$2,$A14>=I$3),I$5,"") -> + | ... AW14: =IF(AND($A14<=AW$2,$A14>=AW$3),AW$5,"") | AX14: =A13-0.0002 -> 1.3179 | AY14: =LEN(AZ14) -> 14 | AZ14: =CONCATENATE(B14,C14,D14,E14,F14,G14,H14,I14,J14,K14,L14,M14,N14,O14,P14,Q14,R14,S14,T14,U14,V14,W14,X14,Y14,Z14,AA14,AB14,AC14,AD14,AE14,AF14,AG14,AH14,AI14,AJ14,AK14,AL14,AM14,AN14,AO14,AP14,AQ14,AR14,AS14,AT14,AU14,AV14,AW14) -> ++++++++++++++ | BA14: =LEN(AZ14) -> 14
A15: =A14-0.0002 -> 1.3177 | B15: =IF(AND($A15<=B$2,$A15>=B$3),B$5,"") | C15: =IF(AND($A15<=C$2,$A15>=C$3),C$5,"") | D15: =IF(AND($A15<=D$2,$A15>=D$3),D$5,"") | E15: =IF(AND($A15<=E$2,$A15>=E$3),E$5,"") | F15: =IF(AND($A15<=F$2,$A15>=F$3),F$5,"") | G15: =IF(AND($A15<=G$2,$A15>=G$3),G$5,"") | H15: =IF(AND($A15<=H$2,$A15>=H$3),H$5,"") | I15: =IF(AND($A15<=I$2,$A15>=I$3),I$5,"") | ... AW15: =IF(AND($A15<=AW$2,$A15>=AW$3),AW$5,"") | AX15: =A14-0.0002 -> 1.3177 | AY15: =LEN(AZ15) -> 10 | AZ15: =CONCATENATE(B15,C15,D15,E15,F15,G15,H15,I15,J15,K15,L15,M15,N15,O15,P15,Q15,R15,S15,T15,U15,V15,W15,X15,Y15,Z15,AA15,AB15,AC15,AD15,AE15,AF15,AG15,AH15,AI15,AJ15,AK15,AL15,AM15,AN15,AO15,AP15,AQ15,AR15,AS15,AT15,AU15,AV15,AW15) -> ++++++++++ | BA15: =LEN(AZ15) -> 10
A16: =A15-0.0002 -> 1.3175 | B16: =IF(AND($A16<=B$2,$A16>=B$3),B$5,"") | C16: =IF(AND($A16<=C$2,$A16>=C$3),C$5,"") | D16: =IF(AND($A16<=D$2,$A16>=D$3),D$5,"") | E16: =IF(AND($A16<=E$2,$A16>=E$3),E$5,"") | F16: =IF(AND($A16<=F$2,$A16>=F$3),F$5,"") | G16: =IF(AND($A16<=G$2,$A16>=G$3),G$5,"") | H16: =IF(AND($A16<=H$2,$A16>=H$3),H$5,"") | I16: =IF(AND($A16<=I$2,$A16>=I$3),I$5,"") | ... AW16: =IF(AND($A16<=AW$2,$A16>=AW$3),AW$5,"") | AX16: =A15-0.0002 -> 1.3175 | AY16: =LEN(AZ16) -> 11 | AZ16: =CONCATENATE(B16,C16,D16,E16,F16,G16,H16,I16,J16,K16,L16,M16,N16,O16,P16,Q16,R16,S16,T16,U16,V16,W16,X16,Y16,Z16,AA16,AB16,AC16,AD16,AE16,AF16,AG16,AH16,AI16,AJ16,AK16,AL16,AM16,AN16,AO16,AP16,AQ16,AR16,AS16,AT16,AU16,AV16,AW16) -> +++++++++++ | BA16: =LEN(AZ16) -> 11
A17: =A16-0.0002 -> 1.3173 | B17: =IF(AND($A17<=B$2,$A17>=B$3),B$5,"") | C17: =IF(AND($A17<=C$2,$A17>=C$3),C$5,"") | D17: =IF(AND($A17<=D$2,$A17>=D$3),D$5,"") | E17: =IF(AND($A17<=E$2,$A17>=E$3),E$5,"") | F17: =IF(AND($A17<=F$2,$A17>=F$3),F$5,"") | G17: =IF(AND($A17<=G$2,$A17>=G$3),G$5,"") | H17: =IF(AND($A17<=H$2,$A17>=H$3),H$5,"") | I17: =IF(AND($A17<=I$2,$A17>=I$3),I$5,"") | ... AW17: =IF(AND($A17<=AW$2,$A17>=AW$3),AW$5,"") | AX17: =A16-0.0002 -> 1.3173 | AY17: =LEN(AZ17) -> 9 | AZ17: =CONCATENATE(B17,C17,D17,E17,F17,G17,H17,I17,J17,K17,L17,M17,N17,O17,P17,Q17,R17,S17,T17,U17,V17,W17,X17,Y17,Z17,AA17,AB17,AC17,AD17,AE17,AF17,AG17,AH17,AI17,AJ17,AK17,AL17,AM17,AN17,AO17,AP17,AQ17,AR17,AS17,AT17,AU17,AV17,AW17) -> +++++++++ | BA17: =LEN(AZ17) -> 9
A18: =A17-0.0002 -> 1.3171 | B18: =IF(AND($A18<=B$2,$A18>=B$3),B$5,"") | C18: =IF(AND($A18<=C$2,$A18>=C$3),C$5,"") | D18: =IF(AND($A18<=D$2,$A18>=D$3),D$5,"") | E18: =IF(AND($A18<=E$2,$A18>=E$3),E$5,"") | F18: =IF(AND($A18<=F$2,$A18>=F$3),F$5,"") | G18: =IF(AND($A18<=G$2,$A18>=G$3),G$5,"") | H18: =IF(AND($A18<=H$2,$A18>=H$3),H$5,"") | I18: =IF(AND($A18<=I$2,$A18>=I$3),I$5,"") | ... AW18: =IF(AND($A18<=AW$2,$A18>=AW$3),AW$5,"") | AX18: =A17-0.0002 -> 1.3171 | AY18: =LEN(AZ18) -> 8 | AZ18: =CONCATENATE(B18,C18,D18,E18,F18,G18,H18,I18,J18,K18,L18,M18,N18,O18,P18,Q18,R18,S18,T18,U18,V18,W18,X18,Y18,Z18,AA18,AB18,AC18,AD18,AE18,AF18,AG18,AH18,AI18,AJ18,AK18,AL18,AM18,AN18,AO18,AP18,AQ18,AR18,AS18,AT18,AU18,AV18,AW18) -> ++++++++ | BA18: =LEN(AZ18) -> 8
... A1201: =A1200-0.0002 -> 1.0805 | B1201: =IF(AND($A1201<=B$2,$A1201>=B$3),B$5,"") | C1201: =IF(AND($A1201<=C$2,$A1201>=C$3),C$5,"") | D1201: =IF(AND($A1201<=D$2,$A1201>=D$3),D$5,"") | E1201: =IF(AND($A1201<=E$2,$A1201>=E$3),E$5,"") | F1201: =IF(AND($A1201<=F$2,$A1201>=F$3),F$5,"") | G1201: =IF(AND($A1201<=G$2,$A1201>=G$3),G$5,"") | H1201: =IF(AND($A1201<=H$2,$A1201>=H$3),H$5,"") | I1201: =IF(AND($A1201<=I$2,$A1201>=I$3),I$5,"") | ... AW1201: =IF(AND($A1201<=AW$2,$A1201>=AW$3),AW$5,"") | AX1201: =A1200-0.0002 -> 1.0805 | AY1201: =LEN(AZ1201) -> 0 | AZ1201: =CONCATENATE(B1201,C1201,D1201,E1201,F1201,G1201,H1201,I1201,J1201,K1201,L1201,M1201,N1201,O1201,P1201,Q1201,R1201,S1201,T1201,U1201,V1201,W1201,X1201,Y1201,Z1201,AA1201,AB1201,AC1201,AD1201,AE1201,AF1201,AG1201,AH1201,AI1201,AJ1201,AK1201,AL1201,AM1201,AN1201,AO1201,AP1201,AQ1201,AR1201,AS1201,AT1201,AU1201,AV1201,AW1201) | BA1201: =LEN(AZ1201) -> 0

Sheet Overlays
A1: 1 Day
A2: =MAX(Daily!AY6) -> 1 | B2: =REPT("+",A2) -> +
A3: =MAX(Daily!AY7) -> 3 | B3: =REPT("+",A3) -> +++
A4: =MAX(Daily!AY8) -> 5 | B4: =REPT("+",A4) -> +++++
A5: =MAX(Daily!AY9) -> 6 | B5: =REPT("+",A5) -> ++++++
A6: =MAX(Daily!AY10) -> 9 | B6: =REPT("+",A6) -> +++++++++
A7: =MAX(Daily!AY11) -> 11 | B7: =REPT("+",A7) -> +++++++++++
A8: =MAX(Daily!AY12) -> 9 | B8: =REPT("+",A8) -> +++++++++
A9: =MAX(Daily!AY13) -> 15 | B9: =REPT("+",A9) -> +++++++++++++++
A10: =MAX(Daily!AY14) -> 14 | B10: =REPT("+",A10) -> ++++++++++++++
A11: =MAX(Daily!AY15) -> 10 | B11: =REPT("+",A11) -> ++++++++++
A12: =MAX(Daily!AY16) -> 11 | B12: =REPT("+",A12) -> +++++++++++
A13: =MAX(Daily!AY17) -> 9 | B13: =REPT("+",A13) -> +++++++++
... A1197: =MAX(Daily!AY1201) -> 0 | B1197: =REPT("+",A1197)

Sheet Data
A1: Date | B1: Time | C1: Open | D1: High | E1: Low | F1: Close
A2: 2014.08.29 | B2: 0 | C2: 1.3183 | D2: 1.31852 | E2: 1.31801 | F2: 1.31806 | G2: 890
A3: 2014.08.29 | B3: 0.020833333 | C3: 1.31806 | D3: 1.31824 | E3: 1.31799 | F3: 1.31802 | G3: 1022
A4: 2014.08.29 | B4: 0.041666667 | C4: 1.31802 | D4: 1.31802 | E4: 1.31784 | F4: 1.31788 | G4: 641
A5: 2014.08.29 | B5: 0.0625 | C5: 1.3179 | D5: 1.3183 | E5: 1.31789 | F5: 1.31822 | G5: 432
A6: 2014.08.29 | B6: 0.083333333 | C6: 1.31822 | D6: 1.31825 | E6: 1.31797 | F6: 1.318 | G6: 405
A7: 2014.08.29 | B7: 0.10416667 | C7: 1.31799 | D7: 1.31811 | E7: 1.31796 | F7: 1.31797 | G7: 396
A8: 2014.08.29 | B8: 0.125 | C8: 1.31799 | D8: 1.31821 | E8: 1.31789 | F8: 1.31816 | G8: 648
A9: 2014.08.29 | B9: 0.14583333 | C9: 1.31818 | D9: 1.31818 | E9: 1.31788 | F9: 1.31788 | G9: 546
A10: 2014.08.29 | B10: 0.16666667 | C10: 1.31788 | D10: 1.31801 | E10: 1.31729 | F10: 1.31771 | G10: 1237
A11: 2014.08.29 | B11: 0.1875 | C11: 1.31769 | D11: 1.31769 | E11: 1.31731 | F11: 1.31737 | G11: 613
A12: 2014.08.29 | B12: 0.20833333 | C12: 1.31737 | D12: 1.3176 | E12: 1.31728 | F12: 1.31751 | G12: 592
A13: 2014.08.29 | B13: 0.22916667 | C13: 1.31751 | D13: 1.31783 | E13: 1.31738 | F13: 1.31744 | G13: 663
... A49: 2014.08.31 | B49: 0.97916667 | C49: 1.31277 | D49: 1.31281 | E49: 1.31235 | F49: 1.31258 | G49: 751

Sheet 12
A1: Date | B1: Time | C1: Open | D1: High | E1: Low | F1: Close
A2: 2014.08.29 | B2: 0 | C2: 1.3183 | D2: 1.31852 | E2: 1.31801 | F2: 1.31806 | G2: 890
A3: 2014.08.29 | B3: 0.020833333 | C3: 1.31806 | D3: 1.31824 | E3: 1.31799 | F3: 1.31802 | G3: 1022
A4: 2014.08.29 | B4: 0.041666667 | C4: 1.31802 | D4: 1.31802 | E4: 1.31784 | F4: 1.31788 | G4: 641
A5: 2014.08.29 | B5: 0.0625 | C5: 1.3179 | D5: 1.3183 | E5: 1.31789 | F5: 1.31822 | G5: 432
A6: 2014.08.29 | B6: 0.083333333 | C6: 1.31822 | D6: 1.31825 | E6: 1.31797 | F6: 1.318 | G6: 405
A7: 2014.08.29 | B7: 0.10416667 | C7: 1.31799 | D7: 1.31811 | E7: 1.31796 | F7: 1.31797 | G7: 396
A8: 2014.08.29 | B8: 0.125 | C8: 1.31799 | D8: 1.31821 | E8: 1.31789 | F8: 1.31816 | G8: 648
A9: 2014.08.29 | B9: 0.14583333 | C9: 1.31818 | D9: 1.31818 | E9: 1.31788 | F9: 1.31788 | G9: 546
A10: 2014.08.29 | B10: 0.16666667 | C10: 1.31788 | D10: 1.31801 | E10: 1.31729 | F10: 1.31771 | G10: 1237
A11: 2014.08.29 | B11: 0.1875 | C11: 1.31769 | D11: 1.31769 | E11: 1.31731 | F11: 1.31737 | G11: 613
A12: 2014.08.29 | B12: 0.20833333 | C12: 1.31737 | D12: 1.3176 | E12: 1.31728 | F12: 1.31751 | G12: 592
A13: 2014.08.29 | B13: 0.22916667 | C13: 1.31751 | D13: 1.31783 | E13: 1.31738 | F13: 1.31744 | G13: 663
... A49: 2014.08.31 | B49: 0.97916667 | C49: 1.31277 | D49: 1.31281 | E49: 1.31235 | F49: 1.31258 | G49: 751
