Workbook

Sheet Sheet1
C1: Time Frame(Low/High) | I1: Trend Strength
A2: ID | B2: Pairs | C2: M5 | D2: M15 | E2: H1 | F2: H4 | G2: D1 | H2: W1 | I2: LTS | J2: HTS | K2: TS
A3: 1 | B3: AUDCAD | C3: 1 | D3: -1 | E3: -1 | F3: -1 | G3: -1 | H3: -1 | I3: =SUM(C3:E3) -> -1 | J3: =SUM(F3:H3) -> -3 | K3: =AVERAGE(I3:J3) -> -2
A4: 2 | B4: AUDCHF | C4: -1 | D4: -1 | E4: -1 | F4: -1 | G4: -1 | H4: 1 | I4: =SUM(C4:E4) -> -3 | J4: =SUM(F4:H4) -> -1 | K4: =AVERAGE(I4:J4) -> -2
A5: 3 | B5: AUDJPY | C5: 1 | D5: 1 | E5: 1 | F5: 1 | G5: 1 | H5: 1 | I5: =SUM(C5:E5) -> 3 | J5: =SUM(F5:H5) -> 3 | K5: =AVERAGE(I5:J5) -> 3
A6: 4 | B6: AUDNZD | C6: 1 | D6: -1 | E6: 1 | F6: 1 | G6: 1 | H6: 1 | I6: =SUM(C6:E6) -> 1 | J6: =SUM(F6:H6) -> 3 | K6: =AVERAGE(I6:J6) -> 2
A7: 5 | B7: AUDUSD | C7: 1 | D7: -1 | E7: -1 | F7: -1 | G7: -1 | H7: 1 | I7: =SUM(C7:E7) -> -1 | J7: =SUM(F7:H7) -> -1 | K7: =AVERAGE(I7:J7) -> -1
A8: 6 | B8: CADCHF | C8: -1 | D8: 1 | E8: 1 | F8: 1 | G8: 1 | H8: 1 | I8: =SUM(C8:E8) -> 1 | J8: =SUM(F8:H8) -> 3 | K8: =AVERAGE(I8:J8) -> 2
A9: 7 | B9: CADJPY | C9: 1 | D9: 1 | E9: 1 | F9: 1 | G9: 1 | H9: 1 | I9: =SUM(C9:E9) -> 3 | J9: =SUM(F9:H9) -> 3 | K9: =AVERAGE(I9:J9) -> 3
A10: 8 | B10: CHFJPY | C10: 1 | D10: 1 | E10: 1 | F10: 1 | G10: 1 | H10: -1 | I10: =SUM(C10:E10) -> 3 | J10: =SUM(F10:H10) -> 1 | K10: =AVERAGE(I10:J10) -> 2
A11: 9 | B11: EURAUD | C11: 1 | D11: 1 | E11: 1 | F11: 1 | G11: 1 | H11: 1 | I11: =SUM(C11:E11) -> 3 | J11: =SUM(F11:H11) -> 3 | K11: =AVERAGE(I11:J11) -> 3
A12: 10 | B12: EURCAD | C12: 1 | D12: -1 | E12: 1 | F12: 1 | G12: 1 | H12: -1 | I12: =SUM(C12:E12) -> 1 | J12: =SUM(F12:H12) -> 1 | K12: =AVERAGE(I12:J12) -> 1
A13: 11 | B13: EURCHF | C13: -1 | D13: -1 | E13: 1 | F13: 1 | G13: 1 | H13: 1 | I13: =SUM(C13:E13) -> -1 | J13: =SUM(F13:H13) -> 3 | K13: =AVERAGE(I13:J13) -> 1
A14: 12 | B14: EURGBP | C14: -1 | D14: 1 | E14: 1 | F14: 1 | G14: 1 | H14: 1 | I14: =SUM(C14:E14) -> 1 | J14: =SUM(F14:H14) -> 3 | K14: =AVERAGE(I14:J14) -> 2
... A30: 28 | B30: USDJPY | C30: 1 | D30: 1 | E30: 1 | F30: 1 | G30: 1 | H30: 1 | I30: =SUM(C30:E30) -> 3 | J30: =SUM(F30:H30) -> 3 | K30: =AVERAGE(I30:J30) -> 3

Sheet Sheet2
A1: AUD | B1: Basket | C1: M5 | D1: M15 | E1: H1 | F1: H4 | G1: D1 | H1: W1 | I1: LTS | J1: HTS | K1: TS | L1: Buy | M1: Sell
A2: 1 | B2: =LOOKUP(Sheet2!A2,Sheet1!$A$3:$A$30,Sheet1!$B$3:$B$30) -> AUDCAD | C2: =LOOKUP($B2,Sheet1!$B$3:$B$30,Sheet1!C$3:C$30) -> 1 | D2: =LOOKUP($B2,Sheet1!$B$3:$B$30,Sheet1!D$3:D$30) -> -1 | E2: =LOOKUP($B2,Sheet1!$B$3:$B$30,Sheet1!E$3:E$30) -> -1 | F2: =LOOKUP($B2,Sheet1!$B$3:$B$30,Sheet1!F$3:F$30) -> -1 | G2: =LOOKUP($B2,Sheet1!$B$3:$B$30,Sheet1!G$3:G$30) -> -1 | H2: =LOOKUP($B2,Sheet1!$B$3:$B$30,Sheet1!H$3:H$30) -> -1 | I2: -1 | J2: =LOOKUP($B2,Sheet1!$B$3:$B$30,Sheet1!J$3:J$30) -> -3 | K2: =AVERAGE(I2:J2) -> -2
A3: 2 | B3: =LOOKUP(Sheet2!A3,Sheet1!$A$3:$A$30,Sheet1!$B$3:$B$30) -> AUDCHF | C3: =LOOKUP($B3,Sheet1!$B$3:$B$30,Sheet1!C$3:C$30) -> -1 | D3: =LOOKUP($B3,Sheet1!$B$3:$B$30,Sheet1!D$3:D$30) -> -1 | E3: =LOOKUP($B3,Sheet1!$B$3:$B$30,Sheet1!E$3:E$30) -> -1 | F3: =LOOKUP($B3,Sheet1!$B$3:$B$30,Sheet1!F$3:F$30) -> -1 | G3: =LOOKUP($B3,Sheet1!$B$3:$B$30,Sheet1!G$3:G$30) -> -1 | H3: =LOOKUP($B3,Sheet1!$B$3:$B$30,Sheet1!H$3:H$30) -> 1 | I3: =LOOKUP($B3,Sheet1!$B$3:$B$30,Sheet1!I$3:I$30) -> -3 | J3: =LOOKUP($B3,Sheet1!$B$3:$B$30,Sheet1!J$3:J$30) -> -1 | K3: =AVERAGE(I3:J3) -> -2
A4: 3 | B4: =LOOKUP(Sheet2!A4,Sheet1!$A$3:$A$30,Sheet1!$B$3:$B$30) -> AUDJPY | C4: =LOOKUP($B4,Sheet1!$B$3:$B$30,Sheet1!C$3:C$30) -> 1 | D4: =LOOKUP($B4,Sheet1!$B$3:$B$30,Sheet1!D$3:D$30) -> 1 | E4: =LOOKUP($B4,Sheet1!$B$3:$B$30,Sheet1!E$3:E$30) -> 1 | F4: =LOOKUP($B4,Sheet1!$B$3:$B$30,Sheet1!F$3:F$30) -> 1 | G4: =LOOKUP($B4,Sheet1!$B$3:$B$30,Sheet1!G$3:G$30) -> 1 | H4: =LOOKUP($B4,Sheet1!$B$3:$B$30,Sheet1!H$3:H$30) -> 1 | I4: =LOOKUP($B4,Sheet1!$B$3:$B$30,Sheet1!I$3:I$30) -> 3 | J4: =LOOKUP($B4,Sheet1!$B$3:$B$30,Sheet1!J$3:J$30) -> 3 | K4: =AVERAGE(I4:J4) -> 3
A5: 4 | B5: =LOOKUP(Sheet2!A5,Sheet1!$A$3:$A$30,Sheet1!$B$3:$B$30) -> AUDNZD | C5: =LOOKUP($B5,Sheet1!$B$3:$B$30,Sheet1!C$3:C$30) -> 1 | D5: =LOOKUP($B5,Sheet1!$B$3:$B$30,Sheet1!D$3:D$30) -> -1 | E5: =LOOKUP($B5,Sheet1!$B$3:$B$30,Sheet1!E$3:E$30) -> 1 | F5: =LOOKUP($B5,Sheet1!$B$3:$B$30,Sheet1!F$3:F$30) -> 1 | G5: =LOOKUP($B5,Sheet1!$B$3:$B$30,Sheet1!G$3:G$30) -> 1 | H5: =LOOKUP($B5,Sheet1!$B$3:$B$30,Sheet1!H$3:H$30) -> 1 | I5: =LOOKUP($B5,Sheet1!$B$3:$B$30,Sheet1!I$3:I$30) -> 1 | J5: =LOOKUP($B5,Sheet1!$B$3:$B$30,Sheet1!J$3:J$30) -> 3 | K5: =AVERAGE(I5:J5) -> 2
A6: 5 | B6: =LOOKUP(Sheet2!A6,Sheet1!$A$3:$A$30,Sheet1!$B$3:$B$30) -> AUDUSD | C6: =LOOKUP($B6,Sheet1!$B$3:$B$30,Sheet1!C$3:C$30) -> 1 | D6: =LOOKUP($B6,Sheet1!$B$3:$B$30,Sheet1!D$3:D$30) -> -1 | E6: =LOOKUP($B6,Sheet1!$B$3:$B$30,Sheet1!E$3:E$30) -> -1 | F6: =LOOKUP($B6,Sheet1!$B$3:$B$30,Sheet1!F$3:F$30) -> -1 | G6: =LOOKUP($B6,Sheet1!$B$3:$B$30,Sheet1!G$3:G$30) -> -1 | H6: =LOOKUP($B6,Sheet1!$B$3:$B$30,Sheet1!H$3:H$30) -> 1 | I6: =LOOKUP($B6,Sheet1!$B$3:$B$30,Sheet1!I$3:I$30) -> -1 | J6: =LOOKUP($B6,Sheet1!$B$3:$B$30,Sheet1!J$3:J$30) -> -1 | K6: =AVERAGE(I6:J6) -> -1
A7: 9 | B7: =LOOKUP(Sheet2!A7,Sheet1!$A$3:$A$30,Sheet1!$B$3:$B$30) -> EURAUD | C7: =LOOKUP($B7,Sheet1!$B$3:$B$30,Sheet1!C$3:C$30) -> 1 | D7: =LOOKUP($B7,Sheet1!$B$3:$B$30,Sheet1!D$3:D$30) -> 1 | E7: =LOOKUP($B7,Sheet1!$B$3:$B$30,Sheet1!E$3:E$30) -> 1 | F7: =LOOKUP($B7,Sheet1!$B$3:$B$30,Sheet1!F$3:F$30) -> 1 | G7: =LOOKUP($B7,Sheet1!$B$3:$B$30,Sheet1!G$3:G$30) -> 1 | H7: =LOOKUP($B7,Sheet1!$B$3:$B$30,Sheet1!H$3:H$30) -> 1 | I7: =LOOKUP($B7,Sheet1!$B$3:$B$30,Sheet1!I$3:I$30) -> 3 | J7: =LOOKUP($B7,Sheet1!$B$3:$B$30,Sheet1!J$3:J$30) -> 3 | K7: =AVERAGE(I7:J7) -> 3
A8: 16 | B8: =LOOKUP(Sheet2!A8,Sheet1!$A$3:$A$30,Sheet1!$B$3:$B$30) -> GBPAUD | C8: =LOOKUP($B8,Sheet1!$B$3:$B$30,Sheet1!C$3:C$30) -> -1 | D8: =LOOKUP($B8,Sheet1!$B$3:$B$30,Sheet1!D$3:D$30) -> -1 | E8: =LOOKUP($B8,Sheet1!$B$3:$B$30,Sheet1!E$3:E$30) -> 1 | F8: =LOOKUP($B8,Sheet1!$B$3:$B$30,Sheet1!F$3:F$30) -> 1 | G8: =LOOKUP($B8,Sheet1!$B$3:$B$30,Sheet1!G$3:G$30) -> 1 | H8: =LOOKUP($B8,Sheet1!$B$3:$B$30,Sheet1!H$3:H$30) -> -1 | I8: =LOOKUP($B8,Sheet1!$B$3:$B$30,Sheet1!I$3:I$30) -> -1 | J8: =LOOKUP($B8,Sheet1!$B$3:$B$30,Sheet1!J$3:J$30) -> 1 | K8: =AVERAGE(I8:J8) -> 0
A10: CAD | B10: Basket | C10: =C$1 -> M5 | D10: M15 | E10: H1 | F10: H4 | G10: D1 | H10: W1 | I10: LTS | J10: HTS | K10: TS
A11: 6 | B11: =LOOKUP(Sheet2!A11,Sheet1!$A$3:$A$30,Sheet1!$B$3:$B$30) -> CADCHF | C11: =LOOKUP($B11,Sheet1!$B$3:$B$30,Sheet1!C$3:C$30) -> -1 | D11: =LOOKUP($B11,Sheet1!$B$3:$B$30,Sheet1!D$3:D$30) -> 1 | E11: =LOOKUP($B11,Sheet1!$B$3:$B$30,Sheet1!E$3:E$30) -> 1 | F11: =LOOKUP($B11,Sheet1!$B$3:$B$30,Sheet1!F$3:F$30) -> 1 | G11: =LOOKUP($B11,Sheet1!$B$3:$B$30,Sheet1!G$3:G$30) -> 1 | H11: =LOOKUP($B11,Sheet1!$B$3:$B$30,Sheet1!H$3:H$30) -> 1 | I11: =LOOKUP($B11,Sheet1!$B$3:$B$30,Sheet1!I$3:I$30) -> 1 | J11: =LOOKUP($B11,Sheet1!$B$3:$B$30,Sheet1!J$3:J$30) -> 3 | K11: =AVERAGE(I11:J11) -> 2
A12: 7 | B12: =LOOKUP(Sheet2!A12,Sheet1!$A$3:$A$30,Sheet1!$B$3:$B$30) -> CADJPY | C12: =LOOKUP($B12,Sheet1!$B$3:$B$30,Sheet1!C$3:C$30) -> 1 | D12: =LOOKUP($B12,Sheet1!$B$3:$B$30,Sheet1!D$3:D$30) -> 1 | E12: =LOOKUP($B12,Sheet1!$B$3:$B$30,Sheet1!E$3:E$30) -> 1 | F12: =LOOKUP($B12,Sheet1!$B$3:$B$30,Sheet1!F$3:F$30) -> 1 | G12: =LOOKUP($B12,Sheet1!$B$3:$B$30,Sheet1!G$3:G$30) -> 1 | H12: =LOOKUP($B12,Sheet1!$B$3:$B$30,Sheet1!H$3:H$30) -> 1 | I12: =LOOKUP($B12,Sheet1!$B$3:$B$30,Sheet1!I$3:I$30) -> 3 | J12: =LOOKUP($B12,Sheet1!$B$3:$B$30,Sheet1!J$3:J$30) -> 3 | K12: =AVERAGE(I12:J12) -> 3
A13: 1 | B13: =LOOKUP(Sheet2!A13,Sheet1!$A$3:$A$30,Sheet1!$B$3:$B$30) -> AUDCAD | C13: =LOOKUP($B13,Sheet1!$B$3:$B$30,Sheet1!C$3:C$30) -> 1 | D13: =LOOKUP($B13,Sheet1!$B$3:$B$30,Sheet1!D$3:D$30) -> -1 | E13: =LOOKUP($B13,Sheet1!$B$3:$B$30,Sheet1!E$3:E$30) -> -1 | F13: =LOOKUP($B13,Sheet1!$B$3:$B$30,Sheet1!F$3:F$30) -> -1 | G13: =LOOKUP($B13,Sheet1!$B$3:$B$30,Sheet1!G$3:G$30) -> -1 | H13: =LOOKUP($B13,Sheet1!$B$3:$B$30,Sheet1!H$3:H$30) -> -1 | I13: =LOOKUP($B13,Sheet1!$B$3:$B$30,Sheet1!I$3:I$30) -> -1 | J13: =LOOKUP($B13,Sheet1!$B$3:$B$30,Sheet1!J$3:J$30) -> -3 | K13: =AVERAGE(I13:J13) -> -2
A14: 10 | B14: =LOOKUP(Sheet2!A14,Sheet1!$A$3:$A$30,Sheet1!$B$3:$B$30) -> EURCAD | C14: =LOOKUP($B14,Sheet1!$B$3:$B$30,Sheet1!C$3:C$30) -> 1 | D14: =LOOKUP($B14,Sheet1!$B$3:$B$30,Sheet1!D$3:D$30) -> -1 | E14: =LOOKUP($B14,Sheet1!$B$3:$B$30,Sheet1!E$3:E$30) -> 1 | F14: =LOOKUP($B14,Sheet1!$B$3:$B$30,Sheet1!F$3:F$30) -> 1 | G14: =LOOKUP($B14,Sheet1!$B$3:$B$30,Sheet1!G$3:G$30) -> 1 | H14: =LOOKUP($B14,Sheet1!$B$3:$B$30,Sheet1!H$3:H$30) -> -1 | I14: =LOOKUP($B14,Sheet1!$B$3:$B$30,Sheet1!I$3:I$30) -> 1 | J14: =LOOKUP($B14,Sheet1!$B$3:$B$30,Sheet1!J$3:J$30) -> 1 | K14: =AVERAGE(I14:J14) -> 1
A15: 17 | B15: =LOOKUP(Sheet2!A15,Sheet1!$A$3:$A$30,Sheet1!$B$3:$B$30) -> GBPCAD | C15: =LOOKUP($B15,Sheet1!$B$3:$B$30,Sheet1!C$3:C$30) -> 1 | D15: =LOOKUP($B15,Sheet1!$B$3:$B$30,Sheet1!D$3:D$30) -> -1 | E15: =LOOKUP($B15,Sheet1!$B$3:$B$30,Sheet1!E$3:E$30) -> -1 | F15: =LOOKUP($B15,Sheet1!$B$3:$B$30,Sheet1!F$3:F$30) -> -1 | G15: =LOOKUP($B15,Sheet1!$B$3:$B$30,Sheet1!G$3:G$30) -> -1 | H15: =LOOKUP($B15,Sheet1!$B$3:$B$30,Sheet1!H$3:H$30) -> -1 | I15: =LOOKUP($B15,Sheet1!$B$3:$B$30,Sheet1!I$3:I$30) -> -1 | J15: =LOOKUP($B15,Sheet1!$B$3:$B$30,Sheet1!J$3:J$30) -> -3 | K15: =AVERAGE(I15:J15) -> -2
A16: 22 | B16: =LOOKUP(Sheet2!A16,Sheet1!$A$3:$A$30,Sheet1!$B$3:$B$30) -> NZDCAD | C16: =LOOKUP($B16,Sheet1!$B$3:$B$30,Sheet1!C$3:C$30) -> 1 | D16: =LOOKUP($B16,Sheet1!$B$3:$B$30,Sheet1!D$3:D$30) -> -1 | E16: =LOOKUP($B16,Sheet1!$B$3:$B$30,Sheet1!E$3:E$30) -> -1 | F16: =LOOKUP($B16,Sheet1!$B$3:$B$30,Sheet1!F$3:F$30) -> -1 | G16: =LOOKUP($B16,Sheet1!$B$3:$B$30,Sheet1!G$3:G$30) -> -1 | H16: =LOOKUP($B16,Sheet1!$B$3:$B$30,Sheet1!H$3:H$30) -> -1 | I16: =LOOKUP($B16,Sheet1!$B$3:$B$30,Sheet1!I$3:I$30) -> -1 | J16: =LOOKUP($B16,Sheet1!$B$3:$B$30,Sheet1!J$3:J$30) -> -3 | K16: =AVERAGE(I16:J16) -> -2
A17: 26 | B17: =LOOKUP(Sheet2!A17,Sheet1!$A$3:$A$30,Sheet1!$B$3:$B$30) -> USDCAD | C17: =LOOKUP($B17,Sheet1!$B$3:$B$30,Sheet1!C$3:C$30) -> -1 | D17: =LOOKUP($B17,Sheet1!$B$3:$B$30,Sheet1!D$3:D$30) -> -1 | E17: =LOOKUP($B17,Sheet1!$B$3:$B$30,Sheet1!E$3:E$30) -> 1 | F17: =LOOKUP($B17,Sheet1!$B$3:$B$30,Sheet1!F$3:F$30) -> 1 | G17: =LOOKUP($B17,Sheet1!$B$3:$B$30,Sheet1!G$3:G$30) -> 1 | H17: =LOOKUP($B17,Sheet1!$B$3:$B$30,Sheet1!H$3:H$30) -> -1 | I17: =LOOKUP($B17,Sheet1!$B$3:$B$30,Sheet1!I$3:I$30) -> -1 | J17: =LOOKUP($B17,Sheet1!$B$3:$B$30,Sheet1!J$3:J$30) -> 1 | K17: =AVERAGE(I17:J17) -> 0
A19: CHF | B19: Basket | C19: M5 | D19: M15 | E19: H1 | F19: H4 | G19: D1 | H19: W1 | I19: LTS | J19: HTS | K19: TS
A20: 8 | B20: =LOOKUP(Sheet2!A20,Sheet1!$A$3:$A$30,Sheet1!$B$3:$B$30) -> CHFJPY | C20: =LOOKUP($B20,Sheet1!$B$3:$B$30,Sheet1!C$3:C$30) -> 1 | D20: =LOOKUP($B20,Sheet1!$B$3:$B$30,Sheet1!D$3:D$30) -> 1 | E20: =LOOKUP($B20,Sheet1!$B$3:$B$30,Sheet1!E$3:E$30) -> 1 | F20: =LOOKUP($B20,Sheet1!$B$3:$B$30,Sheet1!F$3:F$30) -> 1 | G20: =LOOKUP($B20,Sheet1!$B$3:$B$30,Sheet1!G$3:G$30) -> 1 | H20: =LOOKUP($B20,Sheet1!$B$3:$B$30,Sheet1!H$3:H$30) -> -1 | I20: =LOOKUP($B20,Sheet1!$B$3:$B$30,Sheet1!I$3:I$30) -> 3 | J20: =LOOKUP($B20,Sheet1!$B$3:$B$30,Sheet1!J$3:J$30) -> 1 | K20: =AVERAGE(I20:J20) -> 2
A21: 2 | B21: =LOOKUP(Sheet2!A21,Sheet1!$A$3:$A$30,Sheet1!$B$3:$B$30) -> AUDCHF | C21: =LOOKUP($B21,Sheet1!$B$3:$B$30,Sheet1!C$3:C$30) -> -1 | D21: =LOOKUP($B21,Sheet1!$B$3:$B$30,Sheet1!D$3:D$30) -> -1 | E21: =LOOKUP($B21,Sheet1!$B$3:$B$30,Sheet1!E$3:E$30) -> -1 | F21: =LOOKUP($B21,Sheet1!$B$3:$B$30,Sheet1!F$3:F$30) -> -1 | G21: =LOOKUP($B21,Sheet1!$B$3:$B$30,Sheet1!G$3:G$30) -> -1 | H21: =LOOKUP($B21,Sheet1!$B$3:$B$30,Sheet1!H$3:H$30) -> 1 | I21: =LOOKUP($B21,Sheet1!$B$3:$B$30,Sheet1!I$3:I$30) -> -3 | J21: =LOOKUP($B21,Sheet1!$B$3:$B$30,Sheet1!J$3:J$30) -> -1 | K21: =AVERAGE(I21:J21) -> -2
A22: 6 | B22: =LOOKUP(Sheet2!A22,Sheet1!$A$3:$A$30,Sheet1!$B$3:$B$30) -> CADCHF | C22: =LOOKUP($B22,Sheet1!$B$3:$B$30,Sheet1!C$3:C$30) -> -1 | D22: =LOOKUP($B22,Sheet1!$B$3:$B$30,Sheet1!D$3:D$30) -> 1 | E22: =LOOKUP($B22,Sheet1!$B$3:$B$30,Sheet1!E$3:E$30) -> 1 | F22: =LOOKUP($B22,Sheet1!$B$3:$B$30,Sheet1!F$3:F$30) -> 1 | G22: =LOOKUP($B22,Sheet1!$B$3:$B$30,Sheet1!G$3:G$30) -> 1 | H22: =LOOKUP($B22,Sheet1!$B$3:$B$30,Sheet1!H$3:H$30) -> 1 | I22: =LOOKUP($B22,Sheet1!$B$3:$B$30,Sheet1!I$3:I$30) -> 1 | J22: =LOOKUP($B22,Sheet1!$B$3:$B$30,Sheet1!J$3:J$30) -> 3 | K22: =AVERAGE(I22:J22) -> 2
A23: 11 | B23: =LOOKUP(Sheet2!A23,Sheet1!$A$3:$A$30,Sheet1!$B$3:$B$30) -> EURCHF | C23: =LOOKUP($B23,Sheet1!$B$3:$B$30,Sheet1!C$3:C$30) -> -1 | D23: =LOOKUP($B23,Sheet1!$B$3:$B$30,Sheet1!D$3:D$30) -> -1 | E23: =LOOKUP($B23,Sheet1!$B$3:$B$30,Sheet1!E$3:E$30) -> 1 | F23: =LOOKUP($B23,Sheet1!$B$3:$B$30,Sheet1!F$3:F$30) -> 1 | G23: =LOOKUP($B23,Sheet1!$B$3:$B$30,Sheet1!G$3:G$30) -> 1 | H23: =LOOKUP($B23,Sheet1!$B$3:$B$30,Sheet1!H$3:H$30) -> 1 | I23: =LOOKUP($B23,Sheet1!$B$3:$B$30,Sheet1!I$3:I$30) -> -1 | J23: =LOOKUP($B23,Sheet1!$B$3:$B$30,Sheet1!J$3:J$30) -> 3 | K23: =AVERAGE(I23:J23) -> 1
A24: 18 | B24: =LOOKUP(Sheet2!A24,Sheet1!$A$3:$A$30,Sheet1!$B$3:$B$30) -> GBPCHF | C24: =LOOKUP($B24,Sheet1!$B$3:$B$30,Sheet1!C$3:C$30) -> -1 | D24: =LOOKUP($B24,Sheet1!$B$3:$B$30,Sheet1!D$3:D$30) -> -1 | E24: =LOOKUP($B24,Sheet1!$B$3:$B$30,Sheet1!E$3:E$30) -> -1 | F24: =LOOKUP($B24,Sheet1!$B$3:$B$30,Sheet1!F$3:F$30) -> -1 | G24: =LOOKUP($B24,Sheet1!$B$3:$B$30,Sheet1!G$3:G$30) -> -1 | H24: =LOOKUP($B24,Sheet1!$B$3:$B$30,Sheet1!H$3:H$30) -> 1 | I24: =LOOKUP($B24,Sheet1!$B$3:$B$30,Sheet1!I$3:I$30) -> -3 | J24: =LOOKUP($B24,Sheet1!$B$3:$B$30,Sheet1!J$3:J$30) -> -1 | K24: =AVERAGE(I24:J24) -> -2
A25: 23 | B25: =LOOKUP(Sheet2!A25,Sheet1!$A$3:$A$30,Sheet1!$B$3:$B$30) -> NZDCHF | C25: =LOOKUP($B25,Sheet1!$B$3:$B$30,Sheet1!C$3:C$30) -> -1 | D25: =LOOKUP($B25,Sheet1!$B$3:$B$30,Sheet1!D$3:D$30) -> 1 | E25: =LOOKUP($B25,Sheet1!$B$3:$B$30,Sheet1!E$3:E$30) -> -1 | F25: =LOOKUP($B25,Sheet1!$B$3:$B$30,Sheet1!F$3:F$30) -> -1 | G25: =LOOKUP($B25,Sheet1!$B$3:$B$30,Sheet1!G$3:G$30) -> -1 | H25: =LOOKUP($B25,Sheet1!$B$3:$B$30,Sheet1!H$3:H$30) -> 1 | I25: =LOOKUP($B25,Sheet1!$B$3:$B$30,Sheet1!I$3:I$30) -> -1 | J25: =LOOKUP($B25,Sheet1!$B$3:$B$30,Sheet1!J$3:J$30) -> -1 | K25: =AVERAGE(I25:J25) -> -1
A26: 27 | B26: =LOOKUP(Sheet2!A26,Sheet1!$A$3:$A$30,Sheet1!$B$3:$B$30) -> USDCHF | C26: =LOOKUP($B26,Sheet1!$B$3:$B$30,Sheet1!C$3:C$30) -> -1 | D26: =LOOKUP($B26,Sheet1!$B$3:$B$30,Sheet1!D$3:D$30) -> -1 | E26: =LOOKUP($B26,Sheet1!$B$3:$B$30,Sheet1!E$3:E$30) -> 1 | F26: =LOOKUP($B26,Sheet1!$B$3:$B$30,Sheet1!F$3:F$30) -> 1 | G26: =LOOKUP($B26,Sheet1!$B$3:$B$30,Sheet1!G$3:G$30) -> 1 | H26: =LOOKUP($B26,Sheet1!$B$3:$B$30,Sheet1!H$3:H$30) -> 1 | I26: =LOOKUP($B26,Sheet1!$B$3:$B$30,Sheet1!I$3:I$30) -> -1 | J26: =LOOKUP($B26,Sheet1!$B$3:$B$30,Sheet1!J$3:J$30) -> 3 | K26: =AVERAGE(I26:J26) -> 1
A28: EUR | B28: Basket | C28: M5 | D28: M15 | E28: H1 | F28: H4 | G28: D1 | H28: W1 | I28: LTS | J28: HTS | K28: TS
A29: 9 | B29: =LOOKUP(Sheet2!A29,Sheet1!$A$3:$A$30,Sheet1!$B$3:$B$30) -> EURAUD | C29: =LOOKUP($B29,Sheet1!$B$3:$B$30,Sheet1!C$3:C$30) -> 1 | D29: =LOOKUP($B29,Sheet1!$B$3:$B$30,Sheet1!D$3:D$30) -> 1 | E29: =LOOKUP($B29,Sheet1!$B$3:$B$30,Sheet1!E$3:E$30) -> 1 | F29: =LOOKUP($B29,Sheet1!$B$3:$B$30,Sheet1!F$3:F$30) -> 1 | G29: =LOOKUP($B29,Sheet1!$B$3:$B$30,Sheet1!G$3:G$30) -> 1 | H29: =LOOKUP($B29,Sheet1!$B$3:$B$30,Sheet1!H$3:H$30) -> 1 | I29: =LOOKUP($B29,Sheet1!$B$3:$B$30,Sheet1!I$3:I$30) -> 3 | J29: =LOOKUP($B29,Sheet1!$B$3:$B$30,Sheet1!J$3:J$30) -> 3 | K29: =AVERAGE(I29:J29) -> 3
A30: 10 | B30: =LOOKUP(Sheet2!A30,Sheet1!$A$3:$A$30,Sheet1!$B$3:$B$30) -> EURCAD | C30: =LOOKUP($B30,Sheet1!$B$3:$B$30,Sheet1!C$3:C$30) -> 1 | D30: =LOOKUP($B30,Sheet1!$B$3:$B$30,Sheet1!D$3:D$30) -> -1 | E30: =LOOKUP($B30,Sheet1!$B$3:$B$30,Sheet1!E$3:E$30) -> 1 | F30: =LOOKUP($B30,Sheet1!$B$3:$B$30,Sheet1!F$3:F$30) -> 1 | G30: =LOOKUP($B30,Sheet1!$B$3:$B$30,Sheet1!G$3:G$30) -> 1 | H30: =LOOKUP($B30,Sheet1!$B$3:$B$30,Sheet1!H$3:H$30) -> -1 | I30: =LOOKUP($B30,Sheet1!$B$3:$B$30,Sheet1!I$3:I$30) -> 1 | J30: =LOOKUP($B30,Sheet1!$B$3:$B$30,Sheet1!J$3:J$30) -> 1 | K30: =AVERAGE(I30:J30) -> 1
A31: 11 | B31: =LOOKUP(Sheet2!A31,Sheet1!$A$3:$A$30,Sheet1!$B$3:$B$30) -> EURCHF | C31: =LOOKUP($B31,Sheet1!$B$3:$B$30,Sheet1!C$3:C$30) -> -1 | D31: =LOOKUP($B31,Sheet1!$B$3:$B$30,Sheet1!D$3:D$30) -> -1 | E31: =LOOKUP($B31,Sheet1!$B$3:$B$30,Sheet1!E$3:E$30) -> 1 | F31: =LOOKUP($B31,Sheet1!$B$3:$B$30,Sheet1!F$3:F$30) -> 1 | G31: =LOOKUP($B31,Sheet1!$B$3:$B$30,Sheet1!G$3:G$30) -> 1 | H31: =LOOKUP($B31,Sheet1!$B$3:$B$30,Sheet1!H$3:H$30) -> 1 | I31: =LOOKUP($B31,Sheet1!$B$3:$B$30,Sheet1!I$3:I$30) -> -1 | J31: =LOOKUP($B31,Sheet1!$B$3:$B$30,Sheet1!J$3:J$30) -> 3 | K31: =AVERAGE(I31:J31) -> 1
A32: 12 | B32: =LOOKUP(Sheet2!A32,Sheet1!$A$3:$A$30,Sheet1!$B$3:$B$30) -> EURGBP | C32: =LOOKUP($B32,Sheet1!$B$3:$B$30,Sheet1!C$3:C$30) -> -1 | D32: =LOOKUP($B32,Sheet1!$B$3:$B$30,Sheet1!D$3:D$30) -> 1 | E32: =LOOKUP($B32,Sheet1!$B$3:$B$30,Sheet1!E$3:E$30) -> 1 | F32: =LOOKUP($B32,Sheet1!$B$3:$B$30,Sheet1!F$3:F$30) -> 1 | G32: =LOOKUP($B32,Sheet1!$B$3:$B$30,Sheet1!G$3:G$30) -> 1 | H32: =LOOKUP($B32,Sheet1!$B$3:$B$30,Sheet1!H$3:H$30) -> 1 | I32: =LOOKUP($B32,Sheet1!$B$3:$B$30,Sheet1!I$3:I$30) -> 1 | J32: =LOOKUP($B32,Sheet1!$B$3:$B$30,Sheet1!J$3:J$30) -> 3 | K32: =AVERAGE(I32:J32) -> 2
A33: 13 | B33: =LOOKUP(Sheet2!A33,Sheet1!$A$3:$A$30,Sheet1!$B$3:$B$30) -> EURJPY | C33: =LOOKUP($B33,Sheet1!$B$3:$B$30,Sheet1!C$3:C$30) -> 1 | D33: =LOOKUP($B33,Sheet1!$B$3:$B$30,Sheet1!D$3:D$30) -> 1 | E33: =LOOKUP($B33,Sheet1!$B$3:$B$30,Sheet1!E$3:E$30) -> 1 | F33: =LOOKUP($B33,Sheet1!$B$3:$B$30,Sheet1!F$3:F$30) -> 1 | G33: =LOOKUP($B33,Sheet1!$B$3:$B$30,Sheet1!G$3:G$30) -> 1 | H33: =LOOKUP($B33,Sheet1!$B$3:$B$30,Sheet1!H$3:H$30) -> 1 | I33: =LOOKUP($B33,Sheet1!$B$3:$B$30,Sheet1!I$3:I$30) -> 3 | J33: =LOOKUP($B33,Sheet1!$B$3:$B$30,Sheet1!J$3:J$30) -> 3 | K33: =AVERAGE(I33:J33) -> 3
A34: 14 | B34: =LOOKUP(Sheet2!A34,Sheet1!$A$3:$A$30,Sheet1!$B$3:$B$30) -> EURNZD | C34: =LOOKUP($B34,Sheet1!$B$3:$B$30,Sheet1!C$3:C$30) -> 1 | D34: =LOOKUP($B34,Sheet1!$B$3:$B$30,Sheet1!D$3:D$30) -> -1 | E34: =LOOKUP($B34,Sheet1!$B$3:$B$30,Sheet1!E$3:E$30) -> 1 | F34: =LOOKUP($B34,Sheet1!$B$3:$B$30,Sheet1!F$3:F$30) -> 1 | G34: =LOOKUP($B34,Sheet1!$B$3:$B$30,Sheet1!G$3:G$30) -> 1 | H34: =LOOKUP($B34,Sheet1!$B$3:$B$30,Sheet1!H$3:H$30) -> -1 | I34: =LOOKUP($B34,Sheet1!$B$3:$B$30,Sheet1!I$3:I$30) -> 1 | J34: =LOOKUP($B34,Sheet1!$B$3:$B$30,Sheet1!J$3:J$30) -> 1 | K34: =AVERAGE(I34:J34) -> 1
A35: 15 | B35: =LOOKUP(Sheet2!A35,Sheet1!$A$3:$A$30,Sheet1!$B$3:$B$30) -> EURUSD | C35: =LOOKUP($B35,Sheet1!$B$3:$B$30,Sheet1!C$3:C$30) -> 1 | D35: =LOOKUP($B35,Sheet1!$B$3:$B$30,Sheet1!D$3:D$30) -> 1 | E35: =LOOKUP($B35,Sheet1!$B$3:$B$30,Sheet1!E$3:E$30) -> -1 | F35: =LOOKUP($B35,Sheet1!$B$3:$B$30,Sheet1!F$3:F$30) -> -1 | G35: =LOOKUP($B35,Sheet1!$B$3:$B$30,Sheet1!G$3:G$30) -> -1 | H35: =LOOKUP($B35,Sheet1!$B$3:$B$30,Sheet1!H$3:H$30) -> 1 | I35: =LOOKUP($B35,Sheet1!$B$3:$B$30,Sheet1!I$3:I$30) -> 1 | J35: =LOOKUP($B35,Sheet1!$B$3:$B$30,Sheet1!J$3:J$30) -> -1 | K35: =AVERAGE(I35:J35) -> 0
A37: GBP | B37: Basket | C37: M5 | D37: M15 | E37: H1 | F37: H4 | G37: D1 | H37: W1 | I37: LTS | J37: HTS | K37: TS
A38: 12 | B38: =LOOKUP(Sheet2!A38,Sheet1!$A$3:$A$30,Sheet1!$B$3:$B$30) -> EURGBP | C38: =LOOKUP($B38,Sheet1!$B$3:$B$30,Sheet1!C$3:C$30) -> -1 | D38: =LOOKUP($B38,Sheet1!$B$3:$B$30,Sheet1!D$3:D$30) -> 1 | E38: =LOOKUP($B38,Sheet1!$B$3:$B$30,Sheet1!E$3:E$30) -> 1 | F38: =LOOKUP($B38,Sheet1!$B$3:$B$30,Sheet1!F$3:F$30) -> 1 | G38: =LOOKUP($B38,Sheet1!$B$3:$B$30,Sheet1!G$3:G$30) -> 1 | H38: =LOOKUP($B38,Sheet1!$B$3:$B$30,Sheet1!H$3:H$30) -> 1 | I38: =LOOKUP($B38,Sheet1!$B$3:$B$30,Sheet1!I$3:I$30) -> 1 | J38: =LOOKUP($B38,Sheet1!$B$3:$B$30,Sheet1!J$3:J$30) -> 3 | K38: =AVERAGE(I38:J38) -> 2
A39: 16 | B39: =LOOKUP(Sheet2!A39,Sheet1!$A$3:$A$30,Sheet1!$B$3:$B$30) -> GBPAUD | C39: =LOOKUP($B39,Sheet1!$B$3:$B$30,Sheet1!C$3:C$30) -> -1 | D39: =LOOKUP($B39,Sheet1!$B$3:$B$30,Sheet1!D$3:D$30) -> -1 | E39: =LOOKUP($B39,Sheet1!$B$3:$B$30,Sheet1!E$3:E$30) -> 1 | F39: =LOOKUP($B39,Sheet1!$B$3:$B$30,Sheet1!F$3:F$30) -> 1 | G39: =LOOKUP($B39,Sheet1!$B$3:$B$30,Sheet1!G$3:G$30) -> 1 | H39: =LOOKUP($B39,Sheet1!$B$3:$B$30,Sheet1!H$3:H$30) -> -1 | I39: =LOOKUP($B39,Sheet1!$B$3:$B$30,Sheet1!I$3:I$30) -> -1 | J39: =LOOKUP($B39,Sheet1!$B$3:$B$30,Sheet1!J$3:J$30) -> 1 | K39: =AVERAGE(I39:J39) -> 0
A40: 17 | B40: =LOOKUP(Sheet2!A40,Sheet1!$A$3:$A$30,Sheet1!$B$3:$B$30) -> GBPCAD | C40: =LOOKUP($B40,Sheet1!$B$3:$B$30,Sheet1!C$3:C$30) -> 1 | D40: =LOOKUP($B40,Sheet1!$B$3:$B$30,Sheet1!D$3:D$30) -> -1 | E40: =LOOKUP($B40,Sheet1!$B$3:$B$30,Sheet1!E$3:E$30) -> -1 | F40: =LOOKUP($B40,Sheet1!$B$3:$B$30,Sheet1!F$3:F$30) -> -1 | G40: =LOOKUP($B40,Sheet1!$B$3:$B$30,Sheet1!G$3:G$30) -> -1 | H40: =LOOKUP($B40,Sheet1!$B$3:$B$30,Sheet1!H$3:H$30) -> -1 | I40: =LOOKUP($B40,Sheet1!$B$3:$B$30,Sheet1!I$3:I$30) -> -1 | J40: =LOOKUP($B40,Sheet1!$B$3:$B$30,Sheet1!J$3:J$30) -> -3 | K40: =AVERAGE(I40:J40) -> -2
A41: 18 | B41: =LOOKUP(Sheet2!A41,Sheet1!$A$3:$A$30,Sheet1!$B$3:$B$30) -> GBPCHF | C41: =LOOKUP($B41,Sheet1!$B$3:$B$30,Sheet1!C$3:C$30) -> -1 | D41: =LOOKUP($B41,Sheet1!$B$3:$B$30,Sheet1!D$3:D$30) -> -1 | E41: =LOOKUP($B41,Sheet1!$B$3:$B$30,Sheet1!E$3:E$30) -> -1 | F41: =LOOKUP($B41,Sheet1!$B$3:$B$30,Sheet1!F$3:F$30) -> -1 | G41: =LOOKUP($B41,Sheet1!$B$3:$B$30,Sheet1!G$3:G$30) -> -1 | H41: =LOOKUP($B41,Sheet1!$B$3:$B$30,Sheet1!H$3:H$30) -> 1 | I41: =LOOKUP($B41,Sheet1!$B$3:$B$30,Sheet1!I$3:I$30) -> -3 | J41: =LOOKUP($B41,Sheet1!$B$3:$B$30,Sheet1!J$3:J$30) -> -1 | K41: =AVERAGE(I41:J41) -> -2
A42: 19 | B42: =LOOKUP(Sheet2!A42,Sheet1!$A$3:$A$30,Sheet1!$B$3:$B$30) -> GBPJPY | C42: =LOOKUP($B42,Sheet1!$B$3:$B$30,Sheet1!C$3:C$30) -> 1 | D42: =LOOKUP($B42,Sheet1!$B$3:$B$30,Sheet1!D$3:D$30) -> -1 | E42: =LOOKUP($B42,Sheet1!$B$3:$B$30,Sheet1!E$3:E$30) -> 1 | F42: =LOOKUP($B42,Sheet1!$B$3:$B$30,Sheet1!F$3:F$30) -> 1 | G42: =LOOKUP($B42,Sheet1!$B$3:$B$30,Sheet1!G$3:G$30) -> 1 | H42: =LOOKUP($B42,Sheet1!$B$3:$B$30,Sheet1!H$3:H$30) -> -1 | I42: =LOOKUP($B42,Sheet1!$B$3:$B$30,Sheet1!I$3:I$30) -> 1 | J42: =LOOKUP($B42,Sheet1!$B$3:$B$30,Sheet1!J$3:J$30) -> 1 | K42: =AVERAGE(I42:J42) -> 1
A43: 20 | B43: =LOOKUP(Sheet2!A43,Sheet1!$A$3:$A$30,Sheet1!$B$3:$B$30) -> GBPNZD | C43: =LOOKUP($B43,Sheet1!$B$3:$B$30,Sheet1!C$3:C$30) -> 1 | D43: =LOOKUP($B43,Sheet1!$B$3:$B$30,Sheet1!D$3:D$30) -> -1 | E43: =LOOKUP($B43,Sheet1!$B$3:$B$30,Sheet1!E$3:E$30) -> -1 | F43: =LOOKUP($B43,Sheet1!$B$3:$B$30,Sheet1!F$3:F$30) -> -1 | G43: =LOOKUP($B43,Sheet1!$B$3:$B$30,Sheet1!G$3:G$30) -> -1 | H43: =LOOKUP($B43,Sheet1!$B$3:$B$30,Sheet1!H$3:H$30) -> -1 | I43: =LOOKUP($B43,Sheet1!$B$3:$B$30,Sheet1!I$3:I$30) -> -1 | J43: =LOOKUP($B43,Sheet1!$B$3:$B$30,Sheet1!J$3:J$30) -> -3 | K43: =AVERAGE(I43:J43) -> -2
A44: 21 | B44: =LOOKUP(Sheet2!A44,Sheet1!$A$3:$A$30,Sheet1!$B$3:$B$30) -> GBPUSD | C44: =LOOKUP($B44,Sheet1!$B$3:$B$30,Sheet1!C$3:C$30) -> 1 | D44: =LOOKUP($B44,Sheet1!$B$3:$B$30,Sheet1!D$3:D$30) -> -1 | E44: =LOOKUP($B44,Sheet1!$B$3:$B$30,Sheet1!E$3:E$30) -> -1 | F44: =LOOKUP($B44,Sheet1!$B$3:$B$30,Sheet1!F$3:F$30) -> -1 | G44: =LOOKUP($B44,Sheet1!$B$3:$B$30,Sheet1!G$3:G$30) -> -1 | H44: =LOOKUP($B44,Sheet1!$B$3:$B$30,Sheet1!H$3:H$30) -> -1 | I44: =LOOKUP($B44,Sheet1!$B$3:$B$30,Sheet1!I$3:I$30) -> -1 | J44: =LOOKUP($B44,Sheet1!$B$3:$B$30,Sheet1!J$3:J$30) -> -3 | K44: =AVERAGE(I44:J44) -> -2
A46: JPY | B46: Basket | C46: M5 | D46: M15 | E46: H1 | F46: H4 | G46: D1 | H46: W1 | I46: LTS | J46: HTS | K46: TS
A47: 3 | B47: =LOOKUP(Sheet2!A47,Sheet1!$A$3:$A$30,Sheet1!$B$3:$B$30) -> AUDJPY | C47: =LOOKUP($B47,Sheet1!$B$3:$B$30,Sheet1!C$3:C$30) -> 1 | D47: =LOOKUP($B47,Sheet1!$B$3:$B$30,Sheet1!D$3:D$30) -> 1 | E47: =LOOKUP($B47,Sheet1!$B$3:$B$30,Sheet1!E$3:E$30) -> 1 | F47: =LOOKUP($B47,Sheet1!$B$3:$B$30,Sheet1!F$3:F$30) -> 1 | G47: =LOOKUP($B47,Sheet1!$B$3:$B$30,Sheet1!G$3:G$30) -> 1 | H47: =LOOKUP($B47,Sheet1!$B$3:$B$30,Sheet1!H$3:H$30) -> 1 | I47: =LOOKUP($B47,Sheet1!$B$3:$B$30,Sheet1!I$3:I$30) -> 3 | J47: =LOOKUP($B47,Sheet1!$B$3:$B$30,Sheet1!J$3:J$30) -> 3 | K47: =AVERAGE(I47:J47) -> 3
A48: 7 | B48: =LOOKUP(Sheet2!A48,Sheet1!$A$3:$A$30,Sheet1!$B$3:$B$30) -> CADJPY | C48: =LOOKUP($B48,Sheet1!$B$3:$B$30,Sheet1!C$3:C$30) -> 1 | D48: =LOOKUP($B48,Sheet1!$B$3:$B$30,Sheet1!D$3:D$30) -> 1 | E48: =LOOKUP($B48,Sheet1!$B$3:$B$30,Sheet1!E$3:E$30) -> 1 | F48: =LOOKUP($B48,Sheet1!$B$3:$B$30,Sheet1!F$3:F$30) -> 1 | G48: =LOOKUP($B48,Sheet1!$B$3:$B$30,Sheet1!G$3:G$30) -> 1 | H48: =LOOKUP($B48,Sheet1!$B$3:$B$30,Sheet1!H$3:H$30) -> 1 | I48: =LOOKUP($B48,Sheet1!$B$3:$B$30,Sheet1!I$3:I$30) -> 3 | J48: =LOOKUP($B48,Sheet1!$B$3:$B$30,Sheet1!J$3:J$30) -> 3 | K48: =AVERAGE(I48:J48) -> 3
A49: 8 | B49: =LOOKUP(Sheet2!A49,Sheet1!$A$3:$A$30,Sheet1!$B$3:$B$30) -> CHFJPY | C49: =LOOKUP($B49,Sheet1!$B$3:$B$30,Sheet1!C$3:C$30) -> 1 | D49: =LOOKUP($B49,Sheet1!$B$3:$B$30,Sheet1!D$3:D$30) -> 1 | E49: =LOOKUP($B49,Sheet1!$B$3:$B$30,Sheet1!E$3:E$30) -> 1 | F49: =LOOKUP($B49,Sheet1!$B$3:$B$30,Sheet1!F$3:F$30) -> 1 | G49: =LOOKUP($B49,Sheet1!$B$3:$B$30,Sheet1!G$3:G$30) -> 1 | H49: =LOOKUP($B49,Sheet1!$B$3:$B$30,Sheet1!H$3:H$30) -> -1 | I49: =LOOKUP($B49,Sheet1!$B$3:$B$30,Sheet1!I$3:I$30) -> 3 | J49: =LOOKUP($B49,Sheet1!$B$3:$B$30,Sheet1!J$3:J$30) -> 1 | K49: =AVERAGE(I49:J49) -> 2
A50: 13 | B50: =LOOKUP(Sheet2!A50,Sheet1!$A$3:$A$30,Sheet1!$B$3:$B$30) -> EURJPY | C50: =LOOKUP($B50,Sheet1!$B$3:$B$30,Sheet1!C$3:C$30) -> 1 | D50: =LOOKUP($B50,Sheet1!$B$3:$B$30,Sheet1!D$3:D$30) -> 1 | E50: =LOOKUP($B50,Sheet1!$B$3:$B$30,Sheet1!E$3:E$30) -> 1 | F50: =LOOKUP($B50,Sheet1!$B$3:$B$30,Sheet1!F$3:F$30) -> 1 | G50: =LOOKUP($B50,Sheet1!$B$3:$B$30,Sheet1!G$3:G$30) -> 1 | H50: =LOOKUP($B50,Sheet1!$B$3:$B$30,Sheet1!H$3:H$30) -> 1 | I50: =LOOKUP($B50,Sheet1!$B$3:$B$30,Sheet1!I$3:I$30) -> 3 | J50: =LOOKUP($B50,Sheet1!$B$3:$B$30,Sheet1!J$3:J$30) -> 3 | K50: =AVERAGE(I50:J50) -> 3
A51: 19 | B51: =LOOKUP(Sheet2!A51,Sheet1!$A$3:$A$30,Sheet1!$B$3:$B$30) -> GBPJPY | C51: =LOOKUP($B51,Sheet1!$B$3:$B$30,Sheet1!C$3:C$30) -> 1 | D51: =LOOKUP($B51,Sheet1!$B$3:$B$30,Sheet1!D$3:D$30) -> -1 | E51: =LOOKUP($B51,Sheet1!$B$3:$B$30,Sheet1!E$3:E$30) -> 1 | F51: =LOOKUP($B51,Sheet1!$B$3:$B$30,Sheet1!F$3:F$30) -> 1 | G51: =LOOKUP($B51,Sheet1!$B$3:$B$30,Sheet1!G$3:G$30) -> 1 | H51: =LOOKUP($B51,Sheet1!$B$3:$B$30,Sheet1!H$3:H$30) -> -1 | I51: =LOOKUP($B51,Sheet1!$B$3:$B$30,Sheet1!I$3:I$30) -> 1 | J51: =LOOKUP($B51,Sheet1!$B$3:$B$30,Sheet1!J$3:J$30) -> 1 | K51: =AVERAGE(I51:J51) -> 1
A52: 24 | B52: =LOOKUP(Sheet2!A52,Sheet1!$A$3:$A$30,Sheet1!$B$3:$B$30) -> NZDJPY | C52: =LOOKUP($B52,Sheet1!$B$3:$B$30,Sheet1!C$3:C$30) -> 1 | D52: =LOOKUP($B52,Sheet1!$B$3:$B$30,Sheet1!D$3:D$30) -> 1 | E52: =LOOKUP($B52,Sheet1!$B$3:$B$30,Sheet1!E$3:E$30) -> 1 | F52: =LOOKUP($B52,Sheet1!$B$3:$B$30,Sheet1!F$3:F$30) -> 1 | G52: =LOOKUP($B52,Sheet1!$B$3:$B$30,Sheet1!G$3:G$30) -> 1 | H52: =LOOKUP($B52,Sheet1!$B$3:$B$30,Sheet1!H$3:H$30) -> 1 | I52: =LOOKUP($B52,Sheet1!$B$3:$B$30,Sheet1!I$3:I$30) -> 3 | J52: =LOOKUP($B52,Sheet1!$B$3:$B$30,Sheet1!J$3:J$30) -> 3 | K52: =AVERAGE(I52:J52) -> 3
A53: 28 | B53: =LOOKUP(Sheet2!A53,Sheet1!$A$3:$A$30,Sheet1!$B$3:$B$30) -> USDJPY | C53: =LOOKUP($B53,Sheet1!$B$3:$B$30,Sheet1!C$3:C$30) -> 1 | D53: =LOOKUP($B53,Sheet1!$B$3:$B$30,Sheet1!D$3:D$30) -> 1 | E53: =LOOKUP($B53,Sheet1!$B$3:$B$30,Sheet1!E$3:E$30) -> 1 | F53: =LOOKUP($B53,Sheet1!$B$3:$B$30,Sheet1!F$3:F$30) -> 1 | G53: =LOOKUP($B53,Sheet1!$B$3:$B$30,Sheet1!G$3:G$30) -> 1 | H53: =LOOKUP($B53,Sheet1!$B$3:$B$30,Sheet1!H$3:H$30) -> 1 | I53: =LOOKUP($B53,Sheet1!$B$3:$B$30,Sheet1!I$3:I$30) -> 3 | J53: =LOOKUP($B53,Sheet1!$B$3:$B$30,Sheet1!J$3:J$30) -> 3 | K53: =AVERAGE(I53:J53) -> 3
A55: NZD | B55: Basket | C55: M5 | D55: M15 | E55: H1 | F55: H4 | G55: D1 | H55: W1 | I55: LTS | J55: HTS | K55: TS
A56: 4 | B56: =LOOKUP(Sheet2!A56,Sheet1!$A$3:$A$30,Sheet1!$B$3:$B$30) -> AUDNZD | C56: =LOOKUP($B56,Sheet1!$B$3:$B$30,Sheet1!C$3:C$30) -> 1 | D56: =LOOKUP($B56,Sheet1!$B$3:$B$30,Sheet1!D$3:D$30) -> -1 | E56: =LOOKUP($B56,Sheet1!$B$3:$B$30,Sheet1!E$3:E$30) -> 1 | F56: =LOOKUP($B56,Sheet1!$B$3:$B$30,Sheet1!F$3:F$30) -> 1 | G56: =LOOKUP($B56,Sheet1!$B$3:$B$30,Sheet1!G$3:G$30) -> 1 | H56: =LOOKUP($B56,Sheet1!$B$3:$B$30,Sheet1!H$3:H$30) -> 1 | I56: =LOOKUP($B56,Sheet1!$B$3:$B$30,Sheet1!I$3:I$30) -> 1 | J56: =LOOKUP($B56,Sheet1!$B$3:$B$30,Sheet1!J$3:J$30) -> 3 | K56: =AVERAGE(I56:J56) -> 2
A57: 14 | B57: =LOOKUP(Sheet2!A57,Sheet1!$A$3:$A$30,Sheet1!$B$3:$B$30) -> EURNZD | C57: =LOOKUP($B57,Sheet1!$B$3:$B$30,Sheet1!C$3:C$30) -> 1 | D57: =LOOKUP($B57,Sheet1!$B$3:$B$30,Sheet1!D$3:D$30) -> -1 | E57: =LOOKUP($B57,Sheet1!$B$3:$B$30,Sheet1!E$3:E$30) -> 1 | F57: =LOOKUP($B57,Sheet1!$B$3:$B$30,Sheet1!F$3:F$30) -> 1 | G57: =LOOKUP($B57,Sheet1!$B$3:$B$30,Sheet1!G$3:G$30) -> 1 | H57: =LOOKUP($B57,Sheet1!$B$3:$B$30,Sheet1!H$3:H$30) -> -1 | I57: =LOOKUP($B57,Sheet1!$B$3:$B$30,Sheet1!I$3:I$30) -> 1 | J57: =LOOKUP($B57,Sheet1!$B$3:$B$30,Sheet1!J$3:J$30) -> 1 | K57: =AVERAGE(I57:J57) -> 1
A58: 20 | B58: =LOOKUP(Sheet2!A58,Sheet1!$A$3:$A$30,Sheet1!$B$3:$B$30) -> GBPNZD | C58: =LOOKUP($B58,Sheet1!$B$3:$B$30,Sheet1!C$3:C$30) -> 1 | D58: =LOOKUP($B58,Sheet1!$B$3:$B$30,Sheet1!D$3:D$30) -> -1 | E58: =LOOKUP($B58,Sheet1!$B$3:$B$30,Sheet1!E$3:E$30) -> -1 | F58: =LOOKUP($B58,Sheet1!$B$3:$B$30,Sheet1!F$3:F$30) -> -1 | G58: =LOOKUP($B58,Sheet1!$B$3:$B$30,Sheet1!G$3:G$30) -> -1 | H58: =LOOKUP($B58,Sheet1!$B$3:$B$30,Sheet1!H$3:H$30) -> -1 | I58: =LOOKUP($B58,Sheet1!$B$3:$B$30,Sheet1!I$3:I$30) -> -1 | J58: =LOOKUP($B58,Sheet1!$B$3:$B$30,Sheet1!J$3:J$30) -> -3 | K58: =AVERAGE(I58:J58) -> -2
A59: 22 | B59: =LOOKUP(Sheet2!A59,Sheet1!$A$3:$A$30,Sheet1!$B$3:$B$30) -> NZDCAD | C59: =LOOKUP($B59,Sheet1!$B$3:$B$30,Sheet1!C$3:C$30) -> 1 | D59: =LOOKUP($B59,Sheet1!$B$3:$B$30,Sheet1!D$3:D$30) -> -1 | E59: =LOOKUP($B59,Sheet1!$B$3:$B$30,Sheet1!E$3:E$30) -> -1 | F59: =LOOKUP($B59,Sheet1!$B$3:$B$30,Sheet1!F$3:F$30) -> -1 | G59: =LOOKUP($B59,Sheet1!$B$3:$B$30,Sheet1!G$3:G$30) -> -1 | H59: =LOOKUP($B59,Sheet1!$B$3:$B$30,Sheet1!H$3:H$30) -> -1 | I59: =LOOKUP($B59,Sheet1!$B$3:$B$30,Sheet1!I$3:I$30) -> -1 | J59: =LOOKUP($B59,Sheet1!$B$3:$B$30,Sheet1!J$3:J$30) -> -3 | K59: =AVERAGE(I59:J59) -> -2
A60: 23 | B60: =LOOKUP(Sheet2!A60,Sheet1!$A$3:$A$30,Sheet1!$B$3:$B$30) -> NZDCHF | C60: =LOOKUP($B60,Sheet1!$B$3:$B$30,Sheet1!C$3:C$30) -> -1 | D60: =LOOKUP($B60,Sheet1!$B$3:$B$30,Sheet1!D$3:D$30) -> 1 | E60: =LOOKUP($B60,Sheet1!$B$3:$B$30,Sheet1!E$3:E$30) -> -1 | F60: =LOOKUP($B60,Sheet1!$B$3:$B$30,Sheet1!F$3:F$30) -> -1 | G60: =LOOKUP($B60,Sheet1!$B$3:$B$30,Sheet1!G$3:G$30) -> -1 | H60: =LOOKUP($B60,Sheet1!$B$3:$B$30,Sheet1!H$3:H$30) -> 1 | I60: =LOOKUP($B60,Sheet1!$B$3:$B$30,Sheet1!I$3:I$30) -> -1 | J60: =LOOKUP($B60,Sheet1!$B$3:$B$30,Sheet1!J$3:J$30) -> -1 | K60: =AVERAGE(I60:J60) -> -1
A61: 24 | B61: =LOOKUP(Sheet2!A61,Sheet1!$A$3:$A$30,Sheet1!$B$3:$B$30) -> NZDJPY | C61: =LOOKUP($B61,Sheet1!$B$3:$B$30,Sheet1!C$3:C$30) -> 1 | D61: =LOOKUP($B61,Sheet1!$B$3:$B$30,Sheet1!D$3:D$30) -> 1 | E61: =LOOKUP($B61,Sheet1!$B$3:$B$30,Sheet1!E$3:E$30) -> 1 | F61: =LOOKUP($B61,Sheet1!$B$3:$B$30,Sheet1!F$3:F$30) -> 1 | G61: =LOOKUP($B61,Sheet1!$B$3:$B$30,Sheet1!G$3:G$30) -> 1 | H61: =LOOKUP($B61,Sheet1!$B$3:$B$30,Sheet1!H$3:H$30) -> 1 | I61: =LOOKUP($B61,Sheet1!$B$3:$B$30,Sheet1!I$3:I$30) -> 3 | J61: =LOOKUP($B61,Sheet1!$B$3:$B$30,Sheet1!J$3:J$30) -> 3 | K61: =AVERAGE(I61:J61) -> 3
A62: 25 | B62: =LOOKUP(Sheet2!A62,Sheet1!$A$3:$A$30,Sheet1!$B$3:$B$30) -> NZDUSD | C62: =LOOKUP($B62,Sheet1!$B$3:$B$30,Sheet1!C$3:C$30) -> -1 | D62: =LOOKUP($B62,Sheet1!$B$3:$B$30,Sheet1!D$3:D$30) -> 1 | E62: =LOOKUP($B62,Sheet1!$B$3:$B$30,Sheet1!E$3:E$30) -> -1 | F62: =LOOKUP($B62,Sheet1!$B$3:$B$30,Sheet1!F$3:F$30) -> -1 | G62: =LOOKUP($B62,Sheet1!$B$3:$B$30,Sheet1!G$3:G$30) -> -1 | H62: =LOOKUP($B62,Sheet1!$B$3:$B$30,Sheet1!H$3:H$30) -> 1 | I62: =LOOKUP($B62,Sheet1!$B$3:$B$30,Sheet1!I$3:I$30) -> -1 | J62: =LOOKUP($B62,Sheet1!$B$3:$B$30,Sheet1!J$3:J$30) -> -1 | K62: =AVERAGE(I62:J62) -> -1
A64: USD | B64: Basket | C64: M5 | D64: M15 | E64: H1 | F64: H4 | G64: D1 | H64: W1 | I64: LTS | J64: HTS | K64: TS
A65: 5 | B65: =LOOKUP(Sheet2!A65,Sheet1!$A$3:$A$30,Sheet1!$B$3:$B$30) -> AUDUSD | C65: =LOOKUP($B65,Sheet1!$B$3:$B$30,Sheet1!C$3:C$30) -> 1 | D65: =LOOKUP($B65,Sheet1!$B$3:$B$30,Sheet1!D$3:D$30) -> -1 | E65: =LOOKUP($B65,Sheet1!$B$3:$B$30,Sheet1!E$3:E$30) -> -1 | F65: =LOOKUP($B65,Sheet1!$B$3:$B$30,Sheet1!F$3:F$30) -> -1 | G65: =LOOKUP($B65,Sheet1!$B$3:$B$30,Sheet1!G$3:G$30) -> -1 | H65: =LOOKUP($B65,Sheet1!$B$3:$B$30,Sheet1!H$3:H$30) -> 1 | I65: =LOOKUP($B65,Sheet1!$B$3:$B$30,Sheet1!I$3:I$30) -> -1 | J65: =LOOKUP($B65,Sheet1!$B$3:$B$30,Sheet1!J$3:J$30) -> -1 | K65: =AVERAGE(I65:J65) -> -1
A66: 15 | B66: =LOOKUP(Sheet2!A66,Sheet1!$A$3:$A$30,Sheet1!$B$3:$B$30) -> EURUSD | C66: =LOOKUP($B66,Sheet1!$B$3:$B$30,Sheet1!C$3:C$30) -> 1 | D66: =LOOKUP($B66,Sheet1!$B$3:$B$30,Sheet1!D$3:D$30) -> 1 | E66: =LOOKUP($B66,Sheet1!$B$3:$B$30,Sheet1!E$3:E$30) -> -1 | F66: =LOOKUP($B66,Sheet1!$B$3:$B$30,Sheet1!F$3:F$30) -> -1 | G66: =LOOKUP($B66,Sheet1!$B$3:$B$30,Sheet1!G$3:G$30) -> -1 | H66: =LOOKUP($B66,Sheet1!$B$3:$B$30,Sheet1!H$3:H$30) -> 1 | I66: =LOOKUP($B66,Sheet1!$B$3:$B$30,Sheet1!I$3:I$30) -> 1 | J66: =LOOKUP($B66,Sheet1!$B$3:$B$30,Sheet1!J$3:J$30) -> -1 | K66: =AVERAGE(I66:J66) -> 0
A67: 21 | B67: =LOOKUP(Sheet2!A67,Sheet1!$A$3:$A$30,Sheet1!$B$3:$B$30) -> GBPUSD | C67: =LOOKUP($B67,Sheet1!$B$3:$B$30,Sheet1!C$3:C$30) -> 1 | D67: =LOOKUP($B67,Sheet1!$B$3:$B$30,Sheet1!D$3:D$30) -> -1 | E67: =LOOKUP($B67,Sheet1!$B$3:$B$30,Sheet1!E$3:E$30) -> -1 | F67: =LOOKUP($B67,Sheet1!$B$3:$B$30,Sheet1!F$3:F$30) -> -1 | G67: =LOOKUP($B67,Sheet1!$B$3:$B$30,Sheet1!G$3:G$30) -> -1 | H67: =LOOKUP($B67,Sheet1!$B$3:$B$30,Sheet1!H$3:H$30) -> -1 | I67: =LOOKUP($B67,Sheet1!$B$3:$B$30,Sheet1!I$3:I$30) -> -1 | J67: =LOOKUP($B67,Sheet1!$B$3:$B$30,Sheet1!J$3:J$30) -> -3 | K67: =AVERAGE(I67:J67) -> -2
A68: 25 | B68: =LOOKUP(Sheet2!A68,Sheet1!$A$3:$A$30,Sheet1!$B$3:$B$30) -> NZDUSD | C68: =LOOKUP($B68,Sheet1!$B$3:$B$30,Sheet1!C$3:C$30) -> -1 | D68: =LOOKUP($B68,Sheet1!$B$3:$B$30,Sheet1!D$3:D$30) -> 1 | E68: =LOOKUP($B68,Sheet1!$B$3:$B$30,Sheet1!E$3:E$30) -> -1 | F68: =LOOKUP($B68,Sheet1!$B$3:$B$30,Sheet1!F$3:F$30) -> -1 | G68: =LOOKUP($B68,Sheet1!$B$3:$B$30,Sheet1!G$3:G$30) -> -1 | H68: =LOOKUP($B68,Sheet1!$B$3:$B$30,Sheet1!H$3:H$30) -> 1 | I68: =LOOKUP($B68,Sheet1!$B$3:$B$30,Sheet1!I$3:I$30) -> -1 | J68: =LOOKUP($B68,Sheet1!$B$3:$B$30,Sheet1!J$3:J$30) -> -1 | K68: =AVERAGE(I68:J68) -> -1
A69: 26 | B69: =LOOKUP(Sheet2!A69,Sheet1!$A$3:$A$30,Sheet1!$B$3:$B$30) -> USDCAD | C69: =LOOKUP($B69,Sheet1!$B$3:$B$30,Sheet1!C$3:C$30) -> -1 | D69: =LOOKUP($B69,Sheet1!$B$3:$B$30,Sheet1!D$3:D$30) -> -1 | E69: =LOOKUP($B69,Sheet1!$B$3:$B$30,Sheet1!E$3:E$30) -> 1 | F69: =LOOKUP($B69,Sheet1!$B$3:$B$30,Sheet1!F$3:F$30) -> 1 | G69: =LOOKUP($B69,Sheet1!$B$3:$B$30,Sheet1!G$3:G$30) -> 1 | H69: =LOOKUP($B69,Sheet1!$B$3:$B$30,Sheet1!H$3:H$30) -> -1 | I69: =LOOKUP($B69,Sheet1!$B$3:$B$30,Sheet1!I$3:I$30) -> -1 | J69: =LOOKUP($B69,Sheet1!$B$3:$B$30,Sheet1!J$3:J$30) -> 1 | K69: =AVERAGE(I69:J69) -> 0
A70: 27 | B70: =LOOKUP(Sheet2!A70,Sheet1!$A$3:$A$30,Sheet1!$B$3:$B$30) -> USDCHF | C70: =LOOKUP($B70,Sheet1!$B$3:$B$30,Sheet1!C$3:C$30) -> -1 | D70: =LOOKUP($B70,Sheet1!$B$3:$B$30,Sheet1!D$3:D$30) -> -1 | E70: =LOOKUP($B70,Sheet1!$B$3:$B$30,Sheet1!E$3:E$30) -> 1 | F70: =LOOKUP($B70,Sheet1!$B$3:$B$30,Sheet1!F$3:F$30) -> 1 | G70: =LOOKUP($B70,Sheet1!$B$3:$B$30,Sheet1!G$3:G$30) -> 1 | H70: =LOOKUP($B70,Sheet1!$B$3:$B$30,Sheet1!H$3:H$30) -> 1 | I70: =LOOKUP($B70,Sheet1!$B$3:$B$30,Sheet1!I$3:I$30) -> -1 | J70: =LOOKUP($B70,Sheet1!$B$3:$B$30,Sheet1!J$3:J$30) -> 3 | K70: =AVERAGE(I70:J70) -> 1
A71: 28 | B71: =LOOKUP(Sheet2!A71,Sheet1!$A$3:$A$30,Sheet1!$B$3:$B$30) -> USDJPY | C71: =LOOKUP($B71,Sheet1!$B$3:$B$30,Sheet1!C$3:C$30) -> 1 | D71: =LOOKUP($B71,Sheet1!$B$3:$B$30,Sheet1!D$3:D$30) -> 1 | E71: =LOOKUP($B71,Sheet1!$B$3:$B$30,Sheet1!E$3:E$30) -> 1 | F71: =LOOKUP($B71,Sheet1!$B$3:$B$30,Sheet1!F$3:F$30) -> 1 | G71: =LOOKUP($B71,Sheet1!$B$3:$B$30,Sheet1!G$3:G$30) -> 1 | H71: =LOOKUP($B71,Sheet1!$B$3:$B$30,Sheet1!H$3:H$30) -> 1 | I71: =LOOKUP($B71,Sheet1!$B$3:$B$30,Sheet1!I$3:I$30) -> 3 | J71: =LOOKUP($B71,Sheet1!$B$3:$B$30,Sheet1!J$3:J$30) -> 3 | K71: =AVERAGE(I71:J71) -> 3
A73: C5 | B73: Basket | C73: M5 | D73: M15 | E73: H1 | F73: H4 | G73: D1 | H73: W1 | I73: LTS | J73: HTS | K73: TS
A74: 3 | B74: =LOOKUP(Sheet2!A74,Sheet1!$A$3:$A$30,Sheet1!$B$3:$B$30) -> AUDJPY | C74: =LOOKUP($B74,Sheet1!$B$3:$B$30,Sheet1!C$3:C$30) -> 1 | D74: =LOOKUP($B74,Sheet1!$B$3:$B$30,Sheet1!D$3:D$30) -> 1 | E74: =LOOKUP($B74,Sheet1!$B$3:$B$30,Sheet1!E$3:E$30) -> 1 | F74: =LOOKUP($B74,Sheet1!$B$3:$B$30,Sheet1!F$3:F$30) -> 1 | G74: =LOOKUP($B74,Sheet1!$B$3:$B$30,Sheet1!G$3:G$30) -> 1 | H74: =LOOKUP($B74,Sheet1!$B$3:$B$30,Sheet1!H$3:H$30) -> 1 | I74: =LOOKUP($B74,Sheet1!$B$3:$B$30,Sheet1!I$3:I$30) -> 3 | J74: =LOOKUP($B74,Sheet1!$B$3:$B$30,Sheet1!J$3:J$30) -> 3 | K74: =AVERAGE(I74:J74) -> 3
A75: 13 | B75: =LOOKUP(Sheet2!A75,Sheet1!$A$3:$A$30,Sheet1!$B$3:$B$30) -> EURJPY | C75: =LOOKUP($B75,Sheet1!$B$3:$B$30,Sheet1!C$3:C$30) -> 1 | D75: =LOOKUP($B75,Sheet1!$B$3:$B$30,Sheet1!D$3:D$30) -> 1 | E75: =LOOKUP($B75,Sheet1!$B$3:$B$30,Sheet1!E$3:E$30) -> 1 | F75: =LOOKUP($B75,Sheet1!$B$3:$B$30,Sheet1!F$3:F$30) -> 1 | G75: =LOOKUP($B75,Sheet1!$B$3:$B$30,Sheet1!G$3:G$30) -> 1 | H75: =LOOKUP($B75,Sheet1!$B$3:$B$30,Sheet1!H$3:H$30) -> 1 | I75: =LOOKUP($B75,Sheet1!$B$3:$B$30,Sheet1!I$3:I$30) -> 3 | J75: =LOOKUP($B75,Sheet1!$B$3:$B$30,Sheet1!J$3:J$30) -> 3 | K75: =AVERAGE(I75:J75) -> 3
A76: 19 | B76: =LOOKUP(Sheet2!A76,Sheet1!$A$3:$A$30,Sheet1!$B$3:$B$30) -> GBPJPY | C76: =LOOKUP($B76,Sheet1!$B$3:$B$30,Sheet1!C$3:C$30) -> 1 | D76: =LOOKUP($B76,Sheet1!$B$3:$B$30,Sheet1!D$3:D$30) -> -1 | E76: =LOOKUP($B76,Sheet1!$B$3:$B$30,Sheet1!E$3:E$30) -> 1 | F76: =LOOKUP($B76,Sheet1!$B$3:$B$30,Sheet1!F$3:F$30) -> 1 | G76: =LOOKUP($B76,Sheet1!$B$3:$B$30,Sheet1!G$3:G$30) -> 1 | H76: =LOOKUP($B76,Sheet1!$B$3:$B$30,Sheet1!H$3:H$30) -> -1 | I76: 3 | J76: =LOOKUP($B76,Sheet1!$B$3:$B$30,Sheet1!J$3:J$30) -> 1 | K76: =AVERAGE(I76:J76) -> 2
A77: 21 | B77: =LOOKUP(Sheet2!A77,Sheet1!$A$3:$A$30,Sheet1!$B$3:$B$30) -> GBPUSD | C77: =LOOKUP($B77,Sheet1!$B$3:$B$30,Sheet1!C$3:C$30) -> 1 | D77: =LOOKUP($B77,Sheet1!$B$3:$B$30,Sheet1!D$3:D$30) -> -1 | E77: =LOOKUP($B77,Sheet1!$B$3:$B$30,Sheet1!E$3:E$30) -> -1 | F77: =LOOKUP($B77,Sheet1!$B$3:$B$30,Sheet1!F$3:F$30) -> -1 | G77: =LOOKUP($B77,Sheet1!$B$3:$B$30,Sheet1!G$3:G$30) -> -1 | H77: =LOOKUP($B77,Sheet1!$B$3:$B$30,Sheet1!H$3:H$30) -> -1 | I77: =LOOKUP($B77,Sheet1!$B$3:$B$30,Sheet1!I$3:I$30) -> -1 | J77: =LOOKUP($B77,Sheet1!$B$3:$B$30,Sheet1!J$3:J$30) -> -3 | K77: =AVERAGE(I77:J77) -> -2
A78: 25 | B78: =LOOKUP(Sheet2!A78,Sheet1!$A$3:$A$30,Sheet1!$B$3:$B$30) -> NZDUSD | C78: =LOOKUP($B78,Sheet1!$B$3:$B$30,Sheet1!C$3:C$30) -> -1 | D78: =LOOKUP($B78,Sheet1!$B$3:$B$30,Sheet1!D$3:D$30) -> 1 | E78: =LOOKUP($B78,Sheet1!$B$3:$B$30,Sheet1!E$3:E$30) -> -1 | F78: =LOOKUP($B78,Sheet1!$B$3:$B$30,Sheet1!F$3:F$30) -> -1 | G78: =LOOKUP($B78,Sheet1!$B$3:$B$30,Sheet1!G$3:G$30) -> -1 | H78: =LOOKUP($B78,Sheet1!$B$3:$B$30,Sheet1!H$3:H$30) -> 1 | I78: =LOOKUP($B78,Sheet1!$B$3:$B$30,Sheet1!I$3:I$30) -> -1 | J78: =LOOKUP($B78,Sheet1!$B$3:$B$30,Sheet1!J$3:J$30) -> -1 | K78: =AVERAGE(I78:J78) -> -1

Sheet Sheet3
