Workbook

Sheet Sheet1
C1: Time Frame(Low/High) | I1: Trend Strength
A2: ID | B2: Pairs | C2: M5 | D2: M15 | E2: H1 | F2: H4 | G2: D1 | H2: W1 | I2: LTS | J2: HTS | K2: TS
A3: 1 | B3: AUDCAD | C3: 1 | D3: -1 | E3: -1 | F3: -1 | G3: -1 | H3: -1 | I3: =SUM(C3:E3) -> -1 | J3: =SUM(F3:H3) -> -3 | K3: =AVERAGE(I3:J3) -> -2
A4: 2 | B4: AUDCHF | C4: -1 | D4: -1 | E4: -1 | F4: -1 | G4: -1 | H4: 1 | I4: =SUM(C4:E4) -> -3 | J4: =SUM(F4:H4) -> -1 | K4: =AVERAGE(I4:J4) -> -2
A5: 3 | B5: AUDJPY | C5: 1 | D5: 1 | E5: 1 | F5: 1 | G5: 1 | H5: 1 | I5: =SUM(C5:E5) -> 3 | J5: =SUM(F5:H5) -> 3 | K5: =AVERAGE(I5:J5) -> 3
A6: 4 | B6: AUDNZD | C6: 1 | D6: -1 | E6: 1 | F6: 1 | G6: 1 | H6: 1 | I6: =SUM(C6:E6) -> 1 | J6: =SUM(F6:H6) -> 3 | K6: =AVERAGE(I6:J6) -> 2
A7: 5 | B7: AUDUSD | C7: 1 | D7: -1 | E7: -1 | F7: -1 | G7: -1 | H7: 1 | I7: =SUM(C7:E7) -> -1 | J7: =SUM(F7:H7) -> -1 | K7: =AVERAGE(I7:J7) -> -1
A8: 6 | B8: CADCHF | C8: -1 | D8: 1 | E8: 1 | F8: 1 | G8: 1 | H8: 1 | I8: =SUM(C8:E8) -> 1 | J8: =SUM(F8:H8) -> 3 | K8: =AVERAGE(I8:J8) -> 2
A9: 7 | B9: CADJPY | C9: 1 | D9: 1 | E9: 1 | F9: 1 | G9: 1 | H9: 1 | I9: =SUM(C9:E9) -> 3 | J9: =SUM(F9:H9) -> 3 | K9: =AVERAGE(I9:J9) -> 3
A10: 8 | B10: CHFJPY | C10: 1 | D10: 1 | E10: 1 | F10: 1 | G10: 1 | H10: -1 | I10: =SUM(C10:E10) -> 3 | J10: =SUM(F10:H10) -> 1 | K10: =AVERAGE(I10:J10) -> 2
A11: 9 | B11: EURAUD | C11: 1 | D11: 1 | E11: 1 | F11: 1 | G11: 1 | H11: 1 | I11: =SUM(C11:E11) -> 3 | J11: =SUM(F11:H11) -> 3 | K11: =AVERAGE(I11:J11) -> 3
A12: 10 | B12: EURCAD | C12: 1 | D12: -1 | E12: 1 | F12: 1 | G12: 1 | H12: -1 | I12: =SUM(C12:E12) -> 1 | J12: =SUM(F12:H12) -> 1 | K12: =AVERAGE(I12:J12) -> 1
A13: 11 | B13: EURCHF | C13: -1 | D13: -1 | E13: 1 | F13: 1 | G13: 1 | H13: 1 | I13: =SUM(C13:E13) -> -1 | J13: =SUM(F13:H13) -> 3 | K13: =AVERAGE(I13:J13) -> 1
A14: 12 | B14: EURGBP | C14: -1 | D14: 1 | E14: 1 | F14: 1 | G14: 1 | H14: 1 | I14: =SUM(C14:E14) -> 1 | J14: =SUM(F14:H14) -> 3 | K14: =AVERAGE(I14:J14) -> 2
... A30: 28 | B30: USDJPY | C30: 1 | D30: 1 | E30: 1 | F30: 1 | G30: 1 | H30: 1 | I30: =SUM(C30:E30) -> 3 | J30: =SUM(F30:H30) -> 3 | K30: =AVERAGE(I30:J30) -> 3

Sheet Sheet2
A1: AUD | B1: Basket | C1: M5 | D1: M15 | E1: H1 | F1: H4 | G1: D1 | H1: W1 | I1: LTS | J1: HTS | K1: TS | L1: Buy | M1: Sell
A2: 1 | B2: =LOOKUP(Sheet2!A2,Sheet1!$A$3:$A$30,Sheet1!$B$3:$B$30) -> AUDCAD | C2: =LOOKUP($B2,Sheet1!$B$3:$B$30,Sheet1!C$3:C$30) -> 1 | D2: =LOOKUP($B2,Sheet1!$B$3:$B$30,Sheet1!D$3:D$30) -> -1 | E2: =LOOKUP($B2,Sheet1!$B$3:$B$30,Sheet1!E$3:E$30) -> -1 | F2: =LOOKUP($B2,Sheet1!$B$3:$B$30,Sheet1!F$3:F$30) -> -1 | G2: =LOOKUP($B2,Sheet1!$B$3:$B$30,Sheet1!G$3:G$30) -> -1 | H2: =LOOKUP($B2,Sheet1!$B$3:$B$30,Sheet1!H$3:H$30) -> -1 | I2: -1 | J2: =LOOKUP($B2,Sheet1!$B$3:$B$30,Sheet1!J$3:J$30) -> -3 | K2: =AVERAGE(I2:J2) -> -2
A3: 2 | B3: =LOOKUP(Sheet2!A3,Sheet1!$A$3:$A$30,Sheet1!$B$3:$B$30) -> AUDCHF | C3: =LOOKUP($B3,Sheet1!$B$3:$B$30,Sheet1!C$3:C$30) -> -1 | D3: =LOOKUP($B3,Sheet1!$B$3:$B$30,Sheet1!D$3:D$30) -> -1 | E3: =LOOKUP($B3,Sheet1!$B$3:$B$30,Sheet1!E$3:E$30) -> -1 | F3: =LOOKUP($B3,Sheet1!$B$3:$B$30,Sheet1!F$3:F$30) -> -1 | G3: =LOOKUP($B3,Sheet1!$B$3:$B$30,Sheet1!G$3:G$30) -> -1 | H3: =LOOKUP($B3,Sheet1!$B$3:$B$30,Sheet1!H$3:H$30) -> 1 | I3: =LOOKUP($B3,Sheet1!$B$3:$B$30,Sheet1!I$3:I$30) -> -3 | J3: =LOOKUP($B3,Sheet1!$B$3:$B$30,Sheet1!J$3:J$30) -> -1 | K3: =AVERAGE(I3:J3) -> -2
A4: 3 | B4: =LOOKUP(Sheet2!A4,Sheet1!$A$3:$A$30,Sheet1!$B$3:$B$30) -> AUDJPY | C4: =LOOKUP($B4,Sheet1!$B$3:$B$30,Sheet1!C$3:C$30) -> 1 | D4: =LOOKUP($B4,Sheet1!$B$3:$B$30,Sheet1!D$3:D$30) -> 1 | E4: =LOOKUP($B4,Sheet1!$B$3:$B$30,Sheet1!E$3:E$30) -> 1 | F4: =LOOKUP($B4,Sheet1!$B$3:$B$30,Sheet1!F$3:F$30) -> 1 | G4: =LOOKUP($B4,Sheet1!$B$3:$B$30,Sheet1!G$3:G$30) -> 1 | H4: =LOOKUP($B4,Sheet1!$B$3:$B$30,Sheet1!H$3:H$30) -> 1 | I4: =LOOKUP($B4,Sheet1!$B$3:$B$30,Sheet1!I$3:I$30) -> 3 | J4: =LOOKUP($B4,Sheet1!$B$3:$B$30,Sheet1!J$3:J$30) -> 3 | K4: =AVERAGE(I4:J4) -> 3
A5: 4 | B5: =LOOKUP(Sheet2!A5,Sheet1!$A$3:$A$30,Sheet1!$B$3:$B$30) -> AUDNZD | C5: =LOOKUP($B5,Sheet1!$B$3:$B$30,Sheet1!C$3:C$30) -> 1 | D5: =LOOKUP($B5,Sheet1!$B$3:$B$30,Sheet1!D$3:D$30) -> -1 | E5: =LOOKUP($B5,Sheet1!$B$3:$B$30,Sheet1!E$3:E$30) -> 1 | F5: =LOOKUP($B5,Sheet1!$B$3:$B$30,Sheet1!F$3:F$30) -> 1 | G5: =LOOKUP($B5,Sheet1!$B$3:$B$30,Sheet1!G$3:G$30) -> 1 | H5: =LOOKUP($B5,Sheet1!$B$3:$B$30,Sheet1!H$3:H$30) -> 1 | I5: =LOOKUP($B5,Sheet1!$B$3:$B$30,Sheet1!I$3:I$30) -> 1 | J5: =LOOKUP($B5,Sheet1!$B$3:$B$30,Sheet1!J$3:J$30) -> 3 | K5: =AVERAGE(I5:J5) -> 2
A6: 5 | B6: =LOOKUP(Sheet2!A6,Sheet1!$A$3:$A$30,Sheet1!$B$3:$B$30) -> AUDUSD | C6: =LOOKUP($B6,Sheet1!$B$3:$B$30,Sheet1!C$3:C$30) -> 1 | D6: =LOOKUP($B6,Sheet1!$B$3:$B$30,Sheet1!D$3:D$30) -> -1 | E6: =LOOKUP($B6,Sheet1!$B$3:$B$30,Sheet1!E$3:E$30) -> -1 | F6: =LOOKUP($B6,Sheet1!$B$3:$B$30,Sheet1!F$3:F$30) -> -1 | G6: =LOOKUP($B6,Sheet1!$B$3:$B$30,Sheet1!G$3:G$30) -> -1 | H6: =LOOKUP($B6,Sheet1!$B$3:$B$30,Sheet1!H$3:H$30) -> 1 | I6: =LOOKUP($B6,Sheet1!$B$3:$B$30,Sheet1!I$3:I$30) -> -1 | J6: =LOOKUP($B6,Sheet1!$B$3:$B$30,Sheet1!J$3:J$30) -> -1 | K6: =AVERAGE(I6:J6) -> -1
A7: 9 | B7: =LOOKUP(Sheet2!A7,Sheet1!$A$3:$A$30,Sheet1!$B$3:$B$30) -> EURAUD | C7: =LOOKUP($B7,Sheet1!$B$3:$B$30,Sheet1!C$3:C$30) -> 1 | D7: =LOOKUP($B7,Sheet1!$B$3:$B$30,Sheet1!D$3:D$30) -> 1 | E7: =LOOKUP($B7,Sheet1!$B$3:$B$30,Sheet1!E$3:E$30) -> 1 | F7: =LOOKUP($B7,Sheet1!$B$3:$B$30,Sheet1!F$3:F$30) -> 1 | G7: =LOOKUP($B7,Sheet1!$B$3:$B$30,Sheet1!G$3:G$30) -> 1 | H7: =LOOKUP($B7,Sheet1!$B$3:$B$30,Sheet1!H$3:H$30) -> 1 | I7: =LOOKUP($B7,Sheet1!$B$3:$B$30,Sheet1!I$3:I$30) -> 3 | J7: =LOOKUP($B7,Sheet1!$B$3:$B$30,Sheet1!J$3:J$30) -> 3 | K7: =AVERAGE(I7:J7) -> 3
A8: 16 | B8: =LOOKUP(Sheet2!A8,Sheet1!$A$3:$A$30,Sheet1!$B$3:$B$30) -> GBPAUD | C8: =LOOKUP($B8,Sheet1!$B$3:$B$30,Sheet1!C$3:C$30) -> -1 | D8: =LOOKUP($B8,Sheet1!$B$3:$B$30,Sheet1!D$3:D$30) -> -1 | E8: =LOOKUP($B8,Sheet1!$B$3:$B$30,Sheet1!E$3:E$30) -> 1 | F8: =LOOKUP($B8,Sheet1!$B$3:$B$30,Sheet1!F$3:F$30) -> 1 | G8: =LOOKUP($B8,Sheet1!$B$3:$B$30,Sheet1!G$3:G$30) -> 1 | H8: =LOOKUP($B8,Sheet1!$B$3:$B$30,Sheet1!H$3:H$30) -> -1 | I8: =LOOKUP($B8,Sheet1!$B$3:$B$30,Sheet1!I$3:I$30) -> -1 | J8: =LOOKUP($B8,Sheet1!$B$3:$B$30,Sheet1!J$3:J$30) -> 1 | K8: =AVERAGE(I8:J8) -> 0
A10: CAD | B10: Basket | C10: =C$1 -> M5 | D10: M15 | E10: H1 | F10: H4 | G10: D1 | H10: W1 | I10: LTS | J10: HTS | K10: TS
A11: 6 | B11: =LOOKUP(Sheet2!A11,Sheet1!$A$3:$A$30,Sheet1!$B$3:$B$30) -> CADCHF | C11: =LOOKUP($B11,Sheet1!$B$3:$B$30,Sheet1!C$3:C$30) -> -1 | D11: =LOOKUP($B11,Sheet1!$B$3:$B$30,Sheet1!D$3:D$30) -> 1 | E11: =LOOKUP($B11,Sheet1!$B$3:$B$30,Sheet1!E$3:E$30) -> 1 | F11: =LOOKUP($B11,Sheet1!$B$3:$B$30,Sheet1!F$3:F$30) -> 1 | G11: =LOOKUP($B11,Sheet1!$B$3:$B$30,Sheet1!G$3:G$30) -> 1 | H11: =LOOKUP($B11,Sheet1!$B$3:$B$30,Sheet1!H$3:H$30) -> 1 | I11: =LOOKUP($B11,Sheet1!$B$3:$B$30,Sheet1!I$3:I$30) -> 1 | J11: =LOOKUP($B11,Sheet1!$B$3:$B$30,Sheet1!J$3:J$30) -> 3 | K11: =AVERAGE(I11:J11) -> 2
A12: 7 | B12: =LOOKUP(Sheet2!A12,Sheet1!$A$3:$A$30,Sheet1!$B$3:$B$30) -> CADJPY | C12: =LOOKUP($B12,Sheet1!$B$3:$B$30,Sheet1!C$3:C$30) -> 1 | D12: =LOOKUP($B12,Sheet1!$B$3:$B$30,Sheet1!D$3:D$30) -> 1 | E12: =LOOKUP($B12,Sheet1!$B$3:$B$30,Sheet1!E$3:E$30) -> 1 | F12: =LOOKUP($B12,Sheet1!$B$3:$B$30,Sheet1!F$3:F$30) -> 1 | G12: =LOOKUP($B12,Sheet1!$B$3:$B$30,Sheet1!G$3:G$30) -> 1 | H12: =LOOKUP($B12,Sheet1!$B$3:$B$30,Sheet1!H$3:H$30) -> 1 | I12: =LOOKUP($B12,Sheet1!$B$3:$B$30,Sheet1!I$3:I$30) -> 3 | J12: =LOOKUP($B12,Sheet1!$B$3:$B$30,Sheet1!J$3:J$30) -> 3 | K12: =AVERAGE(I12:J12) -> 3
A13: 1 | B13: =LOOKUP(Sheet2!A13,Sheet1!$A$3:$A$30,Sheet1!$B$3:$B$30) -> AUDCAD | C13: =LOOKUP($B13,Sheet1!$B$3:$B$30,Sheet1!C$3:C$30) -> 1 | D13: =LOOKUP($B13,Sheet1!$B$3:$B$30,Sheet1!D$3:D$30) -> -1 | E13: =LOOKUP($B13,Sheet1!$B$3:$B$30,Sheet1!E$3:E$30) -> -1 | F13: =LOOKUP($B13,Sheet1!$B$3:$B$30,Sheet1!F$3:F$30) -> -1 | G13: =LOOKUP($B13,Sheet1!$B$3:$B$30,Sheet1!G$3:G$30) -> -1 | H13: =LOOKUP($B13,Sheet1!$B$3:$B$30,Sheet1!H$3:H$30) -> -1 | I13: =LOOKUP($B13,Sheet1!$B$3:$B$30,Sheet1!I$3:I$30) -> -1 | J13: =LOOKUP($B13,Sheet1!$B$3:$B$30,Sheet1!J$3:J$30) -> -3 | K13: =AVERAGE(I13:J13) -> -2
A14: 10 | B14: =LOOKUP(Sheet2!A14,Sheet1!$A$3:$A$30,Sheet1!$B$3:$B$30) -> EURCAD | C14: =LOOKUP($B14,Sheet1!$B$3:$B$30,Sheet1!C$3:C$30) -> 1 | D14: =LOOKUP($B14,Sheet1!$B$3:$B$30,Sheet1!D$3:D$30) -> -1 | E14: =LOOKUP($B14,Sheet1!$B$3:$B$30,Sheet1!E$3:E$30) -> 1 | F14: =LOOKUP($B14,Sheet1!$B$3:$B$30,Sheet1!F$3:F$30) -> 1 | G14: =LOOKUP($B14,Sheet1!$B$3:$B$30,Sheet1!G$3:G$30) -> 1 | H14: =LOOKUP($B14,Sheet1!$B$3:$B$30,Sheet1!H$3:H$30) -> -1 | I14: =LOOKUP($B14,Sheet1!$B$3:$B$30,Sheet1!I$3:I$30) -> 1 | J14: =LOOKUP($B14,Sheet1!$B$3:$B$30,Sheet1!J$3:J$30) -> 1 | K14: =AVERAGE(I14:J14) -> 1
A15: 17 | B15: =LOOKUP(Sheet2!A15,Sheet1!$A$3:$A$30,Sheet1!$B$3:$B$30) -> GBPCAD | C15: =LOOKUP($B15,Sheet1!$B$3:$B$30,Sheet1!C$3:C$30) -> 1 | D15: =LOOKUP($B15,Sheet1!$B$3:$B$30,Sheet1!D$3:D$30) -> -1 | E15: =LOOKUP($B15,Sheet1!$B$3:$B$30,Sheet1!E$3:E$30) -> -1 | F15: =LOOKUP($B15,Sheet1!$B$3:$B$30,Sheet1!F$3:F$30) -> -1 | G15: =LOOKUP($B15,Sheet1!$B$3:$B$30,Sheet1!G$3:G$30) -> -1 | H15: =LOOKUP($B15,Sheet1!$B$3:$B$30,Sheet1!H$3:H$30) -> -1 | I15: =LOOKUP($B15,Sheet1!$B$3:$B$30,Sheet1!I$3:I$30) -> -1 | J15: =LOOKUP($B15,Sheet1!$B$3:$B$30,Sheet1!J$3:J$30) -> -3 | K15: =AVERAGE(I15:J15) -> -2
A16: 22 | B16: =LOOKUP(Sheet2!A16,Sheet1!$A$3:$A$30,Sheet1!$B$3:$B$30) -> NZDCAD | C16: =LOOKUP($B16,Sheet1!$B$3:$B$30,Sheet1!C$3:C$30) -> 1 | D16: =LOOKUP($B16,Sheet1!$B$3:$B$30,Sheet1!D$3:D$30) -> -1 | E16: =LOOKUP($B16,Sheet1!$B$3:$B$30,Sheet1!E$3:E$30) -> -1 | F16: =LOOKUP($B16,Sheet1!$B$3:$B$30,Sheet1!F$3:F$30) -> -1 | G16: =LOOKUP($B16,Sheet1!$B$3:$B$30,Sheet1!G$3:G$30) -> -1 | H16: =LOOKUP($B16,Sheet1!$B$3:$B$30,Sheet1!H$3:H$30) -> -1 | I16: =LOOKUP($B16,Sheet1!$B$3:$B$30,Sheet1!I$3:I$30) -> -1 | J16: =LOOKUP($B16,Sheet1!$B$3:$B$30,Sheet1!J$3:J$30) -> -3 | K16: =AVERAGE(I16:J16) -> -2
A17: 26 | B17: =LOOKUP(Sheet2!A17,Sheet1!$A$3:$A$30,Sheet1!$B$3:$B$30) -> USDCAD | C17: =LOOKUP($B17,Sheet1!$B$3:$B$30,Sheet1!C$3:C$30) -> -1 | D17: =LOOKUP($B17,Sheet1!$B$3:$B$30,Sheet1!D$3:D$30) -> -1 | E17: =LOOKUP($B17,Sheet1!$B$3:$B$30,Sheet1!E$3:E$30) -> 1 | F17: =LOOKUP($B17,Sheet1!$B$3:$B$30,Sheet1!F$3:F$30) -> 1 | G17: =LOOKUP($B17,Sheet1!$B$3:$B$30,Sheet1!G$3:G$30) -> 1 | H17: =LOOKUP($B17,Sheet1!$B$3:$B$30,Sheet1!H$3:H$30) -> -1 | I17: =LOOKUP($B17,Sheet1!$B$3:$B$30,Sheet1!I$3:I$30) -> -1 | J17: =LOOKUP($B17,Sheet1!$B$3:$B$30,Sheet1!J$3:J$30) -> 1 | K17: =AVERAGE(I17:J17) -> 0
A19: CHF | B19: Basket | C19: M5 | D19: M15 | E19: H1 | F19: H4 | G19: D1 | H19: W1 | I19: LTS | J19: HTS | K19: TS
A20: 8 | B20: =LOOKUP(Sheet2!A20,Sheet1!$A$3:$A$30,Sheet1!$B$3:$B$30) -> CHFJPY | C20: =LOOKUP($B20,Sheet1!$B$3:$B$30,Sheet1!C$3:C$30) -> 1 | D20: =LOOKUP($B20,Sheet1!$B$3:$B$30,Sheet1!D$3:D$30) -> 1 | E20: =LOOKUP($B20,Sheet1!$B$3:$B$30,Sheet1!E$3:E$30) -> 1 | F20: =LOOKUP($B20,Sheet1!$B$3:$B$30,Sheet1!F$3:F$30) -> 1 | G20: =LOOKUP($B20,Sheet1!$B$3:$B$30,Sheet1!G$3:G$30) -> 1 | H20: =LOOKUP($B20,Sheet1!$B$3:$B$30,Sheet1!H$3:H$30) -> -1 | I20: =LOOKUP($B20,Sheet1!$B$3:$B$30,Sheet1!I$3:I$30) -> 3 | J20: =LOOKUP($B20,Sheet1!$B$3:$B$30,Sheet1!J$3:J$30) -> 1 | K20: =AVERAGE(I20:J20) -> 2
A21: 2 | B21: =LOOKUP(Sheet2!A21,Sheet1!$A$3:$A$30,Sheet1!$B$3:$B$30) -> AUDCHF | C21: =LOOKUP($B21,Sheet1!$B$3:$B$30,Sheet1!C$3:C$30) -> -1 | D21: =LOOKUP($B21,Sheet1!$B$3:$B$30,Sheet1!D$3:D$30) -> -1 | E21: =LOOKUP($B21,Sheet1!$B$3:$B$30,Sheet1!E$3:E$30) -> -1 | F21: =LOOKUP($B21,Sheet1!$B$3:$B$30,Sheet1!F$3:F$30) -> -1 | G21: =LOOKUP($B21,Sheet1!$B$3:$B$30,Sheet1!G$3:G$30) -> -1 | H21: =LOOKUP($B21,Sheet1!$B$3:$B$30,Sheet1!H$3:H$30) -> 1 | I21: =LOOKUP($B21,Sheet1!$B$3:$B$30,Sheet1!I$3:I$30) -> -3 | J21: =LOOKUP($B21,Sheet1!$B$3:$B$30,Sheet1!J$3:J$30) -> -1 | K21: =AVERAGE(I21:J21) -> -2
A22: 6 | B22: =LOOKUP(Sheet2!A22,Sheet1!$A$3:$A$30,Sheet1!$B$3:$B$30) -> CADCHF | C22: =LOOKUP($B22,Sheet1!$B$3:$B$30,Sheet1!C$3:C$30) -> -1 | D22: =LOOKUP($B22,Sheet1!$B$3:$B$30,Sheet1!D$3:D$30) -> 1 | E22: =LOOKUP($B22,Sheet1!$B$3:$B$30,Sheet1!E$3:E$30) -> 1 | F22: =LOOKUP($B22,Sheet1!$B$3:$B$30,Sheet1!F$3:F$30) -> 1 | G22: =LOOKUP($B22,Sheet1!$B$3:$B$30,Sheet1!G$3:G$30) -> 1 | H22: =LOOKUP($B22,Sheet1!$B$3:$B$30,Sheet1!H$3:H$30) -> 1 | I22: =LOOKUP($B22,Sheet1!$B$3:$B$30,Sheet1!I$3:I$30) -> 1 | J22: =LOOKUP($B22,Sheet1!$B$3:$B$30,Sheet1!J$3:J$30) -> 3 | K22: =AVERAGE(I22:J22) -> 2
A23: 11 | B23: =LOOKUP(Sheet2!A23,Sheet1!$A$3:$A$30,Sheet1!$B$3:$B$30) -> EURCHF | C23: =LOOKUP($B23,Sheet1!$B$3:$B$30,Sheet1!C$3:C$30) -> -1 | D23: =LOOKUP($B23,Sheet1!$B$3:$B$30,Sheet1!D$3:D$30) -> -1 | E23: =LOOKUP($B23,Sheet1!$B$3:$B$30,Sheet1!E$3:E$30) -> 1 | F23: =LOOKUP($B23,Sheet1!$B$3:$B$30,Sheet1!F$3:F$30) -> 1 | G23: =LOOKUP($B23,Sheet1!$B$3:$B$30,Sheet1!G$3:G$30) -> 1 | H23: =LOOKUP($B23,Sheet1!$B$3:$B$30,Sheet1!H$3:H$30) -> 1 | I23: =LOOKUP($B23,Sheet1!$B$3:$B$30,Sheet1!I$3:I$30) -> -1 | J23: =LOOKUP($B23,Sheet1!$B$3:$B$30,Sheet1!J$3:J$30) -> 3 | K23: =AVERAGE(I23:J23) -> 1
A24: 18 | B24: =LOOKUP(Sheet2!A24,Sheet1!$A$3:$A$30,Sheet1!$B$3:$B$30) -> GBPCHF | C24: =LOOKUP($B24,Sheet1!$B$3:$B$30,Sheet1!C$3:C$30) -> -1 | D24: =LOOKUP($B24,Sheet1!$B$3:$B$30,Sheet1!D$3:D$30) -> -1 | E24: =LOOKUP($B24,Sheet1!$B$3:$B$30,Sheet1!E$3:E$30) -> -1 | F24: =LOOKUP($B24,Sheet1!$B$3:$B$30,Sheet1!F$3:F$30) -> -1 | G24: =LOOKUP($B24,Sheet1!$B$3:$B$30,Sheet1!G$3:G$30) -> -1 | H24: =LOOKUP($B24,Sheet1!$B$3:$B$30,Sheet1!H$3:H$30) -> 1 | I24: =LOOKUP($B24,Sheet1!$B$3:$B$30,Sheet1!I$3:I$30) -> -3 | J24: =LOOKUP($B24,Sheet1!$B$3:$B$30,Sheet1!J$3:J$30) -> -1 | K24: =AVERAGE(I24:J24) -> -2
A25: 23 | B25: =LOOKUP(Sheet2!A25,Sheet1!$A$3:$A$30,Sheet1!$B$3:$B$30) -> NZDCHF | C25: =LOOKUP($B25,Sheet1!$B$3:$B$30,Sheet1!C$3:C$30) -> -1 | D25: =LOOKUP($B25,Sheet1!$B$3:$B$30,Sheet1!D$3:D$30) -> 1 | E25: =LOOKUP($B25,Sheet1!$B$3:$B$30,Sheet1!E$3:E$30) -> -1 | F25: =LOOKUP($B25,Sheet1!$B$3:$B$30,Sheet1!F$3:F$30) -> -1 | G25: =LOOKUP($B25,Sheet1!$B$3:$B$30,Sheet1!G$3:G$30) -> -1 | H25: =LOOKUP($B25,Sheet1!$B$3:$B$30,Sheet1!H$3:H$30) -> 1 | I25: =LOOKUP($B25,Sheet1!$B$3:$B$30,Sheet1!I$3:I$30) -> -1 | J25: =LOOKUP($B25,Sheet1!$B$3:$B$30,Sheet1!J$3:J$30) -> -1 | K25: =AVERAGE(I25:J25) -> -1
A26: 27 | B26: =LOOKUP(Sheet2!A26,Sheet1!$A$3:$A$30,Sheet1!$B$3:$B$30) -> USDCHF | C26: =LOOKUP($B26,Sheet1!$B$3:$B$30,Sheet1!C$3:C$30) -> -1 | D26: =LOOKUP($B26,Sheet1!$B$3:$B$30,Sheet1!D$3:D$30) -> -1 | E26: =LOOKUP($B26,Sheet1!$B$3:$B$30,Sheet1!E$3:E$30) -> 1 | F26: =LOOKUP($B26,Sheet1!$B$3:$B$30,Sheet1!F$3:F$30) -> 1 | G26: =LOOKUP($B26,Sheet1!$B$3:$B$30,Sheet1!G$3:G$30) -> 1 | H26: =LOOKUP($B26,Sheet1!$B$3:$B$30,Sheet1!H$3:H$30) -> 1 | I26: =LOOKUP($B26,Sheet1!$B$3:$B$30,Sheet1!I$3:I$30) -> -1 | J26: =LOOKUP($B26,Sheet1!$B$3:$B$30,Sheet1!J$3:J$30) -> 3 | K26: =AVERAGE(I26:J26) -> 1
A28: EUR | B28: Basket | C28: M5 | D28: M15 | E28: H1 | F28: H4 | G28: D1 | H28: W1 | I28: LTS | J28: HTS | K28: TS
A29: 9 | B29: =LOOKUP(Sheet2!A29,Sheet1!$A$3:$A$30,Sheet1!$B$3:$B$30) -> EURAUD | C29: =LOOKUP($B29,Sheet1!$B$3:$B$30,Sheet1!C$3:C$30) -> 1 | D29: =LOOKUP($B29,Sheet1!$B$3:$B$30,Sheet1!D$3:D$30) -> 1 | E29: =LOOKUP($B29,Sheet1!$B$3:$B$30,Sheet1!E$3:E$30) -> 1 | F29: =LOOKUP($B29,Sheet1!$B$3:$B$30,Sheet1!F$3:F$30) -> 1 | G29: =LOOKUP($B29,Sheet1!$B$3:$B$30,Sheet1!G$3:G$30) -> 1 | H29: =LOOKUP($B29,Sheet1!$B$3:$B$30,Sheet1!H$3:H$30) -> 1 | I29: =LOOKUP($B29,Sheet1!$B$3:$B$30,Sheet1!I$3:I$30) -> 3 | J29: =LOOKUP($B29,Sheet1!$B$3:$B$30,Sheet1!J$3:J$30) -> 3 | K29: =AVERAGE(I29:J29) -> 3
A30: 10 | B30: =LOOKUP(Sheet2!A30,Sheet1!$A$3:$A$30,Sheet1!$B$3:$B$30) -> EURCAD | C30: =LOOKUP($B30,Sheet1!$B$3:$B$30,Sheet1!C$3:C$30) -> 1 | D30: =LOOKUP($B30,Sheet1!$B$3:$B$30,Sheet1!D$3:D$30) -> -1 | E30: =LOOKUP($B30,Sheet1!$B$3:$B$30,Sheet1!E$3:E$30) -> 1 | F30: =LOOKUP($B30,Sheet1!$B$3:$B$30,Sheet1!F$3:F$30) -> 1 | G30: =LOOKUP($B30,Sheet1!$B$3:$B$30,Sheet1!G$3:G$30) -> 1 | H30: =LOOKUP($B30,Sheet1!$B$3:$B$30,Sheet1!H$3:H$30) -> -1 | I30: =LOOKUP($B30,Sheet1!$B$3:$B$30,Sheet1!I$3:I$30) -> 1 | J30: =LOOKUP($B30,Sheet1!$B$3:$B$30,Sheet1!J$3:J$30) -> 1 | K30: =AVERAGE(I30:J30) -> 1
A31: 11 | B31: =LOOKUP(Sheet2!A31,Sheet1!$A$3:$A$30,Sheet1!$B$3:$B$30) -> EURCHF | C31: =LOOKUP($B31,Sheet1!$B$3:$B$30,Sheet1!C$3:C$30) -> -1 | D31: =LOOKUP($B31,Sheet1!$B$3:$B$30,Sheet1!D$3:D$30) -> -1 | E31: =LOOKUP($B31,Sheet1!$B$3:$B$30,Sheet1!E$3:E$30) -> 1 | F31: =LOOKUP($B31,Sheet1!$B$3:$B$30,Sheet1!F$3:F$30) -> 1 | G31: =LOOKUP($B31,Sheet1!$B$3:$B$30,Sheet1!G$3:G$30) -> 1 | H31: =LOOKUP($B31,Sheet1!$B$3:$B$30,Sheet1!H$3:H$30) -> 1 | I31: =LOOKUP($B31,Sheet1!$B$3:$B$30,Sheet1!I$3:I$30) -> -1 | J31: =LOOKUP($B31,Sheet1!$B$3:$B$30,Sheet1!J$3:J$30) -> 3 | K31: =AVERAGE(I31:J31) -> 1
A32: 12 | B32: =LOOKUP(Sheet2!A32,Sheet1!$A$3:$A$30,Sheet1!$B$3:$B$30) -> EURGBP | C32: =LOOKUP($B32,Sheet1!$B$3:$B$30,Sheet1!C$3:C$30) -> -1 | D32: =LOOKUP($B32,Sheet1!$B$3:$B$30,Sheet1!D$3:D$30) -> 1 | E32: =LOOKUP($B32,Sheet1!$B$3:$B$30,Sheet1!E$3:E$30) -> 1 | F32: =LOOKUP($B32,Sheet1!$B$3:$B$30,Sheet1!F$3:F$30) -> 1 | G32: =LOOKUP($B32,Sheet1!$B$3:$B$30,Sheet1!G$3:G$30) -> 1 | H32: =LOOKUP($B32,Sheet1!$B$3:$B$30,Sheet1!H$3:H$30) -> 1 | I32: =LOOKUP($B32,Sheet1!$B$3:$B$30,Sheet1!I$3:I$30) -> 1 | J32: =LOOKUP($B32,Sheet1!$B$3:$B$30,Sheet1!J$3:J$30) -> 3 | K32: =AVERAGE(I32:J32) -> 2
A33: 13 | B33: =LOOKUP(Sheet2!A33,Sheet1!$A$3:$A$30,Sheet1!$B$3:$B$30) -> EURJPY | C33: =LOOKUP($B33,Sheet1!$B$3:$B$30,Sheet1!C$3:C$30) -> 1 | D33: =LOOKUP($B33,Sheet1!$B$3:$B$30,Sheet1!D$3:D$30) -> 1 | E33: =LOOKUP($B33,Sheet1!$B$3:$B$30,Sheet1!E$3:E$30) -> 1 | F33: =LOOKUP($B33,Sheet1!$B$3:$B$30,Sheet1!F$3:F$30) -> 1 | G33: =LOOKUP($B33,Sheet1!$B$3:$B$30,Sheet1!G$3:G$30) -> 1 | H33: =LOOKUP($B33,Sheet1!$B$3:$B$30,Sheet1!H$3:H$30) -> 1 | I33: =LOOKUP($B33,Sheet1!$B$3:$B$30,Sheet1!I$3:I$30) -> 3 | J33: =LOOKUP($B33,Sheet1!$B$3:$B$30,Sheet1!J$3:J$30) -> 3 | K33: =AVERAGE(I33:J33) -> 3
A34: 14 | B34: =LOOKUP(Sheet2!A34,Sheet1!$A$3:$A$30,Sheet1!$B$3:$B$30) -> EURNZD | C34: =LOOKUP($B34,Sheet1!$B$3:$B$30,Sheet1!C$3:C$30) -> 1 | D34: =LOOKUP($B34,Sheet1!$B$3:$B$30,Sheet1!D$3:D$30) -> -1 | E34: =LOOKUP($B34,Sheet1!$B$3:$B$30,Sheet1!E$3:E$30) -> 1 | F34: =LOOKUP($B34,Sheet1!$B$3:$B$30,Sheet1!F$3:F$30) -> 1 | G34: =LOOKUP($B34,Sheet1!$B$3:$B$30,Sheet1!G$3:G$30) -> 1 | H34: =LOOKUP($B34,Sheet1!$B$3:$B$30,Sheet1!H$3:H$30) -> -1 | I34: =LOOKUP($B34,Sheet1!$B$3:$B$30,Sheet1!I$3:I$30) -> 1 | J34: =LOOKUP($B34,Sheet1!$B$3:$B$30,Sheet1!J$3:J$30) -> 1 | K34: =AVERAGE(I34:J34) -> 1
A35: 15 | B35: =LOOKUP(Sheet2!A35,Sheet1!$A$3:$A$30,Sheet1!$B$3:$B$30) -> EURUSD | C35: =LOOKUP($B35,Sheet1!$B$3:$B$30,Sheet1!C$3:C$30) -> 1 | D35: =LOOKUP($B35,Sheet1!$B$3:$B$30,Sheet1!D$3:D$30) -> 1 | E35: =LOOKUP($B35,Sheet1!$B$3:$B$30,Sheet1!E$3:E$30) -> -1 | F35: =LOOKUP($B35,Sheet1!$B$3:$B$30,Sheet1!F$3:F$30) -> -1 | G35: =LOOKUP($B35,Sheet1!$B$3:$B$30,Sheet1!G$3:G$30) -> -1 | H35: =LOOKUP($B35,Sheet1!$B$3:$B$30,Sheet1!H$3:H$30) -> 1 | I35: =LOOKUP($B35,Sheet1!$B$3:$B$30,Sheet1!I$3:I$30) -> 1 | J35: =LOOKUP($B35,Sheet1!$B$3:$B$30,Sheet1!J$3:J$30) -> -1 | K35: =AVERAGE(I35:J35) -> 0
A37: GBP | B37: Basket | C37: M5 | D37: M15 | E37: H1 | F37: H4 | G37: D1 | H37: W1 | I37: LTS | J37: HTS | K37: TS
A38: 12 | B38: =LOOKUP(Sheet2!A38,Sheet1!$A$3:$A$30,Sheet1!$B$3:$B$30) -> EURGBP | C38: =LOOKUP($B38,Sheet1!$B$3:$B$30,Sheet1!C$3:C$30) -> -1 | D38: =LOOKUP($B38,Sheet1!$B$3:$B$30,Sheet1!D$3:D$30) -> 1 | E38: =LOOKUP($B38,Sheet1!$B$3:$B$30,Sheet1!E$3:E$30) -> 1 | F38: =LOOKUP($B38,Sheet1!$B$3:$B$30,Sheet1!F$3:F$30) -> 1 | G38: =LOOKUP($B38,Sheet1!$B$3:$B$30,Sheet1!G$3:G$30) -> 1 | H38: =LOOKUP($B38,Sheet1!$B$3:$B$30,Sheet1!H$3:H$30) -> 1 | I38: =LOOKUP($B38,Sheet1!$B$3:$B$30,Sheet1!I$3:I$30) -> 1 | J38: =LOOKUP($B38,Sheet1!$B$3:$B$30,Sheet1!J$3:J$30) -> 3 | K38: =AVERAGE(I38:J38) -> 2
A39: 16 | B39: =LOOKUP(Sheet2!A39,Sheet1!$A$3:$A$30,Sheet1!$B$3:$B$30) -> GBPAUD | C39: =LOOKUP($B39,Sheet1!$B$3:$B$30,Sheet1!C$3:C$30) -> -1 | D39: =LOOKUP($B39,Sheet1!$B$3:$B$30,Sheet1!D$3:D$30) -> -1 | E39: =LOOKUP($B39,Sheet1!$B$3:$B$30,Sheet1!E$3:E$30) -> 1 | F39: =LOOKUP($B39,Sheet1!$B$3:$B$30,Sheet1!F$3:F$30) -> 1 | G39: =LOOKUP($B39,Sheet1!$B$3:$B$30,Sheet1!G$3:G$30) -> 1 | H39: =LOOKUP($B39,Sheet1!$B$3:$B$30,Sheet1!H$3:H$30) -> -1 | I39: =LOOKUP($B39,Sheet1!$B$3:$B$30,Sheet1!I$3:I$30) -> -1 | J39: =LOOKUP($B39,Sheet1!$B$3:$B$30,Sheet1!J$3:J$30) -> 1 | K39: =AVERAGE(I39:J39) -> 0
A40: 17 | B40: =LOOKUP(Sheet2!A40,Sheet1!$A$3:$A$30,Sheet1!$B$3:$B$30) -> GBPCAD | C40: =LOOKUP($B40,Sheet1!$B$3:$B$30,Sheet1!C$3:C$30) -> 1 | D40: =LOOKUP($B40,Sheet1!$B$3:$B$30,Sheet1!D$3:D$30) -> -1 | E40: =LOOKUP($B40,Sheet1!$B$3:$B$30,Sheet1!E$3:E$30) -> -1 | F40: =LOOKUP($B40,Sheet1!$B$3:$B$30,Sheet1!F$3:F$30) -> -1 | G40: =LOOKUP($B40,Sheet1!$B$3:$B$30,Sheet1!G$3:G$30) -> -1 | H40: =LOOKUP($B40,Sheet1!$B$3:$B$30,Sheet1!H$3:H$30) -> -1 | I40: =LOOKUP($B40,Sheet1!$B$3:$B$30,Sheet1!I$3:I$30) -> -1 | J40: =LOOKUP($B40,Sheet1!$B$3:$B$30,Sheet1!J$3:J$30) -> -3 | K40: =AVERAGE(I40:J40) -> -2
A41: 18 | B41: =LOOKUP(Sheet2!A41,Sheet1!$A$3:$A$30,Sheet1!$B$3:$B$30) -> GBPCHF | C41: =LOOKUP($B41,Sheet1!$B$3:$B$30,Sheet1!C$3:C$30) -> -1 | D41: =LOOKUP($B41,Sheet1!$B$3:$B$30,Sheet1!D$3:D$30) -> -1 | E41: =LOOKUP($B41,Sheet1!$B$3:$B$30,Sheet1!E$3:E$30) -> -1 | F41: =LOOKUP($B41,Sheet1!$B$3:$B$30,Sheet1!F$3:F$30) -> -1 | G41: =LOOKUP($B41,Sheet1!$B$3:$B$30,Sheet1!G$3:G$30) -> -1 | H41: =LOOKUP($B41,Sheet1!$B$3:$B$30,Sheet1!H$3:H$30) -> 1 | I41: =LOOKUP($B41,Sheet1!$B$3:$B$30,Sheet1!I$3:I$30) -> -3 | J41: =LOOKUP($B41,Sheet1!$B$3:$B$30,Sheet1!J$3:J$30) -> -1 | K41: =AVERAGE(I41:J41) -> -2
A42: 19 | B42: =LOOKUP(Sheet2!A42,Sheet1!$A$3:$A$30,Sheet1!$B$3:$B$30) -> GBPJPY | C42: =LOOKUP($B42,Sheet1!$B$3:$B$30,Sheet1!C$3:C$30) -> 1 | D42: =LOOKUP($B42,Sheet1!$B$3:$B$30,Sheet1!D$3:D$30) -> -1 | E42: =LOOKUP($B42,Sheet1!$B$3:$B$30,Sheet1!E$3:E$30) -> 1 | F42: =LOOKUP($B42,Sheet1!$B$3:$B$30,Sheet1!F$3:F$30) -> 1 | G42: =LOOKUP($B42,Sheet1!$B$3:$B$30,Sheet1!G$3:G$30) -> 1 | H42: =LOOKUP($B42,Sheet1!$B$3:$B$30,Sheet1!H$3:H$30) -> -1 | I42: =LOOKUP($B42,Sheet1!$B$3:$B$30,Sheet1!I$3:I$30) -> 1 | J42: =LOOKUP($B42,Sheet1!$B$3:$B$30,Sheet1!J$3:J$30) -> 1 | K42: =AVERAGE(I42:J42) -> 1
A43: 20 | B43: =LOOKUP(Sheet2!A43,Sheet1!$A$3:$A$30,Sheet1!$B$3:$B$30) -> GBPNZD | C43: =LOOKUP($B43,Sheet1!$B$3:$B$30,Sheet1!C$3:C$30) -> 1 | D43: =LOOKUP($B43,Sheet1!$B$3:$B$30,Sheet1!D$3:D$30) -> -1 | E43: =LOOKUP($B43,Sheet1!$B$3:$B$30,Sheet1!E$3:E$30) -> -1 | F43: =LOOKUP($B43,Sheet1!$B$3:$B$30,Sheet1!F$3:F$30) -> -1 | G43: =LOOKUP($B43,Sheet1!$B$3:$B$30,Sheet1!G$3:G$30) -> -1 | H43: =LOOKUP($B43,Sheet1!$B$3:$B$30,Sheet1!H$3:H$30) -> -1 | I43: =LOOKUP($B43,Sheet1!$B$3:$B$30,Sheet1!I$3:I$30) -> -1 | J43: =LOOKUP($B43,Sheet1!$B$3:$B$30,Sheet1!J$3:J$30) -> -3 | K43: =AVERAGE(I43:J43) -> -2
A44: 21 | B44: =LOOKUP(Sheet2!A44,Sheet1!$A$3:$A$30,Sheet1!$B$3:$B$30) -> GBPUSD | C44: =LOOKUP($B44,Sheet1!$B$3:$B$30,Sheet1!C$3:C$30) -> 1 | D44: =LOOKUP($B44,Sheet1!$B$3:$B$30,Sheet1!D$3:D$30) -> -1 | E44: =LOOKUP($B44,Sheet1!$B$3:$B$30,Sheet1!E$3:E$30) -> -1 | F44: =LOOKUP($B44,Sheet1!$B$3:$B$30,Sheet1!F$3:F$30) -> -1 | G44: =LOOKUP($B44,Sheet1!$B$3:$B$30,Sheet1!G$3:G$30) -> -1 | H44: =LOOKUP($B44,Sheet1!$B$3:$B$30,Sheet1!H$3:H$30) -> -1 | I44: =LOOKUP($B44,Sheet1!$B$3:$B$30,Sheet1!I$3:I$30) -> -1 | J44: =LOOKUP($B44,Sheet1!$B$3:$B$30,Sheet1!J$3:J$30) -> -3 | K44: =AVERAGE(I44:J44) -> -2
...

Sheet Sheet3
