Workbook

Sheet Input
A1: This little utility demonstrates the effectiveness of scaling into and out of lot sizes
A2: It is based on 500 trades the outcome of which is either a win or a loss
A3: The random results are weighted according to Reward to Risk Ratio specified below
A5: Opening Balance: | B5: 5000
A6: Percentage Risk per trade: | B6: 0.01
A7: Reward to Risk Ratio: | B7: 0.6 | C7: <<== try changing this setting
C8: CLICK [F9] TO RECALCULATE
A9: RESULTS
A10: - Scaling In and Out
A11: Closing Balance | B11: =Calcs!$D$1 -> 88259.872
A12: Max no Lots | B12: =Calcs!C1 -> 6
A14: - Using fixed lots
A15: Closing Balance | B15: =Calcs!K1 -> 14650.483

Sheet Calcs
B1: =1-Input!B7 -> 0.4 | C1: =MAX(B5:B600) -> 6 | D1: =D504 -> 88259.872 | E1: =SUM(E5:E600) -> 305 | F1: =E1/E2 -> 0.61 | I1: =B1 -> 0.4 | K1: =K504 -> 14650.483 | L1: =SUM(L5:L600) -> 305 | M1: =L1/L2 -> 0.61 | O1: =D1-K1 -> 73609.388
B2: risk | D2: =D1/A4 -> 17.651974 | E2: =COUNT(E5:E600) -> 500 | I2: risk | K2: =K1/H4 -> 2.9300967 | L2: =COUNT(L5:L600) -> 500 | O2: =O1/K1 -> 5.0243658
B3: =Input!B6 -> 0.01 | I3: =B3 -> 0.01
A4: =Input!B5 -> 5000 | B4: lots | C4: risk | D4: bal | H4: =A4 -> 5000 | I4: lots | J4: risk | K4: bal
A5: =RAND() -> 0.25571431 | B5: 1 | C5: =A4*$B$3 -> 50 | D5: =IF(A5>$B$1,A4+C5,A4-C5) -> 4950 | E5: =IF(A5>$B$1,1,0) -> 0 | H5: =A5 -> 0.25571431 | I5: 1 | J5: =H4*$B$3 -> 50 | K5: =IF(H5>$B$1,H4+J5,H4-J5) -> 4950 | L5: =IF(H5>$B$1,1,0) -> 0
A6: =RAND() -> 0.37935699 | B6: =IF(IF(A5<$B$1, B5+1,B5-1)<=1,1,IF(A5<$B$1, B5+1,B5-1)) -> 2 | C6: =IF(D5<=0,"",B6*D5*$B$3) -> 99 | D6: =IF(A6>$B$1,D5+C6,D5-C6) -> 4851 | E6: =IF(A6>$B$1,1,0) -> 0 | H6: =A6 -> 0.37935699 | I6: 1 | J6: =IF(K5<=0,"",I6*K5*$B$3) -> 49.5 | K6: =IF(H6>$B$1,K5+J6,K5-J6) -> 4900.5 | L6: =IF(H6>$B$1,1,0) -> 0
A7: =RAND() -> 0.1535865 | B7: =IF(IF(A6<$B$1, B6+1,B6-1)<=1,1,IF(A6<$B$1, B6+1,B6-1)) -> 3 | C7: =IF(D6<=0,"",B7*D6*$B$3) -> 145.53 | D7: =IF(A7>$B$1,D6+C7,D6-C7) -> 4705.47 | E7: =IF(A7>$B$1,1,0) -> 0 | H7: =A7 -> 0.1535865 | I7: 1 | J7: =IF(K6<=0,"",I7*K6*$B$3) -> 49.005 | K7: =IF(H7>$B$1,K6+J7,K6-J7) -> 4851.495 | L7: =IF(H7>$B$1,1,0) -> 0
A8: =RAND() -> 0.59711145 | B8: =IF(IF(A7<$B$1, B7+1,B7-1)<=1,1,IF(A7<$B$1, B7+1,B7-1)) -> 4 | C8: =IF(D7<=0,"",B8*D7*$B$3) -> 188.2188 | D8: =IF(A8>$B$1,D7+C8,D7-C8) -> 4893.6888 | E8: =IF(A8>$B$1,1,0) -> 1 | H8: =A8 -> 0.59711145 | I8: 1 | J8: =IF(K7<=0,"",I8*K7*$B$3) -> 48.51495 | K8: =IF(H8>$B$1,K7+J8,K7-J8) -> 4900.0099 | L8: =IF(H8>$B$1,1,0) -> 1
A9: =RAND() -> 0.75549233 | B9: =IF(IF(A8<$B$1, B8+1,B8-1)<=1,1,IF(A8<$B$1, B8+1,B8-1)) -> 3 | C9: =IF(D8<=0,"",B9*D8*$B$3) -> 146.81066 | D9: =IF(A9>$B$1,D8+C9,D8-C9) -> 5040.4995 | E9: =IF(A9>$B$1,1,0) -> 1 | H9: =A9 -> 0.75549233 | I9: 1 | J9: =IF(K8<=0,"",I9*K8*$B$3) -> 49.000099 | K9: =IF(H9>$B$1,K8+J9,K8-J9) -> 4949.01 | L9: =IF(H9>$B$1,1,0) -> 1
A10: =RAND() -> 0.068974026 | B10: =IF(IF(A9<$B$1, B9+1,B9-1)<=1,1,IF(A9<$B$1, B9+1,B9-1)) -> 2 | C10: =IF(D9<=0,"",B10*D9*$B$3) -> 100.80999 | D10: =IF(A10>$B$1,D9+C10,D9-C10) -> 4939.6895 | E10: =IF(A10>$B$1,1,0) -> 0 | H10: =A10 -> 0.068974026 | I10: 1 | J10: =IF(K9<=0,"",I10*K9*$B$3) -> 49.4901 | K10: =IF(H10>$B$1,K9+J10,K9-J10) -> 4899.5199 | L10: =IF(H10>$B$1,1,0) -> 0
A11: =RAND() -> 0.16588554 | B11: =IF(IF(A10<$B$1, B10+1,B10-1)<=1,1,IF(A10<$B$1, B10+1,B10-1)) -> 3 | C11: =IF(D10<=0,"",B11*D10*$B$3) -> 148.19068 | D11: =IF(A11>$B$1,D10+C11,D10-C11) -> 4791.4988 | E11: =IF(A11>$B$1,1,0) -> 0 | H11: =A11 -> 0.16588554 | I11: 1 | J11: =IF(K10<=0,"",I11*K10*$B$3) -> 48.995199 | K11: =IF(H11>$B$1,K10+J11,K10-J11) -> 4850.5247 | L11: =IF(H11>$B$1,1,0) -> 0
A12: =RAND() -> 0.94985546 | B12: =IF(IF(A11<$B$1, B11+1,B11-1)<=1,1,IF(A11<$B$1, B11+1,B11-1)) -> 4 | C12: =IF(D11<=0,"",B12*D11*$B$3) -> 191.65995 | D12: =IF(A12>$B$1,D11+C12,D11-C12) -> 4983.1587 | E12: =IF(A12>$B$1,1,0) -> 1 | H12: =A12 -> 0.94985546 | I12: 1 | J12: =IF(K11<=0,"",I12*K11*$B$3) -> 48.505247 | K12: =IF(H12>$B$1,K11+J12,K11-J12) -> 4899.03 | L12: =IF(H12>$B$1,1,0) -> 1
A13: =RAND() -> 0.6609906 | B13: =IF(IF(A12<$B$1, B12+1,B12-1)<=1,1,IF(A12<$B$1, B12+1,B12-1)) -> 3 | C13: =IF(D12<=0,"",B13*D12*$B$3) -> 149.49476 | D13: =IF(A13>$B$1,D12+C13,D12-C13) -> 5132.6535 | E13: =IF(A13>$B$1,1,0) -> 1 | H13: =A13 -> 0.6609906 | I13: 1 | J13: =IF(K12<=0,"",I13*K12*$B$3) -> 48.9903 | K13: =IF(H13>$B$1,K12+J13,K12-J13) -> 4948.0203 | L13: =IF(H13>$B$1,1,0) -> 1
A14: =RAND() -> 0.88340889 | B14: =IF(IF(A13<$B$1, B13+1,B13-1)<=1,1,IF(A13<$B$1, B13+1,B13-1)) -> 2 | C14: =IF(D13<=0,"",B14*D13*$B$3) -> 102.65307 | D14: =IF(A14>$B$1,D13+C14,D13-C14) -> 5235.3066 | E14: =IF(A14>$B$1,1,0) -> 1 | H14: =A14 -> 0.88340889 | I14: 1 | J14: =IF(K13<=0,"",I14*K13*$B$3) -> 49.480203 | K14: =IF(H14>$B$1,K13+J14,K13-J14) -> 4997.5005 | L14: =IF(H14>$B$1,1,0) -> 1
A15: =RAND() -> 0.95763304 | B15: =IF(IF(A14<$B$1, B14+1,B14-1)<=1,1,IF(A14<$B$1, B14+1,B14-1)) -> 1 | C15: =IF(D14<=0,"",B15*D14*$B$3) -> 52.353066 | D15: =IF(A15>$B$1,D14+C15,D14-C15) -> 5287.6596 | E15: =IF(A15>$B$1,1,0) -> 1 | H15: =A15 -> 0.95763304 | I15: 1 | J15: =IF(K14<=0,"",I15*K14*$B$3) -> 49.975005 | K15: =IF(H15>$B$1,K14+J15,K14-J15) -> 5047.4755 | L15: =IF(H15>$B$1,1,0) -> 1
A16: =RAND() -> 0.76620664 | B16: =IF(IF(A15<$B$1, B15+1,B15-1)<=1,1,IF(A15<$B$1, B15+1,B15-1)) -> 1 | C16: =IF(D15<=0,"",B16*D15*$B$3) -> 52.876596 | D16: =IF(A16>$B$1,D15+C16,D15-C16) -> 5340.5362 | E16: =IF(A16>$B$1,1,0) -> 1 | H16: =A16 -> 0.76620664 | I16: 1 | J16: =IF(K15<=0,"",I16*K15*$B$3) -> 50.474755 | K16: =IF(H16>$B$1,K15+J16,K15-J16) -> 5097.9503 | L16: =IF(H16>$B$1,1,0) -> 1
A17: =RAND() -> 0.87312696 | B17: =IF(IF(A16<$B$1, B16+1,B16-1)<=1,1,IF(A16<$B$1, B16+1,B16-1)) -> 1 | C17: =IF(D16<=0,"",B17*D16*$B$3) -> 53.405362 | D17: =IF(A17>$B$1,D16+C17,D16-C17) -> 5393.9416 | E17: =IF(A17>$B$1,1,0) -> 1 | H17: =A17 -> 0.87312696 | I17: 1 | J17: =IF(K16<=0,"",I17*K16*$B$3) -> 50.979503 | K17: =IF(H17>$B$1,K16+J17,K16-J17) -> 5148.9298 | L17: =IF(H17>$B$1,1,0) -> 1
... A504: =RAND() -> 0.15915468 | B504: =IF(IF(A503<$B$1, B503+1,B503-1)<=1,1,IF(A503<$B$1, B503+1,B503-1)) -> 2 | C504: =IF(D503<=0,"",B504*D503*$B$3) -> 1801.2219 | D504: =IF(A504>$B$1,D503+C504,D503-C504) -> 88259.872 | E504: =IF(A504>$B$1,1,0) -> 0 | H504: =A504 -> 0.15915468 | I504: 1 | J504: =IF(K503<=0,"",I504*K503*$B$3) -> 147.98468 | K504: =IF(H504>$B$1,K503+J504,K503-J504) -> 14650.483 | L504: =IF(H504>$B$1,1,0) -> 0

Sheet Sheet3
